{"text_format":"1","workbook":"xlsx","n_sheets":6,"sheets":["data_absen","data_istirahat","Harian","Borongan","Produksi","Slip Gaji"],"not_rendered":{"charts":0,"images":0,"macros":1,"external_links":1,"defined_names":2,"comments":1,"pivot_tables":0},"unopened":[],"bounds":{"document_bytes":16777216,"sheet_cells":100000,"rows_first":2000,"rows_last":500,"rows_between":2000,"halvings":0,"cell_chars":16384,"cell_head_chars":4096},"cells_cut":0,"cells_raw":0,"read":"whole","date_system":"1900"}

{"sheet":"data_absen","index":0,"n_rows":1093,"n_cols":16,"rows_kept":1093,"cut":false,"hidden":false,"merged":[]}
["No. ID","Nama","Tanggal","Jam Kerja","Jam Masuk","Jam Pulang","Scan Masuk","Scan Pulang","Terlambat","Plg. Cepat","Lembur","Pengecualian","Simbol","Departemen"]
["101","Fahrudin","2019-01-16","Teknisi","06:50:00","16:00:00","06:47:00","15:54:00","","00:06:00","","","<","Teknisi/ Mekanik"]
["101","Fahrudin","2019-01-17","Teknisi","06:50:00","16:00:00","06:46:00","15:54:00","","00:06:00","","","<","Teknisi/ Mekanik",null,"Hasil ambil data dari source berupa General"]
["101","Fahrudin","2019-01-18","Teknisi","06:50:00","16:00:00","06:45:00","","","02:00:00","","","<","Teknisi/ Mekanik",null,"Baru berubah jika setelaah di klik kiri 2x->enter"]
["102","Rio","2019-01-16","Teknisi","06:50:00","16:00:00","06:49:00","15:55:00","","","","","","Teknisi/ Mekanik",null,"Bagaimana agar otomatis berubah ke Time tiap kali ambil data dari source"]
["102","Rio","2019-01-17","Teknisi","06:50:00","16:00:00","06:46:00","14:56:00","","01:04:00","","","<","Teknisi/ Mekanik"]
["102","Rio","2019-01-18","Teknisi","06:50:00","16:00:00","06:46:00","14:58:00","","01:02:00","","","<","Teknisi/ Mekanik"]
["103","Paidi","2019-01-16","Harian","06:50:00","15:00:00","05:30:00","14:58:00","","","","","","Meses"]
["103","Paidi","2019-01-17","Harian","06:50:00","15:00:00","05:30:00","14:57:00","","","","","","Meses"]
["103","Paidi","2019-01-18","Harian","06:50:00","15:00:00","05:30:00","","","02:00:00","","","<","Meses"]
["104","Slamet","2019-01-16","Harian","06:50:00","15:00:00","06:47:00","14:57:00","","","","","","Meses"]
["104","Slamet","2019-01-17","Harian","06:50:00","15:00:00","06:46:00","14:56:00","","","","","","Meses"]
["104","Slamet","2019-01-18","Harian","06:50:00","15:00:00","06:43:00","14:58:00","","","","","","Meses"]
["105","Ismi","2019-01-16","Harian","06:50:00","15:00:00","06:47:00","","","02:00:00","","","<","Pengawas"]
["105","Ismi","2019-01-17","Harian","06:50:00","15:00:00","06:45:00","16:29:00","","","01:29:00","","","Pengawas"]
["105","Ismi","2019-01-18","Harian","06:50:00","15:00:00","06:45:00","","","02:00:00","","","<","Pengawas"]
["107","Angga","2019-01-16","Harian","06:50:00","15:00:00","06:56:00","16:01:00","00:06:00","","01:01:00","",">","Harian"]
["107","Angga","2019-01-17","Harian","06:50:00","15:00:00","06:44:00","","","02:00:00","","","<","Harian"]
["107","Angga","2019-01-18","Harian","06:50:00","15:00:00","06:43:00","15:01:00","","","00:01:00","","","Harian"]
["108","Rohman A","2019-01-16","Harian","06:50:00","15:00:00","06:48:00","","","02:00:00","","","<","Meses"]
["108","Rohman A","2019-01-17","Harian","06:50:00","15:00:00","06:45:00","14:56:00","","","","","","Meses"]
["108","Rohman A","2019-01-18","Harian","06:50:00","15:00:00","06:45:00","15:01:00","","","00:01:00","","","Meses"]
["109","Tuki","2019-01-16","Harian","06:50:00","15:00:00","06:47:00","14:56:00","","","","","","Meses"]
["109","Tuki","2019-01-17","Harian","06:50:00","15:00:00","06:46:00","14:56:00","","","","","","Meses"]
["109","Tuki","2019-01-18","Harian","06:50:00","15:00:00","06:45:00","","","02:00:00","","","<","Meses"]
["110","Zainul A","2019-01-16","Harian","06:50:00","15:00:00","06:48:00","16:04:00","","","01:04:00","","","Harian"]
["110","Zainul A","2019-01-17","Harian","06:50:00","15:00:00","06:45:00","14:56:00","","","","","","Harian"]
["110","Zainul A","2019-01-18","Harian","06:50:00","15:00:00","06:45:00","14:59:00","","","","","","Harian"]
["111","Rofiq","2019-01-16","Harian","06:50:00","15:00:00","06:59:00","14:59:00","00:09:00","","","",">","Meses"]
["111","Rofiq","2019-01-17","Harian","06:50:00","15:00:00","06:44:00","14:52:00","","00:08:00","","","<","Meses"]
["111","Rofiq","2019-01-18","Harian","06:50:00","15:00:00","06:55:00","15:22:00","00:05:00","","00:22:00","",">","Meses"]
["112","Udin","2019-01-16","Harian","06:50:00","15:00:00","06:48:00","16:00:00","","","01:00:00","","","Meses"]
["112","Udin","2019-01-17","Harian","06:50:00","15:00:00","06:46:00","14:57:00","","","","","","Meses"]
["112","Udin","2019-01-18","Harian","06:50:00","15:00:00","06:46:00","15:00:00","","","00:00:00","","","Meses"]
["113","Nurullah","2019-01-16","Harian","06:50:00","15:00:00","06:49:00","16:00:00","","","01:00:00","","","Meses"]
["113","Nurullah","2019-01-17","Harian","06:50:00","15:00:00","06:46:00","14:58:00","","","","","","Meses"]
["113","Nurullah","2019-01-18","Harian","06:50:00","15:00:00","06:46:00","15:00:00","","","00:00:00","","","Meses"]
["114","Adi","2019-01-16","Harian","06:50:00","15:00:00","06:47:00","14:56:00","","","","","","Meses"]
["114","Adi","2019-01-17","Harian","06:50:00","15:00:00","06:45:00","14:55:00","","","","","","Meses"]
["114","Adi","2019-01-18","Harian","06:50:00","15:00:00","06:44:00","14:57:00","","","","","","Meses"]
["115","Budi","2019-01-16","Harian","06:50:00","15:00:00","06:47:00","14:54:00","","00:06:00","","","<","Meses"]
["115","Budi","2019-01-17","Harian","06:50:00","15:00:00","06:49:00","14:51:00","","00:09:00","","","<","Meses"]
["115","Budi","2019-01-18","Harian","06:50:00","15:00:00","06:58:00","15:24:00","00:08:00","","00:24:00","",">","Meses"]
["116","Indra S","2019-01-16","Harian","06:50:00","15:00:00","06:48:00","16:00:00","","","01:00:00","","","Meses"]
["116","Indra S","2019-01-17","Harian","06:50:00","15:00:00","06:46:00","14:59:00","","","","","","Meses"]
["116","Indra S","2019-01-18","Harian","06:50:00","15:00:00","06:46:00","15:01:00","","","00:01:00","","","Meses"]
["117","Babun","2019-01-16","Harian","06:50:00","15:00:00","06:48:00","16:01:00","","","01:01:00","","","Meses"]
["117","Babun","2019-01-17","Harian","06:50:00","15:00:00","06:46:00","14:59:00","","","","","","Meses"]
["117","Babun","2019-01-18","Harian","06:50:00","15:00:00","06:45:00","15:00:00","","","00:00:00","","","Meses"]
["118","Farida","2019-01-16","Harian","06:50:00","15:00:00","06:47:00","","","02:00:00","","","<","Lab"]
["118","Farida","2019-01-17","Harian","06:50:00","15:00:00","06:46:00","14:58:00","","","","","","Lab"]
["118","Farida","2019-01-18","Harian","06:50:00","15:00:00","06:44:00","15:04:00","","","00:04:00","","","Lab"]
["119","Zainul B","2019-01-16","Teknisi","06:50:00","16:00:00","06:47:00","15:54:00","","00:06:00","","","<","Teknisi/ Mekanik"]
["119","Zainul B","2019-01-17","Teknisi","06:50:00","16:00:00","06:53:00","15:54:00","00:03:00","00:06:00","","","><","Teknisi/ Mekanik"]
["119","Zainul B","2019-01-18","Teknisi","06:50:00","16:00:00","06:54:00","","00:04:00","02:00:00","","","><","Teknisi/ Mekanik"]
["120","A. Bahrudin","2019-01-16","Harian","06:50:00","15:00:00","06:48:00","14:55:00","","","","","","Meses"]
["120","A. Bahrudin","2019-01-17","Harian","06:50:00","15:00:00","06:46:00","14:52:00","","00:08:00","","","<","Meses"]
["120","A. Bahrudin","2019-01-18","Harian","06:50:00","15:00:00","06:46:00","15:23:00","","","00:23:00","","","Meses"]
["121","Roni","2019-01-16","Harian","06:50:00","15:00:00","06:48:00","14:59:00","","","","","","Harian"]
["121","Roni","2019-01-17","Harian","06:50:00","15:00:00","06:45:00","14:56:00","","","","","","Harian"]
["121","Roni","2019-01-18","Harian","06:50:00","15:00:00","06:46:00","14:57:00","","","","","","Harian"]
["122","Rohman B","2019-01-16","Harian","06:50:00","15:00:00","06:48:00","15:54:00","","","00:54:00","","","Harian"]
["122","Rohman B","2019-01-17","Harian","06:50:00","15:00:00","06:46:00","14:56:00","","","","","","Harian"]
["122","Rohman B","2019-01-18","Harian","06:50:00","15:00:00","06:53:00","15:00:00","00:03:00","","00:00:00","",">","Harian"]
["123","Gilang","2019-01-16","Harian","06:50:00","15:00:00","07:00:00","16:00:00","00:10:00","","01:00:00","",">","Meses"]
["123","Gilang","2019-01-17","Harian","06:50:00","15:00:00","06:59:00","14:56:00","00:09:00","","","",">","Meses"]
["123","Gilang","2019-01-18","Harian","06:50:00","15:00:00","07:00:00","14:59:00","00:10:00","","","",">","Meses"]
["124","Zeky","2019-01-16","Harian","06:50:00","15:00:00","06:48:00","14:55:00","","","","","","Meses"]
["124","Zeky","2019-01-17","Harian","06:50:00","15:00:00","06:46:00","14:56:00","","","","","","Meses"]
["124","Zeky","2019-01-18","Harian","06:50:00","15:00:00","06:45:00","15:00:00","","","00:00:00","","","Meses"]
["125","Yuli","2019-01-16","Harian","06:50:00","15:00:00","06:45:00","16:19:00","","","01:19:00","","","Pengawas"]
["125","Yuli","2019-01-17","Harian","06:50:00","15:00:00","06:43:00","16:00:00","","","01:00:00","","","Pengawas"]
["125","Yuli","2019-01-18","Harian","06:50:00","15:00:00","06:44:00","","","02:00:00","","","<","Pengawas"]
["126","Rifah","2019-01-16","Harian","06:50:00","15:00:00","06:45:00","16:19:00","","","01:19:00","","","Pengawas"]
["126","Rifah","2019-01-17","Harian","06:50:00","15:00:00","06:44:00","16:00:00","","","01:00:00","","","Pengawas"]
["126","Rifah","2019-01-18","Harian","06:50:00","15:00:00","06:44:00","","","02:00:00","","","<","Pengawas"]
["127","Krisna","2019-01-16","Harian","06:50:00","15:00:00","06:47:00","15:54:00","","","00:54:00","","","Harian"]
["127","Krisna","2019-01-17","Harian","06:50:00","15:00:00","06:46:00","14:56:00","","","","","","Harian"]
["127","Krisna","2019-01-18","Harian","06:50:00","15:00:00","06:45:00","14:59:00","","","","","","Harian"]
["128","Taufiq","2019-01-16","Harian","06:50:00","15:00:00","06:47:00","14:55:00","","","","","","Meses"]
["128","Taufiq","2019-01-17","Harian","06:50:00","15:00:00","06:46:00","14:55:00","","","","","","Meses"]
["128","Taufiq","2019-01-18","Harian","06:50:00","15:00:00","06:46:00","14:57:00","","","","","","Meses"]
["129","Jefri","2019-01-16","Harian","06:50:00","15:00:00","06:48:00","14:55:00","","","","","","Meses"]
["129","Jefri","2019-01-17","Harian","06:50:00","15:00:00","06:46:00","14:56:00","","","","","","Meses"]
["129","Jefri","2019-01-18","Harian","06:50:00","15:00:00","06:45:00","","","02:00:00","","","<","Meses"]
["201","Tatik","2019-01-16","Borongan","06:50:00","17:00:00","06:45:00","15:03:00","","01:57:00","","","<","Pack"]
["201","Tatik","2019-01-17","Borongan","06:50:00","17:00:00","06:43:00","14:58:00","","02:02:00","","","<","Pack"]
["201","Tatik","2019-01-18","Borongan","06:50:00","17:00:00","06:42:00","14:59:00","","02:01:00","","","<","Pack"]
["202","Ririn","2019-01-16","Borongan","06:50:00","17:00:00","06:57:00","15:04:00","00:07:00","01:56:00","","","><","Pack"]
["202","Ririn","2019-01-17","Borongan","06:50:00","17:00:00","06:55:00","14:59:00","00:05:00","02:01:00","","","><","Pack"]
["202","Ririn","2019-01-18","Borongan","06:50:00","17:00:00","06:56:00","14:59:00","00:06:00","02:01:00","","","><","Pack"]
["203","Asmaul","2019-01-16","Borongan","06:50:00","17:00:00","06:48:00","15:03:00","","01:57:00","","","<","Pack"]
["203","Asmaul","2019-01-17","Borongan","06:50:00","17:00:00","06:47:00","14:58:00","","02:02:00","","","<","Pack"]
["203","Asmaul","2019-01-18","Borongan","06:50:00","17:00:00","06:45:00","14:59:00","","02:01:00","","","<","Pack"]
["204","Dwi Ayu","2019-01-16","Borongan","06:50:00","17:00:00","06:45:00","15:04:00","","01:56:00","","","<","Pack"]
["204","Dwi Ayu","2019-01-17","Borongan","06:50:00","17:00:00","06:43:00","14:59:00","","02:01:00","","","<","Pack"]
["204","Dwi Ayu","2019-01-18","Borongan","06:50:00","17:00:00","06:48:00","15:01:00","","01:59:00","","","<","Pack"]
["301","Reni","2019-01-16","Borongan","06:50:00","17:00:00","06:45:00","15:20:00","","01:40:00","","","<","Press"]
["301","Reni","2019-01-17","Borongan","06:50:00","17:00:00","06:51:00","14:51:00","00:01:00","02:09:00","","","><","Press"]
["301","Reni","2019-01-18","Borongan","06:50:00","17:00:00","06:50:00","14:59:00","00:00:00","02:01:00","","","><","Press"]
["302","Saroh","2019-01-16","Borongan","06:50:00","17:00:00","06:46:00","15:20:00","","01:40:00","","","<","Press"]
["302","Saroh","2019-01-17","Borongan","06:50:00","17:00:00","06:43:00","14:57:00","","02:03:00","","","<","Press"]
["302","Saroh","2019-01-18","Borongan","06:50:00","17:00:00","06:42:00","14:59:00","","02:01:00","","","<","Press"]
["303","Ulhayati","2019-01-16","Borongan","06:50:00","17:00:00","06:47:00","15:14:00","","01:46:00","","","<","Press"]
["303","Ulhayati","2019-01-17","Borongan","06:50:00","17:00:00","06:45:00","14:51:00","","02:09:00","","","<","Press"]
["303","Ulhayati","2019-01-18","Borongan","06:50:00","17:00:00","06:44:00","14:57:00","","02:03:00","","","<","Press"]
["304","Sri A","2019-01-16","Borongan","06:50:00","17:00:00","06:44:00","15:04:00","","01:56:00","","","<","Press"]
["304","Sri A","2019-01-17","Borongan","06:50:00","17:00:00","06:42:00","14:50:00","","02:10:00","","","<","Press"]
["304","Sri A","2019-01-18","Borongan","06:50:00","17:00:00","06:42:00","14:57:00","","02:03:00","","","<","Press"]
["305","Endang","2019-01-16","Borongan","06:50:00","17:00:00","06:45:00","15:15:00","","01:45:00","","","<","Press"]
["305","Endang","2019-01-17","Borongan","06:50:00","17:00:00","06:43:00","14:55:00","","02:05:00","","","<","Press"]
["305","Endang","2019-01-18","Borongan","06:50:00","17:00:00","06:42:00","14:58:00","","02:02:00","","","<","Press"]
["306","Uyun","2019-01-16","Borongan","06:50:00","17:00:00","06:46:00","15:21:00","","01:39:00","","","<","Press"]
["306","Uyun","2019-01-17","Borongan","06:50:00","17:00:00","06:43:00","14:57:00","","02:03:00","","","<","Press"]
["306","Uyun","2019-01-18","Borongan","06:50:00","17:00:00","06:48:00","14:57:00","","02:03:00","","","<","Press"]
["307","Rina","2019-01-16","Borongan","06:50:00","17:00:00","","","","","","","A","Press"]
["307","Rina","2019-01-17","Borongan","06:50:00","17:00:00","06:44:00","14:51:00","","02:09:00","","","<","Press"]
["307","Rina","2019-01-18","Borongan","06:50:00","17:00:00","06:45:00","14:58:00","","02:02:00","","","<","Press"]
["308","Jum","2019-01-16","Borongan","06:50:00","17:00:00","06:47:00","15:15:00","","01:45:00","","","<","Press"]
["308","Jum","2019-01-17","Borongan","06:50:00","17:00:00","06:47:00","14:55:00","","02:05:00","","","<","Press"]
["308","Jum","2019-01-18","Borongan","06:50:00","17:00:00","06:46:00","14:59:00","","02:01:00","","","<","Press"]
["309","Elin","2019-01-16","Borongan","06:50:00","17:00:00","06:44:00","15:05:00","","01:55:00","","","<","Press"]
["309","Elin","2019-01-17","Borongan","06:50:00","17:00:00","06:42:00","14:55:00","","02:05:00","","","<","Press"]
["309","Elin","2019-01-18","Borongan","06:50:00","17:00:00","06:42:00","14:57:00","","02:03:00","","","<","Press"]
["310","Surti","2019-01-16","Borongan","06:50:00","17:00:00","06:46:00","15:13:00","","01:47:00","","","<","Press"]
["310","Surti","2019-01-17","Borongan","06:50:00","17:00:00","06:43:00","14:55:00","","02:05:00","","","<","Press"]
["310","Surti","2019-01-18","Borongan","06:50:00","17:00:00","06:43:00","14:58:00","","02:02:00","","","<","Press"]
["311","Nova","2019-01-16","Borongan","06:50:00","17:00:00","06:47:00","15:14:00","","01:46:00","","","<","Press"]
["311","Nova","2019-01-17","Borongan","06:50:00","17:00:00","06:45:00","14:56:00","","02:04:00","","","<","Press"]
["311","Nova","2019-01-18","Borongan","06:50:00","17:00:00","06:51:00","14:58:00","00:01:00","02:02:00","","","><","Press"]
["312","Khasanah","2019-01-16","Borongan","06:50:00","17:00:00","06:44:00","15:09:00","","01:51:00","","","<","Press"]
["312","Khasanah","2019-01-17","Borongan","06:50:00","17:00:00","06:47:00","14:50:00","","02:10:00","","","<","Press"]
["312","Khasanah","2019-01-18","Borongan","06:50:00","17:00:00","06:42:00","14:59:00","","02:01:00","","","<","Press"]
["313","Lia","2019-01-16","Borongan","06:50:00","17:00:00","","","","","","","A","Press"]
["313","Lia","2019-01-17","Borongan","06:50:00","17:00:00","","","","","","","A","Press"]
["313","Lia","2019-01-18","Borongan","06:50:00","17:00:00","","","","","","","A","Press"]
["314","Erna","2019-01-16","Borongan","06:50:00","17:00:00","06:51:00","15:04:00","00:01:00","01:56:00","","","><","Press"]
["314","Erna","2019-01-17","Borongan","06:50:00","17:00:00","06:45:00","14:56:00","","02:04:00","","","<","Press"]
["314","Erna","2019-01-18","Borongan","06:50:00","17:00:00","06:45:00","14:52:00","","02:08:00","","","<","Press"]
["316","Khoir","2019-01-16","Borongan","06:50:00","17:00:00","06:46:00","15:08:00","","01:52:00","","","<","Press"]
["316","Khoir","2019-01-17","Borongan","06:50:00","17:00:00","06:44:00","14:55:00","","02:05:00","","","<","Press"]
["316","Khoir","2019-01-18","Borongan","06:50:00","17:00:00","06:42:00","14:58:00","","02:02:00","","","<","Press"]
["317","Filda","2019-01-16","Borongan","06:50:00","17:00:00","06:47:00","15:19:00","","01:41:00","","","<","Press"]
["317","Filda","2019-01-17","Borongan","06:50:00","17:00:00","06:51:00","14:53:00","00:01:00","02:07:00","","","><","Press"]
["317","Filda","2019-01-18","Borongan","06:50:00","17:00:00","06:49:00","14:57:00","","02:03:00","","","<","Press"]
["319","Juma'iyyah","2019-01-16","Borongan","06:50:00","17:00:00","06:46:00","15:04:00","","01:56:00","","","<","Press"]
["319","Juma'iyyah","2019-01-17","Borongan","06:50:00","17:00:00","06:43:00","14:50:00","","02:10:00","","","<","Press"]
["319","Juma'iyyah","2019-01-18","Borongan","06:50:00","17:00:00","06:42:00","14:57:00","","02:03:00","","","<","Press"]
["320","Uswatun","2019-01-16","Borongan","06:50:00","17:00:00","06:44:00","15:04:00","","01:56:00","","","<","Press"]
["320","Uswatun","2019-01-17","Borongan","06:50:00","17:00:00","06:42:00","14:50:00","","02:10:00","","","<","Press"]
["320","Uswatun","2019-01-18","Borongan","06:50:00","17:00:00","06:42:00","14:49:00","","02:11:00","","","<","Press"]
["321","Deni B","2019-01-16","Borongan","06:50:00","17:00:00","06:47:00","15:04:00","","01:56:00","","","<","Press"]
["321","Deni B","2019-01-17","Borongan","06:50:00","17:00:00","06:45:00","14:55:00","","02:05:00","","","<","Press"]
["321","Deni B","2019-01-18","Borongan","06:50:00","17:00:00","06:45:00","14:50:00","","02:10:00","","","<","Press"]
["322","Satuni","2019-01-16","Borongan","06:50:00","17:00:00","","","","","","","A","Press"]
["322","Satuni","2019-01-17","Borongan","06:50:00","17:00:00","","","","","","","A","Press"]
["322","Satuni","2019-01-18","Borongan","06:50:00","17:00:00","","","","","","","A","Press"]
["323","Novi","2019-01-16","Borongan","06:50:00","17:00:00","06:45:00","15:05:00","","01:55:00","","","<","Press"]
["323","Novi","2019-01-17","Borongan","06:50:00","17:00:00","06:42:00","14:55:00","","02:05:00","","","<","Press"]
["323","Novi","2019-01-18","Borongan","06:50:00","17:00:00","06:42:00","14:49:00","","02:11:00","","","<","Press"]
["324","Eka","2019-01-16","Borongan","06:50:00","17:00:00","","","","","","","A","Press"]
["324","Eka","2019-01-17","Borongan","06:50:00","17:00:00","","","","","","","A","Press"]
["324","Eka","2019-01-18","Borongan","06:50:00","17:00:00","","","","","","","A","Press"]
["325","Septin","2019-01-16","Borongan","06:50:00","17:00:00","06:52:00","15:05:00","00:02:00","01:55:00","","","><","Press"]
["325","Septin","2019-01-17","Borongan","06:50:00","17:00:00","","","","","","","A","Press"]
["325","Septin","2019-01-18","Borongan","06:50:00","17:00:00","06:53:00","14:51:00","00:03:00","02:09:00","","","><","Press"]
["326","Titin","2019-01-16","Borongan","06:50:00","17:00:00","","","","","","","A","Press"]
["326","Titin","2019-01-17","Borongan","06:50:00","17:00:00","","","","","","","A","Press"]
["326","Titin","2019-01-18","Borongan","06:50:00","17:00:00","","","","","","","A","Press"]
["327","Latifa","2019-01-16","Borongan","06:50:00","17:00:00","06:44:00","15:08:00","","01:52:00","","","<","Press"]
["327","Latifa","2019-01-17","Borongan","06:50:00","17:00:00","06:42:00","14:55:00","","02:05:00","","","<","Press"]
["327","Latifa","2019-01-18","Borongan","06:50:00","17:00:00","06:42:00","14:50:00","","02:10:00","","","<","Press"]
["328","Sri Wati","2019-01-16","Borongan","06:50:00","17:00:00","06:44:00","15:05:00","","01:55:00","","","<","Press"]
["328","Sri Wati","2019-01-17","Borongan","06:50:00","17:00:00","06:43:00","14:55:00","","02:05:00","","","<","Press"]
["328","Sri Wati","2019-01-18","Borongan","06:50:00","17:00:00","06:42:00","14:51:00","","02:09:00","","","<","Press"]
["329","Indah","2019-01-16","Borongan","06:50:00","17:00:00","06:44:00","15:08:00","","01:52:00","","","<","Press"]
["329","Indah","2019-01-17","Borongan","06:50:00","17:00:00","06:43:00","14:51:00","","02:09:00","","","<","Press"]
["329","Indah","2019-01-18","Borongan","06:50:00","17:00:00","06:42:00","14:58:00","","02:02:00","","","<","Press"]
["401","Khoiri","2019-01-16","Borongan","06:50:00","17:00:00","06:50:00","","00:00:00","02:00:00","","","><","Produksi"]
["401","Khoiri","2019-01-17","Borongan","06:50:00","17:00:00","","15:25:00","02:00:00","01:35:00","","","><","Produksi"]
["401","Khoiri","2019-01-18","Borongan","06:50:00","17:00:00","06:47:00","","","02:00:00","","","<","Produksi"]
["402","Khoirul","2019-01-16","Borongan","06:50:00","17:00:00","06:49:00","16:45:00","","00:15:00","","","<","Produksi"]
["402","Khoirul","2019-01-17","Borongan","06:50:00","17:00:00","06:55:00","14:58:00","00:05:00","02:02:00","","","><","Produksi"]
["402","Khoirul","2019-01-18","Borongan","06:50:00","17:00:00","06:54:00","15:25:00","00:04:00","01:35:00","","","><","Produksi"]
["403","Via","2019-01-16","Borongan","06:50:00","17:00:00","06:53:00","16:05:00","00:03:00","00:55:00","","","><","Produksi"]
["403","Via","2019-01-17","Borongan","06:50:00","17:00:00","06:47:00","15:05:00","","01:55:00","","","<","Produksi"]
["403","Via","2019-01-18","Borongan","06:50:00","17:00:00","06:50:00","15:18:00","00:00:00","01:42:00","","","><","Produksi"]
["404","Fifi","2019-01-16","Borongan","06:50:00","17:00:00","06:46:00","16:07:00","","00:53:00","","","<","Produksi"]
["404","Fifi","2019-01-17","Borongan","06:50:00","17:00:00","06:43:00","15:05:00","","01:55:00","","","<","Produksi"]
["404","Fifi","2019-01-18","Borongan","06:50:00","17:00:00","06:43:00","15:16:00","","01:44:00","","","<","Produksi"]
["405","Zubaidah","2019-01-16","Borongan","06:50:00","17:00:00","06:45:00","16:07:00","","00:53:00","","","<","Produksi"]
["405","Zubaidah","2019-01-17","Borongan","06:50:00","17:00:00","06:44:00","15:02:00","","01:58:00","","","<","Produksi"]
["405","Zubaidah","2019-01-18","Borongan","06:50:00","17:00:00","06:42:00","15:14:00","","01:46:00","","","<","Produksi"]
["406","Rika","2019-01-16","Borongan","06:50:00","17:00:00","06:45:00","16:06:00","","00:54:00","","","<","Produksi"]
["406","Rika","2019-01-17","Borongan","06:50:00","17:00:00","06:44:00","","","02:00:00","","","<","Produksi"]
["406","Rika","2019-01-18","Borongan","06:50:00","17:00:00","06:44:00","15:14:00","","01:46:00","","","<","Produksi"]
["407","Ima","2019-01-16","Borongan","06:50:00","17:00:00","06:45:00","16:06:00","","00:54:00","","","<","Produksi"]
["407","Ima","2019-01-17","Borongan","06:50:00","17:00:00","06:43:00","15:01:00","","01:59:00","","","<","Produksi"]
["407","Ima","2019-01-18","Borongan","06:50:00","17:00:00","06:43:00","15:18:00","","01:42:00","","","<","Produksi"]
["408","Gita","2019-01-16","Borongan","06:50:00","17:00:00","06:48:00","16:08:00","","00:52:00","","","<","Produksi"]
["408","Gita","2019-01-17","Borongan","06:50:00","17:00:00","06:45:00","15:03:00","","01:57:00","","","<","Produksi"]
["408","Gita","2019-01-18","Borongan","06:50:00","17:00:00","06:44:00","","","02:00:00","","","<","Produksi"]
["409","Evi","2019-01-16","Borongan","06:50:00","17:00:00","06:51:00","16:08:00","00:01:00","00:52:00","","","><","Produksi"]
["409","Evi","2019-01-17","Borongan","06:50:00","17:00:00","06:46:00","15:13:00","","01:47:00","","","<","Produksi"]
["409","Evi","2019-01-18","Borongan","06:50:00","17:00:00","06:45:00","15:16:00","","01:44:00","","","<","Produksi"]
["410","Fitri","2019-01-16","Borongan","06:50:00","17:00:00","06:45:00","16:13:00","","00:47:00","","","<","Produksi"]
["410","Fitri","2019-01-17","Borongan","06:50:00","17:00:00","06:44:00","15:05:00","","01:55:00","","","<","Produksi"]
["410","Fitri","2019-01-18","Borongan","06:50:00","17:00:00","06:43:00","15:16:00","","01:44:00","","","<","Produksi"]
["411","Vita","2019-01-16","Borongan","06:50:00","17:00:00","06:47:00","16:08:00","","00:52:00","","","<","Produksi"]
["411","Vita","2019-01-17","Borongan","06:50:00","17:00:00","06:44:00","15:05:00","","01:55:00","","","<","Produksi"]
["411","Vita","2019-01-18","Borongan","06:50:00","17:00:00","06:43:00","15:17:00","","01:43:00","","","<","Produksi"]
["412","Nafil","2019-01-16","Borongan","06:50:00","17:00:00","06:46:00","16:06:00","","00:54:00","","","<","Produksi"]
["412","Nafil","2019-01-17","Borongan","06:50:00","17:00:00","06:43:00","15:03:00","","01:57:00","","","<","Produksi"]
["412","Nafil","2019-01-18","Borongan","06:50:00","17:00:00","06:49:00","15:13:00","","01:47:00","","","<","Produksi"]
["413","Ayunda","2019-01-16","Borongan","06:50:00","17:00:00","06:46:00","16:08:00","","00:52:00","","","<","Produksi"]
["413","Ayunda","2019-01-17","Borongan","06:50:00","17:00:00","06:45:00","15:03:00","","01:57:00","","","<","Produksi"]
["413","Ayunda","2019-01-18","Borongan","06:50:00","17:00:00","06:46:00","15:15:00","","01:45:00","","","<","Produksi"]
["414","Vina","2019-01-16","Borongan","06:50:00","17:00:00","06:46:00","16:07:00","","00:53:00","","","<","Produksi"]
["414","Vina","2019-01-17","Borongan","06:50:00","17:00:00","06:45:00","15:02:00","","01:58:00","","","<","Produksi"]
["414","Vina","2019-01-18","Borongan","06:50:00","17:00:00","06:44:00","15:14:00","","01:46:00","","","<","Produksi"]
["415","Weni","2019-01-16","Borongan","06:50:00","17:00:00","06:46:00","","","02:00:00","","","<","Produksi"]
["415","Weni","2019-01-17","Borongan","06:50:00","17:00:00","06:45:00","15:03:00","","01:57:00","","","<","Produksi"]
["415","Weni","2019-01-18","Borongan","06:50:00","17:00:00","06:46:00","15:17:00","","01:43:00","","","<","Produksi"]
["416","Siyati","2019-01-16","Borongan","06:50:00","17:00:00","06:47:00","16:07:00","","00:53:00","","","<","Produksi"]
["416","Siyati","2019-01-17","Borongan","06:50:00","17:00:00","06:45:00","15:04:00","","01:56:00","","","<","Produksi"]
["416","Siyati","2019-01-18","Borongan","06:50:00","17:00:00","","","","","","","A","Produksi"]
["418","Suntrik","2019-01-16","Borongan","06:50:00","17:00:00","06:45:00","16:09:00","","00:51:00","","","<","Produksi"]
["418","Suntrik","2019-01-17","Borongan","06:50:00","17:00:00","06:44:00","15:06:00","","01:54:00","","","<","Produksi"]
["418","Suntrik","2019-01-18","Borongan","06:50:00","17:00:00","06:44:00","15:19:00","","01:41:00","","","<","Produksi"]
["419","Elsa","2019-01-16","Borongan","06:50:00","17:00:00","06:46:00","16:06:00","","00:54:00","","","<","Produksi"]
["419","Elsa","2019-01-17","Borongan","06:50:00","17:00:00","06:45:00","15:05:00","","01:55:00","","","<","Produksi"]
["419","Elsa","2019-01-18","Borongan","06:50:00","17:00:00","","15:15:00","02:00:00","01:45:00","","","><","Produksi"]
["420","Evi B","2019-01-16","Borongan","06:50:00","17:00:00","06:46:00","16:07:00","","00:53:00","","","<","Produksi"]
["420","Evi B","2019-01-17","Borongan","06:50:00","17:00:00","06:45:00","15:05:00","","01:55:00","","","<","Produksi"]
["420","Evi B","2019-01-18","Borongan","06:50:00","17:00:00","06:44:00","15:17:00","","01:43:00","","","<","Produksi"]
["118","Farida","2019-01-28","Harian","06:50:00","15:00:00","","","","","","","A","Lab"]
["118","Farida","2019-01-29","Harian","06:50:00","15:00:00","","","","","","","A","Lab"]
["118","Farida","2019-01-30","Harian","06:50:00","15:00:00","","","","","","","A","Lab"]
["118","Farida","2019-01-31","Harian","06:50:00","15:00:00","","","","","","","A","Lab"]
["119","Zainul B","2019-01-16","Teknisi","06:50:00","16:00:00","06:47:00","15:54:00","","00:06:00","","","<","Teknisi/ Mekanik"]
["119","Zainul B","2019-01-17","Teknisi","06:50:00","16:00:00","06:53:00","15:54:00","00:03:00","00:06:00","","","><","Teknisi/ Mekanik"]
["119","Zainul B","2019-01-18","Teknisi","06:50:00","16:00:00","06:54:00","","00:04:00","02:00:00","","","><","Teknisi/ Mekanik"]
["119","Zainul B","2019-01-19","Teknisi","06:50:00","16:00:00","","","","","","","A","Teknisi/ Mekanik"]
["119","Zainul B","2019-01-21","Teknisi","06:50:00","16:00:00","","","","","","","A","Teknisi/ Mekanik"]
["119","Zainul B","2019-01-22","Teknisi","06:50:00","16:00:00","","","","","","","A","Teknisi/ Mekanik"]
["119","Zainul B","2019-01-23","Teknisi","06:50:00","16:00:00","","","","","","","A","Teknisi/ Mekanik"]
["119","Zainul B","2019-01-24","Teknisi","06:50:00","16:00:00","","","","","","","A","Teknisi/ Mekanik"]
["119","Zainul B","2019-01-25","Teknisi","06:50:00","16:00:00","","","","","","","A","Teknisi/ Mekanik"]
["119","Zainul B","2019-01-26","Teknisi","06:50:00","16:00:00","","","","","","","A","Teknisi/ Mekanik"]
["119","Zainul B","2019-01-28","Teknisi","06:50:00","16:00:00","","","","","","","A","Teknisi/ Mekanik"]
["119","Zainul B","2019-01-29","Teknisi","06:50:00","16:00:00","","","","","","","A","Teknisi/ Mekanik"]
["119","Zainul B","2019-01-30","Teknisi","06:50:00","16:00:00","","","","","","","A","Teknisi/ Mekanik"]
["119","Zainul B","2019-01-31","Teknisi","06:50:00","16:00:00","","","","","","","A","Teknisi/ Mekanik"]
["120","A. Bahrudin","2019-01-16","Harian","06:50:00","15:00:00","06:48:00","14:55:00","","","","","","Meses"]
["120","A. Bahrudin","2019-01-17","Harian","06:50:00","15:00:00","06:46:00","14:52:00","","00:08:00","","","<","Meses"]
["120","A. Bahrudin","2019-01-18","Harian","06:50:00","15:00:00","06:46:00","","","02:00:00","","","<","Meses"]
["120","A. Bahrudin","2019-01-19","Harian","06:50:00","15:00:00","","","","","","","A","Meses"]
["120","A. Bahrudin","2019-01-21","Harian","06:50:00","15:00:00","","","","","","","A","Meses"]
["120","A. Bahrudin","2019-01-22","Harian","06:50:00","15:00:00","","","","","","","A","Meses"]
["120","A. Bahrudin","2019-01-23","Harian","06:50:00","15:00:00","","","","","","","A","Meses"]
["120","A. Bahrudin","2019-01-24","Harian","06:50:00","15:00:00","","","","","","","A","Meses"]
["120","A. Bahrudin","2019-01-25","Harian","06:50:00","15:00:00","","","","","","","A","Meses"]
["120","A. Bahrudin","2019-01-26","Harian","06:50:00","15:00:00","","","","","","","A","Meses"]
["120","A. Bahrudin","2019-01-28","Harian","06:50:00","15:00:00","","","","","","","A","Meses"]
["120","A. Bahrudin","2019-01-29","Harian","06:50:00","15:00:00","","","","","","","A","Meses"]
["120","A. Bahrudin","2019-01-30","Harian","06:50:00","15:00:00","","","","","","","A","Meses"]
["120","A. Bahrudin","2019-01-31","Harian","06:50:00","15:00:00","","","","","","","A","Meses"]
["121","Roni","2019-01-16","Harian","06:50:00","15:00:00","06:48:00","14:59:00","","","","","","Harian"]
["121","Roni","2019-01-17","Harian","06:50:00","15:00:00","06:45:00","14:56:00","","","","","","Harian"]
["121","Roni","2019-01-18","Harian","06:50:00","15:00:00","06:46:00","","","02:00:00","","","<","Harian"]
["121","Roni","2019-01-19","Harian","06:50:00","15:00:00","","","","","","","A","Harian"]
["121","Roni","2019-01-21","Harian","06:50:00","15:00:00","","","","","","","A","Harian"]
["121","Roni","2019-01-22","Harian","06:50:00","15:00:00","","","","","","","A","Harian"]
["121","Roni","2019-01-23","Harian","06:50:00","15:00:00","","","","","","","A","Harian"]
["121","Roni","2019-01-24","Harian","06:50:00","15:00:00","","","","","","","A","Harian"]
["121","Roni","2019-01-25","Harian","06:50:00","15:00:00","","","","","","","A","Harian"]
["121","Roni","2019-01-26","Harian","06:50:00","15:00:00","","","","","","","A","Harian"]
["121","Roni","2019-01-28","Harian","06:50:00","15:00:00","","","","","","","A","Harian"]
["121","Roni","2019-01-29","Harian","06:50:00","15:00:00","","","","","","","A","Harian"]
["121","Roni","2019-01-30","Harian","06:50:00","15:00:00","","","","","","","A","Harian"]
["121","Roni","2019-01-31","Harian","06:50:00","15:00:00","","","","","","","A","Harian"]
["122","Rohman B","2019-01-16","Harian","06:50:00","15:00:00","06:48:00","15:54:00","","","00:54:00","","","Harian"]
["122","Rohman B","2019-01-17","Harian","06:50:00","15:00:00","06:46:00","14:56:00","","","","","","Harian"]
["122","Rohman B","2019-01-18","Harian","06:50:00","15:00:00","06:53:00","","00:03:00","02:00:00","","","><","Harian"]
["122","Rohman B","2019-01-19","Harian","06:50:00","15:00:00","","","","","","","A","Harian"]
["122","Rohman B","2019-01-21","Harian","06:50:00","15:00:00","","","","","","","A","Harian"]
["122","Rohman B","2019-01-22","Harian","06:50:00","15:00:00","","","","","","","A","Harian"]
["122","Rohman B","2019-01-23","Harian","06:50:00","15:00:00","","","","","","","A","Harian"]
["122","Rohman B","2019-01-24","Harian","06:50:00","15:00:00","","","","","","","A","Harian"]
["122","Rohman B","2019-01-25","Harian","06:50:00","15:00:00","","","","","","","A","Harian"]
["122","Rohman B","2019-01-26","Harian","06:50:00","15:00:00","","","","","","","A","Harian"]
["122","Rohman B","2019-01-28","Harian","06:50:00","15:00:00","","","","","","","A","Harian"]
["122","Rohman B","2019-01-29","Harian","06:50:00","15:00:00","","","","","","","A","Harian"]
["122","Rohman B","2019-01-30","Harian","06:50:00","15:00:00","","","","","","","A","Harian"]
["122","Rohman B","2019-01-31","Harian","06:50:00","15:00:00","","","","","","","A","Harian"]
["123","Gilang","2019-01-16","Harian","06:50:00","15:00:00","07:00:00","16:00:00","00:10:00","","01:00:00","",">","Meses"]
["123","Gilang","2019-01-17","Harian","06:50:00","15:00:00","06:59:00","14:56:00","00:09:00","","","",">","Meses"]
["123","Gilang","2019-01-18","Harian","06:50:00","15:00:00","07:00:00","","00:10:00","02:00:00","","","><","Meses"]
["123","Gilang","2019-01-19","Harian","06:50:00","15:00:00","","","","","","","A","Meses"]
["123","Gilang","2019-01-21","Harian","06:50:00","15:00:00","","","","","","","A","Meses"]
["123","Gilang","2019-01-22","Harian","06:50:00","15:00:00","","","","","","","A","Meses"]
["123","Gilang","2019-01-23","Harian","06:50:00","15:00:00","","","","","","","A","Meses"]
["123","Gilang","2019-01-24","Harian","06:50:00","15:00:00","","","","","","","A","Meses"]
["123","Gilang","2019-01-25","Harian","06:50:00","15:00:00","","","","","","","A","Meses"]
["123","Gilang","2019-01-26","Harian","06:50:00","15:00:00","","","","","","","A","Meses"]
["123","Gilang","2019-01-28","Harian","06:50:00","15:00:00","","","","","","","A","Meses"]
["123","Gilang","2019-01-29","Harian","06:50:00","15:00:00","","","","","","","A","Meses"]
["123","Gilang","2019-01-30","Harian","06:50:00","15:00:00","","","","","","","A","Meses"]
["123","Gilang","2019-01-31","Harian","06:50:00","15:00:00","","","","","","","A","Meses"]
["124","Zeky","2019-01-16","Harian","06:50:00","15:00:00","06:48:00","14:55:00","","","","","","Meses"]
["124","Zeky","2019-01-17","Harian","06:50:00","15:00:00","06:46:00","14:56:00","","","","","","Meses"]
["124","Zeky","2019-01-18","Harian","06:50:00","15:00:00","06:45:00","","","02:00:00","","","<","Meses"]
["124","Zeky","2019-01-19","Harian","06:50:00","15:00:00","","","","","","","A","Meses"]
["124","Zeky","2019-01-21","Harian","06:50:00","15:00:00","","","","","","","A","Meses"]
["124","Zeky","2019-01-22","Harian","06:50:00","15:00:00","","","","","","","A","Meses"]
["124","Zeky","2019-01-23","Harian","06:50:00","15:00:00","","","","","","","A","Meses"]
["124","Zeky","2019-01-24","Harian","06:50:00","15:00:00","","","","","","","A","Meses"]
["124","Zeky","2019-01-25","Harian","06:50:00","15:00:00","","","","","","","A","Meses"]
["124","Zeky","2019-01-26","Harian","06:50:00","15:00:00","","","","","","","A","Meses"]
["124","Zeky","2019-01-28","Harian","06:50:00","15:00:00","","","","","","","A","Meses"]
["124","Zeky","2019-01-29","Harian","06:50:00","15:00:00","","","","","","","A","Meses"]
["124","Zeky","2019-01-30","Harian","06:50:00","15:00:00","","","","","","","A","Meses"]
["124","Zeky","2019-01-31","Harian","06:50:00","15:00:00","","","","","","","A","Meses"]
["125","Yuli","2019-01-16","Harian","06:50:00","15:00:00","06:45:00","16:19:00","","","01:19:00","","","Pengawas"]
["125","Yuli","2019-01-17","Harian","06:50:00","15:00:00","06:43:00","16:00:00","","","01:00:00","","","Pengawas"]
["125","Yuli","2019-01-18","Harian","06:50:00","15:00:00","06:44:00","","","02:00:00","","","<","Pengawas"]
["125","Yuli","2019-01-19","Harian","06:50:00","15:00:00","","","","","","","A","Pengawas"]
["125","Yuli","2019-01-21","Harian","06:50:00","15:00:00","","","","","","","A","Pengawas"]
["125","Yuli","2019-01-22","Harian","06:50:00","15:00:00","","","","","","","A","Pengawas"]
["125","Yuli","2019-01-23","Harian","06:50:00","15:00:00","","","","","","","A","Pengawas"]
["125","Yuli","2019-01-24","Harian","06:50:00","15:00:00","","","","","","","A","Pengawas"]
["125","Yuli","2019-01-25","Harian","06:50:00","15:00:00","","","","","","","A","Pengawas"]
["125","Yuli","2019-01-26","Harian","06:50:00","15:00:00","","","","","","","A","Pengawas"]
["125","Yuli","2019-01-28","Harian","06:50:00","15:00:00","","","","","","","A","Pengawas"]
["125","Yuli","2019-01-29","Harian","06:50:00","15:00:00","","","","","","","A","Pengawas"]
["125","Yuli","2019-01-30","Harian","06:50:00","15:00:00","","","","","","","A","Pengawas"]
["125","Yuli","2019-01-31","Harian","06:50:00","15:00:00","","","","","","","A","Pengawas"]
["126","Rifah","2019-01-16","Harian","06:50:00","15:00:00","06:45:00","16:19:00","","","01:19:00","","","Pengawas"]
["126","Rifah","2019-01-17","Harian","06:50:00","15:00:00","06:44:00","16:00:00","","","01:00:00","","","Pengawas"]
["126","Rifah","2019-01-18","Harian","06:50:00","15:00:00","06:44:00","","","02:00:00","","","<","Pengawas"]
["126","Rifah","2019-01-19","Harian","06:50:00","15:00:00","","","","","","","A","Pengawas"]
["126","Rifah","2019-01-21","Harian","06:50:00","15:00:00","","","","","","","A","Pengawas"]
["126","Rifah","2019-01-22","Harian","06:50:00","15:00:00","","","","","","","A","Pengawas"]
["126","Rifah","2019-01-23","Harian","06:50:00","15:00:00","","","","","","","A","Pengawas"]
["126","Rifah","2019-01-24","Harian","06:50:00","15:00:00","","","","","","","A","Pengawas"]
["126","Rifah","2019-01-25","Harian","06:50:00","15:00:00","","","","","","","A","Pengawas"]
["126","Rifah","2019-01-26","Harian","06:50:00","15:00:00","","","","","","","A","Pengawas"]
["126","Rifah","2019-01-28","Harian","06:50:00","15:00:00","","","","","","","A","Pengawas"]
["126","Rifah","2019-01-29","Harian","06:50:00","15:00:00","","","","","","","A","Pengawas"]
["126","Rifah","2019-01-30","Harian","06:50:00","15:00:00","","","","","","","A","Pengawas"]
["126","Rifah","2019-01-31","Harian","06:50:00","15:00:00","","","","","","","A","Pengawas"]
["127","Krisna","2019-01-16","Harian","06:50:00","15:00:00","06:47:00","15:54:00","","","00:54:00","","","Harian"]
["127","Krisna","2019-01-17","Harian","06:50:00","15:00:00","06:46:00","14:56:00","","","","","","Harian"]
["127","Krisna","2019-01-18","Harian","06:50:00","15:00:00","06:45:00","","","02:00:00","","","<","Harian"]
["127","Krisna","2019-01-19","Harian","06:50:00","15:00:00","","","","","","","A","Harian"]
["127","Krisna","2019-01-21","Harian","06:50:00","15:00:00","","","","","","","A","Harian"]
["127","Krisna","2019-01-22","Harian","06:50:00","15:00:00","","","","","","","A","Harian"]
["127","Krisna","2019-01-23","Harian","06:50:00","15:00:00","","","","","","","A","Harian"]
["127","Krisna","2019-01-24","Harian","06:50:00","15:00:00","","","","","","","A","Harian"]
["127","Krisna","2019-01-25","Harian","06:50:00","15:00:00","","","","","","","A","Harian"]
["127","Krisna","2019-01-26","Harian","06:50:00","15:00:00","","","","","","","A","Harian"]
["127","Krisna","2019-01-28","Harian","06:50:00","15:00:00","","","","","","","A","Harian"]
["127","Krisna","2019-01-29","Harian","06:50:00","15:00:00","","","","","","","A","Harian"]
["127","Krisna","2019-01-30","Harian","06:50:00","15:00:00","","","","","","","A","Harian"]
["127","Krisna","2019-01-31","Harian","06:50:00","15:00:00","","","","","","","A","Harian"]
["128","Taufiq","2019-01-16","Harian","06:50:00","15:00:00","06:47:00","14:55:00","","","","","","Meses"]
["128","Taufiq","2019-01-17","Harian","06:50:00","15:00:00","06:46:00","14:55:00","","","","","","Meses"]
["128","Taufiq","2019-01-18","Harian","06:50:00","15:00:00","06:46:00","","","02:00:00","","","<","Meses"]
["128","Taufiq","2019-01-19","Harian","06:50:00","15:00:00","","","","","","","A","Meses"]
["128","Taufiq","2019-01-21","Harian","06:50:00","15:00:00","","","","","","","A","Meses"]
["128","Taufiq","2019-01-22","Harian","06:50:00","15:00:00","","","","","","","A","Meses"]
["128","Taufiq","2019-01-23","Harian","06:50:00","15:00:00","","","","","","","A","Meses"]
["128","Taufiq","2019-01-24","Harian","06:50:00","15:00:00","","","","","","","A","Meses"]
["128","Taufiq","2019-01-25","Harian","06:50:00","15:00:00","","","","","","","A","Meses"]
["128","Taufiq","2019-01-26","Harian","06:50:00","15:00:00","","","","","","","A","Meses"]
["128","Taufiq","2019-01-28","Harian","06:50:00","15:00:00","","","","","","","A","Meses"]
["128","Taufiq","2019-01-29","Harian","06:50:00","15:00:00","","","","","","","A","Meses"]
["128","Taufiq","2019-01-30","Harian","06:50:00","15:00:00","","","","","","","A","Meses"]
["128","Taufiq","2019-01-31","Harian","06:50:00","15:00:00","","","","","","","A","Meses"]
["129","Jefri","2019-01-16","Harian","06:50:00","15:00:00","06:48:00","14:55:00","","","","","","Meses"]
["129","Jefri","2019-01-17","Harian","06:50:00","15:00:00","06:46:00","14:56:00","","","","","","Meses"]
["129","Jefri","2019-01-18","Harian","06:50:00","15:00:00","06:45:00","","","02:00:00","","","<","Meses"]
["129","Jefri","2019-01-19","Harian","06:50:00","15:00:00","","","","","","","A","Meses"]
["129","Jefri","2019-01-21","Harian","06:50:00","15:00:00","","","","","","","A","Meses"]
["129","Jefri","2019-01-22","Harian","06:50:00","15:00:00","","","","","","","A","Meses"]
["129","Jefri","2019-01-23","Harian","06:50:00","15:00:00","","","","","","","A","Meses"]
["129","Jefri","2019-01-24","Harian","06:50:00","15:00:00","","","","","","","A","Meses"]
["129","Jefri","2019-01-25","Harian","06:50:00","15:00:00","","","","","","","A","Meses"]
["129","Jefri","2019-01-26","Harian","06:50:00","15:00:00","","","","","","","A","Meses"]
["129","Jefri","2019-01-28","Harian","06:50:00","15:00:00","","","","","","","A","Meses"]
["129","Jefri","2019-01-29","Harian","06:50:00","15:00:00","","","","","","","A","Meses"]
["129","Jefri","2019-01-30","Harian","06:50:00","15:00:00","","","","","","","A","Meses"]
["129","Jefri","2019-01-31","Harian","06:50:00","15:00:00","","","","","","","A","Meses"]
["201","Tatik","2019-01-16","Borongan","06:50:00","17:00:00","06:45:00","15:03:00","","01:57:00","","","<","Pack"]
["201","Tatik","2019-01-17","Borongan","06:50:00","17:00:00","06:43:00","14:58:00","","02:02:00","","","<","Pack"]
["201","Tatik","2019-01-18","Borongan","06:50:00","17:00:00","06:42:00","","","02:00:00","","","<","Pack"]
["201","Tatik","2019-01-19","Borongan","06:50:00","17:00:00","","","","","","","A","Pack"]
["201","Tatik","2019-01-21","Borongan","06:50:00","17:00:00","","","","","","","A","Pack"]
["201","Tatik","2019-01-22","Borongan","06:50:00","17:00:00","","","","","","","A","Pack"]
["201","Tatik","2019-01-23","Borongan","06:50:00","17:00:00","","","","","","","A","Pack"]
["201","Tatik","2019-01-24","Borongan","06:50:00","17:00:00","","","","","","","A","Pack"]
["201","Tatik","2019-01-25","Borongan","06:50:00","17:00:00","","","","","","","A","Pack"]
["201","Tatik","2019-01-26","Borongan","06:50:00","17:00:00","","","","","","","A","Pack"]
["201","Tatik","2019-01-28","Borongan","06:50:00","17:00:00","","","","","","","A","Pack"]
["201","Tatik","2019-01-29","Borongan","06:50:00","17:00:00","","","","","","","A","Pack"]
["201","Tatik","2019-01-30","Borongan","06:50:00","17:00:00","","","","","","","A","Pack"]
["201","Tatik","2019-01-31","Borongan","06:50:00","17:00:00","","","","","","","A","Pack"]
["202","Ririn","2019-01-16","Borongan","06:50:00","17:00:00","06:57:00","15:04:00","00:07:00","01:56:00","","","><","Pack"]
["202","Ririn","2019-01-17","Borongan","06:50:00","17:00:00","06:55:00","14:59:00","00:05:00","02:01:00","","","><","Pack"]
["202","Ririn","2019-01-18","Borongan","06:50:00","17:00:00","06:56:00","","00:06:00","02:00:00","","","><","Pack"]
["202","Ririn","2019-01-19","Borongan","06:50:00","17:00:00","","","","","","","A","Pack"]
["202","Ririn","2019-01-21","Borongan","06:50:00","17:00:00","","","","","","","A","Pack"]
["202","Ririn","2019-01-22","Borongan","06:50:00","17:00:00","","","","","","","A","Pack"]
["202","Ririn","2019-01-23","Borongan","06:50:00","17:00:00","","","","","","","A","Pack"]
["202","Ririn","2019-01-24","Borongan","06:50:00","17:00:00","","","","","","","A","Pack"]
["202","Ririn","2019-01-25","Borongan","06:50:00","17:00:00","","","","","","","A","Pack"]
["202","Ririn","2019-01-26","Borongan","06:50:00","17:00:00","","","","","","","A","Pack"]
["202","Ririn","2019-01-28","Borongan","06:50:00","17:00:00","","","","","","","A","Pack"]
["202","Ririn","2019-01-29","Borongan","06:50:00","17:00:00","","","","","","","A","Pack"]
["202","Ririn","2019-01-30","Borongan","06:50:00","17:00:00","","","","","","","A","Pack"]
["202","Ririn","2019-01-31","Borongan","06:50:00","17:00:00","","","","","","","A","Pack"]
["203","Asmaul","2019-01-16","Borongan","06:50:00","17:00:00","06:48:00","15:03:00","","01:57:00","","","<","Pack"]
["203","Asmaul","2019-01-17","Borongan","06:50:00","17:00:00","06:47:00","14:58:00","","02:02:00","","","<","Pack"]
["203","Asmaul","2019-01-18","Borongan","06:50:00","17:00:00","06:45:00","","","02:00:00","","","<","Pack"]
["203","Asmaul","2019-01-19","Borongan","06:50:00","17:00:00","","","","","","","A","Pack"]
["203","Asmaul","2019-01-21","Borongan","06:50:00","17:00:00","","","","","","","A","Pack"]
["203","Asmaul","2019-01-22","Borongan","06:50:00","17:00:00","","","","","","","A","Pack"]
["203","Asmaul","2019-01-23","Borongan","06:50:00","17:00:00","","","","","","","A","Pack"]
["203","Asmaul","2019-01-24","Borongan","06:50:00","17:00:00","","","","","","","A","Pack"]
["203","Asmaul","2019-01-25","Borongan","06:50:00","17:00:00","","","","","","","A","Pack"]
["203","Asmaul","2019-01-26","Borongan","06:50:00","17:00:00","","","","","","","A","Pack"]
["203","Asmaul","2019-01-28","Borongan","06:50:00","17:00:00","","","","","","","A","Pack"]
["203","Asmaul","2019-01-29","Borongan","06:50:00","17:00:00","","","","","","","A","Pack"]
["203","Asmaul","2019-01-30","Borongan","06:50:00","17:00:00","","","","","","","A","Pack"]
["203","Asmaul","2019-01-31","Borongan","06:50:00","17:00:00","","","","","","","A","Pack"]
["204","Dwi Ayu","2019-01-16","Borongan","06:50:00","17:00:00","06:45:00","15:04:00","","01:56:00","","","<","Pack"]
["204","Dwi Ayu","2019-01-17","Borongan","06:50:00","17:00:00","06:43:00","14:59:00","","02:01:00","","","<","Pack"]
["204","Dwi Ayu","2019-01-18","Borongan","06:50:00","17:00:00","06:48:00","","","02:00:00","","","<","Pack"]
["204","Dwi Ayu","2019-01-19","Borongan","06:50:00","17:00:00","","","","","","","A","Pack"]
["204","Dwi Ayu","2019-01-21","Borongan","06:50:00","17:00:00","","","","","","","A","Pack"]
["204","Dwi Ayu","2019-01-22","Borongan","06:50:00","17:00:00","","","","","","","A","Pack"]
["204","Dwi Ayu","2019-01-23","Borongan","06:50:00","17:00:00","","","","","","","A","Pack"]
["204","Dwi Ayu","2019-01-24","Borongan","06:50:00","17:00:00","","","","","","","A","Pack"]
["204","Dwi Ayu","2019-01-25","Borongan","06:50:00","17:00:00","","","","","","","A","Pack"]
["204","Dwi Ayu","2019-01-26","Borongan","06:50:00","17:00:00","","","","","","","A","Pack"]
["204","Dwi Ayu","2019-01-28","Borongan","06:50:00","17:00:00","","","","","","","A","Pack"]
["204","Dwi Ayu","2019-01-29","Borongan","06:50:00","17:00:00","","","","","","","A","Pack"]
["204","Dwi Ayu","2019-01-30","Borongan","06:50:00","17:00:00","","","","","","","A","Pack"]
["204","Dwi Ayu","2019-01-31","Borongan","06:50:00","17:00:00","","","","","","","A","Pack"]
["301","Reni","2019-01-16","Borongan","06:50:00","17:00:00","06:45:00","15:20:00","","01:40:00","","","<","Press"]
["301","Reni","2019-01-17","Borongan","06:50:00","17:00:00","06:51:00","14:51:00","00:01:00","02:09:00","","","><","Press"]
["301","Reni","2019-01-18","Borongan","06:50:00","17:00:00","06:50:00","","00:00:00","02:00:00","","","><","Press"]
["301","Reni","2019-01-19","Borongan","06:50:00","17:00:00","","","","","","","A","Press"]
["301","Reni","2019-01-21","Borongan","06:50:00","17:00:00","","","","","","","A","Press"]
["301","Reni","2019-01-22","Borongan","06:50:00","17:00:00","","","","","","","A","Press"]
["301","Reni","2019-01-23","Borongan","06:50:00","17:00:00","","","","","","","A","Press"]
["301","Reni","2019-01-24","Borongan","06:50:00","17:00:00","","","","","","","A","Press"]
["301","Reni","2019-01-25","Borongan","06:50:00","17:00:00","","","","","","","A","Press"]
["301","Reni","2019-01-26","Borongan","06:50:00","17:00:00","","","","","","","A","Press"]
["301","Reni","2019-01-28","Borongan","06:50:00","17:00:00","","","","","","","A","Press"]
["301","Reni","2019-01-29","Borongan","06:50:00","17:00:00","","","","","","","A","Press"]
["301","Reni","2019-01-30","Borongan","06:50:00","17:00:00","","","","","","","A","Press"]
["301","Reni","2019-01-31","Borongan","06:50:00","17:00:00","","","","","","","A","Press"]
["302","Saroh","2019-01-16","Borongan","06:50:00","17:00:00","06:46:00","15:20:00","","01:40:00","","","<","Press"]
["302","Saroh","2019-01-17","Borongan","06:50:00","17:00:00","06:43:00","14:57:00","","02:03:00","","","<","Press"]
["302","Saroh","2019-01-18","Borongan","06:50:00","17:00:00","06:42:00","","","02:00:00","","","<","Press"]
["302","Saroh","2019-01-19","Borongan","06:50:00","17:00:00","","","","","","","A","Press"]
["302","Saroh","2019-01-21","Borongan","06:50:00","17:00:00","","","","","","","A","Press"]
["302","Saroh","2019-01-22","Borongan","06:50:00","17:00:00","","","","","","","A","Press"]
["302","Saroh","2019-01-23","Borongan","06:50:00","17:00:00","","","","","","","A","Press"]
["302","Saroh","2019-01-24","Borongan","06:50:00","17:00:00","","","","","","","A","Press"]
["302","Saroh","2019-01-25","Borongan","06:50:00","17:00:00","","","","","","","A","Press"]
["302","Saroh","2019-01-26","Borongan","06:50:00","17:00:00","","","","","","","A","Press"]
["302","Saroh","2019-01-28","Borongan","06:50:00","17:00:00","","","","","","","A","Press"]
["302","Saroh","2019-01-29","Borongan","06:50:00","17:00:00","","","","","","","A","Press"]
["302","Saroh","2019-01-30","Borongan","06:50:00","17:00:00","","","","","","","A","Press"]
["302","Saroh","2019-01-31","Borongan","06:50:00","17:00:00","","","","","","","A","Press"]
["303","Ulhayati","2019-01-16","Borongan","06:50:00","17:00:00","06:47:00","15:14:00","","01:46:00","","","<","Press"]
["303","Ulhayati","2019-01-17","Borongan","06:50:00","17:00:00","06:45:00","14:51:00","","02:09:00","","","<","Press"]
["303","Ulhayati","2019-01-18","Borongan","06:50:00","17:00:00","06:44:00","","","02:00:00","","","<","Press"]
["303","Ulhayati","2019-01-19","Borongan","06:50:00","17:00:00","","","","","","","A","Press"]
["303","Ulhayati","2019-01-21","Borongan","06:50:00","17:00:00","","","","","","","A","Press"]
["303","Ulhayati","2019-01-22","Borongan","06:50:00","17:00:00","","","","","","","A","Press"]
["303","Ulhayati","2019-01-23","Borongan","06:50:00","17:00:00","","","","","","","A","Press"]
["303","Ulhayati","2019-01-24","Borongan","06:50:00","17:00:00","","","","","","","A","Press"]
["303","Ulhayati","2019-01-25","Borongan","06:50:00","17:00:00","","","","","","","A","Press"]
["303","Ulhayati","2019-01-26","Borongan","06:50:00","17:00:00","","","","","","","A","Press"]
["303","Ulhayati","2019-01-28","Borongan","06:50:00","17:00:00","","","","","","","A","Press"]
["303","Ulhayati","2019-01-29","Borongan","06:50:00","17:00:00","","","","","","","A","Press"]
["303","Ulhayati","2019-01-30","Borongan","06:50:00","17:00:00","","","","","","","A","Press"]
["303","Ulhayati","2019-01-31","Borongan","06:50:00","17:00:00","","","","","","","A","Press"]
["304","Sri A","2019-01-16","Borongan","06:50:00","17:00:00","06:44:00","15:04:00","","01:56:00","","","<","Press"]
["304","Sri A","2019-01-17","Borongan","06:50:00","17:00:00","06:42:00","14:50:00","","02:10:00","","","<","Press"]
["304","Sri A","2019-01-18","Borongan","06:50:00","17:00:00","06:42:00","","","02:00:00","","","<","Press"]
["304","Sri A","2019-01-19","Borongan","06:50:00","17:00:00","","","","","","","A","Press"]
["304","Sri A","2019-01-21","Borongan","06:50:00","17:00:00","","","","","","","A","Press"]
["304","Sri A","2019-01-22","Borongan","06:50:00","17:00:00","","","","","","","A","Press"]
["304","Sri A","2019-01-23","Borongan","06:50:00","17:00:00","","","","","","","A","Press"]
["304","Sri A","2019-01-24","Borongan","06:50:00","17:00:00","","","","","","","A","Press"]
["304","Sri A","2019-01-25","Borongan","06:50:00","17:00:00","","","","","","","A","Press"]
["304","Sri A","2019-01-26","Borongan","06:50:00","17:00:00","","","","","","","A","Press"]
["304","Sri A","2019-01-28","Borongan","06:50:00","17:00:00","","","","","","","A","Press"]
["304","Sri A","2019-01-29","Borongan","06:50:00","17:00:00","","","","","","","A","Press"]
["304","Sri A","2019-01-30","Borongan","06:50:00","17:00:00","","","","","","","A","Press"]
["304","Sri A","2019-01-31","Borongan","06:50:00","17:00:00","","","","","","","A","Press"]
["305","Endang","2019-01-16","Borongan","06:50:00","17:00:00","06:45:00","15:15:00","","01:45:00","","","<","Press"]
["305","Endang","2019-01-17","Borongan","06:50:00","17:00:00","06:43:00","14:55:00","","02:05:00","","","<","Press"]
["305","Endang","2019-01-18","Borongan","06:50:00","17:00:00","06:42:00","","","02:00:00","","","<","Press"]
["305","Endang","2019-01-19","Borongan","06:50:00","17:00:00","","","","","","","A","Press"]
["305","Endang","2019-01-21","Borongan","06:50:00","17:00:00","","","","","","","A","Press"]
["305","Endang","2019-01-22","Borongan","06:50:00","17:00:00","","","","","","","A","Press"]
["305","Endang","2019-01-23","Borongan","06:50:00","17:00:00","","","","","","","A","Press"]
["305","Endang","2019-01-24","Borongan","06:50:00","17:00:00","","","","","","","A","Press"]
["305","Endang","2019-01-25","Borongan","06:50:00","17:00:00","","","","","","","A","Press"]
["305","Endang","2019-01-26","Borongan","06:50:00","17:00:00","","","","","","","A","Press"]
["305","Endang","2019-01-28","Borongan","06:50:00","17:00:00","","","","","","","A","Press"]
["305","Endang","2019-01-29","Borongan","06:50:00","17:00:00","","","","","","","A","Press"]
["305","Endang","2019-01-30","Borongan","06:50:00","17:00:00","","","","","","","A","Press"]
["305","Endang","2019-01-31","Borongan","06:50:00","17:00:00","","","","","","","A","Press"]
["306","Uyun","2019-01-16","Borongan","06:50:00","17:00:00","06:46:00","15:21:00","","01:39:00","","","<","Press"]
["306","Uyun","2019-01-17","Borongan","06:50:00","17:00:00","06:43:00","14:57:00","","02:03:00","","","<","Press"]
["306","Uyun","2019-01-18","Borongan","06:50:00","17:00:00","06:48:00","","","02:00:00","","","<","Press"]
["306","Uyun","2019-01-19","Borongan","06:50:00","17:00:00","","","","","","","A","Press"]
["306","Uyun","2019-01-21","Borongan","06:50:00","17:00:00","","","","","","","A","Press"]
["306","Uyun","2019-01-22","Borongan","06:50:00","17:00:00","","","","","","","A","Press"]
["306","Uyun","2019-01-23","Borongan","06:50:00","17:00:00","","","","","","","A","Press"]
["306","Uyun","2019-01-24","Borongan","06:50:00","17:00:00","","","","","","","A","Press"]
["306","Uyun","2019-01-25","Borongan","06:50:00","17:00:00","","","","","","","A","Press"]
["306","Uyun","2019-01-26","Borongan","06:50:00","17:00:00","","","","","","","A","Press"]
["306","Uyun","2019-01-28","Borongan","06:50:00","17:00:00","","","","","","","A","Press"]
["306","Uyun","2019-01-29","Borongan","06:50:00","17:00:00","","","","","","","A","Press"]
["306","Uyun","2019-01-30","Borongan","06:50:00","17:00:00","","","","","","","A","Press"]
["306","Uyun","2019-01-31","Borongan","06:50:00","17:00:00","","","","","","","A","Press"]
["307","Rina","2019-01-16","Borongan","06:50:00","17:00:00","","","","","","","A","Press"]
["307","Rina","2019-01-17","Borongan","06:50:00","17:00:00","06:44:00","14:51:00","","02:09:00","","","<","Press"]
["307","Rina","2019-01-18","Borongan","06:50:00","17:00:00","06:45:00","","","02:00:00","","","<","Press"]
["307","Rina","2019-01-19","Borongan","06:50:00","17:00:00","","","","","","","A","Press"]
["307","Rina","2019-01-21","Borongan","06:50:00","17:00:00","","","","","","","A","Press"]
["307","Rina","2019-01-22","Borongan","06:50:00","17:00:00","","","","","","","A","Press"]
["307","Rina","2019-01-23","Borongan","06:50:00","17:00:00","","","","","","","A","Press"]
["307","Rina","2019-01-24","Borongan","06:50:00","17:00:00","","","","","","","A","Press"]
["307","Rina","2019-01-25","Borongan","06:50:00","17:00:00","","","","","","","A","Press"]
["307","Rina","2019-01-26","Borongan","06:50:00","17:00:00","","","","","","","A","Press"]
["307","Rina","2019-01-28","Borongan","06:50:00","17:00:00","","","","","","","A","Press"]
["307","Rina","2019-01-29","Borongan","06:50:00","17:00:00","","","","","","","A","Press"]
["307","Rina","2019-01-30","Borongan","06:50:00","17:00:00","","","","","","","A","Press"]
["307","Rina","2019-01-31","Borongan","06:50:00","17:00:00","","","","","","","A","Press"]
["308","Jum","2019-01-16","Borongan","06:50:00","17:00:00","06:47:00","15:15:00","","01:45:00","","","<","Press"]
["308","Jum","2019-01-17","Borongan","06:50:00","17:00:00","06:47:00","14:55:00","","02:05:00","","","<","Press"]
["308","Jum","2019-01-18","Borongan","06:50:00","17:00:00","06:46:00","","","02:00:00","","","<","Press"]
["308","Jum","2019-01-19","Borongan","06:50:00","17:00:00","","","","","","","A","Press"]
["308","Jum","2019-01-21","Borongan","06:50:00","17:00:00","","","","","","","A","Press"]
["308","Jum","2019-01-22","Borongan","06:50:00","17:00:00","","","","","","","A","Press"]
["308","Jum","2019-01-23","Borongan","06:50:00","17:00:00","","","","","","","A","Press"]
["308","Jum","2019-01-24","Borongan","06:50:00","17:00:00","","","","","","","A","Press"]
["308","Jum","2019-01-25","Borongan","06:50:00","17:00:00","","","","","","","A","Press"]
["308","Jum","2019-01-26","Borongan","06:50:00","17:00:00","","","","","","","A","Press"]
["308","Jum","2019-01-28","Borongan","06:50:00","17:00:00","","","","","","","A","Press"]
["308","Jum","2019-01-29","Borongan","06:50:00","17:00:00","","","","","","","A","Press"]
["308","Jum","2019-01-30","Borongan","06:50:00","17:00:00","","","","","","","A","Press"]
["308","Jum","2019-01-31","Borongan","06:50:00","17:00:00","","","","","","","A","Press"]
["309","Elin","2019-01-16","Borongan","06:50:00","17:00:00","06:44:00","15:05:00","","01:55:00","","","<","Press"]
["309","Elin","2019-01-17","Borongan","06:50:00","17:00:00","06:42:00","14:55:00","","02:05:00","","","<","Press"]
["309","Elin","2019-01-18","Borongan","06:50:00","17:00:00","06:42:00","","","02:00:00","","","<","Press"]
["309","Elin","2019-01-19","Borongan","06:50:00","17:00:00","","","","","","","A","Press"]
["309","Elin","2019-01-21","Borongan","06:50:00","17:00:00","","","","","","","A","Press"]
["309","Elin","2019-01-22","Borongan","06:50:00","17:00:00","","","","","","","A","Press"]
["309","Elin","2019-01-23","Borongan","06:50:00","17:00:00","","","","","","","A","Press"]
["309","Elin","2019-01-24","Borongan","06:50:00","17:00:00","","","","","","","A","Press"]
["309","Elin","2019-01-25","Borongan","06:50:00","17:00:00","","","","","","","A","Press"]
["309","Elin","2019-01-26","Borongan","06:50:00","17:00:00","","","","","","","A","Press"]
["309","Elin","2019-01-28","Borongan","06:50:00","17:00:00","","","","","","","A","Press"]
["309","Elin","2019-01-29","Borongan","06:50:00","17:00:00","","","","","","","A","Press"]
["309","Elin","2019-01-30","Borongan","06:50:00","17:00:00","","","","","","","A","Press"]
["309","Elin","2019-01-31","Borongan","06:50:00","17:00:00","","","","","","","A","Press"]
["310","Surti","2019-01-16","Borongan","06:50:00","17:00:00","06:46:00","15:13:00","","01:47:00","","","<","Press"]
["310","Surti","2019-01-17","Borongan","06:50:00","17:00:00","06:43:00","14:55:00","","02:05:00","","","<","Press"]
["310","Surti","2019-01-18","Borongan","06:50:00","17:00:00","06:43:00","","","02:00:00","","","<","Press"]
["310","Surti","2019-01-19","Borongan","06:50:00","17:00:00","","","","","","","A","Press"]
["310","Surti","2019-01-21","Borongan","06:50:00","17:00:00","","","","","","","A","Press"]
["310","Surti","2019-01-22","Borongan","06:50:00","17:00:00","","","","","","","A","Press"]
["310","Surti","2019-01-23","Borongan","06:50:00","17:00:00","","","","","","","A","Press"]
["310","Surti","2019-01-24","Borongan","06:50:00","17:00:00","","","","","","","A","Press"]
["310","Surti","2019-01-25","Borongan","06:50:00","17:00:00","","","","","","","A","Press"]
["310","Surti","2019-01-26","Borongan","06:50:00","17:00:00","","","","","","","A","Press"]
["310","Surti","2019-01-28","Borongan","06:50:00","17:00:00","","","","","","","A","Press"]
["310","Surti","2019-01-29","Borongan","06:50:00","17:00:00","","","","","","","A","Press"]
["310","Surti","2019-01-30","Borongan","06:50:00","17:00:00","","","","","","","A","Press"]
["310","Surti","2019-01-31","Borongan","06:50:00","17:00:00","","","","","","","A","Press"]
["311","Nova","2019-01-16","Borongan","06:50:00","17:00:00","06:47:00","15:14:00","","01:46:00","","","<","Press"]
["311","Nova","2019-01-17","Borongan","06:50:00","17:00:00","06:45:00","14:56:00","","02:04:00","","","<","Press"]
["311","Nova","2019-01-18","Borongan","06:50:00","17:00:00","06:51:00","","00:01:00","02:00:00","","","><","Press"]
["311","Nova","2019-01-19","Borongan","06:50:00","17:00:00","","","","","","","A","Press"]
["311","Nova","2019-01-21","Borongan","06:50:00","17:00:00","","","","","","","A","Press"]
["311","Nova","2019-01-22","Borongan","06:50:00","17:00:00","","","","","","","A","Press"]
["311","Nova","2019-01-23","Borongan","06:50:00","17:00:00","","","","","","","A","Press"]
["311","Nova","2019-01-24","Borongan","06:50:00","17:00:00","","","","","","","A","Press"]
["311","Nova","2019-01-25","Borongan","06:50:00","17:00:00","","","","","","","A","Press"]
["311","Nova","2019-01-26","Borongan","06:50:00","17:00:00","","","","","","","A","Press"]
["311","Nova","2019-01-28","Borongan","06:50:00","17:00:00","","","","","","","A","Press"]
["311","Nova","2019-01-29","Borongan","06:50:00","17:00:00","","","","","","","A","Press"]
["311","Nova","2019-01-30","Borongan","06:50:00","17:00:00","","","","","","","A","Press"]
["311","Nova","2019-01-31","Borongan","06:50:00","17:00:00","","","","","","","A","Press"]
["312","Khasanah","2019-01-16","Borongan","06:50:00","17:00:00","06:44:00","15:09:00","","01:51:00","","","<","Press"]
["312","Khasanah","2019-01-17","Borongan","06:50:00","17:00:00","06:47:00","14:50:00","","02:10:00","","","<","Press"]
["312","Khasanah","2019-01-18","Borongan","06:50:00","17:00:00","06:42:00","","","02:00:00","","","<","Press"]
["312","Khasanah","2019-01-19","Borongan","06:50:00","17:00:00","","","","","","","A","Press"]
["312","Khasanah","2019-01-21","Borongan","06:50:00","17:00:00","","","","","","","A","Press"]
["312","Khasanah","2019-01-22","Borongan","06:50:00","17:00:00","","","","","","","A","Press"]
["312","Khasanah","2019-01-23","Borongan","06:50:00","17:00:00","","","","","","","A","Press"]
["312","Khasanah","2019-01-24","Borongan","06:50:00","17:00:00","","","","","","","A","Press"]
["312","Khasanah","2019-01-25","Borongan","06:50:00","17:00:00","","","","","","","A","Press"]
["312","Khasanah","2019-01-26","Borongan","06:50:00","17:00:00","","","","","","","A","Press"]
["312","Khasanah","2019-01-28","Borongan","06:50:00","17:00:00","","","","","","","A","Press"]
["312","Khasanah","2019-01-29","Borongan","06:50:00","17:00:00","","","","","","","A","Press"]
["312","Khasanah","2019-01-30","Borongan","06:50:00","17:00:00","","","","","","","A","Press"]
["312","Khasanah","2019-01-31","Borongan","06:50:00","17:00:00","","","","","","","A","Press"]
["313","Lia","2019-01-16","Borongan","06:50:00","17:00:00","","","","","","","A","Press"]
["313","Lia","2019-01-17","Borongan","06:50:00","17:00:00","","","","","","","A","Press"]
["313","Lia","2019-01-18","Borongan","06:50:00","17:00:00","","","","","","","A","Press"]
["313","Lia","2019-01-19","Borongan","06:50:00","17:00:00","","","","","","","A","Press"]
["313","Lia","2019-01-21","Borongan","06:50:00","17:00:00","","","","","","","A","Press"]
["313","Lia","2019-01-22","Borongan","06:50:00","17:00:00","","","","","","","A","Press"]
["313","Lia","2019-01-23","Borongan","06:50:00","17:00:00","","","","","","","A","Press"]
["313","Lia","2019-01-24","Borongan","06:50:00","17:00:00","","","","","","","A","Press"]
["313","Lia","2019-01-25","Borongan","06:50:00","17:00:00","","","","","","","A","Press"]
["313","Lia","2019-01-26","Borongan","06:50:00","17:00:00","","","","","","","A","Press"]
["313","Lia","2019-01-28","Borongan","06:50:00","17:00:00","","","","","","","A","Press"]
["313","Lia","2019-01-29","Borongan","06:50:00","17:00:00","","","","","","","A","Press"]
["313","Lia","2019-01-30","Borongan","06:50:00","17:00:00","","","","","","","A","Press"]
["313","Lia","2019-01-31","Borongan","06:50:00","17:00:00","","","","","","","A","Press"]
["314","Erna","2019-01-16","Borongan","06:50:00","17:00:00","06:51:00","15:04:00","00:01:00","01:56:00","","","><","Press"]
["314","Erna","2019-01-17","Borongan","06:50:00","17:00:00","06:45:00","14:56:00","","02:04:00","","","<","Press"]
["314","Erna","2019-01-18","Borongan","06:50:00","17:00:00","06:45:00","","","02:00:00","","","<","Press"]
["314","Erna","2019-01-19","Borongan","06:50:00","17:00:00","","","","","","","A","Press"]
["314","Erna","2019-01-21","Borongan","06:50:00","17:00:00","","","","","","","A","Press"]
["314","Erna","2019-01-22","Borongan","06:50:00","17:00:00","","","","","","","A","Press"]
["314","Erna","2019-01-23","Borongan","06:50:00","17:00:00","","","","","","","A","Press"]
["314","Erna","2019-01-24","Borongan","06:50:00","17:00:00","","","","","","","A","Press"]
["314","Erna","2019-01-25","Borongan","06:50:00","17:00:00","","","","","","","A","Press"]
["314","Erna","2019-01-26","Borongan","06:50:00","17:00:00","","","","","","","A","Press"]
["314","Erna","2019-01-28","Borongan","06:50:00","17:00:00","","","","","","","A","Press"]
["314","Erna","2019-01-29","Borongan","06:50:00","17:00:00","","","","","","","A","Press"]
["314","Erna","2019-01-30","Borongan","06:50:00","17:00:00","","","","","","","A","Press"]
["314","Erna","2019-01-31","Borongan","06:50:00","17:00:00","","","","","","","A","Press"]
["316","Khoir","2019-01-16","Borongan","06:50:00","17:00:00","06:46:00","15:08:00","","01:52:00","","","<","Press"]
["316","Khoir","2019-01-17","Borongan","06:50:00","17:00:00","06:44:00","14:55:00","","02:05:00","","","<","Press"]
["316","Khoir","2019-01-18","Borongan","06:50:00","17:00:00","06:42:00","","","02:00:00","","","<","Press"]
["316","Khoir","2019-01-19","Borongan","06:50:00","17:00:00","","","","","","","A","Press"]
["316","Khoir","2019-01-21","Borongan","06:50:00","17:00:00","","","","","","","A","Press"]
["316","Khoir","2019-01-22","Borongan","06:50:00","17:00:00","","","","","","","A","Press"]
["316","Khoir","2019-01-23","Borongan","06:50:00","17:00:00","","","","","","","A","Press"]
["316","Khoir","2019-01-24","Borongan","06:50:00","17:00:00","","","","","","","A","Press"]
["316","Khoir","2019-01-25","Borongan","06:50:00","17:00:00","","","","","","","A","Press"]
["316","Khoir","2019-01-26","Borongan","06:50:00","17:00:00","","","","","","","A","Press"]
["316","Khoir","2019-01-28","Borongan","06:50:00","17:00:00","","","","","","","A","Press"]
["316","Khoir","2019-01-29","Borongan","06:50:00","17:00:00","","","","","","","A","Press"]
["316","Khoir","2019-01-30","Borongan","06:50:00","17:00:00","","","","","","","A","Press"]
["316","Khoir","2019-01-31","Borongan","06:50:00","17:00:00","","","","","","","A","Press"]
["317","Filda","2019-01-16","Borongan","06:50:00","17:00:00","06:47:00","15:19:00","","01:41:00","","","<","Press"]
["317","Filda","2019-01-17","Borongan","06:50:00","17:00:00","06:51:00","14:53:00","00:01:00","02:07:00","","","><","Press"]
["317","Filda","2019-01-18","Borongan","06:50:00","17:00:00","06:49:00","","","02:00:00","","","<","Press"]
["317","Filda","2019-01-19","Borongan","06:50:00","17:00:00","","","","","","","A","Press"]
["317","Filda","2019-01-21","Borongan","06:50:00","17:00:00","","","","","","","A","Press"]
["317","Filda","2019-01-22","Borongan","06:50:00","17:00:00","","","","","","","A","Press"]
["317","Filda","2019-01-23","Borongan","06:50:00","17:00:00","","","","","","","A","Press"]
["317","Filda","2019-01-24","Borongan","06:50:00","17:00:00","","","","","","","A","Press"]
["317","Filda","2019-01-25","Borongan","06:50:00","17:00:00","","","","","","","A","Press"]
["317","Filda","2019-01-26","Borongan","06:50:00","17:00:00","","","","","","","A","Press"]
["317","Filda","2019-01-28","Borongan","06:50:00","17:00:00","","","","","","","A","Press"]
["317","Filda","2019-01-29","Borongan","06:50:00","17:00:00","","","","","","","A","Press"]
["317","Filda","2019-01-30","Borongan","06:50:00","17:00:00","","","","","","","A","Press"]
["317","Filda","2019-01-31","Borongan","06:50:00","17:00:00","","","","","","","A","Press"]
["319","Juma'iyyah","2019-01-16","Borongan","06:50:00","17:00:00","06:46:00","15:04:00","","01:56:00","","","<","Press"]
["319","Juma'iyyah","2019-01-17","Borongan","06:50:00","17:00:00","06:43:00","14:50:00","","02:10:00","","","<","Press"]
["319","Juma'iyyah","2019-01-18","Borongan","06:50:00","17:00:00","06:42:00","","","02:00:00","","","<","Press"]
["319","Juma'iyyah","2019-01-19","Borongan","06:50:00","17:00:00","","","","","","","A","Press"]
["319","Juma'iyyah","2019-01-21","Borongan","06:50:00","17:00:00","","","","","","","A","Press"]
["319","Juma'iyyah","2019-01-22","Borongan","06:50:00","17:00:00","","","","","","","A","Press"]
["319","Juma'iyyah","2019-01-23","Borongan","06:50:00","17:00:00","","","","","","","A","Press"]
["319","Juma'iyyah","2019-01-24","Borongan","06:50:00","17:00:00","","","","","","","A","Press"]
["319","Juma'iyyah","2019-01-25","Borongan","06:50:00","17:00:00","","","","","","","A","Press"]
["319","Juma'iyyah","2019-01-26","Borongan","06:50:00","17:00:00","","","","","","","A","Press"]
["319","Juma'iyyah","2019-01-28","Borongan","06:50:00","17:00:00","","","","","","","A","Press"]
["319","Juma'iyyah","2019-01-29","Borongan","06:50:00","17:00:00","","","","","","","A","Press"]
["319","Juma'iyyah","2019-01-30","Borongan","06:50:00","17:00:00","","","","","","","A","Press"]
["319","Juma'iyyah","2019-01-31","Borongan","06:50:00","17:00:00","","","","","","","A","Press"]
["320","Uswatun","2019-01-16","Borongan","06:50:00","17:00:00","06:44:00","15:04:00","","01:56:00","","","<","Press"]
["320","Uswatun","2019-01-17","Borongan","06:50:00","17:00:00","06:42:00","14:50:00","","02:10:00","","","<","Press"]
["320","Uswatun","2019-01-18","Borongan","06:50:00","17:00:00","06:42:00","","","02:00:00","","","<","Press"]
["320","Uswatun","2019-01-19","Borongan","06:50:00","17:00:00","","","","","","","A","Press"]
["320","Uswatun","2019-01-21","Borongan","06:50:00","17:00:00","","","","","","","A","Press"]
["320","Uswatun","2019-01-22","Borongan","06:50:00","17:00:00","","","","","","","A","Press"]
["320","Uswatun","2019-01-23","Borongan","06:50:00","17:00:00","","","","","","","A","Press"]
["320","Uswatun","2019-01-24","Borongan","06:50:00","17:00:00","","","","","","","A","Press"]
["320","Uswatun","2019-01-25","Borongan","06:50:00","17:00:00","","","","","","","A","Press"]
["320","Uswatun","2019-01-26","Borongan","06:50:00","17:00:00","","","","","","","A","Press"]
["320","Uswatun","2019-01-28","Borongan","06:50:00","17:00:00","","","","","","","A","Press"]
["320","Uswatun","2019-01-29","Borongan","06:50:00","17:00:00","","","","","","","A","Press"]
["320","Uswatun","2019-01-30","Borongan","06:50:00","17:00:00","","","","","","","A","Press"]
["320","Uswatun","2019-01-31","Borongan","06:50:00","17:00:00","","","","","","","A","Press"]
["321","Deni B","2019-01-16","Borongan","06:50:00","17:00:00","06:47:00","15:04:00","","01:56:00","","","<","Press"]
["321","Deni B","2019-01-17","Borongan","06:50:00","17:00:00","06:45:00","14:55:00","","02:05:00","","","<","Press"]
["321","Deni B","2019-01-18","Borongan","06:50:00","17:00:00","06:45:00","","","02:00:00","","","<","Press"]
["321","Deni B","2019-01-19","Borongan","06:50:00","17:00:00","","","","","","","A","Press"]
["321","Deni B","2019-01-21","Borongan","06:50:00","17:00:00","","","","","","","A","Press"]
["321","Deni B","2019-01-22","Borongan","06:50:00","17:00:00","","","","","","","A","Press"]
["321","Deni B","2019-01-23","Borongan","06:50:00","17:00:00","","","","","","","A","Press"]
["321","Deni B","2019-01-24","Borongan","06:50:00","17:00:00","","","","","","","A","Press"]
["321","Deni B","2019-01-25","Borongan","06:50:00","17:00:00","","","","","","","A","Press"]
["321","Deni B","2019-01-26","Borongan","06:50:00","17:00:00","","","","","","","A","Press"]
["321","Deni B","2019-01-28","Borongan","06:50:00","17:00:00","","","","","","","A","Press"]
["321","Deni B","2019-01-29","Borongan","06:50:00","17:00:00","","","","","","","A","Press"]
["321","Deni B","2019-01-30","Borongan","06:50:00","17:00:00","","","","","","","A","Press"]
["321","Deni B","2019-01-31","Borongan","06:50:00","17:00:00","","","","","","","A","Press"]
["322","Satuni","2019-01-16","Borongan","06:50:00","17:00:00","","","","","","","A","Press"]
["322","Satuni","2019-01-17","Borongan","06:50:00","17:00:00","","","","","","","A","Press"]
["322","Satuni","2019-01-18","Borongan","06:50:00","17:00:00","","","","","","","A","Press"]
["322","Satuni","2019-01-19","Borongan","06:50:00","17:00:00","","","","","","","A","Press"]
["322","Satuni","2019-01-21","Borongan","06:50:00","17:00:00","","","","","","","A","Press"]
["322","Satuni","2019-01-22","Borongan","06:50:00","17:00:00","","","","","","","A","Press"]
["322","Satuni","2019-01-23","Borongan","06:50:00","17:00:00","","","","","","","A","Press"]
["322","Satuni","2019-01-24","Borongan","06:50:00","17:00:00","","","","","","","A","Press"]
["322","Satuni","2019-01-25","Borongan","06:50:00","17:00:00","","","","","","","A","Press"]
["322","Satuni","2019-01-26","Borongan","06:50:00","17:00:00","","","","","","","A","Press"]
["322","Satuni","2019-01-28","Borongan","06:50:00","17:00:00","","","","","","","A","Press"]
["322","Satuni","2019-01-29","Borongan","06:50:00","17:00:00","","","","","","","A","Press"]
["322","Satuni","2019-01-30","Borongan","06:50:00","17:00:00","","","","","","","A","Press"]
["322","Satuni","2019-01-31","Borongan","06:50:00","17:00:00","","","","","","","A","Press"]
["323","Novi","2019-01-16","Borongan","06:50:00","17:00:00","06:45:00","15:05:00","","01:55:00","","","<","Press"]
["323","Novi","2019-01-17","Borongan","06:50:00","17:00:00","06:42:00","14:55:00","","02:05:00","","","<","Press"]
["323","Novi","2019-01-18","Borongan","06:50:00","17:00:00","06:42:00","","","02:00:00","","","<","Press"]
["323","Novi","2019-01-19","Borongan","06:50:00","17:00:00","","","","","","","A","Press"]
["323","Novi","2019-01-21","Borongan","06:50:00","17:00:00","","","","","","","A","Press"]
["323","Novi","2019-01-22","Borongan","06:50:00","17:00:00","","","","","","","A","Press"]
["323","Novi","2019-01-23","Borongan","06:50:00","17:00:00","","","","","","","A","Press"]
["323","Novi","2019-01-24","Borongan","06:50:00","17:00:00","","","","","","","A","Press"]
["323","Novi","2019-01-25","Borongan","06:50:00","17:00:00","","","","","","","A","Press"]
["323","Novi","2019-01-26","Borongan","06:50:00","17:00:00","","","","","","","A","Press"]
["323","Novi","2019-01-28","Borongan","06:50:00","17:00:00","","","","","","","A","Press"]
["323","Novi","2019-01-29","Borongan","06:50:00","17:00:00","","","","","","","A","Press"]
["323","Novi","2019-01-30","Borongan","06:50:00","17:00:00","","","","","","","A","Press"]
["323","Novi","2019-01-31","Borongan","06:50:00","17:00:00","","","","","","","A","Press"]
["324","Eka","2019-01-16","Borongan","06:50:00","17:00:00","","","","","","","A","Press"]
["324","Eka","2019-01-17","Borongan","06:50:00","17:00:00","","","","","","","A","Press"]
["324","Eka","2019-01-18","Borongan","06:50:00","17:00:00","","","","","","","A","Press"]
["324","Eka","2019-01-19","Borongan","06:50:00","17:00:00","","","","","","","A","Press"]
["324","Eka","2019-01-21","Borongan","06:50:00","17:00:00","","","","","","","A","Press"]
["324","Eka","2019-01-22","Borongan","06:50:00","17:00:00","","","","","","","A","Press"]
["324","Eka","2019-01-23","Borongan","06:50:00","17:00:00","","","","","","","A","Press"]
["324","Eka","2019-01-24","Borongan","06:50:00","17:00:00","","","","","","","A","Press"]
["324","Eka","2019-01-25","Borongan","06:50:00","17:00:00","","","","","","","A","Press"]
["324","Eka","2019-01-26","Borongan","06:50:00","17:00:00","","","","","","","A","Press"]
["324","Eka","2019-01-28","Borongan","06:50:00","17:00:00","","","","","","","A","Press"]
["324","Eka","2019-01-29","Borongan","06:50:00","17:00:00","","","","","","","A","Press"]
["324","Eka","2019-01-30","Borongan","06:50:00","17:00:00","","","","","","","A","Press"]
["324","Eka","2019-01-31","Borongan","06:50:00","17:00:00","","","","","","","A","Press"]
["325","Septin","2019-01-16","Borongan","06:50:00","17:00:00","06:52:00","15:05:00","00:02:00","01:55:00","","","><","Press"]
["325","Septin","2019-01-17","Borongan","06:50:00","17:00:00","","","","","","","A","Press"]
["325","Septin","2019-01-18","Borongan","06:50:00","17:00:00","06:53:00","","00:03:00","02:00:00","","","><","Press"]
["325","Septin","2019-01-19","Borongan","06:50:00","17:00:00","","","","","","","A","Press"]
["325","Septin","2019-01-21","Borongan","06:50:00","17:00:00","","","","","","","A","Press"]
["325","Septin","2019-01-22","Borongan","06:50:00","17:00:00","","","","","","","A","Press"]
["325","Septin","2019-01-23","Borongan","06:50:00","17:00:00","","","","","","","A","Press"]
["325","Septin","2019-01-24","Borongan","06:50:00","17:00:00","","","","","","","A","Press"]
["325","Septin","2019-01-25","Borongan","06:50:00","17:00:00","","","","","","","A","Press"]
["325","Septin","2019-01-26","Borongan","06:50:00","17:00:00","","","","","","","A","Press"]
["325","Septin","2019-01-28","Borongan","06:50:00","17:00:00","","","","","","","A","Press"]
["325","Septin","2019-01-29","Borongan","06:50:00","17:00:00","","","","","","","A","Press"]
["325","Septin","2019-01-30","Borongan","06:50:00","17:00:00","","","","","","","A","Press"]
["325","Septin","2019-01-31","Borongan","06:50:00","17:00:00","","","","","","","A","Press"]
["326","Titin","2019-01-16","Borongan","06:50:00","17:00:00","","","","","","","A","Press"]
["326","Titin","2019-01-17","Borongan","06:50:00","17:00:00","","","","","","","A","Press"]
["326","Titin","2019-01-18","Borongan","06:50:00","17:00:00","","","","","","","A","Press"]
["326","Titin","2019-01-19","Borongan","06:50:00","17:00:00","","","","","","","A","Press"]
["326","Titin","2019-01-21","Borongan","06:50:00","17:00:00","","","","","","","A","Press"]
["326","Titin","2019-01-22","Borongan","06:50:00","17:00:00","","","","","","","A","Press"]
["326","Titin","2019-01-23","Borongan","06:50:00","17:00:00","","","","","","","A","Press"]
["326","Titin","2019-01-24","Borongan","06:50:00","17:00:00","","","","","","","A","Press"]
["326","Titin","2019-01-25","Borongan","06:50:00","17:00:00","","","","","","","A","Press"]
["326","Titin","2019-01-26","Borongan","06:50:00","17:00:00","","","","","","","A","Press"]
["326","Titin","2019-01-28","Borongan","06:50:00","17:00:00","","","","","","","A","Press"]
["326","Titin","2019-01-29","Borongan","06:50:00","17:00:00","","","","","","","A","Press"]
["326","Titin","2019-01-30","Borongan","06:50:00","17:00:00","","","","","","","A","Press"]
["326","Titin","2019-01-31","Borongan","06:50:00","17:00:00","","","","","","","A","Press"]
["327","Latifa","2019-01-16","Borongan","06:50:00","17:00:00","06:44:00","15:08:00","","01:52:00","","","<","Press"]
["327","Latifa","2019-01-17","Borongan","06:50:00","17:00:00","06:42:00","14:55:00","","02:05:00","","","<","Press"]
["327","Latifa","2019-01-18","Borongan","06:50:00","17:00:00","06:42:00","","","02:00:00","","","<","Press"]
["327","Latifa","2019-01-19","Borongan","06:50:00","17:00:00","","","","","","","A","Press"]
["327","Latifa","2019-01-21","Borongan","06:50:00","17:00:00","","","","","","","A","Press"]
["327","Latifa","2019-01-22","Borongan","06:50:00","17:00:00","","","","","","","A","Press"]
["327","Latifa","2019-01-23","Borongan","06:50:00","17:00:00","","","","","","","A","Press"]
["327","Latifa","2019-01-24","Borongan","06:50:00","17:00:00","","","","","","","A","Press"]
["327","Latifa","2019-01-25","Borongan","06:50:00","17:00:00","","","","","","","A","Press"]
["327","Latifa","2019-01-26","Borongan","06:50:00","17:00:00","","","","","","","A","Press"]
["327","Latifa","2019-01-28","Borongan","06:50:00","17:00:00","","","","","","","A","Press"]
["327","Latifa","2019-01-29","Borongan","06:50:00","17:00:00","","","","","","","A","Press"]
["327","Latifa","2019-01-30","Borongan","06:50:00","17:00:00","","","","","","","A","Press"]
["327","Latifa","2019-01-31","Borongan","06:50:00","17:00:00","","","","","","","A","Press"]
["328","Sri Wati","2019-01-16","Borongan","06:50:00","17:00:00","06:44:00","15:05:00","","01:55:00","","","<","Press"]
["328","Sri Wati","2019-01-17","Borongan","06:50:00","17:00:00","06:43:00","14:55:00","","02:05:00","","","<","Press"]
["328","Sri Wati","2019-01-18","Borongan","06:50:00","17:00:00","06:42:00","","","02:00:00","","","<","Press"]
["328","Sri Wati","2019-01-19","Borongan","06:50:00","17:00:00","","","","","","","A","Press"]
["328","Sri Wati","2019-01-21","Borongan","06:50:00","17:00:00","","","","","","","A","Press"]
["328","Sri Wati","2019-01-22","Borongan","06:50:00","17:00:00","","","","","","","A","Press"]
["328","Sri Wati","2019-01-23","Borongan","06:50:00","17:00:00","","","","","","","A","Press"]
["328","Sri Wati","2019-01-24","Borongan","06:50:00","17:00:00","","","","","","","A","Press"]
["328","Sri Wati","2019-01-25","Borongan","06:50:00","17:00:00","","","","","","","A","Press"]
["328","Sri Wati","2019-01-26","Borongan","06:50:00","17:00:00","","","","","","","A","Press"]
["328","Sri Wati","2019-01-28","Borongan","06:50:00","17:00:00","","","","","","","A","Press"]
["328","Sri Wati","2019-01-29","Borongan","06:50:00","17:00:00","","","","","","","A","Press"]
["328","Sri Wati","2019-01-30","Borongan","06:50:00","17:00:00","","","","","","","A","Press"]
["328","Sri Wati","2019-01-31","Borongan","06:50:00","17:00:00","","","","","","","A","Press"]
["329","Indah","2019-01-16","Borongan","06:50:00","17:00:00","06:44:00","15:08:00","","01:52:00","","","<","Press"]
["329","Indah","2019-01-17","Borongan","06:50:00","17:00:00","06:43:00","14:51:00","","02:09:00","","","<","Press"]
["329","Indah","2019-01-18","Borongan","06:50:00","17:00:00","06:42:00","","","02:00:00","","","<","Press"]
["329","Indah","2019-01-19","Borongan","06:50:00","17:00:00","","","","","","","A","Press"]
["329","Indah","2019-01-21","Borongan","06:50:00","17:00:00","","","","","","","A","Press"]
["329","Indah","2019-01-22","Borongan","06:50:00","17:00:00","","","","","","","A","Press"]
["329","Indah","2019-01-23","Borongan","06:50:00","17:00:00","","","","","","","A","Press"]
["329","Indah","2019-01-24","Borongan","06:50:00","17:00:00","","","","","","","A","Press"]
["329","Indah","2019-01-25","Borongan","06:50:00","17:00:00","","","","","","","A","Press"]
["329","Indah","2019-01-26","Borongan","06:50:00","17:00:00","","","","","","","A","Press"]
["329","Indah","2019-01-28","Borongan","06:50:00","17:00:00","","","","","","","A","Press"]
["329","Indah","2019-01-29","Borongan","06:50:00","17:00:00","","","","","","","A","Press"]
["329","Indah","2019-01-30","Borongan","06:50:00","17:00:00","","","","","","","A","Press"]
["329","Indah","2019-01-31","Borongan","06:50:00","17:00:00","","","","","","","A","Press"]
["401","Khoiri","2019-01-16","Borongan","06:50:00","17:00:00","06:50:00","","00:00:00","02:00:00","","","><","Produksi"]
["401","Khoiri","2019-01-17","Borongan","06:50:00","17:00:00","","15:25:00","02:00:00","01:35:00","","","><","Produksi"]
["401","Khoiri","2019-01-18","Borongan","06:50:00","17:00:00","06:47:00","","","02:00:00","","","<","Produksi"]
["401","Khoiri","2019-01-19","Borongan","06:50:00","17:00:00","","","","","","","A","Produksi"]
["401","Khoiri","2019-01-21","Borongan","06:50:00","17:00:00","","","","","","","A","Produksi"]
["401","Khoiri","2019-01-22","Borongan","06:50:00","17:00:00","","","","","","","A","Produksi"]
["401","Khoiri","2019-01-23","Borongan","06:50:00","17:00:00","","","","","","","A","Produksi"]
["401","Khoiri","2019-01-24","Borongan","06:50:00","17:00:00","","","","","","","A","Produksi"]
["401","Khoiri","2019-01-25","Borongan","06:50:00","17:00:00","","","","","","","A","Produksi"]
["401","Khoiri","2019-01-26","Borongan","06:50:00","17:00:00","","","","","","","A","Produksi"]
["401","Khoiri","2019-01-28","Borongan","06:50:00","17:00:00","","","","","","","A","Produksi"]
["401","Khoiri","2019-01-29","Borongan","06:50:00","17:00:00","","","","","","","A","Produksi"]
["401","Khoiri","2019-01-30","Borongan","06:50:00","17:00:00","","","","","","","A","Produksi"]
["401","Khoiri","2019-01-31","Borongan","06:50:00","17:00:00","","","","","","","A","Produksi"]
["402","Khoirul","2019-01-16","Borongan","06:50:00","17:00:00","06:49:00","16:45:00","","00:15:00","","","<","Produksi"]
["402","Khoirul","2019-01-17","Borongan","06:50:00","17:00:00","06:55:00","14:58:00","00:05:00","02:02:00","","","><","Produksi"]
["402","Khoirul","2019-01-18","Borongan","06:50:00","17:00:00","06:54:00","","00:04:00","02:00:00","","","><","Produksi"]
["402","Khoirul","2019-01-19","Borongan","06:50:00","17:00:00","","","","","","","A","Produksi"]
["402","Khoirul","2019-01-21","Borongan","06:50:00","17:00:00","","","","","","","A","Produksi"]
["402","Khoirul","2019-01-22","Borongan","06:50:00","17:00:00","","","","","","","A","Produksi"]
["402","Khoirul","2019-01-23","Borongan","06:50:00","17:00:00","","","","","","","A","Produksi"]
["402","Khoirul","2019-01-24","Borongan","06:50:00","17:00:00","","","","","","","A","Produksi"]
["402","Khoirul","2019-01-25","Borongan","06:50:00","17:00:00","","","","","","","A","Produksi"]
["402","Khoirul","2019-01-26","Borongan","06:50:00","17:00:00","","","","","","","A","Produksi"]
["402","Khoirul","2019-01-28","Borongan","06:50:00","17:00:00","","","","","","","A","Produksi"]
["402","Khoirul","2019-01-29","Borongan","06:50:00","17:00:00","","","","","","","A","Produksi"]
["402","Khoirul","2019-01-30","Borongan","06:50:00","17:00:00","","","","","","","A","Produksi"]
["402","Khoirul","2019-01-31","Borongan","06:50:00","17:00:00","","","","","","","A","Produksi"]
["403","Via","2019-01-16","Borongan","06:50:00","17:00:00","06:53:00","16:05:00","00:03:00","00:55:00","","","><","Produksi"]
["403","Via","2019-01-17","Borongan","06:50:00","17:00:00","06:47:00","15:05:00","","01:55:00","","","<","Produksi"]
["403","Via","2019-01-18","Borongan","06:50:00","17:00:00","06:50:00","","00:00:00","02:00:00","","","><","Produksi"]
["403","Via","2019-01-19","Borongan","06:50:00","17:00:00","","","","","","","A","Produksi"]
["403","Via","2019-01-21","Borongan","06:50:00","17:00:00","","","","","","","A","Produksi"]
["403","Via","2019-01-22","Borongan","06:50:00","17:00:00","","","","","","","A","Produksi"]
["403","Via","2019-01-23","Borongan","06:50:00","17:00:00","","","","","","","A","Produksi"]
["403","Via","2019-01-24","Borongan","06:50:00","17:00:00","","","","","","","A","Produksi"]
["403","Via","2019-01-25","Borongan","06:50:00","17:00:00","","","","","","","A","Produksi"]
["403","Via","2019-01-26","Borongan","06:50:00","17:00:00","","","","","","","A","Produksi"]
["403","Via","2019-01-28","Borongan","06:50:00","17:00:00","","","","","","","A","Produksi"]
["403","Via","2019-01-29","Borongan","06:50:00","17:00:00","","","","","","","A","Produksi"]
["403","Via","2019-01-30","Borongan","06:50:00","17:00:00","","","","","","","A","Produksi"]
["403","Via","2019-01-31","Borongan","06:50:00","17:00:00","","","","","","","A","Produksi"]
["404","Fifi","2019-01-16","Borongan","06:50:00","17:00:00","06:46:00","16:07:00","","00:53:00","","","<","Produksi"]
["404","Fifi","2019-01-17","Borongan","06:50:00","17:00:00","06:43:00","15:05:00","","01:55:00","","","<","Produksi"]
["404","Fifi","2019-01-18","Borongan","06:50:00","17:00:00","06:43:00","","","02:00:00","","","<","Produksi"]
["404","Fifi","2019-01-19","Borongan","06:50:00","17:00:00","","","","","","","A","Produksi"]
["404","Fifi","2019-01-21","Borongan","06:50:00","17:00:00","","","","","","","A","Produksi"]
["404","Fifi","2019-01-22","Borongan","06:50:00","17:00:00","","","","","","","A","Produksi"]
["404","Fifi","2019-01-23","Borongan","06:50:00","17:00:00","","","","","","","A","Produksi"]
["404","Fifi","2019-01-24","Borongan","06:50:00","17:00:00","","","","","","","A","Produksi"]
["404","Fifi","2019-01-25","Borongan","06:50:00","17:00:00","","","","","","","A","Produksi"]
["404","Fifi","2019-01-26","Borongan","06:50:00","17:00:00","","","","","","","A","Produksi"]
["404","Fifi","2019-01-28","Borongan","06:50:00","17:00:00","","","","","","","A","Produksi"]
["404","Fifi","2019-01-29","Borongan","06:50:00","17:00:00","","","","","","","A","Produksi"]
["404","Fifi","2019-01-30","Borongan","06:50:00","17:00:00","","","","","","","A","Produksi"]
["404","Fifi","2019-01-31","Borongan","06:50:00","17:00:00","","","","","","","A","Produksi"]
["405","Zubaidah","2019-01-16","Borongan","06:50:00","17:00:00","06:45:00","16:07:00","","00:53:00","","","<","Produksi"]
["405","Zubaidah","2019-01-17","Borongan","06:50:00","17:00:00","06:44:00","15:02:00","","01:58:00","","","<","Produksi"]
["405","Zubaidah","2019-01-18","Borongan","06:50:00","17:00:00","06:42:00","","","02:00:00","","","<","Produksi"]
["405","Zubaidah","2019-01-19","Borongan","06:50:00","17:00:00","","","","","","","A","Produksi"]
["405","Zubaidah","2019-01-21","Borongan","06:50:00","17:00:00","","","","","","","A","Produksi"]
["405","Zubaidah","2019-01-22","Borongan","06:50:00","17:00:00","","","","","","","A","Produksi"]
["405","Zubaidah","2019-01-23","Borongan","06:50:00","17:00:00","","","","","","","A","Produksi"]
["405","Zubaidah","2019-01-24","Borongan","06:50:00","17:00:00","","","","","","","A","Produksi"]
["405","Zubaidah","2019-01-25","Borongan","06:50:00","17:00:00","","","","","","","A","Produksi"]
["405","Zubaidah","2019-01-26","Borongan","06:50:00","17:00:00","","","","","","","A","Produksi"]
["405","Zubaidah","2019-01-28","Borongan","06:50:00","17:00:00","","","","","","","A","Produksi"]
["405","Zubaidah","2019-01-29","Borongan","06:50:00","17:00:00","","","","","","","A","Produksi"]
["405","Zubaidah","2019-01-30","Borongan","06:50:00","17:00:00","","","","","","","A","Produksi"]
["405","Zubaidah","2019-01-31","Borongan","06:50:00","17:00:00","","","","","","","A","Produksi"]
["406","Rika","2019-01-16","Borongan","06:50:00","17:00:00","06:45:00","16:06:00","","00:54:00","","","<","Produksi"]
["406","Rika","2019-01-17","Borongan","06:50:00","17:00:00","06:44:00","","","02:00:00","","","<","Produksi"]
["406","Rika","2019-01-18","Borongan","06:50:00","17:00:00","06:44:00","","","02:00:00","","","<","Produksi"]
["406","Rika","2019-01-19","Borongan","06:50:00","17:00:00","","","","","","","A","Produksi"]
["406","Rika","2019-01-21","Borongan","06:50:00","17:00:00","","","","","","","A","Produksi"]
["406","Rika","2019-01-22","Borongan","06:50:00","17:00:00","","","","","","","A","Produksi"]
["406","Rika","2019-01-23","Borongan","06:50:00","17:00:00","","","","","","","A","Produksi"]
["406","Rika","2019-01-24","Borongan","06:50:00","17:00:00","","","","","","","A","Produksi"]
["406","Rika","2019-01-25","Borongan","06:50:00","17:00:00","","","","","","","A","Produksi"]
["406","Rika","2019-01-26","Borongan","06:50:00","17:00:00","","","","","","","A","Produksi"]
["406","Rika","2019-01-28","Borongan","06:50:00","17:00:00","","","","","","","A","Produksi"]
["406","Rika","2019-01-29","Borongan","06:50:00","17:00:00","","","","","","","A","Produksi"]
["406","Rika","2019-01-30","Borongan","06:50:00","17:00:00","","","","","","","A","Produksi"]
["406","Rika","2019-01-31","Borongan","06:50:00","17:00:00","","","","","","","A","Produksi"]
["407","Ima","2019-01-16","Borongan","06:50:00","17:00:00","06:45:00","16:06:00","","00:54:00","","","<","Produksi"]
["407","Ima","2019-01-17","Borongan","06:50:00","17:00:00","06:43:00","15:01:00","","01:59:00","","","<","Produksi"]
["407","Ima","2019-01-18","Borongan","06:50:00","17:00:00","06:43:00","","","02:00:00","","","<","Produksi"]
["407","Ima","2019-01-19","Borongan","06:50:00","17:00:00","","","","","","","A","Produksi"]
["407","Ima","2019-01-21","Borongan","06:50:00","17:00:00","","","","","","","A","Produksi"]
["407","Ima","2019-01-22","Borongan","06:50:00","17:00:00","","","","","","","A","Produksi"]
["407","Ima","2019-01-23","Borongan","06:50:00","17:00:00","","","","","","","A","Produksi"]
["407","Ima","2019-01-24","Borongan","06:50:00","17:00:00","","","","","","","A","Produksi"]
["407","Ima","2019-01-25","Borongan","06:50:00","17:00:00","","","","","","","A","Produksi"]
["407","Ima","2019-01-26","Borongan","06:50:00","17:00:00","","","","","","","A","Produksi"]
["407","Ima","2019-01-28","Borongan","06:50:00","17:00:00","","","","","","","A","Produksi"]
["407","Ima","2019-01-29","Borongan","06:50:00","17:00:00","","","","","","","A","Produksi"]
["407","Ima","2019-01-30","Borongan","06:50:00","17:00:00","","","","","","","A","Produksi"]
["407","Ima","2019-01-31","Borongan","06:50:00","17:00:00","","","","","","","A","Produksi"]
["408","Gita","2019-01-16","Borongan","06:50:00","17:00:00","06:48:00","16:08:00","","00:52:00","","","<","Produksi"]
["408","Gita","2019-01-17","Borongan","06:50:00","17:00:00","06:45:00","15:03:00","","01:57:00","","","<","Produksi"]
["408","Gita","2019-01-18","Borongan","06:50:00","17:00:00","06:44:00","","","02:00:00","","","<","Produksi"]
["408","Gita","2019-01-19","Borongan","06:50:00","17:00:00","","","","","","","A","Produksi"]
["408","Gita","2019-01-21","Borongan","06:50:00","17:00:00","","","","","","","A","Produksi"]
["408","Gita","2019-01-22","Borongan","06:50:00","17:00:00","","","","","","","A","Produksi"]
["408","Gita","2019-01-23","Borongan","06:50:00","17:00:00","","","","","","","A","Produksi"]
["408","Gita","2019-01-24","Borongan","06:50:00","17:00:00","","","","","","","A","Produksi"]
["408","Gita","2019-01-25","Borongan","06:50:00","17:00:00","","","","","","","A","Produksi"]
["408","Gita","2019-01-26","Borongan","06:50:00","17:00:00","","","","","","","A","Produksi"]
["408","Gita","2019-01-28","Borongan","06:50:00","17:00:00","","","","","","","A","Produksi"]
["408","Gita","2019-01-29","Borongan","06:50:00","17:00:00","","","","","","","A","Produksi"]
["408","Gita","2019-01-30","Borongan","06:50:00","17:00:00","","","","","","","A","Produksi"]
["408","Gita","2019-01-31","Borongan","06:50:00","17:00:00","","","","","","","A","Produksi"]
["409","Evi","2019-01-16","Borongan","06:50:00","17:00:00","06:51:00","16:08:00","00:01:00","00:52:00","","","><","Produksi"]
["409","Evi","2019-01-17","Borongan","06:50:00","17:00:00","06:46:00","15:13:00","","01:47:00","","","<","Produksi"]
["409","Evi","2019-01-18","Borongan","06:50:00","17:00:00","06:45:00","","","02:00:00","","","<","Produksi"]
["409","Evi","2019-01-19","Borongan","06:50:00","17:00:00","","","","","","","A","Produksi"]
["409","Evi","2019-01-21","Borongan","06:50:00","17:00:00","","","","","","","A","Produksi"]
["409","Evi","2019-01-22","Borongan","06:50:00","17:00:00","","","","","","","A","Produksi"]
["409","Evi","2019-01-23","Borongan","06:50:00","17:00:00","","","","","","","A","Produksi"]
["409","Evi","2019-01-24","Borongan","06:50:00","17:00:00","","","","","","","A","Produksi"]
["409","Evi","2019-01-25","Borongan","06:50:00","17:00:00","","","","","","","A","Produksi"]
["409","Evi","2019-01-26","Borongan","06:50:00","17:00:00","","","","","","","A","Produksi"]
["409","Evi","2019-01-28","Borongan","06:50:00","17:00:00","","","","","","","A","Produksi"]
["409","Evi","2019-01-29","Borongan","06:50:00","17:00:00","","","","","","","A","Produksi"]
["409","Evi","2019-01-30","Borongan","06:50:00","17:00:00","","","","","","","A","Produksi"]
["409","Evi","2019-01-31","Borongan","06:50:00","17:00:00","","","","","","","A","Produksi"]
["410","Fitri","2019-01-16","Borongan","06:50:00","17:00:00","06:45:00","16:13:00","","00:47:00","","","<","Produksi"]
["410","Fitri","2019-01-17","Borongan","06:50:00","17:00:00","06:44:00","15:05:00","","01:55:00","","","<","Produksi"]
["410","Fitri","2019-01-18","Borongan","06:50:00","17:00:00","06:43:00","","","02:00:00","","","<","Produksi"]
["410","Fitri","2019-01-19","Borongan","06:50:00","17:00:00","","","","","","","A","Produksi"]
["410","Fitri","2019-01-21","Borongan","06:50:00","17:00:00","","","","","","","A","Produksi"]
["410","Fitri","2019-01-22","Borongan","06:50:00","17:00:00","","","","","","","A","Produksi"]
["410","Fitri","2019-01-23","Borongan","06:50:00","17:00:00","","","","","","","A","Produksi"]
["410","Fitri","2019-01-24","Borongan","06:50:00","17:00:00","","","","","","","A","Produksi"]
["410","Fitri","2019-01-25","Borongan","06:50:00","17:00:00","","","","","","","A","Produksi"]
["410","Fitri","2019-01-26","Borongan","06:50:00","17:00:00","","","","","","","A","Produksi"]
["410","Fitri","2019-01-28","Borongan","06:50:00","17:00:00","","","","","","","A","Produksi"]
["410","Fitri","2019-01-29","Borongan","06:50:00","17:00:00","","","","","","","A","Produksi"]
["410","Fitri","2019-01-30","Borongan","06:50:00","17:00:00","","","","","","","A","Produksi"]
["410","Fitri","2019-01-31","Borongan","06:50:00","17:00:00","","","","","","","A","Produksi"]
["411","Vita","2019-01-16","Borongan","06:50:00","17:00:00","06:47:00","16:08:00","","00:52:00","","","<","Produksi"]
["411","Vita","2019-01-17","Borongan","06:50:00","17:00:00","06:44:00","15:05:00","","01:55:00","","","<","Produksi"]
["411","Vita","2019-01-18","Borongan","06:50:00","17:00:00","06:43:00","","","02:00:00","","","<","Produksi"]
["411","Vita","2019-01-19","Borongan","06:50:00","17:00:00","","","","","","","A","Produksi"]
["411","Vita","2019-01-21","Borongan","06:50:00","17:00:00","","","","","","","A","Produksi"]
["411","Vita","2019-01-22","Borongan","06:50:00","17:00:00","","","","","","","A","Produksi"]
["411","Vita","2019-01-23","Borongan","06:50:00","17:00:00","","","","","","","A","Produksi"]
["411","Vita","2019-01-24","Borongan","06:50:00","17:00:00","","","","","","","A","Produksi"]
["411","Vita","2019-01-25","Borongan","06:50:00","17:00:00","","","","","","","A","Produksi"]
["411","Vita","2019-01-26","Borongan","06:50:00","17:00:00","","","","","","","A","Produksi"]
["411","Vita","2019-01-28","Borongan","06:50:00","17:00:00","","","","","","","A","Produksi"]
["411","Vita","2019-01-29","Borongan","06:50:00","17:00:00","","","","","","","A","Produksi"]
["411","Vita","2019-01-30","Borongan","06:50:00","17:00:00","","","","","","","A","Produksi"]
["411","Vita","2019-01-31","Borongan","06:50:00","17:00:00","","","","","","","A","Produksi"]
["412","Nafil","2019-01-16","Borongan","06:50:00","17:00:00","06:46:00","16:06:00","","00:54:00","","","<","Produksi"]
["412","Nafil","2019-01-17","Borongan","06:50:00","17:00:00","06:43:00","15:03:00","","01:57:00","","","<","Produksi"]
["412","Nafil","2019-01-18","Borongan","06:50:00","17:00:00","06:49:00","","","02:00:00","","","<","Produksi"]
["412","Nafil","2019-01-19","Borongan","06:50:00","17:00:00","","","","","","","A","Produksi"]
["412","Nafil","2019-01-21","Borongan","06:50:00","17:00:00","","","","","","","A","Produksi"]
["412","Nafil","2019-01-22","Borongan","06:50:00","17:00:00","","","","","","","A","Produksi"]
["412","Nafil","2019-01-23","Borongan","06:50:00","17:00:00","","","","","","","A","Produksi"]
["412","Nafil","2019-01-24","Borongan","06:50:00","17:00:00","","","","","","","A","Produksi"]
["412","Nafil","2019-01-25","Borongan","06:50:00","17:00:00","","","","","","","A","Produksi"]
["412","Nafil","2019-01-26","Borongan","06:50:00","17:00:00","","","","","","","A","Produksi"]
["412","Nafil","2019-01-28","Borongan","06:50:00","17:00:00","","","","","","","A","Produksi"]
["412","Nafil","2019-01-29","Borongan","06:50:00","17:00:00","","","","","","","A","Produksi"]
["412","Nafil","2019-01-30","Borongan","06:50:00","17:00:00","","","","","","","A","Produksi"]
["412","Nafil","2019-01-31","Borongan","06:50:00","17:00:00","","","","","","","A","Produksi"]
["413","Ayunda","2019-01-16","Borongan","06:50:00","17:00:00","06:46:00","16:08:00","","00:52:00","","","<","Produksi"]
["413","Ayunda","2019-01-17","Borongan","06:50:00","17:00:00","06:45:00","15:03:00","","01:57:00","","","<","Produksi"]
["413","Ayunda","2019-01-18","Borongan","06:50:00","17:00:00","06:46:00","","","02:00:00","","","<","Produksi"]
["413","Ayunda","2019-01-19","Borongan","06:50:00","17:00:00","","","","","","","A","Produksi"]
["413","Ayunda","2019-01-21","Borongan","06:50:00","17:00:00","","","","","","","A","Produksi"]
["413","Ayunda","2019-01-22","Borongan","06:50:00","17:00:00","","","","","","","A","Produksi"]
["413","Ayunda","2019-01-23","Borongan","06:50:00","17:00:00","","","","","","","A","Produksi"]
["413","Ayunda","2019-01-24","Borongan","06:50:00","17:00:00","","","","","","","A","Produksi"]
["413","Ayunda","2019-01-25","Borongan","06:50:00","17:00:00","","","","","","","A","Produksi"]
["413","Ayunda","2019-01-26","Borongan","06:50:00","17:00:00","","","","","","","A","Produksi"]
["413","Ayunda","2019-01-28","Borongan","06:50:00","17:00:00","","","","","","","A","Produksi"]
["413","Ayunda","2019-01-29","Borongan","06:50:00","17:00:00","","","","","","","A","Produksi"]
["413","Ayunda","2019-01-30","Borongan","06:50:00","17:00:00","","","","","","","A","Produksi"]
["413","Ayunda","2019-01-31","Borongan","06:50:00","17:00:00","","","","","","","A","Produksi"]
["414","Vina","2019-01-16","Borongan","06:50:00","17:00:00","06:46:00","16:07:00","","00:53:00","","","<","Produksi"]
["414","Vina","2019-01-17","Borongan","06:50:00","17:00:00","06:45:00","15:02:00","","01:58:00","","","<","Produksi"]
["414","Vina","2019-01-18","Borongan","06:50:00","17:00:00","06:44:00","","","02:00:00","","","<","Produksi"]
["414","Vina","2019-01-19","Borongan","06:50:00","17:00:00","","","","","","","A","Produksi"]
["414","Vina","2019-01-21","Borongan","06:50:00","17:00:00","","","","","","","A","Produksi"]
["414","Vina","2019-01-22","Borongan","06:50:00","17:00:00","","","","","","","A","Produksi"]
["414","Vina","2019-01-23","Borongan","06:50:00","17:00:00","","","","","","","A","Produksi"]
["414","Vina","2019-01-24","Borongan","06:50:00","17:00:00","","","","","","","A","Produksi"]
["414","Vina","2019-01-25","Borongan","06:50:00","17:00:00","","","","","","","A","Produksi"]
["414","Vina","2019-01-26","Borongan","06:50:00","17:00:00","","","","","","","A","Produksi"]
["414","Vina","2019-01-28","Borongan","06:50:00","17:00:00","","","","","","","A","Produksi"]
["414","Vina","2019-01-29","Borongan","06:50:00","17:00:00","","","","","","","A","Produksi"]
["414","Vina","2019-01-30","Borongan","06:50:00","17:00:00","","","","","","","A","Produksi"]
["414","Vina","2019-01-31","Borongan","06:50:00","17:00:00","","","","","","","A","Produksi"]
["415","Weni","2019-01-16","Borongan","06:50:00","17:00:00","06:46:00","","","02:00:00","","","<","Produksi"]
["415","Weni","2019-01-17","Borongan","06:50:00","17:00:00","06:45:00","15:03:00","","01:57:00","","","<","Produksi"]
["415","Weni","2019-01-18","Borongan","06:50:00","17:00:00","06:46:00","","","02:00:00","","","<","Produksi"]
["415","Weni","2019-01-19","Borongan","06:50:00","17:00:00","","","","","","","A","Produksi"]
["415","Weni","2019-01-21","Borongan","06:50:00","17:00:00","","","","","","","A","Produksi"]
["415","Weni","2019-01-22","Borongan","06:50:00","17:00:00","","","","","","","A","Produksi"]
["415","Weni","2019-01-23","Borongan","06:50:00","17:00:00","","","","","","","A","Produksi"]
["415","Weni","2019-01-24","Borongan","06:50:00","17:00:00","","","","","","","A","Produksi"]
["415","Weni","2019-01-25","Borongan","06:50:00","17:00:00","","","","","","","A","Produksi"]
["415","Weni","2019-01-26","Borongan","06:50:00","17:00:00","","","","","","","A","Produksi"]
["415","Weni","2019-01-28","Borongan","06:50:00","17:00:00","","","","","","","A","Produksi"]
["415","Weni","2019-01-29","Borongan","06:50:00","17:00:00","","","","","","","A","Produksi"]
["415","Weni","2019-01-30","Borongan","06:50:00","17:00:00","","","","","","","A","Produksi"]
["415","Weni","2019-01-31","Borongan","06:50:00","17:00:00","","","","","","","A","Produksi"]
["416","Siyati","2019-01-16","Borongan","06:50:00","17:00:00","06:47:00","16:07:00","","00:53:00","","","<","Produksi"]
["416","Siyati","2019-01-17","Borongan","06:50:00","17:00:00","06:45:00","15:04:00","","01:56:00","","","<","Produksi"]
["416","Siyati","2019-01-18","Borongan","06:50:00","17:00:00","","","","","","","A","Produksi"]
["416","Siyati","2019-01-19","Borongan","06:50:00","17:00:00","","","","","","","A","Produksi"]
["416","Siyati","2019-01-21","Borongan","06:50:00","17:00:00","","","","","","","A","Produksi"]
["416","Siyati","2019-01-22","Borongan","06:50:00","17:00:00","","","","","","","A","Produksi"]
["416","Siyati","2019-01-23","Borongan","06:50:00","17:00:00","","","","","","","A","Produksi"]
["416","Siyati","2019-01-24","Borongan","06:50:00","17:00:00","","","","","","","A","Produksi"]
["416","Siyati","2019-01-25","Borongan","06:50:00","17:00:00","","","","","","","A","Produksi"]
["416","Siyati","2019-01-26","Borongan","06:50:00","17:00:00","","","","","","","A","Produksi"]
["416","Siyati","2019-01-28","Borongan","06:50:00","17:00:00","","","","","","","A","Produksi"]
["416","Siyati","2019-01-29","Borongan","06:50:00","17:00:00","","","","","","","A","Produksi"]
["416","Siyati","2019-01-30","Borongan","06:50:00","17:00:00","","","","","","","A","Produksi"]
["416","Siyati","2019-01-31","Borongan","06:50:00","17:00:00","","","","","","","A","Produksi"]
["418","Suntrik","2019-01-16","Borongan","06:50:00","17:00:00","06:45:00","16:09:00","","00:51:00","","","<","Produksi"]
["418","Suntrik","2019-01-17","Borongan","06:50:00","17:00:00","06:44:00","15:06:00","","01:54:00","","","<","Produksi"]
["418","Suntrik","2019-01-18","Borongan","06:50:00","17:00:00","06:44:00","","","02:00:00","","","<","Produksi"]
["418","Suntrik","2019-01-19","Borongan","06:50:00","17:00:00","","","","","","","A","Produksi"]
["418","Suntrik","2019-01-21","Borongan","06:50:00","17:00:00","","","","","","","A","Produksi"]
["418","Suntrik","2019-01-22","Borongan","06:50:00","17:00:00","","","","","","","A","Produksi"]
["418","Suntrik","2019-01-23","Borongan","06:50:00","17:00:00","","","","","","","A","Produksi"]
["418","Suntrik","2019-01-24","Borongan","06:50:00","17:00:00","","","","","","","A","Produksi"]
["418","Suntrik","2019-01-25","Borongan","06:50:00","17:00:00","","","","","","","A","Produksi"]
["418","Suntrik","2019-01-26","Borongan","06:50:00","17:00:00","","","","","","","A","Produksi"]
["418","Suntrik","2019-01-28","Borongan","06:50:00","17:00:00","","","","","","","A","Produksi"]
["418","Suntrik","2019-01-29","Borongan","06:50:00","17:00:00","","","","","","","A","Produksi"]
["418","Suntrik","2019-01-30","Borongan","06:50:00","17:00:00","","","","","","","A","Produksi"]
["418","Suntrik","2019-01-31","Borongan","06:50:00","17:00:00","","","","","","","A","Produksi"]
["419","Elsa","2019-01-16","Borongan","06:50:00","17:00:00","06:46:00","16:06:00","","00:54:00","","","<","Produksi"]
["419","Elsa","2019-01-17","Borongan","06:50:00","17:00:00","06:45:00","15:05:00","","01:55:00","","","<","Produksi"]
["419","Elsa","2019-01-18","Borongan","06:50:00","17:00:00","","","","","","","A","Produksi"]
["419","Elsa","2019-01-19","Borongan","06:50:00","17:00:00","","","","","","","A","Produksi"]
["419","Elsa","2019-01-21","Borongan","06:50:00","17:00:00","","","","","","","A","Produksi"]
["419","Elsa","2019-01-22","Borongan","06:50:00","17:00:00","","","","","","","A","Produksi"]
["419","Elsa","2019-01-23","Borongan","06:50:00","17:00:00","","","","","","","A","Produksi"]
["419","Elsa","2019-01-24","Borongan","06:50:00","17:00:00","","","","","","","A","Produksi"]
["419","Elsa","2019-01-25","Borongan","06:50:00","17:00:00","","","","","","","A","Produksi"]
["419","Elsa","2019-01-26","Borongan","06:50:00","17:00:00","","","","","","","A","Produksi"]
["419","Elsa","2019-01-28","Borongan","06:50:00","17:00:00","","","","","","","A","Produksi"]
["419","Elsa","2019-01-29","Borongan","06:50:00","17:00:00","","","","","","","A","Produksi"]
["419","Elsa","2019-01-30","Borongan","06:50:00","17:00:00","","","","","","","A","Produksi"]
["419","Elsa","2019-01-31","Borongan","06:50:00","17:00:00","","","","","","","A","Produksi"]
["420","Evi B","2019-01-16","Borongan","06:50:00","17:00:00","06:46:00","16:07:00","","00:53:00","","","<","Produksi"]
["420","Evi B","2019-01-17","Borongan","06:50:00","17:00:00","06:45:00","15:05:00","","01:55:00","","","<","Produksi"]
["420","Evi B","2019-01-18","Borongan","06:50:00","17:00:00","06:44:00","","","02:00:00","","","<","Produksi"]
["420","Evi B","2019-01-19","Borongan","06:50:00","17:00:00","","","","","","","A","Produksi"]
["420","Evi B","2019-01-21","Borongan","06:50:00","17:00:00","","","","","","","A","Produksi"]
["420","Evi B","2019-01-22","Borongan","06:50:00","17:00:00","","","","","","","A","Produksi"]
["420","Evi B","2019-01-23","Borongan","06:50:00","17:00:00","","","","","","","A","Produksi"]
["420","Evi B","2019-01-24","Borongan","06:50:00","17:00:00","","","","","","","A","Produksi"]
["420","Evi B","2019-01-25","Borongan","06:50:00","17:00:00","","","","","","","A","Produksi"]
["420","Evi B","2019-01-26","Borongan","06:50:00","17:00:00","","","","","","","A","Produksi"]
["420","Evi B","2019-01-28","Borongan","06:50:00","17:00:00","","","","","","","A","Produksi"]
["420","Evi B","2019-01-29","Borongan","06:50:00","17:00:00","","","","","","","A","Produksi"]
["420","Evi B","2019-01-30","Borongan","06:50:00","17:00:00","","","","","","","A","Produksi"]
["420","Evi B","2019-01-31","Borongan","06:50:00","17:00:00","","","","","","","A","Produksi"]

{"sheet":"data_istirahat","index":1,"n_rows":2700,"n_cols":9,"rows_kept":2700,"cut":false,"hidden":false,"merged":[]}
["No. ID","Nama","Waktu","Status","Status baru","Pengecualian","Tanggal","Istirahat I","Istirahat II"]
["101","Fahrudin","16/01/2019 06.47","C/Masuk","","OK",{"$f":"DATEVALUE(Table1[[#This Row],[Waktu]])","v":"2019-01-16"},{"$f":"IF(AND($F2=\"invalid\",$F1<>\"Invalid\"),TIMEVALUE($C2),\"\")","v":""},{"$f":"IF(AND($F2=\"invalid\",$F1=\"Invalid\"),TIMEVALUE($C2),\"\")","v":""}]
["101","Fahrudin","16/01/2019 15.54","C/Masuk","C/Keluar","OK","","",""]
["101","Fahrudin","17/01/2019 06.46","C/Masuk","","OK","","",""]
["101","Fahrudin","17/01/2019 15.54","C/Masuk","C/Keluar","OK","","",""]
["101","Fahrudin","18/01/2019 06.45","C/Masuk","","OK","","",""]
["102","Rio","16/01/2019 06.49","C/Masuk","","OK","","",""]
["102","Rio","16/01/2019 15.55","C/Masuk","C/Keluar","OK","","",""]
["102","Rio","17/01/2019 06.46","C/Masuk","","OK","","",""]
["102","Rio","17/01/2019 14.56","C/Masuk","C/Keluar","OK","","",""]
["102","Rio","18/01/2019 06.46","C/Masuk","","OK","","",""]
["102","Rio","18/01/2019 14.58","C/Masuk","C/Keluar","OK","","",""]
["103","Paidi","16/01/2019 05.30","C/Masuk","","OK","","",""]
["103","Paidi","16/01/2019 14.58","C/Masuk","C/Keluar","OK","","",""]
["103","Paidi","17/01/2019 05.30","C/Masuk","","OK","","",""]
["103","Paidi","17/01/2019 14.57","C/Masuk","C/Keluar","OK","","",""]
["103","Paidi","18/01/2019 05.30","C/Masuk","","OK","","",""]
["104","Slamet","16/01/2019 06.47","C/Masuk","","OK","","",""]
["104","Slamet","16/01/2019 12.49","C/Masuk","","Invalid","","12:49:00",""]
["104","Slamet","16/01/2019 14.57","C/Masuk","C/Keluar","OK","","",""]
["104","Slamet","17/01/2019 06.46","C/Masuk","","OK","","",""]
["104","Slamet","17/01/2019 12.49","C/Masuk","","Invalid","","12:49:00",""]
["104","Slamet","17/01/2019 14.56","C/Masuk","C/Keluar","OK","","",""]
["104","Slamet","18/01/2019 06.43","C/Masuk","","OK","","",""]
["104","Slamet","18/01/2019 11.20","C/Masuk","","Invalid","","11:20:00",""]
["104","Slamet","18/01/2019 12.20","C/Masuk","","Invalid","","","12:20:00"]
["104","Slamet","18/01/2019 14.58","C/Masuk","C/Keluar","OK","","",""]
["105","Ismi","16/01/2019 06.47","C/Masuk","","OK","","",""]
["105","Ismi","16/01/2019 11.56","C/Masuk","","Invalid","","11:56:00",""]
["105","Ismi","16/01/2019 12.50","C/Masuk","","Invalid","","","12:50:00"]
["105","Ismi","17/01/2019 06.45","C/Masuk","","OK","","",""]
["105","Ismi","17/01/2019 11.58","C/Masuk","","Invalid","","11:58:00",""]
["105","Ismi","17/01/2019 12.50","C/Masuk","","Invalid","","","12:50:00"]
["105","Ismi","17/01/2019 16.29","C/Masuk","C/Keluar","OK","","",""]
["105","Ismi","18/01/2019 06.45","C/Masuk","","OK","","",""]
["105","Ismi","18/01/2019 11.56","C/Masuk","","Invalid","","11:56:00",""]
["107","Angga","16/01/2019 06.56","C/Masuk","","OK","","",""]
["107","Angga","16/01/2019 11.50","C/Masuk","","Invalid","","11:50:00",""]
["107","Angga","16/01/2019 12.45","C/Masuk","","Invalid","","","12:45:00"]
["107","Angga","16/01/2019 16.01","C/Masuk","C/Keluar","OK","","",""]
["107","Angga","17/01/2019 06.44","C/Masuk","","OK","","",""]
["107","Angga","17/01/2019 11.53","C/Masuk","","Invalid","","11:53:00",""]
["107","Angga","17/01/2019 12.51","C/Masuk","","Invalid","","","12:51:00"]
["107","Angga","18/01/2019 06.43","C/Masuk","","OK","","",""]
["107","Angga","18/01/2019 11.52","C/Masuk","","Invalid","","11:52:00",""]
["107","Angga","18/01/2019 12.51","C/Masuk","","Invalid","","","12:51:00"]
["107","Angga","18/01/2019 15.01","C/Masuk","C/Keluar","OK","","",""]
["108","Rohman A","16/01/2019 06.48","C/Masuk","","OK","","",""]
["108","Rohman A","16/01/2019 12.50","C/Masuk","","Invalid","","12:50:00",""]
["108","Rohman A","17/01/2019 06.45","C/Masuk","","OK","","",""]
["108","Rohman A","17/01/2019 11.53","C/Masuk","","Invalid","","11:53:00",""]
["108","Rohman A","17/01/2019 12.49","C/Masuk","","Invalid","","","12:49:00"]
["108","Rohman A","17/01/2019 14.56","C/Masuk","C/Keluar","OK","","",""]
["108","Rohman A","18/01/2019 06.45","C/Masuk","","OK","","",""]
["108","Rohman A","18/01/2019 11.55","C/Masuk","","Invalid","","11:55:00",""]
["108","Rohman A","18/01/2019 15.01","C/Masuk","C/Keluar","OK","","",""]
["109","Tuki","16/01/2019 06.47","C/Masuk","","OK","","",""]
["109","Tuki","16/01/2019 11.52","C/Masuk","","Invalid","","11:52:00",""]
["109","Tuki","16/01/2019 12.50","C/Masuk","","Invalid","","","12:50:00"]
["109","Tuki","16/01/2019 14.56","C/Masuk","C/Keluar","OK","","",""]
["109","Tuki","17/01/2019 06.46","C/Masuk","","OK","","",""]
["109","Tuki","17/01/2019 11.55","C/Masuk","","Invalid","","11:55:00",""]
["109","Tuki","17/01/2019 12.49","C/Masuk","","Invalid","","","12:49:00"]
["109","Tuki","17/01/2019 14.56","C/Masuk","C/Keluar","OK","","",""]
["109","Tuki","18/01/2019 06.45","C/Masuk","","OK","","",""]
["109","Tuki","18/01/2019 12.20","C/Masuk","","Invalid","",{"$f":"IF(AND($F66=\"invalid\",$F65<>\"Invalid\"),TIMEVALUE($C66),\"\")","v":"12:20:00"},{"$f":"IF(AND($F66=\"invalid\",$F65=\"Invalid\"),TIMEVALUE($C66),\"\")","v":""}]
["110","Zainul A","16/01/2019 06.48","C/Masuk","","OK","","",""]
["110","Zainul A","16/01/2019 11.47","C/Masuk","","Invalid","","11:47:00",""]
["110","Zainul A","16/01/2019 12.51","C/Masuk","","Invalid","","","12:51:00"]
["110","Zainul A","16/01/2019 16.04","C/Masuk","C/Keluar","OK","","",""]
["110","Zainul A","17/01/2019 06.45","C/Masuk","","OK","","",""]
["110","Zainul A","17/01/2019 11.55","C/Masuk","","Invalid","","11:55:00",""]
["110","Zainul A","17/01/2019 12.50","C/Masuk","","Invalid","","","12:50:00"]
["110","Zainul A","17/01/2019 14.56","C/Masuk","C/Keluar","OK","","",""]
["110","Zainul A","18/01/2019 06.45","C/Masuk","","OK","","",""]
["110","Zainul A","18/01/2019 11.25","C/Masuk","","Invalid","","11:25:00",""]
["110","Zainul A","18/01/2019 12.20","C/Masuk","","Invalid","","","12:20:00"]
["110","Zainul A","18/01/2019 14.59","C/Masuk","C/Keluar","OK","","",""]
["111","Rofiq","16/01/2019 06.59","C/Masuk","","OK","","",""]
["111","Rofiq","16/01/2019 11.50","C/Masuk","","Invalid","","11:50:00",""]
["111","Rofiq","16/01/2019 12.49","C/Masuk","","Invalid","","","12:49:00"]
["111","Rofiq","16/01/2019 14.59","C/Masuk","C/Keluar","OK","","",""]
["111","Rofiq","17/01/2019 06.44","C/Masuk","","OK","","",""]
["111","Rofiq","17/01/2019 11.56","C/Masuk","","Invalid","","11:56:00",""]
["111","Rofiq","17/01/2019 12.49","C/Masuk","","Invalid","","","12:49:00"]
["111","Rofiq","17/01/2019 14.52","C/Masuk","C/Keluar","OK","","",""]
["111","Rofiq","18/01/2019 06.55","C/Masuk","","OK","","",""]
["111","Rofiq","18/01/2019 11.51","C/Masuk","","Invalid","","11:51:00",""]
["111","Rofiq","18/01/2019 15.22","C/Masuk","C/Keluar","OK","","",""]
["112","Udin","16/01/2019 06.48","C/Masuk","","OK","","",""]
["112","Udin","16/01/2019 11.52","C/Masuk","","Invalid","","11:52:00",""]
["112","Udin","16/01/2019 12.50","C/Masuk","","Invalid","","","12:50:00"]
["112","Udin","16/01/2019 16.00","C/Masuk","C/Keluar","OK","","",""]
["112","Udin","17/01/2019 06.46","C/Masuk","","OK","","",""]
["112","Udin","17/01/2019 11.53","C/Masuk","","Invalid","","11:53:00",""]
["112","Udin","17/01/2019 12.50","C/Masuk","","Invalid","","","12:50:00"]
["112","Udin","17/01/2019 14.57","C/Masuk","C/Keluar","OK","","",""]
["112","Udin","18/01/2019 06.46","C/Masuk","","OK","","",""]
["112","Udin","18/01/2019 11.22","C/Masuk","","Invalid","","11:22:00",""]
["112","Udin","18/01/2019 12.20","C/Masuk","","Invalid","","","12:20:00"]
["112","Udin","18/01/2019 15.00","C/Masuk","C/Keluar","OK","","",""]
["113","Nurullah","16/01/2019 06.49","C/Masuk","","OK","","",""]
["113","Nurullah","16/01/2019 11.52","C/Masuk","","Invalid","","11:52:00",""]
["113","Nurullah","16/01/2019 12.50","C/Masuk","","Invalid","","","12:50:00"]
["113","Nurullah","16/01/2019 16.00","C/Masuk","C/Keluar","OK","","",""]
["113","Nurullah","17/01/2019 06.46","C/Masuk","","OK","","",""]
["113","Nurullah","17/01/2019 12.52","C/Masuk","","Invalid","","12:52:00",""]
["113","Nurullah","17/01/2019 13.54","C/Masuk","","Invalid","","","13:54:00"]
["113","Nurullah","17/01/2019 14.58","C/Masuk","C/Keluar","OK","","",""]
["113","Nurullah","18/01/2019 06.46","C/Masuk","","OK","","",""]
["113","Nurullah","18/01/2019 11.56","C/Masuk","","Invalid","","11:56:00",""]
["113","Nurullah","18/01/2019 12.50","C/Masuk","","Invalid","","","12:50:00"]
["113","Nurullah","18/01/2019 15.00","C/Masuk","C/Keluar","OK","","",""]
["114","Adi","16/01/2019 06.47","C/Masuk","","OK","","",""]
["114","Adi","16/01/2019 11.52","C/Masuk","","Invalid","","11:52:00",""]
["114","Adi","16/01/2019 12.51","C/Masuk","","Invalid","","","12:51:00"]
["114","Adi","16/01/2019 14.56","C/Masuk","C/Keluar","OK","","",""]
["114","Adi","17/01/2019 06.45","C/Masuk","","OK","","",""]
["114","Adi","17/01/2019 11.53","C/Masuk","","Invalid","","11:53:00",""]
["114","Adi","17/01/2019 12.50","C/Masuk","","Invalid","","","12:50:00"]
["114","Adi","17/01/2019 14.55","C/Masuk","C/Keluar","OK","","",""]
["114","Adi","18/01/2019 06.44","C/Masuk","","OK","","",""]
["114","Adi","18/01/2019 11.19","C/Masuk","","Invalid","","11:19:00",""]
["114","Adi","18/01/2019 12.20","C/Masuk","","Invalid","","","12:20:00"]
["114","Adi","18/01/2019 14.57","C/Masuk","C/Keluar","OK","","",""]
["115","Budi","16/01/2019 06.47","C/Masuk","","OK","","",""]
["115","Budi","16/01/2019 11.51","C/Masuk","","Invalid","","11:51:00",""]
["115","Budi","16/01/2019 12.50","C/Masuk","","Invalid","","","12:50:00"]
["115","Budi","16/01/2019 14.54","C/Masuk","C/Keluar","OK","","",""]
["115","Budi","17/01/2019 06.49","C/Masuk","","OK","",{"$f":"IF(AND($F130=\"invalid\",$F129<>\"Invalid\"),TIMEVALUE($C130),\"\")","v":""},{"$f":"IF(AND($F130=\"invalid\",$F129=\"Invalid\"),TIMEVALUE($C130),\"\")","v":""}]
["115","Budi","17/01/2019 11.55","C/Masuk","","Invalid","","11:55:00",""]
["115","Budi","17/01/2019 12.49","C/Masuk","","Invalid","","","12:49:00"]
["115","Budi","17/01/2019 14.51","C/Masuk","C/Keluar","OK","","",""]
["115","Budi","18/01/2019 06.58","C/Masuk","","OK","","",""]
["115","Budi","18/01/2019 11.54","C/Masuk","","Invalid","","11:54:00",""]
["115","Budi","18/01/2019 12.49","C/Masuk","","Invalid","","","12:49:00"]
["115","Budi","18/01/2019 15.24","C/Masuk","C/Keluar","OK","","",""]
["116","Indra S","16/01/2019 06.48","C/Masuk","","OK","","",""]
["116","Indra S","16/01/2019 13.53","C/Masuk","","Invalid","","13:53:00",""]
["116","Indra S","16/01/2019 16.00","C/Masuk","C/Keluar","OK","","",""]
["116","Indra S","17/01/2019 06.46","C/Masuk","","OK","","",""]
["116","Indra S","17/01/2019 12.52","C/Masuk","","Invalid","","12:52:00",""]
["116","Indra S","17/01/2019 13.54","C/Masuk","","Invalid","","","13:54:00"]
["116","Indra S","17/01/2019 14.59","C/Masuk","C/Keluar","OK","","",""]
["116","Indra S","18/01/2019 06.46","C/Masuk","","OK","","",""]
["116","Indra S","18/01/2019 12.21","C/Masuk","","Invalid","","12:21:00",""]
["116","Indra S","18/01/2019 13.22","C/Masuk","","Invalid","","","13:22:00"]
["116","Indra S","18/01/2019 15.01","C/Masuk","C/Keluar","OK","","",""]
["117","Babun","16/01/2019 06.48","C/Masuk","","OK","","",""]
["117","Babun","16/01/2019 12.52","C/Masuk","","Invalid","","12:52:00",""]
["117","Babun","16/01/2019 13.53","C/Masuk","","Invalid","","","13:53:00"]
["117","Babun","16/01/2019 16.01","C/Masuk","C/Keluar","OK","","",""]
["117","Babun","17/01/2019 06.46","C/Masuk","","OK","","",""]
["117","Babun","17/01/2019 11.53","C/Masuk","","Invalid","","11:53:00",""]
["117","Babun","17/01/2019 12.50","C/Masuk","","Invalid","","","12:50:00"]
["117","Babun","17/01/2019 14.59","C/Masuk","C/Keluar","OK","","",""]
["117","Babun","18/01/2019 06.45","C/Masuk","","OK","","",""]
["117","Babun","18/01/2019 11.55","C/Masuk","","Invalid","","11:55:00",""]
["117","Babun","18/01/2019 12.50","C/Masuk","","Invalid","","","12:50:00"]
["117","Babun","18/01/2019 15.00","C/Masuk","C/Keluar","OK","","",""]
["118","Farida","16/01/2019 06.47","C/Masuk","","OK","","",""]
["118","Farida","16/01/2019 11.56","C/Masuk","","Invalid","","11:56:00",""]
["118","Farida","16/01/2019 12.50","C/Masuk","","Invalid","","","12:50:00"]
["118","Farida","17/01/2019 06.46","C/Masuk","","OK","","",""]
["118","Farida","17/01/2019 11.59","C/Masuk","","Invalid","","11:59:00",""]
["118","Farida","17/01/2019 12.49","C/Masuk","","Invalid","","","12:49:00"]
["118","Farida","17/01/2019 14.58","C/Masuk","C/Keluar","OK","","",""]
["118","Farida","18/01/2019 06.44","C/Masuk","","OK","","",""]
["118","Farida","18/01/2019 11.28","C/Masuk","","Invalid","","11:28:00",""]
["118","Farida","18/01/2019 12.19","C/Masuk","","Invalid","","","12:19:00"]
["118","Farida","18/01/2019 15.04","C/Masuk","C/Keluar","OK","","",""]
["119","Zainul B","16/01/2019 06.47","C/Masuk","","OK","","",""]
["119","Zainul B","16/01/2019 15.54","C/Masuk","C/Keluar","OK","","",""]
["119","Zainul B","17/01/2019 06.53","C/Masuk","","OK","","",""]
["119","Zainul B","17/01/2019 15.54","C/Masuk","C/Keluar","OK","","",""]
["119","Zainul B","18/01/2019 06.54","C/Masuk","","OK","","",""]
["120","A. Bahrudin","16/01/2019 06.48","C/Masuk","","OK","","",""]
["120","A. Bahrudin","16/01/2019 11.51","C/Masuk","","Invalid","","11:51:00",""]
["120","A. Bahrudin","16/01/2019 12.51","C/Masuk","","Invalid","","","12:51:00"]
["120","A. Bahrudin","16/01/2019 14.55","C/Masuk","C/Keluar","OK","","",""]
["120","A. Bahrudin","17/01/2019 06.46","C/Masuk","","OK","","",""]
["120","A. Bahrudin","17/01/2019 11.55","C/Masuk","","Invalid","","11:55:00",""]
["120","A. Bahrudin","17/01/2019 12.51","C/Masuk","","Invalid","","","12:51:00"]
["120","A. Bahrudin","17/01/2019 14.52","C/Masuk","C/Keluar","OK","","",""]
["120","A. Bahrudin","18/01/2019 06.46","C/Masuk","","OK","","",""]
["120","A. Bahrudin","18/01/2019 11.55","C/Masuk","","Invalid","","11:55:00",""]
["120","A. Bahrudin","18/01/2019 12.49","C/Masuk","","Invalid","","","12:49:00"]
["120","A. Bahrudin","18/01/2019 15.23","C/Masuk","C/Keluar","OK","","",""]
["121","Roni","16/01/2019 06.48","C/Masuk","","OK","","",""]
["121","Roni","16/01/2019 12.52","C/Masuk","","Invalid","","12:52:00",""]
["121","Roni","16/01/2019 14.59","C/Masuk","C/Keluar","OK","","",""]
["121","Roni","17/01/2019 06.45","C/Masuk","","OK","","",""]
["121","Roni","17/01/2019 12.50","C/Masuk","","Invalid","","12:50:00",""]
["121","Roni","17/01/2019 14.56","C/Masuk","C/Keluar","OK","",{"$f":"IF(AND($F194=\"invalid\",$F193<>\"Invalid\"),TIMEVALUE($C194),\"\")","v":""},{"$f":"IF(AND($F194=\"invalid\",$F193=\"Invalid\"),TIMEVALUE($C194),\"\")","v":""}]
["121","Roni","18/01/2019 06.46","C/Masuk","","OK","","",""]
["121","Roni","18/01/2019 12.21","C/Masuk","","Invalid","","12:21:00",""]
["121","Roni","18/01/2019 14.57","C/Masuk","C/Keluar","OK","","",""]
["122","Rohman B","16/01/2019 06.48","C/Masuk","","OK","","",""]
["122","Rohman B","16/01/2019 12.52","C/Masuk","","Invalid","","12:52:00",""]
["122","Rohman B","16/01/2019 15.54","C/Masuk","C/Keluar","OK","","",""]
["122","Rohman B","17/01/2019 06.46","C/Masuk","","OK","","",""]
["122","Rohman B","17/01/2019 14.56","C/Masuk","C/Keluar","OK","","",""]
["122","Rohman B","18/01/2019 06.53","C/Masuk","","OK","","",""]
["122","Rohman B","18/01/2019 15.00","C/Masuk","C/Keluar","OK","","",""]
["123","Gilang","16/01/2019 07.00","C/Masuk","","OK","","",""]
["123","Gilang","16/01/2019 11.52","C/Masuk","","Invalid","","11:52:00",""]
["123","Gilang","16/01/2019 12.51","C/Masuk","","Invalid","","","12:51:00"]
["123","Gilang","16/01/2019 16.00","C/Masuk","C/Keluar","OK","","",""]
["123","Gilang","17/01/2019 06.59","C/Masuk","","OK","","",""]
["123","Gilang","17/01/2019 11.55","C/Masuk","","Invalid","","11:55:00",""]
["123","Gilang","17/01/2019 12.50","C/Masuk","","Invalid","","","12:50:00"]
["123","Gilang","17/01/2019 14.56","C/Masuk","C/Keluar","OK","","",""]
["123","Gilang","18/01/2019 07.00","C/Masuk","","OK","","",""]
["123","Gilang","18/01/2019 11.25","C/Masuk","","Invalid","","11:25:00",""]
["123","Gilang","18/01/2019 12.22","C/Masuk","","Invalid","","","12:22:00"]
["123","Gilang","18/01/2019 14.59","C/Masuk","C/Keluar","OK","","",""]
["124","Zeky","16/01/2019 06.48","C/Masuk","","OK","","",""]
["124","Zeky","16/01/2019 11.52","C/Masuk","","Invalid","","11:52:00",""]
["124","Zeky","16/01/2019 12.51","C/Masuk","","Invalid","","","12:51:00"]
["124","Zeky","16/01/2019 14.55","C/Masuk","C/Keluar","OK","","",""]
["124","Zeky","17/01/2019 06.46","C/Masuk","","OK","","",""]
["124","Zeky","17/01/2019 11.53","C/Masuk","","Invalid","","11:53:00",""]
["124","Zeky","17/01/2019 12.50","C/Masuk","","Invalid","","","12:50:00"]
["124","Zeky","17/01/2019 14.56","C/Masuk","C/Keluar","OK","","",""]
["124","Zeky","18/01/2019 06.45","C/Masuk","","OK","","",""]
["124","Zeky","18/01/2019 11.22","C/Masuk","","Invalid","","11:22:00",""]
["124","Zeky","18/01/2019 12.20","C/Masuk","","Invalid","","","12:20:00"]
["124","Zeky","18/01/2019 15.00","C/Masuk","C/Keluar","OK","","",""]
["125","Yuli","16/01/2019 06.45","C/Masuk","","OK","","",""]
["125","Yuli","16/01/2019 11.53","C/Masuk","","Invalid","","11:53:00",""]
["125","Yuli","16/01/2019 12.50","C/Masuk","","Invalid","","","12:50:00"]
["125","Yuli","16/01/2019 16.19","C/Masuk","C/Keluar","OK","","",""]
["125","Yuli","17/01/2019 06.43","C/Masuk","","OK","","",""]
["125","Yuli","17/01/2019 11.55","C/Masuk","","Invalid","","11:55:00",""]
["125","Yuli","17/01/2019 12.50","C/Masuk","","Invalid","","","12:50:00"]
["125","Yuli","17/01/2019 16.00","C/Masuk","C/Keluar","OK","","",""]
["125","Yuli","18/01/2019 06.44","C/Masuk","","OK","","",""]
["125","Yuli","18/01/2019 11.52","C/Masuk","","Invalid","","11:52:00",""]
["125","Yuli","18/01/2019 12.50","C/Masuk","","Invalid","","","12:50:00"]
["126","Rifah","16/01/2019 06.45","C/Masuk","","OK","","",""]
["126","Rifah","16/01/2019 12.00","C/Masuk","","Invalid","","12:00:00",""]
["126","Rifah","16/01/2019 12.52","C/Masuk","","Invalid","","","12:52:00"]
["126","Rifah","16/01/2019 16.19","C/Masuk","C/Keluar","OK","","",""]
["126","Rifah","17/01/2019 06.44","C/Masuk","","OK","","",""]
["126","Rifah","17/01/2019 11.57","C/Masuk","","Invalid","","11:57:00",""]
["126","Rifah","17/01/2019 12.51","C/Masuk","","Invalid","","","12:51:00"]
["126","Rifah","17/01/2019 16.00","C/Masuk","C/Keluar","OK","","",""]
["126","Rifah","18/01/2019 06.44","C/Masuk","","OK","","",""]
["126","Rifah","18/01/2019 11.29","C/Masuk","","Invalid","","11:29:00",""]
["126","Rifah","18/01/2019 12.19","C/Masuk","","Invalid","","","12:19:00"]
["127","Krisna","16/01/2019 06.47","C/Masuk","","OK","","",""]
["127","Krisna","16/01/2019 15.54","C/Masuk","C/Keluar","OK","","",""]
["127","Krisna","17/01/2019 06.46","C/Masuk","","OK","","",""]
["127","Krisna","17/01/2019 14.56","C/Masuk","C/Keluar","OK","","",""]
["127","Krisna","18/01/2019 06.45","C/Masuk","","OK","","",""]
["127","Krisna","18/01/2019 14.59","C/Masuk","C/Keluar","OK","","",""]
["128","Taufiq","16/01/2019 06.47","C/Masuk","","OK","","",""]
["128","Taufiq","16/01/2019 11.51","C/Masuk","","Invalid","",{"$f":"IF(AND($F258=\"invalid\",$F257<>\"Invalid\"),TIMEVALUE($C258),\"\")","v":"11:51:00"},{"$f":"IF(AND($F258=\"invalid\",$F257=\"Invalid\"),TIMEVALUE($C258),\"\")","v":""}]
["128","Taufiq","16/01/2019 12.51","C/Masuk","","Invalid","","","12:51:00"]
["128","Taufiq","16/01/2019 14.55","C/Masuk","C/Keluar","OK","","",""]
["128","Taufiq","17/01/2019 06.46","C/Masuk","","OK","","",""]
["128","Taufiq","17/01/2019 12.49","C/Masuk","","Invalid","","12:49:00",""]
["128","Taufiq","17/01/2019 14.55","C/Masuk","C/Keluar","OK","","",""]
["128","Taufiq","18/01/2019 06.46","C/Masuk","","OK","","",""]
["128","Taufiq","18/01/2019 11.19","C/Masuk","","Invalid","","11:19:00",""]
["128","Taufiq","18/01/2019 12.21","C/Masuk","","Invalid","","","12:21:00"]
["128","Taufiq","18/01/2019 14.57","C/Masuk","C/Keluar","OK","","",""]
["129","Jefri","16/01/2019 06.48","C/Masuk","","OK","","",""]
["129","Jefri","16/01/2019 11.52","C/Masuk","","Invalid","","11:52:00",""]
["129","Jefri","16/01/2019 12.51","C/Masuk","","Invalid","","","12:51:00"]
["129","Jefri","16/01/2019 14.55","C/Masuk","C/Keluar","OK","","",""]
["129","Jefri","17/01/2019 06.46","C/Masuk","","OK","","",""]
["129","Jefri","17/01/2019 11.55","C/Masuk","","Invalid","","11:55:00",""]
["129","Jefri","17/01/2019 12.49","C/Masuk","","Invalid","","","12:49:00"]
["129","Jefri","17/01/2019 14.56","C/Masuk","C/Keluar","OK","","",""]
["129","Jefri","18/01/2019 06.45","C/Masuk","","OK","","",""]
["129","Jefri","18/01/2019 12.20","C/Masuk","","Invalid","","12:20:00",""]
["201","Tatik","16/01/2019 06.45","C/Masuk","","OK","","",""]
["201","Tatik","16/01/2019 11.50","C/Masuk","","Invalid","","11:50:00",""]
["201","Tatik","16/01/2019 12.42","C/Masuk","","Invalid","","","12:42:00"]
["201","Tatik","16/01/2019 15.03","C/Masuk","C/Keluar","OK","","",""]
["201","Tatik","17/01/2019 06.43","C/Masuk","","OK","","",""]
["201","Tatik","17/01/2019 11.53","C/Masuk","","Invalid","","11:53:00",""]
["201","Tatik","17/01/2019 12.41","C/Masuk","","Invalid","","","12:41:00"]
["201","Tatik","17/01/2019 14.58","C/Masuk","C/Keluar","OK","","",""]
["201","Tatik","18/01/2019 06.42","C/Masuk","","OK","","",""]
["201","Tatik","18/01/2019 11.23","C/Masuk","","Invalid","","11:23:00",""]
["201","Tatik","18/01/2019 12.24","C/Masuk","","Invalid","","","12:24:00"]
["201","Tatik","18/01/2019 14.59","C/Masuk","C/Keluar","OK","","",""]
["202","Ririn","16/01/2019 06.57","C/Masuk","","OK","","",""]
["202","Ririn","16/01/2019 11.50","C/Masuk","","Invalid","","11:50:00",""]
["202","Ririn","16/01/2019 12.42","C/Masuk","","Invalid","","","12:42:00"]
["202","Ririn","16/01/2019 15.04","C/Masuk","C/Keluar","OK","","",""]
["202","Ririn","17/01/2019 06.55","C/Masuk","","OK","","",""]
["202","Ririn","17/01/2019 11.53","C/Masuk","","Invalid","","11:53:00",""]
["202","Ririn","17/01/2019 12.41","C/Masuk","","Invalid","","","12:41:00"]
["202","Ririn","17/01/2019 14.59","C/Masuk","C/Keluar","OK","","",""]
["202","Ririn","18/01/2019 06.56","C/Masuk","","OK","","",""]
["202","Ririn","18/01/2019 11.24","C/Masuk","","Invalid","","11:24:00",""]
["202","Ririn","18/01/2019 12.24","C/Masuk","","Invalid","","","12:24:00"]
["202","Ririn","18/01/2019 14.59","C/Masuk","C/Keluar","OK","","",""]
["203","Asmaul","16/01/2019 06.48","C/Masuk","","OK","","",""]
["203","Asmaul","16/01/2019 11.50","C/Masuk","","Invalid","","11:50:00",""]
["203","Asmaul","16/01/2019 12.30","C/Masuk","","Invalid","","","12:30:00"]
["203","Asmaul","16/01/2019 15.03","C/Masuk","C/Keluar","OK","","",""]
["203","Asmaul","17/01/2019 06.47","C/Masuk","","OK","","",""]
["203","Asmaul","17/01/2019 11.54","C/Masuk","","Invalid","","11:54:00",""]
["203","Asmaul","17/01/2019 12.35","C/Masuk","","Invalid","","","12:35:00"]
["203","Asmaul","17/01/2019 14.58","C/Masuk","C/Keluar","OK","","",""]
["203","Asmaul","18/01/2019 06.45","C/Masuk","","OK","","",""]
["203","Asmaul","18/01/2019 11.23","C/Masuk","","Invalid","","11:23:00",""]
["203","Asmaul","18/01/2019 12.17","C/Masuk","","Invalid","","","12:17:00"]
["203","Asmaul","18/01/2019 14.59","C/Masuk","C/Keluar","OK","","",""]
["204","Dwi Ayu","16/01/2019 06.45","C/Masuk","","OK","","",""]
["204","Dwi Ayu","16/01/2019 11.50","C/Masuk","","Invalid","","11:50:00",""]
["204","Dwi Ayu","16/01/2019 12.42","C/Masuk","","Invalid","","","12:42:00"]
["204","Dwi Ayu","16/01/2019 15.04","C/Masuk","C/Keluar","OK","","",""]
["204","Dwi Ayu","17/01/2019 06.43","C/Masuk","","OK","","",""]
["204","Dwi Ayu","17/01/2019 11.54","C/Masuk","","Invalid","","11:54:00",""]
["204","Dwi Ayu","17/01/2019 12.41","C/Masuk","","Invalid","","","12:41:00"]
["204","Dwi Ayu","17/01/2019 14.59","C/Masuk","C/Keluar","OK","","",""]
["204","Dwi Ayu","18/01/2019 06.48","C/Masuk","","OK","",{"$f":"IF(AND($F322=\"invalid\",$F321<>\"Invalid\"),TIMEVALUE($C322),\"\")","v":""},{"$f":"IF(AND($F322=\"invalid\",$F321=\"Invalid\"),TIMEVALUE($C322),\"\")","v":""}]
["204","Dwi Ayu","18/01/2019 11.24","C/Masuk","","Invalid","","11:24:00",""]
["204","Dwi Ayu","18/01/2019 12.26","C/Masuk","","Invalid","","","12:26:00"]
["204","Dwi Ayu","18/01/2019 15.01","C/Masuk","C/Keluar","OK","","",""]
["301","Reni","16/01/2019 06.45","C/Masuk","","OK","","",""]
["301","Reni","16/01/2019 11.56","C/Masuk","","Invalid","","11:56:00",""]
["301","Reni","16/01/2019 12.25","C/Masuk","","Invalid","","","12:25:00"]
["301","Reni","16/01/2019 15.20","C/Masuk","C/Keluar","OK","","",""]
["301","Reni","17/01/2019 06.51","C/Masuk","","OK","","",""]
["301","Reni","17/01/2019 11.57","C/Masuk","","Invalid","","11:57:00",""]
["301","Reni","17/01/2019 12.37","C/Masuk","","Invalid","","","12:37:00"]
["301","Reni","17/01/2019 14.51","C/Masuk","C/Keluar","OK","","",""]
["301","Reni","18/01/2019 06.50","C/Masuk","","OK","","",""]
["301","Reni","18/01/2019 11.27","C/Masuk","","Invalid","","11:27:00",""]
["301","Reni","18/01/2019 11.56","C/Masuk","","Invalid","","","11:56:00"]
["301","Reni","18/01/2019 14.59","C/Masuk","C/Keluar","OK","","",""]
["302","Saroh","16/01/2019 06.46","C/Masuk","","OK","","",""]
["302","Saroh","16/01/2019 11.57","C/Masuk","","Invalid","","11:57:00",""]
["302","Saroh","16/01/2019 12.20","C/Masuk","","Invalid","","","12:20:00"]
["302","Saroh","16/01/2019 15.20","C/Masuk","C/Keluar","OK","","",""]
["302","Saroh","17/01/2019 06.43","C/Masuk","","OK","","",""]
["302","Saroh","17/01/2019 11.57","C/Masuk","","Invalid","","11:57:00",""]
["302","Saroh","17/01/2019 12.37","C/Masuk","","Invalid","","","12:37:00"]
["302","Saroh","17/01/2019 14.57","C/Masuk","C/Keluar","OK","","",""]
["302","Saroh","18/01/2019 06.42","C/Masuk","","OK","","",""]
["302","Saroh","18/01/2019 11.27","C/Masuk","","Invalid","","11:27:00",""]
["302","Saroh","18/01/2019 11.56","C/Masuk","","Invalid","","","11:56:00"]
["302","Saroh","18/01/2019 14.59","C/Masuk","C/Keluar","OK","","",""]
["303","Ulhayati","16/01/2019 06.47","C/Masuk","","OK","","",""]
["303","Ulhayati","16/01/2019 11.55","C/Masuk","","Invalid","","11:55:00",""]
["303","Ulhayati","16/01/2019 12.13","C/Masuk","","Invalid","","","12:13:00"]
["303","Ulhayati","16/01/2019 15.14","C/Masuk","C/Keluar","OK","","",""]
["303","Ulhayati","17/01/2019 06.45","C/Masuk","","OK","","",""]
["303","Ulhayati","17/01/2019 11.56","C/Masuk","","Invalid","","11:56:00",""]
["303","Ulhayati","17/01/2019 12.18","C/Masuk","","Invalid","","","12:18:00"]
["303","Ulhayati","17/01/2019 14.51","C/Masuk","C/Keluar","OK","","",""]
["303","Ulhayati","18/01/2019 06.44","C/Masuk","","OK","","",""]
["303","Ulhayati","18/01/2019 11.23","C/Masuk","","Invalid","","11:23:00",""]
["303","Ulhayati","18/01/2019 11.44","C/Masuk","","Invalid","","","11:44:00"]
["303","Ulhayati","18/01/2019 14.57","C/Masuk","C/Keluar","OK","","",""]
["304","Sri A","16/01/2019 06.44","C/Masuk","","OK","","",""]
["304","Sri A","16/01/2019 11.55","C/Masuk","","Invalid","","11:55:00",""]
["304","Sri A","16/01/2019 12.08","C/Masuk","","Invalid","","","12:08:00"]
["304","Sri A","16/01/2019 15.04","C/Masuk","C/Keluar","OK","","",""]
["304","Sri A","17/01/2019 06.42","C/Masuk","","OK","","",""]
["304","Sri A","17/01/2019 11.56","C/Masuk","","Invalid","","11:56:00",""]
["304","Sri A","17/01/2019 12.14","C/Masuk","","Invalid","","","12:14:00"]
["304","Sri A","17/01/2019 14.50","C/Masuk","C/Keluar","OK","","",""]
["304","Sri A","18/01/2019 06.42","C/Masuk","","OK","","",""]
["304","Sri A","18/01/2019 11.24","C/Masuk","","Invalid","","11:24:00",""]
["304","Sri A","18/01/2019 11.39","C/Masuk","","Invalid","","","11:39:00"]
["304","Sri A","18/01/2019 14.57","C/Masuk","C/Keluar","OK","","",""]
["305","Endang","16/01/2019 06.45","C/Masuk","","OK","","",""]
["305","Endang","16/01/2019 11.52","C/Masuk","","Invalid","","11:52:00",""]
["305","Endang","16/01/2019 12.10","C/Masuk","","Invalid","","","12:10:00"]
["305","Endang","16/01/2019 15.15","C/Masuk","C/Keluar","OK","","",""]
["305","Endang","17/01/2019 06.43","C/Masuk","","OK","","",""]
["305","Endang","17/01/2019 11.56","C/Masuk","","Invalid","","11:56:00",""]
["305","Endang","17/01/2019 12.31","C/Masuk","","Invalid","","","12:31:00"]
["305","Endang","17/01/2019 14.55","C/Masuk","C/Keluar","OK","","",""]
["305","Endang","18/01/2019 06.42","C/Masuk","","OK","","",""]
["305","Endang","18/01/2019 11.25","C/Masuk","","Invalid","","11:25:00",""]
["305","Endang","18/01/2019 11.42","C/Masuk","","Invalid","","","11:42:00"]
["305","Endang","18/01/2019 14.58","C/Masuk","C/Keluar","OK","","",""]
["306","Uyun","16/01/2019 06.46","C/Masuk","","OK","",{"$f":"IF(AND($F386=\"invalid\",$F385<>\"Invalid\"),TIMEVALUE($C386),\"\")","v":""},{"$f":"IF(AND($F386=\"invalid\",$F385=\"Invalid\"),TIMEVALUE($C386),\"\")","v":""}]
["306","Uyun","16/01/2019 11.56","C/Masuk","","Invalid","","11:56:00",""]
["306","Uyun","16/01/2019 12.25","C/Masuk","","Invalid","","","12:25:00"]
["306","Uyun","16/01/2019 15.21","C/Masuk","C/Keluar","OK","","",""]
["306","Uyun","17/01/2019 06.43","C/Masuk","","OK","","",""]
["306","Uyun","17/01/2019 11.57","C/Masuk","","Invalid","","11:57:00",""]
["306","Uyun","17/01/2019 12.37","C/Masuk","","Invalid","","","12:37:00"]
["306","Uyun","17/01/2019 14.57","C/Masuk","C/Keluar","OK","","",""]
["306","Uyun","18/01/2019 06.48","C/Masuk","","OK","","",""]
["306","Uyun","18/01/2019 11.27","C/Masuk","","Invalid","","11:27:00",""]
["306","Uyun","18/01/2019 11.59","C/Masuk","","Invalid","","","11:59:00"]
["306","Uyun","18/01/2019 14.57","C/Masuk","C/Keluar","OK","","",""]
["307","Rina","17/01/2019 06.44","C/Masuk","","OK","","",""]
["307","Rina","17/01/2019 11.56","C/Masuk","","Invalid","","11:56:00",""]
["307","Rina","17/01/2019 12.32","C/Masuk","","Invalid","","","12:32:00"]
["307","Rina","17/01/2019 14.51","C/Masuk","C/Keluar","OK","","",""]
["307","Rina","18/01/2019 06.45","C/Masuk","","OK","","",""]
["307","Rina","18/01/2019 11.25","C/Masuk","","Invalid","","11:25:00",""]
["307","Rina","18/01/2019 11.44","C/Masuk","","Invalid","","","11:44:00"]
["307","Rina","18/01/2019 14.58","C/Masuk","C/Keluar","OK","","",""]
["308","Jum","16/01/2019 06.47","C/Masuk","","OK","","",""]
["308","Jum","16/01/2019 11.55","C/Masuk","","Invalid","","11:55:00",""]
["308","Jum","16/01/2019 12.22","C/Masuk","","Invalid","","","12:22:00"]
["308","Jum","16/01/2019 15.15","C/Masuk","C/Keluar","OK","","",""]
["308","Jum","17/01/2019 06.47","C/Masuk","","OK","","",""]
["308","Jum","17/01/2019 11.58","C/Masuk","","Invalid","","11:58:00",""]
["308","Jum","17/01/2019 12.32","C/Masuk","","Invalid","","","12:32:00"]
["308","Jum","17/01/2019 14.55","C/Masuk","C/Keluar","OK","","",""]
["308","Jum","18/01/2019 06.46","C/Masuk","","OK","","",""]
["308","Jum","18/01/2019 11.26","C/Masuk","","Invalid","","11:26:00",""]
["308","Jum","18/01/2019 11.56","C/Masuk","","Invalid","","","11:56:00"]
["308","Jum","18/01/2019 14.59","C/Masuk","C/Keluar","OK","","",""]
["309","Elin","16/01/2019 06.44","C/Masuk","","OK","","",""]
["309","Elin","16/01/2019 11.57","C/Masuk","","Invalid","","11:57:00",""]
["309","Elin","16/01/2019 12.20","C/Masuk","","Invalid","","","12:20:00"]
["309","Elin","16/01/2019 15.05","C/Masuk","C/Keluar","OK","","",""]
["309","Elin","17/01/2019 06.42","C/Masuk","","OK","","",""]
["309","Elin","17/01/2019 11.58","C/Masuk","","Invalid","","11:58:00",""]
["309","Elin","17/01/2019 12.15","C/Masuk","","Invalid","","","12:15:00"]
["309","Elin","17/01/2019 14.55","C/Masuk","C/Keluar","OK","","",""]
["309","Elin","18/01/2019 06.42","C/Masuk","","OK","","",""]
["309","Elin","18/01/2019 11.26","C/Masuk","","Invalid","","11:26:00",""]
["309","Elin","18/01/2019 11.39","C/Masuk","","Invalid","","","11:39:00"]
["309","Elin","18/01/2019 14.57","C/Masuk","C/Keluar","OK","","",""]
["310","Surti","16/01/2019 06.46","C/Masuk","","OK","","",""]
["310","Surti","16/01/2019 12.14","C/Masuk","","Invalid","","12:14:00",""]
["310","Surti","16/01/2019 15.13","C/Masuk","C/Keluar","OK","","",""]
["310","Surti","17/01/2019 06.43","C/Masuk","","OK","","",""]
["310","Surti","17/01/2019 11.58","C/Masuk","","Invalid","","11:58:00",""]
["310","Surti","17/01/2019 12.33","C/Masuk","","Invalid","","","12:33:00"]
["310","Surti","17/01/2019 14.55","C/Masuk","C/Keluar","OK","","",""]
["310","Surti","18/01/2019 06.43","C/Masuk","","OK","","",""]
["310","Surti","18/01/2019 11.26","C/Masuk","","Invalid","","11:26:00",""]
["310","Surti","18/01/2019 11.45","C/Masuk","","Invalid","","","11:45:00"]
["310","Surti","18/01/2019 14.58","C/Masuk","C/Keluar","OK","","",""]
["311","Nova","16/01/2019 06.47","C/Masuk","","OK","","",""]
["311","Nova","16/01/2019 11.53","C/Masuk","","Invalid","","11:53:00",""]
["311","Nova","16/01/2019 12.21","C/Masuk","","Invalid","","","12:21:00"]
["311","Nova","16/01/2019 15.14","C/Masuk","C/Keluar","OK","","",""]
["311","Nova","17/01/2019 06.45","C/Masuk","","OK","","",""]
["311","Nova","17/01/2019 11.58","C/Masuk","","Invalid","","11:58:00",""]
["311","Nova","17/01/2019 12.35","C/Masuk","","Invalid","","","12:35:00"]
["311","Nova","17/01/2019 14.56","C/Masuk","C/Keluar","OK","","",""]
["311","Nova","18/01/2019 06.51","C/Masuk","","OK","","",""]
["311","Nova","18/01/2019 11.26","C/Masuk","","Invalid","",{"$f":"IF(AND($F450=\"invalid\",$F449<>\"Invalid\"),TIMEVALUE($C450),\"\")","v":"11:26:00"},{"$f":"IF(AND($F450=\"invalid\",$F449=\"Invalid\"),TIMEVALUE($C450),\"\")","v":""}]
["311","Nova","18/01/2019 11.54","C/Masuk","","Invalid","","","11:54:00"]
["311","Nova","18/01/2019 14.58","C/Masuk","C/Keluar","OK","","",""]
["312","Khasanah","16/01/2019 06.44","C/Masuk","","OK","","",""]
["312","Khasanah","16/01/2019 11.50","C/Masuk","","Invalid","","11:50:00",""]
["312","Khasanah","16/01/2019 12.13","C/Masuk","","Invalid","","","12:13:00"]
["312","Khasanah","16/01/2019 15.09","C/Masuk","C/Keluar","OK","","",""]
["312","Khasanah","17/01/2019 06.47","C/Masuk","","OK","","",""]
["312","Khasanah","17/01/2019 11.56","C/Masuk","","Invalid","","11:56:00",""]
["312","Khasanah","17/01/2019 12.15","C/Masuk","","Invalid","","","12:15:00"]
["312","Khasanah","17/01/2019 14.50","C/Masuk","C/Keluar","OK","","",""]
["312","Khasanah","18/01/2019 06.42","C/Masuk","","OK","","",""]
["312","Khasanah","18/01/2019 11.25","C/Masuk","","Invalid","","11:25:00",""]
["312","Khasanah","18/01/2019 11.44","C/Masuk","","Invalid","","","11:44:00"]
["312","Khasanah","18/01/2019 14.59","C/Masuk","C/Keluar","OK","","",""]
["314","Erna","16/01/2019 06.51","C/Masuk","","OK","","",""]
["314","Erna","16/01/2019 11.52","C/Masuk","","Invalid","","11:52:00",""]
["314","Erna","16/01/2019 12.27","C/Masuk","","Invalid","","","12:27:00"]
["314","Erna","16/01/2019 15.04","C/Masuk","C/Keluar","OK","","",""]
["314","Erna","17/01/2019 06.45","C/Masuk","","OK","","",""]
["314","Erna","17/01/2019 11.58","C/Masuk","","Invalid","","11:58:00",""]
["314","Erna","17/01/2019 12.18","C/Masuk","","Invalid","","","12:18:00"]
["314","Erna","17/01/2019 14.56","C/Masuk","C/Keluar","OK","","",""]
["314","Erna","18/01/2019 06.45","C/Masuk","","OK","","",""]
["314","Erna","18/01/2019 11.25","C/Masuk","","Invalid","","11:25:00",""]
["314","Erna","18/01/2019 11.42","C/Masuk","","Invalid","","","11:42:00"]
["314","Erna","18/01/2019 14.52","C/Masuk","C/Keluar","OK","","",""]
["316","Khoir","16/01/2019 06.46","C/Masuk","","OK","","",""]
["316","Khoir","16/01/2019 11.52","C/Masuk","","Invalid","","11:52:00",""]
["316","Khoir","16/01/2019 12.10","C/Masuk","","Invalid","","","12:10:00"]
["316","Khoir","16/01/2019 15.08","C/Masuk","C/Keluar","OK","","",""]
["316","Khoir","17/01/2019 06.44","C/Masuk","","OK","","",""]
["316","Khoir","17/01/2019 11.56","C/Masuk","","Invalid","","11:56:00",""]
["316","Khoir","17/01/2019 12.32","C/Masuk","","Invalid","","","12:32:00"]
["316","Khoir","17/01/2019 14.55","C/Masuk","C/Keluar","OK","","",""]
["316","Khoir","18/01/2019 06.42","C/Masuk","","OK","","",""]
["316","Khoir","18/01/2019 11.25","C/Masuk","","Invalid","","11:25:00",""]
["316","Khoir","18/01/2019 11.42","C/Masuk","","Invalid","","","11:42:00"]
["316","Khoir","18/01/2019 14.58","C/Masuk","C/Keluar","OK","","",""]
["317","Filda","16/01/2019 06.47","C/Masuk","","OK","","",""]
["317","Filda","16/01/2019 11.53","C/Masuk","","Invalid","","11:53:00",""]
["317","Filda","16/01/2019 12.12","C/Masuk","","Invalid","","","12:12:00"]
["317","Filda","16/01/2019 15.19","C/Masuk","C/Keluar","OK","","",""]
["317","Filda","17/01/2019 06.51","C/Masuk","","OK","","",""]
["317","Filda","17/01/2019 11.57","C/Masuk","","Invalid","","11:57:00",""]
["317","Filda","17/01/2019 12.20","C/Masuk","","Invalid","","","12:20:00"]
["317","Filda","17/01/2019 14.53","C/Masuk","C/Keluar","OK","","",""]
["317","Filda","18/01/2019 06.49","C/Masuk","","OK","","",""]
["317","Filda","18/01/2019 11.25","C/Masuk","","Invalid","","11:25:00",""]
["317","Filda","18/01/2019 11.45","C/Masuk","","Invalid","","","11:45:00"]
["317","Filda","18/01/2019 14.57","C/Masuk","C/Keluar","OK","","",""]
["319","Juma'iyyah","16/01/2019 06.46","C/Masuk","","OK","","",""]
["319","Juma'iyyah","16/01/2019 11.55","C/Masuk","","Invalid","","11:55:00",""]
["319","Juma'iyyah","16/01/2019 12.11","C/Masuk","","Invalid","","","12:11:00"]
["319","Juma'iyyah","16/01/2019 15.04","C/Masuk","C/Keluar","OK","","",""]
["319","Juma'iyyah","17/01/2019 06.43","C/Masuk","","OK","","",""]
["319","Juma'iyyah","17/01/2019 11.57","C/Masuk","","Invalid","","11:57:00",""]
["319","Juma'iyyah","17/01/2019 12.13","C/Masuk","","Invalid","","","12:13:00"]
["319","Juma'iyyah","17/01/2019 14.50","C/Masuk","C/Keluar","OK","","",""]
["319","Juma'iyyah","18/01/2019 06.42","C/Masuk","","OK","","",""]
["319","Juma'iyyah","18/01/2019 11.26","C/Masuk","","Invalid","","11:26:00",""]
["319","Juma'iyyah","18/01/2019 11.39","C/Masuk","","Invalid","","","11:39:00"]
["319","Juma'iyyah","18/01/2019 14.57","C/Masuk","C/Keluar","OK","","",""]
["320","Uswatun","16/01/2019 06.44","C/Masuk","","OK","","",""]
["320","Uswatun","16/01/2019 11.51","C/Masuk","","Invalid","",{"$f":"IF(AND($F514=\"invalid\",$F513<>\"Invalid\"),TIMEVALUE($C514),\"\")","v":"11:51:00"},{"$f":"IF(AND($F514=\"invalid\",$F513=\"Invalid\"),TIMEVALUE($C514),\"\")","v":""}]
["320","Uswatun","16/01/2019 12.09","C/Masuk","","Invalid","","","12:09:00"]
["320","Uswatun","16/01/2019 15.04","C/Masuk","C/Keluar","OK","","",""]
["320","Uswatun","17/01/2019 06.42","C/Masuk","","OK","","",""]
["320","Uswatun","17/01/2019 14.50","C/Masuk","C/Keluar","OK","","",""]
["320","Uswatun","18/01/2019 06.42","C/Masuk","","OK","","",""]
["320","Uswatun","18/01/2019 11.25","C/Masuk","","Invalid","","11:25:00",""]
["320","Uswatun","18/01/2019 11.39","C/Masuk","","Invalid","","","11:39:00"]
["320","Uswatun","18/01/2019 14.49","C/Masuk","C/Keluar","OK","","",""]
["321","Deni B","16/01/2019 06.47","C/Masuk","","OK","","",""]
["321","Deni B","16/01/2019 11.52","C/Masuk","","Invalid","","11:52:00",""]
["321","Deni B","16/01/2019 12.27","C/Masuk","","Invalid","","","12:27:00"]
["321","Deni B","16/01/2019 15.04","C/Masuk","C/Keluar","OK","","",""]
["321","Deni B","17/01/2019 06.45","C/Masuk","","OK","","",""]
["321","Deni B","17/01/2019 11.58","C/Masuk","","Invalid","","11:58:00",""]
["321","Deni B","17/01/2019 12.18","C/Masuk","","Invalid","","","12:18:00"]
["321","Deni B","17/01/2019 14.55","C/Masuk","C/Keluar","OK","","",""]
["321","Deni B","18/01/2019 06.45","C/Masuk","","OK","","",""]
["321","Deni B","18/01/2019 11.25","C/Masuk","","Invalid","","11:25:00",""]
["321","Deni B","18/01/2019 11.39","C/Masuk","","Invalid","","","11:39:00"]
["321","Deni B","18/01/2019 14.50","C/Masuk","C/Keluar","OK","","",""]
["323","Novi","16/01/2019 06.45","C/Masuk","","OK","","",""]
["323","Novi","16/01/2019 11.56","C/Masuk","","Invalid","","11:56:00",""]
["323","Novi","16/01/2019 12.09","C/Masuk","","Invalid","","","12:09:00"]
["323","Novi","16/01/2019 15.05","C/Masuk","C/Keluar","OK","","",""]
["323","Novi","17/01/2019 06.42","C/Masuk","","OK","","",""]
["323","Novi","17/01/2019 11.58","C/Masuk","","Invalid","","11:58:00",""]
["323","Novi","17/01/2019 12.12","C/Masuk","","Invalid","","","12:12:00"]
["323","Novi","17/01/2019 14.55","C/Masuk","C/Keluar","OK","","",""]
["323","Novi","18/01/2019 06.42","C/Masuk","","OK","","",""]
["323","Novi","18/01/2019 11.26","C/Masuk","","Invalid","","11:26:00",""]
["323","Novi","18/01/2019 11.39","C/Masuk","","Invalid","","","11:39:00"]
["323","Novi","18/01/2019 14.49","C/Masuk","C/Keluar","OK","","",""]
["325","Septin","16/01/2019 06.52","C/Masuk","","OK","","",""]
["325","Septin","16/01/2019 11.56","C/Masuk","","Invalid","","11:56:00",""]
["325","Septin","16/01/2019 12.09","C/Masuk","","Invalid","","","12:09:00"]
["325","Septin","16/01/2019 15.05","C/Masuk","C/Keluar","OK","","",""]
["325","Septin","18/01/2019 06.53","C/Masuk","","OK","","",""]
["325","Septin","18/01/2019 11.25","C/Masuk","","Invalid","","11:25:00",""]
["325","Septin","18/01/2019 11.42","C/Masuk","","Invalid","","","11:42:00"]
["325","Septin","18/01/2019 14.51","C/Masuk","C/Keluar","OK","","",""]
["327","Latifa","16/01/2019 06.44","C/Masuk","","OK","","",""]
["327","Latifa","16/01/2019 11.55","C/Masuk","","Invalid","","11:55:00",""]
["327","Latifa","16/01/2019 12.08","C/Masuk","","Invalid","","","12:08:00"]
["327","Latifa","16/01/2019 15.08","C/Masuk","C/Keluar","OK","","",""]
["327","Latifa","17/01/2019 06.42","C/Masuk","","OK","","",""]
["327","Latifa","17/01/2019 11.57","C/Masuk","","Invalid","","11:57:00",""]
["327","Latifa","17/01/2019 12.13","C/Masuk","","Invalid","","","12:13:00"]
["327","Latifa","17/01/2019 14.55","C/Masuk","C/Keluar","OK","","",""]
["327","Latifa","18/01/2019 06.42","C/Masuk","","OK","","",""]
["327","Latifa","18/01/2019 11.25","C/Masuk","","Invalid","","11:25:00",""]
["327","Latifa","18/01/2019 11.40","C/Masuk","","Invalid","","","11:40:00"]
["327","Latifa","18/01/2019 14.50","C/Masuk","C/Keluar","OK","","",""]
["328","Sri Wati","16/01/2019 06.44","C/Masuk","","OK","","",""]
["328","Sri Wati","16/01/2019 11.55","C/Masuk","","Invalid","","11:55:00",""]
["328","Sri Wati","16/01/2019 12.08","C/Masuk","","Invalid","","","12:08:00"]
["328","Sri Wati","16/01/2019 15.05","C/Masuk","C/Keluar","OK","","",""]
["328","Sri Wati","17/01/2019 06.43","C/Masuk","","OK","","",""]
["328","Sri Wati","17/01/2019 11.57","C/Masuk","","Invalid","","11:57:00",""]
["328","Sri Wati","17/01/2019 12.12","C/Masuk","","Invalid","","","12:12:00"]
["328","Sri Wati","17/01/2019 14.55","C/Masuk","C/Keluar","OK","","",""]
["328","Sri Wati","18/01/2019 06.42","C/Masuk","","OK","","",""]
["328","Sri Wati","18/01/2019 11.25","C/Masuk","","Invalid","","11:25:00",""]
["328","Sri Wati","18/01/2019 11.39","C/Masuk","","Invalid","","","11:39:00"]
["328","Sri Wati","18/01/2019 14.51","C/Masuk","C/Keluar","OK","",{"$f":"IF(AND($F578=\"invalid\",$F577<>\"Invalid\"),TIMEVALUE($C578),\"\")","v":""},{"$f":"IF(AND($F578=\"invalid\",$F577=\"Invalid\"),TIMEVALUE($C578),\"\")","v":""}]
["329","Indah","16/01/2019 06.44","C/Masuk","","OK","","",""]
["329","Indah","16/01/2019 11.55","C/Masuk","","Invalid","","11:55:00",""]
["329","Indah","16/01/2019 12.08","C/Masuk","","Invalid","","","12:08:00"]
["329","Indah","16/01/2019 15.08","C/Masuk","C/Keluar","OK","","",""]
["329","Indah","17/01/2019 06.43","C/Masuk","","OK","","",""]
["329","Indah","17/01/2019 11.57","C/Masuk","","Invalid","","11:57:00",""]
["329","Indah","17/01/2019 12.12","C/Masuk","","Invalid","","","12:12:00"]
["329","Indah","17/01/2019 14.51","C/Masuk","C/Keluar","OK","","",""]
["329","Indah","18/01/2019 06.42","C/Masuk","","OK","","",""]
["329","Indah","18/01/2019 11.26","C/Masuk","","Invalid","","11:26:00",""]
["329","Indah","18/01/2019 11.39","C/Masuk","","Invalid","","","11:39:00"]
["329","Indah","18/01/2019 14.58","C/Masuk","C/Keluar","OK","","",""]
["401","Khoiri","16/01/2019 06.50","C/Masuk","","OK","","",""]
["401","Khoiri","16/01/2019 11.47","C/Masuk","","Invalid","","11:47:00",""]
["401","Khoiri","16/01/2019 12.21","C/Masuk","","Invalid","","","12:21:00"]
["401","Khoiri","17/01/2019 11.55","C/Masuk","","Invalid","","","11:55:00"]
["401","Khoiri","17/01/2019 12.30","C/Masuk","","Invalid","","","12:30:00"]
["401","Khoiri","17/01/2019 12.47","C/Masuk","","Invalid","","","12:47:00"]
["401","Khoiri","17/01/2019 15.25","C/Masuk","C/Keluar","OK","","",""]
["401","Khoiri","18/01/2019 06.47","C/Masuk","","OK","","",""]
["401","Khoiri","18/01/2019 11.45","C/Masuk","","Invalid","","11:45:00",""]
["402","Khoirul","16/01/2019 06.49","C/Masuk","","OK","","",""]
["402","Khoirul","16/01/2019 11.46","C/Masuk","","Invalid","","11:46:00",""]
["402","Khoirul","16/01/2019 16.45","C/Masuk","C/Keluar","OK","","",""]
["402","Khoirul","17/01/2019 06.55","C/Masuk","","OK","","",""]
["402","Khoirul","17/01/2019 11.57","C/Masuk","","Invalid","","11:57:00",""]
["402","Khoirul","17/01/2019 12.52","C/Masuk","","Invalid","","","12:52:00"]
["402","Khoirul","17/01/2019 14.58","C/Masuk","C/Keluar","OK","","",""]
["402","Khoirul","18/01/2019 06.54","C/Masuk","","OK","","",""]
["402","Khoirul","18/01/2019 11.49","C/Masuk","","Invalid","","11:49:00",""]
["402","Khoirul","18/01/2019 12.53","C/Masuk","","Invalid","","","12:53:00"]
["402","Khoirul","18/01/2019 15.25","C/Masuk","C/Keluar","OK","","",""]
["403","Via","16/01/2019 06.53","C/Masuk","","OK","","",""]
["403","Via","16/01/2019 11.55","C/Masuk","","Invalid","","11:55:00",""]
["403","Via","16/01/2019 12.52","C/Masuk","","Invalid","","","12:52:00"]
["403","Via","16/01/2019 16.05","C/Masuk","C/Keluar","OK","","",""]
["403","Via","17/01/2019 06.47","C/Masuk","","OK","","",""]
["403","Via","17/01/2019 11.54","C/Masuk","","Invalid","","11:54:00",""]
["403","Via","17/01/2019 12.50","C/Masuk","","Invalid","","","12:50:00"]
["403","Via","17/01/2019 15.05","C/Masuk","C/Keluar","OK","","",""]
["403","Via","18/01/2019 06.50","C/Masuk","","OK","","",""]
["403","Via","18/01/2019 11.51","C/Masuk","","Invalid","","11:51:00",""]
["403","Via","18/01/2019 12.49","C/Masuk","","Invalid","","","12:49:00"]
["403","Via","18/01/2019 15.18","C/Masuk","C/Keluar","OK","","",""]
["404","Fifi","16/01/2019 06.46","C/Masuk","","OK","","",""]
["404","Fifi","16/01/2019 11.53","C/Masuk","","Invalid","","11:53:00",""]
["404","Fifi","16/01/2019 12.50","C/Masuk","","Invalid","","","12:50:00"]
["404","Fifi","16/01/2019 16.07","C/Masuk","C/Keluar","OK","","",""]
["404","Fifi","17/01/2019 06.43","C/Masuk","","OK","","",""]
["404","Fifi","17/01/2019 11.54","C/Masuk","","Invalid","","11:54:00",""]
["404","Fifi","17/01/2019 12.50","C/Masuk","","Invalid","","","12:50:00"]
["404","Fifi","17/01/2019 15.05","C/Masuk","C/Keluar","OK","","",""]
["404","Fifi","18/01/2019 06.43","C/Masuk","","OK","","",""]
["404","Fifi","18/01/2019 11.51","C/Masuk","","Invalid","","11:51:00",""]
["404","Fifi","18/01/2019 12.50","C/Masuk","","Invalid","","","12:50:00"]
["404","Fifi","18/01/2019 15.16","C/Masuk","C/Keluar","OK","","",""]
["405","Zubaidah","16/01/2019 06.45","C/Masuk","","OK","","",""]
["405","Zubaidah","16/01/2019 11.53","C/Masuk","","Invalid","","11:53:00",""]
["405","Zubaidah","16/01/2019 12.32","C/Masuk","","Invalid","","","12:32:00"]
["405","Zubaidah","16/01/2019 16.07","C/Masuk","C/Keluar","OK","","",""]
["405","Zubaidah","17/01/2019 06.44","C/Masuk","","OK","","",""]
["405","Zubaidah","17/01/2019 11.54","C/Masuk","","Invalid","","11:54:00",""]
["405","Zubaidah","17/01/2019 12.48","C/Masuk","","Invalid","","","12:48:00"]
["405","Zubaidah","17/01/2019 15.02","C/Masuk","C/Keluar","OK","",{"$f":"IF(AND($F642=\"invalid\",$F641<>\"Invalid\"),TIMEVALUE($C642),\"\")","v":""},{"$f":"IF(AND($F642=\"invalid\",$F641=\"Invalid\"),TIMEVALUE($C642),\"\")","v":""}]
["405","Zubaidah","18/01/2019 06.42","C/Masuk","","OK","","",""]
["405","Zubaidah","18/01/2019 11.51","C/Masuk","","Invalid","","11:51:00",""]
["405","Zubaidah","18/01/2019 12.49","C/Masuk","","Invalid","","","12:49:00"]
["405","Zubaidah","18/01/2019 15.14","C/Masuk","C/Keluar","OK","","",""]
["406","Rika","16/01/2019 06.45","C/Masuk","","OK","","",""]
["406","Rika","16/01/2019 11.54","C/Masuk","","Invalid","","11:54:00",""]
["406","Rika","16/01/2019 12.49","C/Masuk","","Invalid","","","12:49:00"]
["406","Rika","16/01/2019 16.06","C/Masuk","C/Keluar","OK","","",""]
["406","Rika","17/01/2019 06.44","C/Masuk","","OK","","",""]
["406","Rika","17/01/2019 11.57","C/Masuk","","Invalid","","11:57:00",""]
["406","Rika","18/01/2019 06.44","C/Masuk","","OK","","",""]
["406","Rika","18/01/2019 11.51","C/Masuk","","Invalid","","11:51:00",""]
["406","Rika","18/01/2019 12.50","C/Masuk","","Invalid","","","12:50:00"]
["406","Rika","18/01/2019 15.14","C/Masuk","C/Keluar","OK","","",""]
["407","Ima","16/01/2019 06.45","C/Masuk","","OK","","",""]
["407","Ima","16/01/2019 11.53","C/Masuk","","Invalid","","11:53:00",""]
["407","Ima","16/01/2019 12.49","C/Masuk","","Invalid","","","12:49:00"]
["407","Ima","16/01/2019 16.06","C/Masuk","C/Keluar","OK","","",""]
["407","Ima","17/01/2019 06.43","C/Masuk","","OK","","",""]
["407","Ima","17/01/2019 11.54","C/Masuk","","Invalid","","11:54:00",""]
["407","Ima","17/01/2019 12.48","C/Masuk","","Invalid","","","12:48:00"]
["407","Ima","17/01/2019 15.01","C/Masuk","C/Keluar","OK","","",""]
["407","Ima","18/01/2019 06.43","C/Masuk","","OK","","",""]
["407","Ima","18/01/2019 11.51","C/Masuk","","Invalid","","11:51:00",""]
["407","Ima","18/01/2019 12.49","C/Masuk","","Invalid","","","12:49:00"]
["407","Ima","18/01/2019 15.18","C/Masuk","C/Keluar","OK","","",""]
["408","Gita","16/01/2019 06.48","C/Masuk","","OK","","",""]
["408","Gita","16/01/2019 11.53","C/Masuk","","Invalid","","11:53:00",""]
["408","Gita","16/01/2019 12.21","C/Masuk","","Invalid","","","12:21:00"]
["408","Gita","16/01/2019 16.08","C/Masuk","C/Keluar","OK","","",""]
["408","Gita","17/01/2019 06.45","C/Masuk","","OK","","",""]
["408","Gita","17/01/2019 11.55","C/Masuk","","Invalid","","11:55:00",""]
["408","Gita","17/01/2019 12.29","C/Masuk","","Invalid","","","12:29:00"]
["408","Gita","17/01/2019 15.03","C/Masuk","C/Keluar","OK","","",""]
["408","Gita","18/01/2019 06.44","C/Masuk","","OK","","",""]
["408","Gita","18/01/2019 11.53","C/Masuk","","Invalid","","11:53:00",""]
["409","Evi","16/01/2019 06.51","C/Masuk","","OK","","",""]
["409","Evi","16/01/2019 11.54","C/Masuk","","Invalid","","11:54:00",""]
["409","Evi","16/01/2019 12.51","C/Masuk","","Invalid","","","12:51:00"]
["409","Evi","16/01/2019 16.08","C/Masuk","C/Keluar","OK","","",""]
["409","Evi","17/01/2019 06.46","C/Masuk","","OK","","",""]
["409","Evi","17/01/2019 11.56","C/Masuk","","Invalid","","11:56:00",""]
["409","Evi","17/01/2019 12.50","C/Masuk","","Invalid","","","12:50:00"]
["409","Evi","17/01/2019 15.13","C/Masuk","C/Keluar","OK","","",""]
["409","Evi","18/01/2019 06.45","C/Masuk","","OK","","",""]
["409","Evi","18/01/2019 11.51","C/Masuk","","Invalid","","11:51:00",""]
["409","Evi","18/01/2019 12.50","C/Masuk","","Invalid","","","12:50:00"]
["409","Evi","18/01/2019 15.16","C/Masuk","C/Keluar","OK","","",""]
["410","Fitri","16/01/2019 06.45","C/Masuk","","OK","","",""]
["410","Fitri","16/01/2019 11.55","C/Masuk","","Invalid","","11:55:00",""]
["410","Fitri","16/01/2019 12.50","C/Masuk","","Invalid","","","12:50:00"]
["410","Fitri","16/01/2019 16.13","C/Masuk","C/Keluar","OK","","",""]
["410","Fitri","17/01/2019 06.44","C/Masuk","","OK","","",""]
["410","Fitri","17/01/2019 11.55","C/Masuk","","Invalid","","11:55:00",""]
["410","Fitri","17/01/2019 12.49","C/Masuk","","Invalid","","","12:49:00"]
["410","Fitri","17/01/2019 15.05","C/Masuk","C/Keluar","OK","","",""]
["410","Fitri","18/01/2019 06.43","C/Masuk","","OK","","",""]
["410","Fitri","18/01/2019 11.53","C/Masuk","","Invalid","","11:53:00",""]
["410","Fitri","18/01/2019 12.50","C/Masuk","","Invalid","","","12:50:00"]
["410","Fitri","18/01/2019 15.16","C/Masuk","C/Keluar","OK","","",""]
["411","Vita","16/01/2019 06.47","C/Masuk","","OK","","",""]
["411","Vita","16/01/2019 11.55","C/Masuk","","Invalid","","11:55:00",""]
["411","Vita","16/01/2019 12.49","C/Masuk","","Invalid","","","12:49:00"]
["411","Vita","16/01/2019 16.08","C/Masuk","C/Keluar","OK","",{"$f":"IF(AND($F706=\"invalid\",$F705<>\"Invalid\"),TIMEVALUE($C706),\"\")","v":""},{"$f":"IF(AND($F706=\"invalid\",$F705=\"Invalid\"),TIMEVALUE($C706),\"\")","v":""}]
["411","Vita","17/01/2019 06.44","C/Masuk","","OK","","",""]
["411","Vita","17/01/2019 11.54","C/Masuk","","Invalid","","11:54:00",""]
["411","Vita","17/01/2019 12.50","C/Masuk","","Invalid","","","12:50:00"]
["411","Vita","17/01/2019 15.05","C/Masuk","C/Keluar","OK","","",""]
["411","Vita","18/01/2019 06.43","C/Masuk","","OK","","",""]
["411","Vita","18/01/2019 11.53","C/Masuk","","Invalid","","11:53:00",""]
["411","Vita","18/01/2019 12.49","C/Masuk","","Invalid","","","12:49:00"]
["411","Vita","18/01/2019 15.17","C/Masuk","C/Keluar","OK","","",""]
["412","Nafil","16/01/2019 06.46","C/Masuk","","OK","","",""]
["412","Nafil","16/01/2019 11.53","C/Masuk","","Invalid","","11:53:00",""]
["412","Nafil","16/01/2019 12.51","C/Masuk","","Invalid","","","12:51:00"]
["412","Nafil","16/01/2019 16.06","C/Masuk","C/Keluar","OK","","",""]
["412","Nafil","17/01/2019 06.43","C/Masuk","","OK","","",""]
["412","Nafil","17/01/2019 11.54","C/Masuk","","Invalid","","11:54:00",""]
["412","Nafil","17/01/2019 12.51","C/Masuk","","Invalid","","","12:51:00"]
["412","Nafil","17/01/2019 15.03","C/Masuk","C/Keluar","OK","","",""]
["412","Nafil","18/01/2019 06.49","C/Masuk","","OK","","",""]
["412","Nafil","18/01/2019 11.52","C/Masuk","","Invalid","","11:52:00",""]
["412","Nafil","18/01/2019 12.50","C/Masuk","","Invalid","","","12:50:00"]
["412","Nafil","18/01/2019 15.13","C/Masuk","C/Keluar","OK","","",""]
["413","Ayunda","16/01/2019 06.46","C/Masuk","","OK","","",""]
["413","Ayunda","16/01/2019 11.55","C/Masuk","","Invalid","","11:55:00",""]
["413","Ayunda","16/01/2019 12.51","C/Masuk","","Invalid","","","12:51:00"]
["413","Ayunda","16/01/2019 16.08","C/Masuk","C/Keluar","OK","","",""]
["413","Ayunda","17/01/2019 06.45","C/Masuk","","OK","","",""]
["413","Ayunda","17/01/2019 11.54","C/Masuk","","Invalid","","11:54:00",""]
["413","Ayunda","17/01/2019 12.49","C/Masuk","","Invalid","","","12:49:00"]
["413","Ayunda","17/01/2019 15.03","C/Masuk","C/Keluar","OK","","",""]
["413","Ayunda","18/01/2019 06.46","C/Masuk","","OK","","",""]
["413","Ayunda","18/01/2019 11.52","C/Masuk","","Invalid","","11:52:00",""]
["413","Ayunda","18/01/2019 12.51","C/Masuk","","Invalid","","","12:51:00"]
["413","Ayunda","18/01/2019 15.15","C/Masuk","C/Keluar","OK","","",""]
["414","Vina","16/01/2019 06.46","C/Masuk","","OK","","",""]
["414","Vina","16/01/2019 11.54","C/Masuk","","Invalid","","11:54:00",""]
["414","Vina","16/01/2019 12.51","C/Masuk","","Invalid","","","12:51:00"]
["414","Vina","16/01/2019 16.07","C/Masuk","C/Keluar","OK","","",""]
["414","Vina","17/01/2019 06.45","C/Masuk","","OK","","",""]
["414","Vina","17/01/2019 11.54","C/Masuk","","Invalid","","11:54:00",""]
["414","Vina","17/01/2019 12.50","C/Masuk","","Invalid","","","12:50:00"]
["414","Vina","17/01/2019 15.02","C/Masuk","C/Keluar","OK","","",""]
["414","Vina","18/01/2019 06.44","C/Masuk","","OK","","",""]
["414","Vina","18/01/2019 11.52","C/Masuk","","Invalid","","11:52:00",""]
["414","Vina","18/01/2019 12.51","C/Masuk","","Invalid","","","12:51:00"]
["414","Vina","18/01/2019 15.14","C/Masuk","C/Keluar","OK","","",""]
["415","Weni","16/01/2019 06.46","C/Masuk","","OK","","",""]
["415","Weni","16/01/2019 11.54","C/Masuk","","Invalid","","11:54:00",""]
["415","Weni","16/01/2019 12.51","C/Masuk","","Invalid","","","12:51:00"]
["415","Weni","17/01/2019 06.45","C/Masuk","","OK","","",""]
["415","Weni","17/01/2019 11.54","C/Masuk","","Invalid","","11:54:00",""]
["415","Weni","17/01/2019 12.49","C/Masuk","","Invalid","","","12:49:00"]
["415","Weni","17/01/2019 15.03","C/Masuk","C/Keluar","OK","","",""]
["415","Weni","18/01/2019 06.46","C/Masuk","","OK","","",""]
["415","Weni","18/01/2019 11.52","C/Masuk","","Invalid","","11:52:00",""]
["415","Weni","18/01/2019 12.51","C/Masuk","","Invalid","","","12:51:00"]
["415","Weni","18/01/2019 15.17","C/Masuk","C/Keluar","OK","","",""]
["416","Siyati","16/01/2019 06.47","C/Masuk","","OK","","",""]
["416","Siyati","16/01/2019 11.54","C/Masuk","","Invalid","","11:54:00",""]
["416","Siyati","16/01/2019 12.50","C/Masuk","","Invalid","","","12:50:00"]
["416","Siyati","16/01/2019 16.07","C/Masuk","C/Keluar","OK","","",""]
["416","Siyati","17/01/2019 06.45","C/Masuk","","OK","","",""]
["416","Siyati","17/01/2019 11.54","C/Masuk","","Invalid","","11:54:00",""]
["416","Siyati","17/01/2019 12.49","C/Masuk","","Invalid","","","12:49:00"]
["416","Siyati","17/01/2019 15.04","C/Masuk","C/Keluar","OK","","",""]
["418","Suntrik","16/01/2019 06.45","C/Masuk","","OK","",{"$f":"IF(AND($F770=\"invalid\",$F769<>\"Invalid\"),TIMEVALUE($C770),\"\")","v":""},{"$f":"IF(AND($F770=\"invalid\",$F769=\"Invalid\"),TIMEVALUE($C770),\"\")","v":""}]
["418","Suntrik","16/01/2019 11.54","C/Masuk","","Invalid","","11:54:00",""]
["418","Suntrik","16/01/2019 12.51","C/Masuk","","Invalid","","","12:51:00"]
["418","Suntrik","16/01/2019 16.09","C/Masuk","C/Keluar","OK","","",""]
["418","Suntrik","17/01/2019 06.44","C/Masuk","","OK","","",""]
["418","Suntrik","17/01/2019 11.54","C/Masuk","","Invalid","","11:54:00",""]
["418","Suntrik","17/01/2019 12.50","C/Masuk","","Invalid","","","12:50:00"]
["418","Suntrik","17/01/2019 15.06","C/Masuk","C/Keluar","OK","","",""]
["418","Suntrik","18/01/2019 06.44","C/Masuk","","OK","","",""]
["418","Suntrik","18/01/2019 11.51","C/Masuk","","Invalid","","11:51:00",""]
["418","Suntrik","18/01/2019 12.50","C/Masuk","","Invalid","","","12:50:00"]
["418","Suntrik","18/01/2019 15.19","C/Masuk","C/Keluar","OK","","",""]
["419","Elsa","16/01/2019 06.46","C/Masuk","","OK","","",""]
["419","Elsa","16/01/2019 11.54","C/Masuk","","Invalid","","11:54:00",""]
["419","Elsa","16/01/2019 12.50","C/Masuk","","Invalid","","","12:50:00"]
["419","Elsa","16/01/2019 16.06","C/Masuk","C/Keluar","OK","","",""]
["419","Elsa","17/01/2019 06.45","C/Masuk","","OK","","",""]
["419","Elsa","17/01/2019 11.53","C/Masuk","","Invalid","","11:53:00",""]
["419","Elsa","17/01/2019 12.49","C/Masuk","","Invalid","","","12:49:00"]
["419","Elsa","17/01/2019 15.05","C/Masuk","C/Keluar","OK","","",""]
["419","Elsa","18/01/2019 11.52","C/Masuk","","Invalid","","11:52:00",""]
["419","Elsa","18/01/2019 12.50","C/Masuk","","Invalid","","","12:50:00"]
["419","Elsa","18/01/2019 15.15","C/Masuk","C/Keluar","OK","","",""]
["420","Evi B","16/01/2019 06.46","C/Masuk","","OK","","",""]
["420","Evi B","16/01/2019 11.54","C/Masuk","","Invalid","","11:54:00",""]
["420","Evi B","16/01/2019 12.49","C/Masuk","","Invalid","","","12:49:00"]
["420","Evi B","16/01/2019 16.07","C/Masuk","C/Keluar","OK","","",""]
["420","Evi B","17/01/2019 06.45","C/Masuk","","OK","","",""]
["420","Evi B","17/01/2019 11.54","C/Masuk","","Invalid","","11:54:00",""]
["420","Evi B","17/01/2019 12.48","C/Masuk","","Invalid","","","12:48:00"]
["420","Evi B","17/01/2019 15.05","C/Masuk","C/Keluar","OK","","",""]
["420","Evi B","18/01/2019 06.44","C/Masuk","","OK","","",""]
["420","Evi B","18/01/2019 11.51","C/Masuk","","Invalid","","11:51:00",""]
["420","Evi B","18/01/2019 12.49","C/Masuk","","Invalid","","","12:49:00"]
["420","Evi B","18/01/2019 15.17","C/Masuk","C/Keluar","OK","","",""]
["126","Rifah","08/01/2019 12.52","C/Masuk","","Invalid","","12:52:00",""]
["126","Rifah","08/01/2019 18.32","C/Masuk","C/Keluar","OK","","",""]
["126","Rifah","09/01/2019 06.46","C/Masuk","","OK","","",""]
["126","Rifah","09/01/2019 11.59","C/Masuk","","Invalid","","11:59:00",""]
["126","Rifah","09/01/2019 12.56","C/Masuk","","Invalid","","","12:56:00"]
["126","Rifah","09/01/2019 17.50","C/Masuk","C/Keluar","OK","","",""]
["126","Rifah","10/01/2019 06.46","C/Masuk","","OK","","",""]
["126","Rifah","10/01/2019 11.56","C/Masuk","","Invalid","","11:56:00",""]
["126","Rifah","10/01/2019 12.52","C/Masuk","","Invalid","","","12:52:00"]
["126","Rifah","10/01/2019 16.25","C/Masuk","C/Keluar","OK","","",""]
["126","Rifah","11/01/2019 06.43","C/Masuk","","OK","","",""]
["126","Rifah","11/01/2019 11.28","C/Masuk","","Invalid","","11:28:00",""]
["126","Rifah","11/01/2019 12.19","C/Masuk","","Invalid","","","12:19:00"]
["126","Rifah","14/01/2019 06.46","C/Masuk","","OK","","",""]
["126","Rifah","14/01/2019 12.00","C/Masuk","","Invalid","","12:00:00",""]
["126","Rifah","14/01/2019 12.49","C/Masuk","","Invalid","","","12:49:00"]
["126","Rifah","14/01/2019 16.43","C/Masuk","C/Keluar","OK","","",""]
["126","Rifah","15/01/2019 06.45","C/Masuk","","OK","","",""]
["126","Rifah","15/01/2019 11.57","C/Masuk","","Invalid","","11:57:00",""]
["126","Rifah","15/01/2019 12.48","C/Masuk","","Invalid","","","12:48:00"]
["126","Rifah","15/01/2019 16.11","C/Masuk","C/Keluar","OK","","",""]
["127","Krisna","03/01/2019 06.49","C/Masuk","","OK","","",""]
["127","Krisna","03/01/2019 15.53","C/Masuk","C/Keluar","OK","","",""]
["127","Krisna","04/01/2019 06.48","C/Masuk","","OK","","",""]
["127","Krisna","04/01/2019 15.54","C/Masuk","C/Keluar","OK","","",""]
["127","Krisna","05/01/2019 06.47","C/Masuk","","OK","","",""]
["127","Krisna","05/01/2019 12.52","C/Masuk","","Invalid","","12:52:00",""]
["127","Krisna","05/01/2019 15.54","C/Masuk","C/Keluar","OK","","",""]
["127","Krisna","07/01/2019 06.45","C/Masuk","","OK","","",""]
["127","Krisna","07/01/2019 12.54","C/Masuk","","Invalid","",{"$f":"IF(AND($F834=\"invalid\",$F833<>\"Invalid\"),TIMEVALUE($C834),\"\")","v":"12:54:00"},{"$f":"IF(AND($F834=\"invalid\",$F833=\"Invalid\"),TIMEVALUE($C834),\"\")","v":""}]
["127","Krisna","07/01/2019 15.57","C/Masuk","C/Keluar","OK","","",""]
["127","Krisna","08/01/2019 06.49","C/Masuk","","OK","","",""]
["127","Krisna","08/01/2019 16.53","C/Masuk","C/Keluar","OK","","",""]
["127","Krisna","09/01/2019 06.48","C/Masuk","","OK","","",""]
["127","Krisna","09/01/2019 16.50","C/Masuk","C/Keluar","OK","","",""]
["127","Krisna","10/01/2019 06.49","C/Masuk","","OK","","",""]
["127","Krisna","10/01/2019 06.55","C/Masuk","","Mengulang","","",""]
["127","Krisna","10/01/2019 06.56","C/Masuk","","Invalid","","06:56:00",""]
["127","Krisna","10/01/2019 15.52","C/Masuk","C/Keluar","OK","","",""]
["127","Krisna","11/01/2019 06.46","C/Masuk","","OK","","",""]
["127","Krisna","11/01/2019 15.53","C/Masuk","C/Keluar","OK","","",""]
["127","Krisna","14/01/2019 06.47","C/Masuk","","OK","","",""]
["127","Krisna","14/01/2019 15.58","C/Masuk","C/Keluar","OK","","",""]
["127","Krisna","15/01/2019 06.48","C/Masuk","","OK","","",""]
["127","Krisna","15/01/2019 15.54","C/Masuk","C/Keluar","OK","","",""]
["128","Taufiq","03/01/2019 06.48","C/Masuk","","OK","","",""]
["128","Taufiq","03/01/2019 11.54","C/Masuk","","Invalid","","11:54:00",""]
["128","Taufiq","03/01/2019 12.52","C/Masuk","","Invalid","","","12:52:00"]
["128","Taufiq","03/01/2019 15.00","C/Masuk","C/Keluar","OK","","",""]
["128","Taufiq","04/01/2019 06.48","C/Masuk","","OK","","",""]
["128","Taufiq","04/01/2019 11.23","C/Masuk","","Invalid","","11:23:00",""]
["128","Taufiq","04/01/2019 12.23","C/Masuk","","Invalid","","","12:23:00"]
["128","Taufiq","04/01/2019 15.55","C/Masuk","C/Keluar","OK","","",""]
["128","Taufiq","05/01/2019 06.46","C/Masuk","","OK","","",""]
["128","Taufiq","05/01/2019 11.57","C/Masuk","","Invalid","","11:57:00",""]
["128","Taufiq","05/01/2019 12.51","C/Masuk","","Invalid","","","12:51:00"]
["128","Taufiq","05/01/2019 15.54","C/Masuk","C/Keluar","OK","","",""]
["128","Taufiq","07/01/2019 06.45","C/Masuk","","OK","","",""]
["128","Taufiq","07/01/2019 11.55","C/Masuk","","Invalid","","11:55:00",""]
["128","Taufiq","07/01/2019 12.50","C/Masuk","","Invalid","","","12:50:00"]
["128","Taufiq","07/01/2019 15.55","C/Masuk","C/Keluar","OK","","",""]
["128","Taufiq","08/01/2019 06.48","C/Masuk","","OK","","",""]
["128","Taufiq","08/01/2019 11.54","C/Masuk","","Invalid","","11:54:00",""]
["128","Taufiq","08/01/2019 12.51","C/Masuk","","Invalid","","","12:51:00"]
["128","Taufiq","08/01/2019 15.58","C/Masuk","C/Keluar","OK","","",""]
["128","Taufiq","09/01/2019 06.49","C/Masuk","","OK","","",""]
["128","Taufiq","09/01/2019 11.53","C/Masuk","","Invalid","","11:53:00",""]
["128","Taufiq","09/01/2019 12.52","C/Masuk","","Invalid","","","12:52:00"]
["128","Taufiq","09/01/2019 15.55","C/Masuk","C/Keluar","OK","","",""]
["128","Taufiq","10/01/2019 06.50","C/Masuk","","OK","","",""]
["128","Taufiq","10/01/2019 11.52","C/Masuk","","Invalid","","11:52:00",""]
["128","Taufiq","10/01/2019 12.53","C/Masuk","","Invalid","","","12:53:00"]
["128","Taufiq","10/01/2019 15.55","C/Masuk","C/Keluar","OK","","",""]
["128","Taufiq","11/01/2019 06.44","C/Masuk","","OK","","",""]
["128","Taufiq","11/01/2019 12.19","C/Masuk","","Invalid","","12:19:00",""]
["128","Taufiq","11/01/2019 15.53","C/Masuk","C/Keluar","OK","","",""]
["128","Taufiq","14/01/2019 06.47","C/Masuk","","OK","","",""]
["128","Taufiq","14/01/2019 11.51","C/Masuk","","Invalid","","11:51:00",""]
["128","Taufiq","14/01/2019 12.52","C/Masuk","","Invalid","","","12:52:00"]
["128","Taufiq","14/01/2019 15.59","C/Masuk","C/Keluar","OK","","",""]
["128","Taufiq","15/01/2019 06.47","C/Masuk","","OK","","",""]
["128","Taufiq","15/01/2019 11.53","C/Masuk","","Invalid","","11:53:00",""]
["128","Taufiq","15/01/2019 12.51","C/Masuk","","Invalid","","","12:51:00"]
["128","Taufiq","15/01/2019 15.58","C/Masuk","C/Keluar","OK","","",""]
["129","Jefri","03/01/2019 06.49","C/Masuk","","OK","","",""]
["129","Jefri","03/01/2019 11.55","C/Masuk","","Invalid","","11:55:00",""]
["129","Jefri","03/01/2019 12.51","C/Masuk","","Invalid","","","12:51:00"]
["129","Jefri","03/01/2019 15.00","C/Masuk","C/Keluar","OK","","",""]
["129","Jefri","04/01/2019 06.48","C/Masuk","","OK","","",""]
["129","Jefri","04/01/2019 11.24","C/Masuk","","Invalid","","11:24:00",""]
["129","Jefri","04/01/2019 12.22","C/Masuk","","Invalid","","","12:22:00"]
["129","Jefri","04/01/2019 14.59","C/Masuk","C/Keluar","OK","","",""]
["129","Jefri","05/01/2019 06.46","C/Masuk","","OK","","",""]
["129","Jefri","05/01/2019 14.59","C/Masuk","C/Keluar","OK","",{"$f":"IF(AND($F898=\"invalid\",$F897<>\"Invalid\"),TIMEVALUE($C898),\"\")","v":""},{"$f":"IF(AND($F898=\"invalid\",$F897=\"Invalid\"),TIMEVALUE($C898),\"\")","v":""}]
["129","Jefri","07/01/2019 06.45","C/Masuk","","OK","","",""]
["129","Jefri","07/01/2019 12.46","C/Masuk","","Invalid","","12:46:00",""]
["129","Jefri","07/01/2019 15.00","C/Masuk","C/Keluar","OK","","",""]
["129","Jefri","08/01/2019 06.49","C/Masuk","","OK","","",""]
["129","Jefri","08/01/2019 11.54","C/Masuk","","Invalid","","11:54:00",""]
["129","Jefri","08/01/2019 12.52","C/Masuk","","Invalid","","","12:52:00"]
["129","Jefri","08/01/2019 14.59","C/Masuk","C/Keluar","OK","","",""]
["129","Jefri","09/01/2019 06.49","C/Masuk","","OK","","",""]
["129","Jefri","09/01/2019 11.55","C/Masuk","","Invalid","","11:55:00",""]
["129","Jefri","09/01/2019 12.54","C/Masuk","","Invalid","","","12:54:00"]
["129","Jefri","09/01/2019 16.33","C/Masuk","C/Keluar","OK","","",""]
["129","Jefri","10/01/2019 06.49","C/Masuk","","OK","","",""]
["129","Jefri","10/01/2019 11.51","C/Masuk","","Invalid","","11:51:00",""]
["129","Jefri","10/01/2019 12.53","C/Masuk","","Invalid","","","12:53:00"]
["129","Jefri","10/01/2019 14.58","C/Masuk","C/Keluar","OK","","",""]
["129","Jefri","11/01/2019 06.46","C/Masuk","","OK","","",""]
["129","Jefri","11/01/2019 12.20","C/Masuk","","Invalid","","12:20:00",""]
["129","Jefri","11/01/2019 15.03","C/Masuk","C/Keluar","OK","","",""]
["129","Jefri","14/01/2019 06.48","C/Masuk","","OK","","",""]
["129","Jefri","14/01/2019 12.02","C/Masuk","","Invalid","","12:02:00",""]
["129","Jefri","14/01/2019 12.52","C/Masuk","","Invalid","","","12:52:00"]
["129","Jefri","14/01/2019 15.08","C/Masuk","C/Keluar","OK","","",""]
["129","Jefri","15/01/2019 06.48","C/Masuk","","OK","","",""]
["129","Jefri","15/01/2019 11.53","C/Masuk","","Invalid","","11:53:00",""]
["129","Jefri","15/01/2019 12.51","C/Masuk","","Invalid","","","12:51:00"]
["129","Jefri","15/01/2019 15.00","C/Masuk","C/Keluar","OK","","",""]
["201","Tatik","03/01/2019 06.46","C/Masuk","","OK","","",""]
["201","Tatik","03/01/2019 11.52","C/Masuk","","Invalid","","11:52:00",""]
["201","Tatik","03/01/2019 12.17","C/Masuk","","Invalid","","","12:17:00"]
["201","Tatik","03/01/2019 15.53","C/Masuk","C/Keluar","OK","","",""]
["201","Tatik","04/01/2019 06.46","C/Masuk","","OK","","",""]
["201","Tatik","04/01/2019 11.22","C/Masuk","","Invalid","","11:22:00",""]
["201","Tatik","04/01/2019 11.48","C/Masuk","","Invalid","","","11:48:00"]
["201","Tatik","04/01/2019 17.02","C/Masuk","C/Keluar","OK","","",""]
["201","Tatik","05/01/2019 06.44","C/Masuk","","OK","","",""]
["201","Tatik","05/01/2019 11.51","C/Masuk","","Invalid","","11:51:00",""]
["201","Tatik","05/01/2019 12.48","C/Masuk","","Invalid","","","12:48:00"]
["201","Tatik","05/01/2019 16.55","C/Masuk","C/Keluar","OK","","",""]
["201","Tatik","07/01/2019 06.43","C/Masuk","","OK","","",""]
["201","Tatik","07/01/2019 11.51","C/Masuk","","Invalid","","11:51:00",""]
["201","Tatik","07/01/2019 12.18","C/Masuk","","Invalid","","","12:18:00"]
["201","Tatik","07/01/2019 16.57","C/Masuk","C/Keluar","OK","","",""]
["201","Tatik","08/01/2019 06.46","C/Masuk","","OK","","",""]
["201","Tatik","08/01/2019 11.54","C/Masuk","","Invalid","","11:54:00",""]
["201","Tatik","08/01/2019 12.44","C/Masuk","","Invalid","","","12:44:00"]
["201","Tatik","08/01/2019 16.55","C/Masuk","C/Keluar","OK","","",""]
["201","Tatik","09/01/2019 06.46","C/Masuk","","OK","","",""]
["201","Tatik","09/01/2019 11.50","C/Masuk","","Invalid","","11:50:00",""]
["201","Tatik","09/01/2019 12.46","C/Masuk","","Invalid","","","12:46:00"]
["201","Tatik","09/01/2019 16.54","C/Masuk","C/Keluar","OK","","",""]
["201","Tatik","10/01/2019 06.46","C/Masuk","","OK","","",""]
["201","Tatik","10/01/2019 11.52","C/Masuk","","Invalid","","11:52:00",""]
["201","Tatik","10/01/2019 12.47","C/Masuk","","Invalid","","","12:47:00"]
["201","Tatik","10/01/2019 15.55","C/Masuk","C/Keluar","OK","","",""]
["201","Tatik","11/01/2019 06.43","C/Masuk","","OK","","",""]
["201","Tatik","11/01/2019 11.23","C/Masuk","","Invalid","","11:23:00",""]
["201","Tatik","11/01/2019 12.36","C/Masuk","","Invalid","","","12:36:00"]
["201","Tatik","11/01/2019 16.02","C/Masuk","C/Keluar","OK","","",""]
["201","Tatik","14/01/2019 06.44","C/Masuk","","OK","","",""]
["201","Tatik","14/01/2019 11.55","C/Masuk","","Invalid","","11:55:00",""]
["201","Tatik","14/01/2019 12.45","C/Masuk","","Invalid","","","12:45:00"]
["201","Tatik","14/01/2019 16.01","C/Masuk","C/Keluar","OK","","",""]
["201","Tatik","15/01/2019 06.45","C/Masuk","","OK","","",""]
["201","Tatik","15/01/2019 11.51","C/Masuk","","Invalid","",{"$f":"IF(AND($F962=\"invalid\",$F961<>\"Invalid\"),TIMEVALUE($C962),\"\")","v":"11:51:00"},{"$f":"IF(AND($F962=\"invalid\",$F961=\"Invalid\"),TIMEVALUE($C962),\"\")","v":""}]
["201","Tatik","15/01/2019 12.49","C/Masuk","","Invalid","","","12:49:00"]
["201","Tatik","15/01/2019 14.56","C/Masuk","C/Keluar","OK","","",""]
["202","Ririn","03/01/2019 06.57","C/Masuk","","OK","","",""]
["202","Ririn","03/01/2019 11.52","C/Masuk","","Invalid","","11:52:00",""]
["202","Ririn","03/01/2019 12.18","C/Masuk","","Invalid","","","12:18:00"]
["202","Ririn","03/01/2019 15.54","C/Masuk","C/Keluar","OK","","",""]
["202","Ririn","04/01/2019 06.47","C/Masuk","","OK","","",""]
["202","Ririn","04/01/2019 11.22","C/Masuk","","Invalid","","11:22:00",""]
["202","Ririn","04/01/2019 11.49","C/Masuk","","Invalid","","","11:49:00"]
["202","Ririn","04/01/2019 17.02","C/Masuk","C/Keluar","OK","","",""]
["202","Ririn","05/01/2019 06.49","C/Masuk","","OK","","",""]
["202","Ririn","05/01/2019 11.51","C/Masuk","","Invalid","","11:51:00",""]
["202","Ririn","05/01/2019 12.49","C/Masuk","","Invalid","","","12:49:00"]
["202","Ririn","05/01/2019 16.57","C/Masuk","C/Keluar","OK","","",""]
["202","Ririn","07/01/2019 06.52","C/Masuk","","OK","","",""]
["202","Ririn","07/01/2019 11.52","C/Masuk","","Invalid","","11:52:00",""]
["202","Ririn","07/01/2019 12.19","C/Masuk","","Invalid","","","12:19:00"]
["202","Ririn","07/01/2019 16.57","C/Masuk","C/Keluar","OK","","",""]
["202","Ririn","08/01/2019 06.51","C/Masuk","","OK","","",""]
["202","Ririn","08/01/2019 11.54","C/Masuk","","Invalid","","11:54:00",""]
["202","Ririn","08/01/2019 12.44","C/Masuk","","Invalid","","","12:44:00"]
["202","Ririn","08/01/2019 16.55","C/Masuk","C/Keluar","OK","","",""]
["202","Ririn","09/01/2019 06.49","C/Masuk","","OK","","",""]
["202","Ririn","09/01/2019 11.50","C/Masuk","","Invalid","","11:50:00",""]
["202","Ririn","09/01/2019 12.46","C/Masuk","","Invalid","","","12:46:00"]
["202","Ririn","09/01/2019 16.54","C/Masuk","C/Keluar","OK","","",""]
["202","Ririn","10/01/2019 06.46","C/Masuk","","OK","","",""]
["202","Ririn","10/01/2019 11.52","C/Masuk","","Invalid","","11:52:00",""]
["202","Ririn","10/01/2019 12.47","C/Masuk","","Invalid","","","12:47:00"]
["202","Ririn","10/01/2019 15.55","C/Masuk","C/Keluar","OK","","",""]
["202","Ririn","11/01/2019 06.46","C/Masuk","","OK","","",""]
["202","Ririn","11/01/2019 11.23","C/Masuk","","Invalid","","11:23:00",""]
["202","Ririn","11/01/2019 12.36","C/Masuk","","Invalid","","","12:36:00"]
["202","Ririn","11/01/2019 16.02","C/Masuk","C/Keluar","OK","","",""]
["202","Ririn","14/01/2019 06.52","C/Masuk","","OK","","",""]
["202","Ririn","14/01/2019 11.55","C/Masuk","","Invalid","","11:55:00",""]
["202","Ririn","14/01/2019 12.46","C/Masuk","","Invalid","","","12:46:00"]
["202","Ririn","14/01/2019 16.00","C/Masuk","C/Keluar","OK","","",""]
["202","Ririn","15/01/2019 06.51","C/Masuk","","OK","","",""]
["202","Ririn","15/01/2019 11.51","C/Masuk","","Invalid","","11:51:00",""]
["202","Ririn","15/01/2019 12.49","C/Masuk","","Invalid","","","12:49:00"]
["202","Ririn","15/01/2019 14.57","C/Masuk","C/Keluar","OK","","",""]
["203","Asmaul","03/01/2019 06.48","C/Masuk","","OK","","",""]
["203","Asmaul","03/01/2019 11.52","C/Masuk","","Invalid","","11:52:00",""]
["203","Asmaul","03/01/2019 12.26","C/Masuk","","Invalid","","","12:26:00"]
["203","Asmaul","03/01/2019 15.53","C/Masuk","C/Keluar","OK","","",""]
["203","Asmaul","04/01/2019 06.46","C/Masuk","","OK","","",""]
["203","Asmaul","04/01/2019 11.23","C/Masuk","","Invalid","","11:23:00",""]
["203","Asmaul","04/01/2019 12.13","C/Masuk","","Invalid","","","12:13:00"]
["203","Asmaul","04/01/2019 17.02","C/Masuk","C/Keluar","OK","","",""]
["203","Asmaul","05/01/2019 06.47","C/Masuk","","OK","","",""]
["203","Asmaul","05/01/2019 11.52","C/Masuk","","Invalid","","11:52:00",""]
["203","Asmaul","05/01/2019 12.48","C/Masuk","","Invalid","","","12:48:00"]
["203","Asmaul","05/01/2019 16.55","C/Masuk","C/Keluar","OK","","",""]
["203","Asmaul","07/01/2019 06.51","C/Masuk","","OK","","",""]
["203","Asmaul","07/01/2019 11.52","C/Masuk","","Invalid","","11:52:00",""]
["203","Asmaul","07/01/2019 12.14","C/Masuk","","Invalid","","","12:14:00"]
["203","Asmaul","08/01/2019 06.46","C/Masuk","","OK","","",""]
["203","Asmaul","08/01/2019 11.54","C/Masuk","","Invalid","","11:54:00",""]
["203","Asmaul","08/01/2019 12.44","C/Masuk","","Invalid","","","12:44:00"]
["203","Asmaul","08/01/2019 16.55","C/Masuk","C/Keluar","OK","","",""]
["203","Asmaul","09/01/2019 06.47","C/Masuk","","OK","","",""]
["203","Asmaul","09/01/2019 11.49","C/Masuk","","Invalid","","11:49:00",""]
["203","Asmaul","09/01/2019 12.42","C/Masuk","","Invalid","",{"$f":"IF(AND($F1026=\"invalid\",$F1025<>\"Invalid\"),TIMEVALUE($C1026),\"\")","v":""},{"$f":"IF(AND($F1026=\"invalid\",$F1025=\"Invalid\"),TIMEVALUE($C1026),\"\")","v":"12:42:00"}]
["203","Asmaul","09/01/2019 16.55","C/Masuk","C/Keluar","OK","","",""]
["203","Asmaul","10/01/2019 06.48","C/Masuk","","OK","","",""]
["203","Asmaul","10/01/2019 11.52","C/Masuk","","Invalid","","11:52:00",""]
["203","Asmaul","10/01/2019 12.23","C/Masuk","","Invalid","","","12:23:00"]
["203","Asmaul","10/01/2019 15.55","C/Masuk","C/Keluar","OK","","",""]
["203","Asmaul","11/01/2019 06.48","C/Masuk","","OK","","",""]
["203","Asmaul","11/01/2019 11.24","C/Masuk","","Invalid","","11:24:00",""]
["203","Asmaul","11/01/2019 12.16","C/Masuk","","Invalid","","","12:16:00"]
["203","Asmaul","11/01/2019 16.02","C/Masuk","C/Keluar","OK","","",""]
["203","Asmaul","14/01/2019 06.48","C/Masuk","","OK","","",""]
["203","Asmaul","14/01/2019 11.55","C/Masuk","","Invalid","","11:55:00",""]
["203","Asmaul","14/01/2019 12.34","C/Masuk","","Invalid","","","12:34:00"]
["203","Asmaul","14/01/2019 16.00","C/Masuk","C/Keluar","OK","","",""]
["203","Asmaul","15/01/2019 06.50","C/Masuk","","OK","","",""]
["203","Asmaul","15/01/2019 11.52","C/Masuk","","Invalid","","11:52:00",""]
["203","Asmaul","15/01/2019 12.42","C/Masuk","","Invalid","","","12:42:00"]
["203","Asmaul","15/01/2019 14.56","C/Masuk","C/Keluar","OK","","",""]
["204","Dwi Ayu","07/01/2019 06.43","C/Masuk","","OK","","",""]
["204","Dwi Ayu","07/01/2019 11.52","C/Masuk","","Invalid","","11:52:00",""]
["204","Dwi Ayu","07/01/2019 12.29","C/Masuk","","Invalid","","","12:29:00"]
["204","Dwi Ayu","07/01/2019 16.58","C/Masuk","C/Keluar","OK","","",""]
["204","Dwi Ayu","08/01/2019 06.46","C/Masuk","","OK","","",""]
["204","Dwi Ayu","08/01/2019 11.54","C/Masuk","","Invalid","","11:54:00",""]
["204","Dwi Ayu","08/01/2019 12.44","C/Masuk","","Invalid","","","12:44:00"]
["204","Dwi Ayu","09/01/2019 06.47","C/Masuk","","OK","","",""]
["204","Dwi Ayu","09/01/2019 11.50","C/Masuk","","Invalid","","11:50:00",""]
["204","Dwi Ayu","09/01/2019 12.46","C/Masuk","","Invalid","","","12:46:00"]
["204","Dwi Ayu","09/01/2019 16.55","C/Masuk","C/Keluar","OK","","",""]
["204","Dwi Ayu","10/01/2019 06.46","C/Masuk","","OK","","",""]
["204","Dwi Ayu","10/01/2019 11.52","C/Masuk","","Invalid","","11:52:00",""]
["204","Dwi Ayu","10/01/2019 12.47","C/Masuk","","Invalid","","","12:47:00"]
["204","Dwi Ayu","10/01/2019 15.55","C/Masuk","C/Keluar","OK","","",""]
["204","Dwi Ayu","11/01/2019 06.42","C/Masuk","","OK","","",""]
["204","Dwi Ayu","11/01/2019 11.23","C/Masuk","","Invalid","","11:23:00",""]
["204","Dwi Ayu","11/01/2019 12.36","C/Masuk","","Invalid","","","12:36:00"]
["204","Dwi Ayu","11/01/2019 16.02","C/Masuk","C/Keluar","OK","","",""]
["204","Dwi Ayu","14/01/2019 06.44","C/Masuk","","OK","","",""]
["204","Dwi Ayu","14/01/2019 11.55","C/Masuk","","Invalid","","11:55:00",""]
["204","Dwi Ayu","14/01/2019 12.45","C/Masuk","","Invalid","","","12:45:00"]
["204","Dwi Ayu","14/01/2019 16.00","C/Masuk","C/Keluar","OK","","",""]
["204","Dwi Ayu","15/01/2019 06.45","C/Masuk","","OK","","",""]
["204","Dwi Ayu","15/01/2019 11.51","C/Masuk","","Invalid","","11:51:00",""]
["204","Dwi Ayu","15/01/2019 12.50","C/Masuk","","Invalid","","","12:50:00"]
["204","Dwi Ayu","15/01/2019 14.57","C/Masuk","C/Keluar","OK","","",""]
["301","Reni","03/01/2019 06.50","C/Masuk","","OK","","",""]
["301","Reni","03/01/2019 12.10","C/Masuk","","Invalid","","12:10:00",""]
["301","Reni","03/01/2019 12.43","C/Masuk","","Invalid","","","12:43:00"]
["301","Reni","03/01/2019 15.06","C/Masuk","C/Keluar","OK","","",""]
["301","Reni","04/01/2019 06.51","C/Masuk","","OK","","",""]
["301","Reni","04/01/2019 11.32","C/Masuk","","Invalid","","11:32:00",""]
["301","Reni","04/01/2019 12.15","C/Masuk","","Invalid","","","12:15:00"]
["301","Reni","04/01/2019 16.31","C/Masuk","C/Keluar","OK","","",""]
["301","Reni","05/01/2019 06.47","C/Masuk","","OK","","",""]
["301","Reni","05/01/2019 12.11","C/Masuk","","Invalid","","12:11:00",""]
["301","Reni","05/01/2019 12.41","C/Masuk","","Invalid","","","12:41:00"]
["301","Reni","05/01/2019 16.52","C/Masuk","C/Keluar","OK","","",""]
["301","Reni","09/01/2019 06.46","C/Masuk","","OK","","",""]
["301","Reni","09/01/2019 12.12","C/Masuk","","Invalid","","12:12:00",""]
["301","Reni","09/01/2019 12.37","C/Masuk","","Invalid","","","12:37:00"]
["301","Reni","09/01/2019 17.06","C/Masuk","C/Keluar","OK","","",""]
["301","Reni","10/01/2019 06.45","C/Masuk","","OK","","",""]
["301","Reni","10/01/2019 11.54","C/Masuk","","Invalid","","11:54:00",""]
["301","Reni","10/01/2019 12.23","C/Masuk","","Invalid","","","12:23:00"]
["301","Reni","10/01/2019 16.06","C/Masuk","C/Keluar","OK","",{"$f":"IF(AND($F1090=\"invalid\",$F1089<>\"Invalid\"),TIMEVALUE($C1090),\"\")","v":""},{"$f":"IF(AND($F1090=\"invalid\",$F1089=\"Invalid\"),TIMEVALUE($C1090),\"\")","v":""}]
["301","Reni","11/01/2019 06.46","C/Masuk","","OK","","",""]
["301","Reni","11/01/2019 11.25","C/Masuk","","Invalid","","11:25:00",""]
["301","Reni","11/01/2019 11.57","C/Masuk","","Invalid","","","11:57:00"]
["301","Reni","11/01/2019 14.56","C/Masuk","C/Keluar","OK","","",""]
["301","Reni","14/01/2019 06.44","C/Masuk","","OK","","",""]
["301","Reni","14/01/2019 12.00","C/Masuk","","Invalid","","12:00:00",""]
["301","Reni","14/01/2019 12.28","C/Masuk","","Invalid","","","12:28:00"]
["301","Reni","14/01/2019 15.53","C/Masuk","C/Keluar","OK","","",""]
["301","Reni","15/01/2019 06.45","C/Masuk","","OK","","",""]
["301","Reni","15/01/2019 11.58","C/Masuk","","Invalid","","11:58:00",""]
["301","Reni","15/01/2019 12.25","C/Masuk","","Invalid","","","12:25:00"]
["301","Reni","15/01/2019 14.57","C/Masuk","C/Keluar","OK","","",""]
["302","Saroh","03/01/2019 06.46","C/Masuk","","OK","","",""]
["302","Saroh","03/01/2019 12.10","C/Masuk","","Invalid","","12:10:00",""]
["302","Saroh","03/01/2019 12.43","C/Masuk","","Invalid","","","12:43:00"]
["302","Saroh","03/01/2019 15.05","C/Masuk","C/Keluar","OK","","",""]
["302","Saroh","04/01/2019 06.46","C/Masuk","","OK","","",""]
["302","Saroh","04/01/2019 11.32","C/Masuk","","Invalid","","11:32:00",""]
["302","Saroh","04/01/2019 12.15","C/Masuk","","Invalid","","","12:15:00"]
["302","Saroh","04/01/2019 16.21","C/Masuk","C/Keluar","OK","","",""]
["302","Saroh","05/01/2019 06.43","C/Masuk","","OK","","",""]
["302","Saroh","05/01/2019 12.10","C/Masuk","","Invalid","","12:10:00",""]
["302","Saroh","05/01/2019 12.41","C/Masuk","","Invalid","","","12:41:00"]
["302","Saroh","05/01/2019 16.52","C/Masuk","C/Keluar","OK","","",""]
["302","Saroh","07/01/2019 06.42","C/Masuk","","OK","","",""]
["302","Saroh","07/01/2019 11.57","C/Masuk","","Invalid","","11:57:00",""]
["302","Saroh","07/01/2019 12.22","C/Masuk","","Invalid","","","12:22:00"]
["302","Saroh","07/01/2019 16.57","C/Masuk","C/Keluar","OK","","",""]
["302","Saroh","08/01/2019 06.46","C/Masuk","","OK","","",""]
["302","Saroh","08/01/2019 11.58","C/Masuk","","Invalid","","11:58:00",""]
["302","Saroh","08/01/2019 12.16","C/Masuk","","Invalid","","","12:16:00"]
["302","Saroh","08/01/2019 16.54","C/Masuk","C/Keluar","OK","","",""]
["302","Saroh","09/01/2019 06.46","C/Masuk","","OK","","",""]
["302","Saroh","09/01/2019 12.13","C/Masuk","","Invalid","","12:13:00",""]
["302","Saroh","09/01/2019 12.36","C/Masuk","","Invalid","","","12:36:00"]
["302","Saroh","09/01/2019 17.02","C/Masuk","C/Keluar","OK","","",""]
["302","Saroh","10/01/2019 06.45","C/Masuk","","OK","","",""]
["302","Saroh","10/01/2019 11.54","C/Masuk","","Invalid","","11:54:00",""]
["302","Saroh","10/01/2019 12.23","C/Masuk","","Invalid","","","12:23:00"]
["302","Saroh","10/01/2019 16.02","C/Masuk","C/Keluar","OK","","",""]
["302","Saroh","11/01/2019 06.43","C/Masuk","","OK","","",""]
["302","Saroh","11/01/2019 11.25","C/Masuk","","Invalid","","11:25:00",""]
["302","Saroh","11/01/2019 11.50","C/Masuk","","Invalid","","","11:50:00"]
["302","Saroh","11/01/2019 14.57","C/Masuk","C/Keluar","OK","","",""]
["302","Saroh","14/01/2019 06.44","C/Masuk","","OK","","",""]
["302","Saroh","14/01/2019 12.00","C/Masuk","","Invalid","","12:00:00",""]
["302","Saroh","14/01/2019 12.25","C/Masuk","","Invalid","","","12:25:00"]
["302","Saroh","14/01/2019 15.53","C/Masuk","C/Keluar","OK","","",""]
["302","Saroh","15/01/2019 06.44","C/Masuk","","OK","","",""]
["302","Saroh","15/01/2019 11.58","C/Masuk","","Invalid","","11:58:00",""]
["302","Saroh","15/01/2019 12.23","C/Masuk","","Invalid","","","12:23:00"]
["302","Saroh","15/01/2019 14.57","C/Masuk","C/Keluar","OK","","",""]
["303","Ulhayati","03/01/2019 06.47","C/Masuk","","OK","","",""]
["303","Ulhayati","03/01/2019 11.55","C/Masuk","","Invalid","","11:55:00",""]
["303","Ulhayati","03/01/2019 12.13","C/Masuk","","Invalid","","","12:13:00"]
["303","Ulhayati","03/01/2019 15.04","C/Masuk","C/Keluar","OK","","",""]
["303","Ulhayati","04/01/2019 06.46","C/Masuk","","OK","","",""]
["303","Ulhayati","04/01/2019 11.23","C/Masuk","","Invalid","","11:23:00",""]
["303","Ulhayati","04/01/2019 11.44","C/Masuk","","Invalid","","","11:44:00"]
["303","Ulhayati","04/01/2019 16.30","C/Masuk","C/Keluar","OK","","",""]
["303","Ulhayati","05/01/2019 06.43","C/Masuk","","OK","","",""]
["303","Ulhayati","05/01/2019 11.53","C/Masuk","","Invalid","","11:53:00",""]
["303","Ulhayati","05/01/2019 12.15","C/Masuk","","Invalid","","","12:15:00"]
["303","Ulhayati","07/01/2019 06.45","C/Masuk","","OK","",{"$f":"IF(AND($F1154=\"invalid\",$F1153<>\"Invalid\"),TIMEVALUE($C1154),\"\")","v":""},{"$f":"IF(AND($F1154=\"invalid\",$F1153=\"Invalid\"),TIMEVALUE($C1154),\"\")","v":""}]
["303","Ulhayati","07/01/2019 11.57","C/Masuk","","Invalid","","11:57:00",""]
["303","Ulhayati","07/01/2019 12.15","C/Masuk","","Invalid","","","12:15:00"]
["303","Ulhayati","07/01/2019 16.57","C/Masuk","C/Keluar","OK","","",""]
["303","Ulhayati","08/01/2019 06.47","C/Masuk","","OK","","",""]
["303","Ulhayati","08/01/2019 11.58","C/Masuk","","Invalid","","11:58:00",""]
["303","Ulhayati","08/01/2019 12.18","C/Masuk","","Invalid","","","12:18:00"]
["303","Ulhayati","08/01/2019 16.59","C/Masuk","C/Keluar","OK","","",""]
["303","Ulhayati","09/01/2019 06.47","C/Masuk","","OK","","",""]
["303","Ulhayati","09/01/2019 11.56","C/Masuk","","Invalid","","11:56:00",""]
["303","Ulhayati","09/01/2019 12.14","C/Masuk","","Invalid","","","12:14:00"]
["303","Ulhayati","09/01/2019 17.00","C/Masuk","C/Keluar","OK","","",""]
["303","Ulhayati","10/01/2019 06.47","C/Masuk","","OK","","",""]
["303","Ulhayati","10/01/2019 11.55","C/Masuk","","Invalid","","11:55:00",""]
["303","Ulhayati","10/01/2019 12.15","C/Masuk","","Invalid","","","12:15:00"]
["303","Ulhayati","10/01/2019 16.00","C/Masuk","C/Keluar","OK","","",""]
["303","Ulhayati","11/01/2019 06.45","C/Masuk","","OK","","",""]
["303","Ulhayati","11/01/2019 11.26","C/Masuk","","Invalid","","11:26:00",""]
["303","Ulhayati","11/01/2019 11.43","C/Masuk","","Invalid","","","11:43:00"]
["303","Ulhayati","11/01/2019 14.57","C/Masuk","C/Keluar","OK","","",""]
["303","Ulhayati","14/01/2019 06.45","C/Masuk","","OK","","",""]
["303","Ulhayati","14/01/2019 11.56","C/Masuk","","Invalid","","11:56:00",""]
["303","Ulhayati","14/01/2019 12.17","C/Masuk","","Invalid","","","12:17:00"]
["303","Ulhayati","14/01/2019 15.46","C/Masuk","C/Keluar","OK","","",""]
["303","Ulhayati","15/01/2019 06.45","C/Masuk","","OK","","",""]
["303","Ulhayati","15/01/2019 11.56","C/Masuk","","Invalid","","11:56:00",""]
["303","Ulhayati","15/01/2019 12.18","C/Masuk","","Invalid","","","12:18:00"]
["303","Ulhayati","15/01/2019 14.56","C/Masuk","C/Keluar","OK","","",""]
["304","Sri A","03/01/2019 06.45","C/Masuk","","OK","","",""]
["304","Sri A","03/01/2019 11.55","C/Masuk","","Invalid","","11:55:00",""]
["304","Sri A","03/01/2019 12.11","C/Masuk","","Invalid","","","12:11:00"]
["304","Sri A","03/01/2019 15.10","C/Masuk","C/Keluar","OK","","",""]
["304","Sri A","04/01/2019 06.45","C/Masuk","","OK","","",""]
["304","Sri A","04/01/2019 11.23","C/Masuk","","Invalid","","11:23:00",""]
["304","Sri A","04/01/2019 11.43","C/Masuk","","Invalid","","","11:43:00"]
["304","Sri A","04/01/2019 16.30","C/Masuk","C/Keluar","OK","","",""]
["304","Sri A","05/01/2019 06.43","C/Masuk","","OK","","",""]
["304","Sri A","05/01/2019 11.53","C/Masuk","","Invalid","","11:53:00",""]
["304","Sri A","05/01/2019 12.10","C/Masuk","","Invalid","","","12:10:00"]
["304","Sri A","05/01/2019 16.52","C/Masuk","C/Keluar","OK","","",""]
["304","Sri A","07/01/2019 06.42","C/Masuk","","OK","","",""]
["304","Sri A","07/01/2019 11.56","C/Masuk","","Invalid","","11:56:00",""]
["304","Sri A","07/01/2019 12.10","C/Masuk","","Invalid","","","12:10:00"]
["304","Sri A","07/01/2019 16.57","C/Masuk","C/Keluar","OK","","",""]
["304","Sri A","08/01/2019 06.45","C/Masuk","","OK","","",""]
["304","Sri A","08/01/2019 11.57","C/Masuk","","Invalid","","11:57:00",""]
["304","Sri A","08/01/2019 12.12","C/Masuk","","Invalid","","","12:12:00"]
["304","Sri A","08/01/2019 16.58","C/Masuk","C/Keluar","OK","","",""]
["304","Sri A","09/01/2019 06.45","C/Masuk","","OK","","",""]
["304","Sri A","09/01/2019 11.56","C/Masuk","","Invalid","","11:56:00",""]
["304","Sri A","09/01/2019 12.11","C/Masuk","","Invalid","","","12:11:00"]
["304","Sri A","09/01/2019 16.59","C/Masuk","C/Keluar","OK","","",""]
["304","Sri A","10/01/2019 06.45","C/Masuk","","OK","","",""]
["304","Sri A","10/01/2019 11.54","C/Masuk","","Invalid","","11:54:00",""]
["304","Sri A","10/01/2019 12.14","C/Masuk","","Invalid","","","12:14:00"]
["304","Sri A","10/01/2019 16.00","C/Masuk","C/Keluar","OK","","",""]
["304","Sri A","11/01/2019 06.42","C/Masuk","","OK","","",""]
["304","Sri A","11/01/2019 11.27","C/Masuk","","Invalid","","11:27:00",""]
["304","Sri A","11/01/2019 11.43","C/Masuk","","Invalid","","","11:43:00"]
["304","Sri A","11/01/2019 14.56","C/Masuk","C/Keluar","OK","","",""]
["304","Sri A","14/01/2019 06.43","C/Masuk","","OK","","",""]
["304","Sri A","14/01/2019 11.55","C/Masuk","","Invalid","","11:55:00",""]
["304","Sri A","14/01/2019 12.14","C/Masuk","","Invalid","","","12:14:00"]
["304","Sri A","14/01/2019 16.02","C/Masuk","C/Keluar","OK","","",""]
["304","Sri A","15/01/2019 06.44","C/Masuk","","OK","",{"$f":"IF(AND($F1218=\"invalid\",$F1217<>\"Invalid\"),TIMEVALUE($C1218),\"\")","v":""},{"$f":"IF(AND($F1218=\"invalid\",$F1217=\"Invalid\"),TIMEVALUE($C1218),\"\")","v":""}]
["304","Sri A","15/01/2019 11.57","C/Masuk","","Invalid","","11:57:00",""]
["304","Sri A","15/01/2019 12.11","C/Masuk","","Invalid","","","12:11:00"]
["304","Sri A","15/01/2019 14.56","C/Masuk","C/Keluar","OK","","",""]
["305","Endang","03/01/2019 06.46","C/Masuk","","OK","","",""]
["305","Endang","03/01/2019 11.55","C/Masuk","","Invalid","","11:55:00",""]
["305","Endang","03/01/2019 12.14","C/Masuk","","Invalid","","","12:14:00"]
["305","Endang","03/01/2019 15.06","C/Masuk","C/Keluar","OK","","",""]
["305","Endang","04/01/2019 06.45","C/Masuk","","OK","","",""]
["305","Endang","04/01/2019 11.24","C/Masuk","","Invalid","","11:24:00",""]
["305","Endang","04/01/2019 11.46","C/Masuk","","Invalid","","","11:46:00"]
["305","Endang","04/01/2019 16.30","C/Masuk","C/Keluar","OK","","",""]
["305","Endang","05/01/2019 06.43","C/Masuk","","OK","","",""]
["305","Endang","05/01/2019 11.53","C/Masuk","","Invalid","","11:53:00",""]
["305","Endang","05/01/2019 12.13","C/Masuk","","Invalid","","","12:13:00"]
["305","Endang","05/01/2019 16.51","C/Masuk","C/Keluar","OK","","",""]
["305","Endang","07/01/2019 06.43","C/Masuk","","OK","","",""]
["305","Endang","07/01/2019 11.58","C/Masuk","","Invalid","","11:58:00",""]
["305","Endang","07/01/2019 12.15","C/Masuk","","Invalid","","","12:15:00"]
["305","Endang","07/01/2019 16.56","C/Masuk","C/Keluar","OK","","",""]
["305","Endang","08/01/2019 06.46","C/Masuk","","OK","","",""]
["305","Endang","08/01/2019 11.57","C/Masuk","","Invalid","","11:57:00",""]
["305","Endang","08/01/2019 12.14","C/Masuk","","Invalid","","","12:14:00"]
["305","Endang","08/01/2019 16.59","C/Masuk","C/Keluar","OK","","",""]
["305","Endang","09/01/2019 06.46","C/Masuk","","OK","","",""]
["305","Endang","09/01/2019 11.58","C/Masuk","","Invalid","","11:58:00",""]
["305","Endang","09/01/2019 12.17","C/Masuk","","Invalid","","","12:17:00"]
["305","Endang","09/01/2019 17.02","C/Masuk","C/Keluar","OK","","",""]
["305","Endang","10/01/2019 06.46","C/Masuk","","OK","","",""]
["305","Endang","10/01/2019 11.55","C/Masuk","","Invalid","","11:55:00",""]
["305","Endang","10/01/2019 12.15","C/Masuk","","Invalid","","","12:15:00"]
["305","Endang","10/01/2019 16.14","C/Masuk","C/Keluar","OK","","",""]
["305","Endang","11/01/2019 06.43","C/Masuk","","OK","","",""]
["305","Endang","11/01/2019 11.27","C/Masuk","","Invalid","","11:27:00",""]
["305","Endang","11/01/2019 11.47","C/Masuk","","Invalid","","","11:47:00"]
["305","Endang","11/01/2019 14.56","C/Masuk","C/Keluar","OK","","",""]
["305","Endang","14/01/2019 06.44","C/Masuk","","OK","","",""]
["305","Endang","14/01/2019 11.56","C/Masuk","","Invalid","","11:56:00",""]
["305","Endang","14/01/2019 12.16","C/Masuk","","Invalid","","","12:16:00"]
["305","Endang","14/01/2019 15.53","C/Masuk","C/Keluar","OK","","",""]
["305","Endang","15/01/2019 06.45","C/Masuk","","OK","","",""]
["305","Endang","15/01/2019 11.57","C/Masuk","","Invalid","","11:57:00",""]
["305","Endang","15/01/2019 12.17","C/Masuk","","Invalid","","","12:17:00"]
["305","Endang","15/01/2019 14.57","C/Masuk","C/Keluar","OK","","",""]
["306","Uyun","03/01/2019 06.47","C/Masuk","","OK","","",""]
["306","Uyun","03/01/2019 12.10","C/Masuk","","Invalid","","12:10:00",""]
["306","Uyun","03/01/2019 12.43","C/Masuk","","Invalid","","","12:43:00"]
["306","Uyun","03/01/2019 15.04","C/Masuk","C/Keluar","OK","","",""]
["306","Uyun","04/01/2019 06.47","C/Masuk","","OK","","",""]
["306","Uyun","04/01/2019 11.43","C/Masuk","","Invalid","","11:43:00",""]
["306","Uyun","04/01/2019 12.15","C/Masuk","","Invalid","","","12:15:00"]
["306","Uyun","04/01/2019 16.22","C/Masuk","C/Keluar","OK","","",""]
["306","Uyun","05/01/2019 06.50","C/Masuk","","OK","","",""]
["306","Uyun","05/01/2019 12.10","C/Masuk","","Invalid","","12:10:00",""]
["306","Uyun","05/01/2019 12.42","C/Masuk","","Invalid","","","12:42:00"]
["306","Uyun","05/01/2019 16.51","C/Masuk","C/Keluar","OK","","",""]
["306","Uyun","07/01/2019 06.46","C/Masuk","","OK","","",""]
["306","Uyun","07/01/2019 11.58","C/Masuk","","Invalid","","11:58:00",""]
["306","Uyun","07/01/2019 12.26","C/Masuk","","Invalid","","","12:26:00"]
["306","Uyun","07/01/2019 16.50","C/Masuk","C/Keluar","OK","","",""]
["306","Uyun","08/01/2019 06.48","C/Masuk","","OK","","",""]
["306","Uyun","08/01/2019 11.58","C/Masuk","","Invalid","","11:58:00",""]
["306","Uyun","08/01/2019 12.25","C/Masuk","","Invalid","","","12:25:00"]
["306","Uyun","08/01/2019 16.51","C/Masuk","C/Keluar","OK","","",""]
["306","Uyun","09/01/2019 06.49","C/Masuk","","OK","",{"$f":"IF(AND($F1282=\"invalid\",$F1281<>\"Invalid\"),TIMEVALUE($C1282),\"\")","v":""},{"$f":"IF(AND($F1282=\"invalid\",$F1281=\"Invalid\"),TIMEVALUE($C1282),\"\")","v":""}]
["306","Uyun","09/01/2019 12.12","C/Masuk","","Invalid","","12:12:00",""]
["306","Uyun","09/01/2019 12.43","C/Masuk","","Invalid","","","12:43:00"]
["306","Uyun","09/01/2019 16.54","C/Masuk","C/Keluar","OK","","",""]
["306","Uyun","10/01/2019 06.47","C/Masuk","","OK","","",""]
["306","Uyun","10/01/2019 11.54","C/Masuk","","Invalid","","11:54:00",""]
["306","Uyun","10/01/2019 16.00","C/Masuk","C/Keluar","OK","","",""]
["306","Uyun","11/01/2019 06.48","C/Masuk","","OK","","",""]
["306","Uyun","11/01/2019 11.25","C/Masuk","","Invalid","","11:25:00",""]
["306","Uyun","11/01/2019 14.56","C/Masuk","C/Keluar","OK","","",""]
["306","Uyun","14/01/2019 06.45","C/Masuk","","OK","","",""]
["306","Uyun","14/01/2019 12.00","C/Masuk","","Invalid","","12:00:00",""]
["306","Uyun","14/01/2019 12.31","C/Masuk","","Invalid","","","12:31:00"]
["306","Uyun","14/01/2019 15.51","C/Masuk","C/Keluar","OK","","",""]
["306","Uyun","15/01/2019 06.48","C/Masuk","","OK","","",""]
["306","Uyun","15/01/2019 11.58","C/Masuk","","Invalid","","11:58:00",""]
["306","Uyun","15/01/2019 12.29","C/Masuk","","Invalid","","","12:29:00"]
["306","Uyun","15/01/2019 14.57","C/Masuk","C/Keluar","OK","","",""]
["307","Rina","03/01/2019 06.47","C/Masuk","","OK","","",""]
["307","Rina","03/01/2019 11.54","C/Masuk","","Invalid","","11:54:00",""]
["307","Rina","03/01/2019 12.43","C/Masuk","","Invalid","","","12:43:00"]
["307","Rina","03/01/2019 15.05","C/Masuk","C/Keluar","OK","","",""]
["307","Rina","04/01/2019 07.06","C/Masuk","","OK","","",""]
["307","Rina","04/01/2019 11.24","C/Masuk","","Invalid","","11:24:00",""]
["307","Rina","04/01/2019 11.47","C/Masuk","","Invalid","","","11:47:00"]
["307","Rina","04/01/2019 16.21","C/Masuk","C/Keluar","OK","","",""]
["307","Rina","05/01/2019 06.45","C/Masuk","","OK","","",""]
["307","Rina","05/01/2019 11.53","C/Masuk","","Invalid","","11:53:00",""]
["307","Rina","05/01/2019 12.14","C/Masuk","","Invalid","","","12:14:00"]
["307","Rina","05/01/2019 16.51","C/Masuk","C/Keluar","OK","","",""]
["307","Rina","08/01/2019 06.46","C/Masuk","","OK","","",""]
["307","Rina","08/01/2019 11.55","C/Masuk","","Invalid","","11:55:00",""]
["307","Rina","08/01/2019 16.59","C/Masuk","C/Keluar","OK","","",""]
["307","Rina","09/01/2019 06.49","C/Masuk","","OK","","",""]
["307","Rina","09/01/2019 11.57","C/Masuk","","Invalid","","11:57:00",""]
["307","Rina","09/01/2019 17.01","C/Masuk","C/Keluar","OK","","",""]
["307","Rina","10/01/2019 06.47","C/Masuk","","OK","","",""]
["307","Rina","10/01/2019 11.54","C/Masuk","","Invalid","","11:54:00",""]
["307","Rina","10/01/2019 12.16","C/Masuk","","Invalid","","","12:16:00"]
["307","Rina","10/01/2019 16.15","C/Masuk","C/Keluar","OK","","",""]
["307","Rina","11/01/2019 06.45","C/Masuk","","OK","","",""]
["307","Rina","11/01/2019 11.23","C/Masuk","","Invalid","","11:23:00",""]
["307","Rina","11/01/2019 12.18","C/Masuk","","Invalid","","","12:18:00"]
["307","Rina","11/01/2019 14.51","C/Masuk","C/Keluar","OK","","",""]
["308","Jum","03/01/2019 06.46","C/Masuk","","OK","","",""]
["308","Jum","03/01/2019 11.56","C/Masuk","","Invalid","","11:56:00",""]
["308","Jum","03/01/2019 12.25","C/Masuk","","Invalid","","","12:25:00"]
["308","Jum","03/01/2019 15.10","C/Masuk","C/Keluar","OK","","",""]
["308","Jum","04/01/2019 06.46","C/Masuk","","OK","","",""]
["308","Jum","04/01/2019 11.26","C/Masuk","","Invalid","","11:26:00",""]
["308","Jum","04/01/2019 11.44","C/Masuk","","Invalid","","","11:44:00"]
["308","Jum","04/01/2019 16.22","C/Masuk","C/Keluar","OK","","",""]
["308","Jum","05/01/2019 06.45","C/Masuk","","OK","","",""]
["308","Jum","05/01/2019 11.54","C/Masuk","","Invalid","","11:54:00",""]
["308","Jum","05/01/2019 12.10","C/Masuk","","Invalid","","","12:10:00"]
["308","Jum","05/01/2019 16.57","C/Masuk","C/Keluar","OK","","",""]
["308","Jum","07/01/2019 06.45","C/Masuk","","OK","","",""]
["308","Jum","07/01/2019 11.55","C/Masuk","","Invalid","","11:55:00",""]
["308","Jum","07/01/2019 12.13","C/Masuk","","Invalid","","","12:13:00"]
["308","Jum","07/01/2019 16.47","C/Masuk","C/Keluar","OK","","",""]
["308","Jum","08/01/2019 06.47","C/Masuk","","OK","","",""]
["308","Jum","08/01/2019 11.58","C/Masuk","","Invalid","","11:58:00",""]
["308","Jum","08/01/2019 12.27","C/Masuk","","Invalid","","","12:27:00"]
["308","Jum","08/01/2019 16.54","C/Masuk","C/Keluar","OK","","",""]
["308","Jum","09/01/2019 06.46","C/Masuk","","OK","",{"$f":"IF(AND($F1346=\"invalid\",$F1345<>\"Invalid\"),TIMEVALUE($C1346),\"\")","v":""},{"$f":"IF(AND($F1346=\"invalid\",$F1345=\"Invalid\"),TIMEVALUE($C1346),\"\")","v":""}]
["308","Jum","09/01/2019 11.56","C/Masuk","","Invalid","","11:56:00",""]
["308","Jum","09/01/2019 12.22","C/Masuk","","Invalid","","","12:22:00"]
["308","Jum","09/01/2019 17.01","C/Masuk","C/Keluar","OK","","",""]
["308","Jum","10/01/2019 06.47","C/Masuk","","OK","","",""]
["308","Jum","10/01/2019 11.56","C/Masuk","","Invalid","","11:56:00",""]
["308","Jum","10/01/2019 12.33","C/Masuk","","Invalid","","","12:33:00"]
["308","Jum","10/01/2019 16.00","C/Masuk","C/Keluar","OK","","",""]
["308","Jum","11/01/2019 06.45","C/Masuk","","OK","","",""]
["308","Jum","11/01/2019 11.27","C/Masuk","","Invalid","","11:27:00",""]
["308","Jum","11/01/2019 11.59","C/Masuk","","Invalid","","","11:59:00"]
["308","Jum","11/01/2019 14.58","C/Masuk","C/Keluar","OK","","",""]
["308","Jum","14/01/2019 06.44","C/Masuk","","OK","","",""]
["308","Jum","14/01/2019 11.56","C/Masuk","","Invalid","","11:56:00",""]
["308","Jum","14/01/2019 12.26","C/Masuk","","Invalid","","","12:26:00"]
["308","Jum","14/01/2019 15.50","C/Masuk","C/Keluar","OK","","",""]
["308","Jum","15/01/2019 06.45","C/Masuk","","OK","","",""]
["308","Jum","15/01/2019 11.57","C/Masuk","","Invalid","","11:57:00",""]
["308","Jum","15/01/2019 12.26","C/Masuk","","Invalid","","","12:26:00"]
["308","Jum","15/01/2019 14.57","C/Masuk","C/Keluar","OK","","",""]
["309","Elin","03/01/2019 06.45","C/Masuk","","OK","","",""]
["309","Elin","03/01/2019 11.57","C/Masuk","","Invalid","","11:57:00",""]
["309","Elin","03/01/2019 12.09","C/Masuk","","Invalid","","","12:09:00"]
["309","Elin","03/01/2019 15.04","C/Masuk","C/Keluar","OK","","",""]
["309","Elin","04/01/2019 06.45","C/Masuk","","OK","","",""]
["309","Elin","04/01/2019 11.26","C/Masuk","","Invalid","","11:26:00",""]
["309","Elin","04/01/2019 11.43","C/Masuk","","Invalid","","","11:43:00"]
["309","Elin","04/01/2019 16.21","C/Masuk","C/Keluar","OK","","",""]
["309","Elin","05/01/2019 06.43","C/Masuk","","OK","","",""]
["309","Elin","05/01/2019 11.53","C/Masuk","","Invalid","","11:53:00",""]
["309","Elin","05/01/2019 12.10","C/Masuk","","Invalid","","","12:10:00"]
["309","Elin","05/01/2019 16.57","C/Masuk","C/Keluar","OK","","",""]
["309","Elin","07/01/2019 06.42","C/Masuk","","OK","","",""]
["309","Elin","07/01/2019 11.56","C/Masuk","","Invalid","","11:56:00",""]
["309","Elin","07/01/2019 12.10","C/Masuk","","Invalid","","","12:10:00"]
["309","Elin","07/01/2019 16.47","C/Masuk","C/Keluar","OK","","",""]
["309","Elin","08/01/2019 06.45","C/Masuk","","OK","","",""]
["309","Elin","08/01/2019 11.58","C/Masuk","","Invalid","","11:58:00",""]
["309","Elin","08/01/2019 12.12","C/Masuk","","Invalid","","","12:12:00"]
["309","Elin","08/01/2019 16.51","C/Masuk","C/Keluar","OK","","",""]
["309","Elin","09/01/2019 06.45","C/Masuk","","OK","","",""]
["309","Elin","09/01/2019 11.56","C/Masuk","","Invalid","","11:56:00",""]
["309","Elin","09/01/2019 12.11","C/Masuk","","Invalid","","","12:11:00"]
["309","Elin","09/01/2019 16.54","C/Masuk","C/Keluar","OK","","",""]
["309","Elin","10/01/2019 06.45","C/Masuk","","OK","","",""]
["309","Elin","10/01/2019 11.56","C/Masuk","","Invalid","","11:56:00",""]
["309","Elin","10/01/2019 12.15","C/Masuk","","Invalid","","","12:15:00"]
["309","Elin","10/01/2019 15.59","C/Masuk","C/Keluar","OK","","",""]
["309","Elin","11/01/2019 06.42","C/Masuk","","OK","","",""]
["309","Elin","11/01/2019 11.27","C/Masuk","","Invalid","","11:27:00",""]
["309","Elin","11/01/2019 11.43","C/Masuk","","Invalid","","","11:43:00"]
["309","Elin","11/01/2019 14.58","C/Masuk","C/Keluar","OK","","",""]
["309","Elin","14/01/2019 06.44","C/Masuk","","OK","","",""]
["309","Elin","14/01/2019 11.55","C/Masuk","","Invalid","","11:55:00",""]
["309","Elin","14/01/2019 12.13","C/Masuk","","Invalid","","","12:13:00"]
["309","Elin","14/01/2019 15.49","C/Masuk","C/Keluar","OK","","",""]
["309","Elin","15/01/2019 06.44","C/Masuk","","OK","","",""]
["309","Elin","15/01/2019 11.57","C/Masuk","","Invalid","","11:57:00",""]
["309","Elin","15/01/2019 12.11","C/Masuk","","Invalid","","","12:11:00"]
["309","Elin","15/01/2019 14.57","C/Masuk","C/Keluar","OK","","",""]
["310","Surti","03/01/2019 06.46","C/Masuk","","OK","","",""]
["310","Surti","03/01/2019 11.55","C/Masuk","","Invalid","","11:55:00",""]
["310","Surti","03/01/2019 12.49","C/Masuk","","Invalid","","","12:49:00"]
["310","Surti","03/01/2019 15.10","C/Masuk","C/Keluar","OK","","",""]
["310","Surti","04/01/2019 06.46","C/Masuk","","OK","",{"$f":"IF(AND($F1410=\"invalid\",$F1409<>\"Invalid\"),TIMEVALUE($C1410),\"\")","v":""},{"$f":"IF(AND($F1410=\"invalid\",$F1409=\"Invalid\"),TIMEVALUE($C1410),\"\")","v":""}]
["310","Surti","04/01/2019 11.30","C/Masuk","","Invalid","","11:30:00",""]
["310","Surti","04/01/2019 11.52","C/Masuk","","Invalid","","","11:52:00"]
["310","Surti","04/01/2019 16.20","C/Masuk","C/Keluar","OK","","",""]
["310","Surti","05/01/2019 06.44","C/Masuk","","OK","","",""]
["310","Surti","05/01/2019 11.55","C/Masuk","","Invalid","","11:55:00",""]
["310","Surti","05/01/2019 12.37","C/Masuk","","Invalid","","","12:37:00"]
["310","Surti","05/01/2019 16.50","C/Masuk","C/Keluar","OK","","",""]
["310","Surti","07/01/2019 06.44","C/Masuk","","OK","","",""]
["310","Surti","07/01/2019 11.57","C/Masuk","","Invalid","","11:57:00",""]
["310","Surti","07/01/2019 12.22","C/Masuk","","Invalid","","","12:22:00"]
["310","Surti","07/01/2019 16.50","C/Masuk","C/Keluar","OK","","",""]
["310","Surti","08/01/2019 06.47","C/Masuk","","OK","","",""]
["310","Surti","08/01/2019 11.58","C/Masuk","","Invalid","","11:58:00",""]
["310","Surti","08/01/2019 16.56","C/Masuk","C/Keluar","OK","","",""]
["310","Surti","09/01/2019 06.46","C/Masuk","","OK","","",""]
["310","Surti","09/01/2019 12.00","C/Masuk","","Invalid","","12:00:00",""]
["310","Surti","09/01/2019 12.51","C/Masuk","","Invalid","","","12:51:00"]
["310","Surti","09/01/2019 16.53","C/Masuk","C/Keluar","OK","","",""]
["310","Surti","10/01/2019 06.47","C/Masuk","","OK","","",""]
["310","Surti","10/01/2019 11.56","C/Masuk","","Invalid","","11:56:00",""]
["310","Surti","10/01/2019 12.24","C/Masuk","","Invalid","","","12:24:00"]
["310","Surti","10/01/2019 16.11","C/Masuk","C/Keluar","OK","","",""]
["310","Surti","11/01/2019 06.43","C/Masuk","","OK","","",""]
["310","Surti","11/01/2019 11.28","C/Masuk","","Invalid","","11:28:00",""]
["310","Surti","11/01/2019 11.57","C/Masuk","","Invalid","","","11:57:00"]
["310","Surti","11/01/2019 14.55","C/Masuk","C/Keluar","OK","","",""]
["310","Surti","14/01/2019 06.45","C/Masuk","","OK","","",""]
["310","Surti","14/01/2019 11.57","C/Masuk","","Invalid","","11:57:00",""]
["310","Surti","14/01/2019 12.23","C/Masuk","","Invalid","","","12:23:00"]
["310","Surti","14/01/2019 15.58","C/Masuk","C/Keluar","OK","","",""]
["310","Surti","15/01/2019 06.45","C/Masuk","","OK","","",""]
["310","Surti","15/01/2019 11.57","C/Masuk","","Invalid","","11:57:00",""]
["310","Surti","15/01/2019 12.20","C/Masuk","","Invalid","","","12:20:00"]
["310","Surti","15/01/2019 14.56","C/Masuk","C/Keluar","OK","","",""]
["311","Nova","03/01/2019 07.03","C/Masuk","","OK","","",""]
["311","Nova","03/01/2019 11.56","C/Masuk","","Invalid","","11:56:00",""]
["311","Nova","03/01/2019 12.14","C/Masuk","","Invalid","","","12:14:00"]
["311","Nova","03/01/2019 15.11","C/Masuk","C/Keluar","OK","","",""]
["311","Nova","04/01/2019 06.46","C/Masuk","","OK","","",""]
["311","Nova","04/01/2019 11.30","C/Masuk","","Invalid","","11:30:00",""]
["311","Nova","04/01/2019 11.52","C/Masuk","","Invalid","","","11:52:00"]
["311","Nova","04/01/2019 16.31","C/Masuk","C/Keluar","OK","","",""]
["311","Nova","05/01/2019 06.44","C/Masuk","","OK","","",""]
["311","Nova","05/01/2019 12.16","C/Masuk","","Invalid","","12:16:00",""]
["311","Nova","05/01/2019 16.51","C/Masuk","C/Keluar","OK","","",""]
["311","Nova","07/01/2019 06.49","C/Masuk","","OK","","",""]
["311","Nova","07/01/2019 11.57","C/Masuk","","Invalid","","11:57:00",""]
["311","Nova","07/01/2019 12.41","C/Masuk","","Invalid","","","12:41:00"]
["311","Nova","07/01/2019 16.50","C/Masuk","C/Keluar","OK","","",""]
["311","Nova","08/01/2019 06.47","C/Masuk","","OK","","",""]
["311","Nova","08/01/2019 11.58","C/Masuk","","Invalid","","11:58:00",""]
["311","Nova","08/01/2019 12.18","C/Masuk","","Invalid","","","12:18:00"]
["311","Nova","08/01/2019 16.56","C/Masuk","C/Keluar","OK","","",""]
["311","Nova","09/01/2019 06.47","C/Masuk","","OK","","",""]
["311","Nova","09/01/2019 12.00","C/Masuk","","Invalid","","12:00:00",""]
["311","Nova","09/01/2019 12.25","C/Masuk","","Invalid","","","12:25:00"]
["311","Nova","09/01/2019 16.52","C/Masuk","C/Keluar","OK","","",""]
["311","Nova","10/01/2019 06.47","C/Masuk","","OK","","",""]
["311","Nova","10/01/2019 11.56","C/Masuk","","Invalid","","11:56:00",""]
["311","Nova","10/01/2019 12.26","C/Masuk","","Invalid","","","12:26:00"]
["311","Nova","10/01/2019 16.11","C/Masuk","C/Keluar","OK","","",""]
["311","Nova","11/01/2019 06.43","C/Masuk","","OK","","",""]
["311","Nova","11/01/2019 11.28","C/Masuk","","Invalid","","11:28:00",""]
["311","Nova","11/01/2019 11.59","C/Masuk","","Invalid","",{"$f":"IF(AND($F1474=\"invalid\",$F1473<>\"Invalid\"),TIMEVALUE($C1474),\"\")","v":""},{"$f":"IF(AND($F1474=\"invalid\",$F1473=\"Invalid\"),TIMEVALUE($C1474),\"\")","v":"11:59:00"}]
["311","Nova","11/01/2019 14.52","C/Masuk","C/Keluar","OK","","",""]
["311","Nova","14/01/2019 06.45","C/Masuk","","OK","","",""]
["311","Nova","14/01/2019 11.58","C/Masuk","","Invalid","","11:58:00",""]
["311","Nova","14/01/2019 12.29","C/Masuk","","Invalid","","","12:29:00"]
["311","Nova","14/01/2019 15.49","C/Masuk","C/Keluar","OK","","",""]
["311","Nova","15/01/2019 06.45","C/Masuk","","OK","","",""]
["311","Nova","15/01/2019 11.57","C/Masuk","","Invalid","","11:57:00",""]
["311","Nova","15/01/2019 12.27","C/Masuk","","Invalid","","","12:27:00"]
["311","Nova","15/01/2019 14.52","C/Masuk","C/Keluar","OK","","",""]
["312","Khasanah","03/01/2019 06.46","C/Masuk","","OK","","",""]
["312","Khasanah","03/01/2019 11.55","C/Masuk","","Invalid","","11:55:00",""]
["312","Khasanah","03/01/2019 12.11","C/Masuk","","Invalid","","","12:11:00"]
["312","Khasanah","03/01/2019 15.04","C/Masuk","C/Keluar","OK","","",""]
["312","Khasanah","04/01/2019 06.46","C/Masuk","","OK","","",""]
["312","Khasanah","04/01/2019 11.26","C/Masuk","","Invalid","","11:26:00",""]
["312","Khasanah","04/01/2019 11.44","C/Masuk","","Invalid","","","11:44:00"]
["312","Khasanah","04/01/2019 16.22","C/Masuk","C/Keluar","OK","","",""]
["312","Khasanah","05/01/2019 06.43","C/Masuk","","OK","","",""]
["312","Khasanah","05/01/2019 11.53","C/Masuk","","Invalid","","11:53:00",""]
["312","Khasanah","05/01/2019 12.14","C/Masuk","","Invalid","","","12:14:00"]
["312","Khasanah","05/01/2019 16.50","C/Masuk","C/Keluar","OK","","",""]
["312","Khasanah","07/01/2019 06.43","C/Masuk","","OK","","",""]
["312","Khasanah","07/01/2019 11.57","C/Masuk","","Invalid","","11:57:00",""]
["312","Khasanah","07/01/2019 12.13","C/Masuk","","Invalid","","","12:13:00"]
["312","Khasanah","07/01/2019 16.56","C/Masuk","C/Keluar","OK","","",""]
["312","Khasanah","08/01/2019 06.46","C/Masuk","","OK","","",""]
["312","Khasanah","08/01/2019 11.57","C/Masuk","","Invalid","","11:57:00",""]
["312","Khasanah","08/01/2019 12.17","C/Masuk","","Invalid","","","12:17:00"]
["312","Khasanah","08/01/2019 16.57","C/Masuk","C/Keluar","OK","","",""]
["312","Khasanah","09/01/2019 06.46","C/Masuk","","OK","","",""]
["312","Khasanah","09/01/2019 11.56","C/Masuk","","Invalid","","11:56:00",""]
["312","Khasanah","09/01/2019 12.17","C/Masuk","","Invalid","","","12:17:00"]
["312","Khasanah","09/01/2019 17.01","C/Masuk","C/Keluar","OK","","",""]
["312","Khasanah","10/01/2019 06.45","C/Masuk","","OK","","",""]
["312","Khasanah","10/01/2019 11.56","C/Masuk","","Invalid","","11:56:00",""]
["312","Khasanah","10/01/2019 12.16","C/Masuk","","Invalid","","","12:16:00"]
["312","Khasanah","10/01/2019 16.12","C/Masuk","C/Keluar","OK","","",""]
["312","Khasanah","11/01/2019 06.44","C/Masuk","","OK","","",""]
["312","Khasanah","11/01/2019 11.26","C/Masuk","","Invalid","","11:26:00",""]
["312","Khasanah","11/01/2019 11.46","C/Masuk","","Invalid","","","11:46:00"]
["312","Khasanah","11/01/2019 14.54","C/Masuk","C/Keluar","OK","","",""]
["312","Khasanah","14/01/2019 06.45","C/Masuk","","OK","","",""]
["312","Khasanah","14/01/2019 11.55","C/Masuk","","Invalid","","11:55:00",""]
["312","Khasanah","14/01/2019 12.16","C/Masuk","","Invalid","","","12:16:00"]
["312","Khasanah","14/01/2019 15.51","C/Masuk","C/Keluar","OK","","",""]
["312","Khasanah","15/01/2019 06.44","C/Masuk","","OK","","",""]
["312","Khasanah","15/01/2019 11.56","C/Masuk","","Invalid","","11:56:00",""]
["312","Khasanah","15/01/2019 12.19","C/Masuk","","Invalid","","","12:19:00"]
["312","Khasanah","15/01/2019 14.54","C/Masuk","C/Keluar","OK","","",""]
["313","Lia","03/01/2019 06.45","C/Masuk","","OK","","",""]
["313","Lia","03/01/2019 11.55","C/Masuk","","Invalid","","11:55:00",""]
["313","Lia","03/01/2019 12.17","C/Masuk","","Invalid","","","12:17:00"]
["313","Lia","03/01/2019 15.04","C/Masuk","C/Keluar","OK","","",""]
["313","Lia","04/01/2019 06.46","C/Masuk","","OK","","",""]
["313","Lia","04/01/2019 11.29","C/Masuk","","Invalid","","11:29:00",""]
["313","Lia","04/01/2019 11.48","C/Masuk","","Invalid","","","11:48:00"]
["313","Lia","04/01/2019 16.21","C/Masuk","C/Keluar","OK","","",""]
["314","Erna","03/01/2019 06.46","C/Masuk","","OK","","",""]
["314","Erna","03/01/2019 11.55","C/Masuk","","Invalid","","11:55:00",""]
["314","Erna","03/01/2019 12.17","C/Masuk","","Invalid","","","12:17:00"]
["314","Erna","03/01/2019 15.04","C/Masuk","C/Keluar","OK","","",""]
["314","Erna","04/01/2019 06.47","C/Masuk","","OK","","",""]
["314","Erna","04/01/2019 11.29","C/Masuk","","Invalid","","11:29:00",""]
["314","Erna","04/01/2019 11.48","C/Masuk","","Invalid","",{"$f":"IF(AND($F1538=\"invalid\",$F1537<>\"Invalid\"),TIMEVALUE($C1538),\"\")","v":""},{"$f":"IF(AND($F1538=\"invalid\",$F1537=\"Invalid\"),TIMEVALUE($C1538),\"\")","v":"11:48:00"}]
["314","Erna","04/01/2019 16.20","C/Masuk","C/Keluar","OK","","",""]
["314","Erna","05/01/2019 06.45","C/Masuk","","OK","","",""]
["314","Erna","05/01/2019 11.56","C/Masuk","","Invalid","","11:56:00",""]
["314","Erna","05/01/2019 12.15","C/Masuk","","Invalid","","","12:15:00"]
["314","Erna","05/01/2019 16.50","C/Masuk","C/Keluar","OK","","",""]
["314","Erna","07/01/2019 06.44","C/Masuk","","OK","","",""]
["314","Erna","07/01/2019 11.57","C/Masuk","","Invalid","","11:57:00",""]
["314","Erna","07/01/2019 12.16","C/Masuk","","Invalid","","","12:16:00"]
["314","Erna","07/01/2019 16.47","C/Masuk","C/Keluar","OK","","",""]
["314","Erna","08/01/2019 06.48","C/Masuk","","OK","","",""]
["314","Erna","08/01/2019 11.58","C/Masuk","","Invalid","","11:58:00",""]
["314","Erna","08/01/2019 12.17","C/Masuk","","Invalid","","","12:17:00"]
["314","Erna","08/01/2019 16.49","C/Masuk","C/Keluar","OK","","",""]
["314","Erna","09/01/2019 06.47","C/Masuk","","OK","","",""]
["314","Erna","09/01/2019 11.59","C/Masuk","","Invalid","","11:59:00",""]
["314","Erna","09/01/2019 12.17","C/Masuk","","Invalid","","","12:17:00"]
["314","Erna","09/01/2019 16.49","C/Masuk","C/Keluar","OK","","",""]
["314","Erna","10/01/2019 06.47","C/Masuk","","OK","","",""]
["314","Erna","10/01/2019 11.56","C/Masuk","","Invalid","","11:56:00",""]
["314","Erna","10/01/2019 12.18","C/Masuk","","Invalid","","","12:18:00"]
["314","Erna","10/01/2019 15.59","C/Masuk","C/Keluar","OK","","",""]
["314","Erna","11/01/2019 06.45","C/Masuk","","OK","","",""]
["314","Erna","11/01/2019 11.26","C/Masuk","","Invalid","","11:26:00",""]
["314","Erna","11/01/2019 11.47","C/Masuk","","Invalid","","","11:47:00"]
["314","Erna","11/01/2019 14.52","C/Masuk","C/Keluar","OK","","",""]
["314","Erna","14/01/2019 06.46","C/Masuk","","OK","","",""]
["314","Erna","14/01/2019 11.59","C/Masuk","","Invalid","","11:59:00",""]
["314","Erna","14/01/2019 12.15","C/Masuk","","Invalid","","","12:15:00"]
["314","Erna","14/01/2019 15.47","C/Masuk","C/Keluar","OK","","",""]
["314","Erna","15/01/2019 06.46","C/Masuk","","OK","","",""]
["314","Erna","15/01/2019 11.58","C/Masuk","","Invalid","","11:58:00",""]
["314","Erna","15/01/2019 12.13","C/Masuk","","Invalid","","","12:13:00"]
["314","Erna","15/01/2019 14.57","C/Masuk","C/Keluar","OK","","",""]
["316","Khoir","03/01/2019 06.47","C/Masuk","","OK","","",""]
["316","Khoir","03/01/2019 11.58","C/Masuk","","Invalid","","11:58:00",""]
["316","Khoir","03/01/2019 12.14","C/Masuk","","Invalid","","","12:14:00"]
["316","Khoir","03/01/2019 15.04","C/Masuk","C/Keluar","OK","","",""]
["316","Khoir","04/01/2019 06.46","C/Masuk","","OK","","",""]
["316","Khoir","04/01/2019 11.24","C/Masuk","","Invalid","","11:24:00",""]
["316","Khoir","04/01/2019 11.46","C/Masuk","","Invalid","","","11:46:00"]
["316","Khoir","04/01/2019 16.30","C/Masuk","C/Keluar","OK","","",""]
["316","Khoir","05/01/2019 06.44","C/Masuk","","OK","","",""]
["316","Khoir","05/01/2019 11.54","C/Masuk","","Invalid","","11:54:00",""]
["316","Khoir","05/01/2019 16.52","C/Masuk","C/Keluar","OK","","",""]
["316","Khoir","07/01/2019 06.44","C/Masuk","","OK","","",""]
["316","Khoir","07/01/2019 11.58","C/Masuk","","Invalid","","11:58:00",""]
["316","Khoir","07/01/2019 12.15","C/Masuk","","Invalid","","","12:15:00"]
["316","Khoir","07/01/2019 16.56","C/Masuk","C/Keluar","OK","","",""]
["316","Khoir","08/01/2019 06.46","C/Masuk","","OK","","",""]
["316","Khoir","08/01/2019 11.57","C/Masuk","","Invalid","","11:57:00",""]
["316","Khoir","08/01/2019 12.14","C/Masuk","","Invalid","","","12:14:00"]
["316","Khoir","08/01/2019 16.58","C/Masuk","C/Keluar","OK","","",""]
["316","Khoir","09/01/2019 06.46","C/Masuk","","OK","","",""]
["316","Khoir","09/01/2019 11.58","C/Masuk","","Invalid","","11:58:00",""]
["316","Khoir","09/01/2019 17.01","C/Masuk","C/Keluar","OK","","",""]
["316","Khoir","10/01/2019 06.46","C/Masuk","","OK","","",""]
["316","Khoir","10/01/2019 11.56","C/Masuk","","Invalid","","11:56:00",""]
["316","Khoir","10/01/2019 12.15","C/Masuk","","Invalid","","","12:15:00"]
["316","Khoir","10/01/2019 16.00","C/Masuk","C/Keluar","OK","","",""]
["316","Khoir","11/01/2019 06.43","C/Masuk","","OK","","",""]
["316","Khoir","11/01/2019 11.28","C/Masuk","","Invalid","","11:28:00",""]
["316","Khoir","11/01/2019 11.47","C/Masuk","","Invalid","","","11:47:00"]
["316","Khoir","11/01/2019 14.57","C/Masuk","C/Keluar","OK","","",""]
["316","Khoir","14/01/2019 06.45","C/Masuk","","OK","",{"$f":"IF(AND($F1602=\"invalid\",$F1601<>\"Invalid\"),TIMEVALUE($C1602),\"\")","v":""},{"$f":"IF(AND($F1602=\"invalid\",$F1601=\"Invalid\"),TIMEVALUE($C1602),\"\")","v":""}]
["316","Khoir","14/01/2019 11.58","C/Masuk","","Invalid","","11:58:00",""]
["316","Khoir","14/01/2019 12.16","C/Masuk","","Invalid","","","12:16:00"]
["316","Khoir","14/01/2019 15.58","C/Masuk","C/Keluar","OK","","",""]
["316","Khoir","15/01/2019 06.45","C/Masuk","","OK","","",""]
["316","Khoir","15/01/2019 11.57","C/Masuk","","Invalid","","11:57:00",""]
["316","Khoir","15/01/2019 12.17","C/Masuk","","Invalid","","","12:17:00"]
["316","Khoir","15/01/2019 14.56","C/Masuk","C/Keluar","OK","","",""]
["317","Filda","03/01/2019 06.48","C/Masuk","","OK","","",""]
["317","Filda","03/01/2019 11.56","C/Masuk","","Invalid","","11:56:00",""]
["317","Filda","03/01/2019 12.11","C/Masuk","","Invalid","","","12:11:00"]
["317","Filda","03/01/2019 15.03","C/Masuk","C/Keluar","OK","","",""]
["317","Filda","07/01/2019 06.46","C/Masuk","","OK","","",""]
["317","Filda","07/01/2019 11.56","C/Masuk","","Invalid","","11:56:00",""]
["317","Filda","07/01/2019 12.12","C/Masuk","","Invalid","","","12:12:00"]
["317","Filda","07/01/2019 16.57","C/Masuk","C/Keluar","OK","","",""]
["317","Filda","08/01/2019 06.48","C/Masuk","","OK","","",""]
["317","Filda","08/01/2019 11.55","C/Masuk","","Invalid","","11:55:00",""]
["317","Filda","08/01/2019 12.13","C/Masuk","","Invalid","","","12:13:00"]
["317","Filda","08/01/2019 16.58","C/Masuk","C/Keluar","OK","","",""]
["317","Filda","09/01/2019 06.49","C/Masuk","","OK","","",""]
["317","Filda","09/01/2019 16.53","C/Masuk","C/Keluar","OK","","",""]
["317","Filda","10/01/2019 06.49","C/Masuk","","OK","","",""]
["317","Filda","10/01/2019 11.54","C/Masuk","","Invalid","","11:54:00",""]
["317","Filda","10/01/2019 12.19","C/Masuk","","Invalid","","","12:19:00"]
["317","Filda","10/01/2019 16.02","C/Masuk","C/Keluar","OK","","",""]
["317","Filda","11/01/2019 06.51","C/Masuk","","OK","","",""]
["317","Filda","11/01/2019 11.25","C/Masuk","","Invalid","","11:25:00",""]
["317","Filda","11/01/2019 11.47","C/Masuk","","Invalid","","","11:47:00"]
["317","Filda","11/01/2019 14.56","C/Masuk","C/Keluar","OK","","",""]
["319","Juma'iyyah","03/01/2019 06.45","C/Masuk","","OK","","",""]
["319","Juma'iyyah","03/01/2019 11.55","C/Masuk","","Invalid","","11:55:00",""]
["319","Juma'iyyah","03/01/2019 12.10","C/Masuk","","Invalid","","","12:10:00"]
["319","Juma'iyyah","03/01/2019 15.06","C/Masuk","C/Keluar","OK","","",""]
["319","Juma'iyyah","04/01/2019 06.45","C/Masuk","","OK","","",""]
["319","Juma'iyyah","04/01/2019 11.30","C/Masuk","","Invalid","","11:30:00",""]
["319","Juma'iyyah","04/01/2019 11.46","C/Masuk","","Invalid","","","11:46:00"]
["319","Juma'iyyah","04/01/2019 16.22","C/Masuk","C/Keluar","OK","","",""]
["319","Juma'iyyah","05/01/2019 06.43","C/Masuk","","OK","","",""]
["319","Juma'iyyah","05/01/2019 11.55","C/Masuk","","Invalid","","11:55:00",""]
["319","Juma'iyyah","05/01/2019 12.10","C/Masuk","","Invalid","","","12:10:00"]
["319","Juma'iyyah","05/01/2019 16.46","C/Masuk","C/Keluar","OK","","",""]
["319","Juma'iyyah","07/01/2019 06.43","C/Masuk","","OK","","",""]
["319","Juma'iyyah","07/01/2019 11.58","C/Masuk","","Invalid","","11:58:00",""]
["319","Juma'iyyah","07/01/2019 12.10","C/Masuk","","Invalid","","","12:10:00"]
["319","Juma'iyyah","07/01/2019 16.56","C/Masuk","C/Keluar","OK","","",""]
["319","Juma'iyyah","08/01/2019 06.45","C/Masuk","","OK","","",""]
["319","Juma'iyyah","08/01/2019 11.56","C/Masuk","","Invalid","","11:56:00",""]
["319","Juma'iyyah","08/01/2019 12.10","C/Masuk","","Invalid","","","12:10:00"]
["319","Juma'iyyah","08/01/2019 16.52","C/Masuk","C/Keluar","OK","","",""]
["319","Juma'iyyah","09/01/2019 06.46","C/Masuk","","OK","","",""]
["319","Juma'iyyah","09/01/2019 11.58","C/Masuk","","Invalid","","11:58:00",""]
["319","Juma'iyyah","09/01/2019 16.59","C/Masuk","C/Keluar","OK","","",""]
["319","Juma'iyyah","10/01/2019 06.46","C/Masuk","","OK","","",""]
["319","Juma'iyyah","10/01/2019 11.56","C/Masuk","","Invalid","","11:56:00",""]
["319","Juma'iyyah","10/01/2019 16.03","C/Masuk","C/Keluar","OK","","",""]
["319","Juma'iyyah","11/01/2019 06.43","C/Masuk","","OK","","",""]
["319","Juma'iyyah","11/01/2019 11.26","C/Masuk","","Invalid","","11:26:00",""]
["319","Juma'iyyah","11/01/2019 11.42","C/Masuk","","Invalid","","","11:42:00"]
["319","Juma'iyyah","11/01/2019 14.56","C/Masuk","C/Keluar","OK","","",""]
["319","Juma'iyyah","14/01/2019 06.44","C/Masuk","","OK","","",""]
["319","Juma'iyyah","14/01/2019 11.58","C/Masuk","","Invalid","","11:58:00",""]
["319","Juma'iyyah","14/01/2019 12.13","C/Masuk","","Invalid","","","12:13:00"]
["319","Juma'iyyah","14/01/2019 15.57","C/Masuk","C/Keluar","OK","","",""]
["319","Juma'iyyah","15/01/2019 06.44","C/Masuk","","OK","",{"$f":"IF(AND($F1666=\"invalid\",$F1665<>\"Invalid\"),TIMEVALUE($C1666),\"\")","v":""},{"$f":"IF(AND($F1666=\"invalid\",$F1665=\"Invalid\"),TIMEVALUE($C1666),\"\")","v":""}]
["319","Juma'iyyah","15/01/2019 11.57","C/Masuk","","Invalid","","11:57:00",""]
["319","Juma'iyyah","15/01/2019 12.12","C/Masuk","","Invalid","","","12:12:00"]
["319","Juma'iyyah","15/01/2019 14.52","C/Masuk","C/Keluar","OK","","",""]
["320","Uswatun","03/01/2019 06.45","C/Masuk","","OK","","",""]
["320","Uswatun","03/01/2019 11.55","C/Masuk","","Invalid","","11:55:00",""]
["320","Uswatun","03/01/2019 12.07","C/Masuk","","Invalid","","","12:07:00"]
["320","Uswatun","03/01/2019 15.04","C/Masuk","C/Keluar","OK","","",""]
["320","Uswatun","04/01/2019 06.45","C/Masuk","","OK","","",""]
["320","Uswatun","04/01/2019 11.29","C/Masuk","","Invalid","","11:29:00",""]
["320","Uswatun","04/01/2019 11.41","C/Masuk","","Invalid","","","11:41:00"]
["320","Uswatun","04/01/2019 16.21","C/Masuk","C/Keluar","OK","","",""]
["320","Uswatun","05/01/2019 06.43","C/Masuk","","OK","","",""]
["320","Uswatun","05/01/2019 11.53","C/Masuk","","Invalid","","11:53:00",""]
["320","Uswatun","05/01/2019 12.09","C/Masuk","","Invalid","","","12:09:00"]
["320","Uswatun","05/01/2019 16.46","C/Masuk","C/Keluar","OK","","",""]
["320","Uswatun","07/01/2019 06.42","C/Masuk","","OK","","",""]
["320","Uswatun","07/01/2019 11.57","C/Masuk","","Invalid","","11:57:00",""]
["320","Uswatun","07/01/2019 12.10","C/Masuk","","Invalid","","","12:10:00"]
["320","Uswatun","07/01/2019 16.56","C/Masuk","C/Keluar","OK","","",""]
["320","Uswatun","08/01/2019 06.45","C/Masuk","","OK","","",""]
["320","Uswatun","08/01/2019 11.56","C/Masuk","","Invalid","","11:56:00",""]
["320","Uswatun","08/01/2019 12.10","C/Masuk","","Invalid","","","12:10:00"]
["320","Uswatun","08/01/2019 16.51","C/Masuk","C/Keluar","OK","","",""]
["320","Uswatun","09/01/2019 06.45","C/Masuk","","OK","","",""]
["320","Uswatun","09/01/2019 11.58","C/Masuk","","Invalid","","11:58:00",""]
["320","Uswatun","09/01/2019 12.11","C/Masuk","","Invalid","","","12:11:00"]
["320","Uswatun","09/01/2019 16.49","C/Masuk","C/Keluar","OK","","",""]
["320","Uswatun","10/01/2019 06.45","C/Masuk","","OK","","",""]
["320","Uswatun","10/01/2019 11.55","C/Masuk","","Invalid","","11:55:00",""]
["320","Uswatun","10/01/2019 12.09","C/Masuk","","Invalid","","","12:09:00"]
["320","Uswatun","10/01/2019 16.03","C/Masuk","C/Keluar","OK","","",""]
["320","Uswatun","11/01/2019 06.42","C/Masuk","","OK","","",""]
["320","Uswatun","11/01/2019 11.26","C/Masuk","","Invalid","","11:26:00",""]
["320","Uswatun","11/01/2019 11.42","C/Masuk","","Invalid","","","11:42:00"]
["320","Uswatun","11/01/2019 14.53","C/Masuk","C/Keluar","OK","","",""]
["320","Uswatun","14/01/2019 06.43","C/Masuk","","OK","","",""]
["320","Uswatun","14/01/2019 11.57","C/Masuk","","Invalid","","11:57:00",""]
["320","Uswatun","14/01/2019 12.12","C/Masuk","","Invalid","","","12:12:00"]
["320","Uswatun","14/01/2019 15.49","C/Masuk","C/Keluar","OK","","",""]
["320","Uswatun","15/01/2019 06.44","C/Masuk","","OK","","",""]
["320","Uswatun","15/01/2019 11.56","C/Masuk","","Invalid","","11:56:00",""]
["320","Uswatun","15/01/2019 12.11","C/Masuk","","Invalid","","","12:11:00"]
["320","Uswatun","15/01/2019 14.52","C/Masuk","C/Keluar","OK","","",""]
["321","Deni B","03/01/2019 06.47","C/Masuk","","OK","","",""]
["321","Deni B","03/01/2019 11.55","C/Masuk","","Invalid","","11:55:00",""]
["321","Deni B","03/01/2019 12.17","C/Masuk","","Invalid","","","12:17:00"]
["321","Deni B","03/01/2019 15.04","C/Masuk","C/Keluar","OK","","",""]
["321","Deni B","04/01/2019 06.47","C/Masuk","","OK","","",""]
["321","Deni B","04/01/2019 11.29","C/Masuk","","Invalid","","11:29:00",""]
["321","Deni B","04/01/2019 11.48","C/Masuk","","Invalid","","","11:48:00"]
["321","Deni B","04/01/2019 16.20","C/Masuk","C/Keluar","OK","","",""]
["321","Deni B","05/01/2019 06.45","C/Masuk","","OK","","",""]
["321","Deni B","05/01/2019 11.56","C/Masuk","","Invalid","","11:56:00",""]
["321","Deni B","05/01/2019 12.15","C/Masuk","","Invalid","","","12:15:00"]
["321","Deni B","05/01/2019 16.47","C/Masuk","C/Keluar","OK","","",""]
["321","Deni B","07/01/2019 06.44","C/Masuk","","OK","","",""]
["321","Deni B","07/01/2019 11.57","C/Masuk","","Invalid","","11:57:00",""]
["321","Deni B","07/01/2019 12.16","C/Masuk","","Invalid","","","12:16:00"]
["321","Deni B","07/01/2019 16.50","C/Masuk","C/Keluar","OK","","",""]
["321","Deni B","08/01/2019 06.48","C/Masuk","","OK","","",""]
["321","Deni B","08/01/2019 11.57","C/Masuk","","Invalid","","11:57:00",""]
["321","Deni B","08/01/2019 12.17","C/Masuk","","Invalid","","","12:17:00"]
["321","Deni B","08/01/2019 16.52","C/Masuk","C/Keluar","OK","","",""]
["321","Deni B","09/01/2019 06.47","C/Masuk","","OK","",{"$f":"IF(AND($F1730=\"invalid\",$F1729<>\"Invalid\"),TIMEVALUE($C1730),\"\")","v":""},{"$f":"IF(AND($F1730=\"invalid\",$F1729=\"Invalid\"),TIMEVALUE($C1730),\"\")","v":""}]
["321","Deni B","09/01/2019 11.59","C/Masuk","","Invalid","","11:59:00",""]
["321","Deni B","09/01/2019 12.17","C/Masuk","","Invalid","","","12:17:00"]
["321","Deni B","09/01/2019 16.49","C/Masuk","C/Keluar","OK","","",""]
["321","Deni B","10/01/2019 06.47","C/Masuk","","OK","","",""]
["321","Deni B","10/01/2019 11.56","C/Masuk","","Invalid","","11:56:00",""]
["321","Deni B","10/01/2019 12.18","C/Masuk","","Invalid","","","12:18:00"]
["321","Deni B","10/01/2019 15.59","C/Masuk","C/Keluar","OK","","",""]
["321","Deni B","11/01/2019 06.45","C/Masuk","","OK","","",""]
["321","Deni B","11/01/2019 11.26","C/Masuk","","Invalid","","11:26:00",""]
["321","Deni B","11/01/2019 11.47","C/Masuk","","Invalid","","","11:47:00"]
["321","Deni B","11/01/2019 14.52","C/Masuk","C/Keluar","OK","","",""]
["321","Deni B","14/01/2019 06.46","C/Masuk","","OK","","",""]
["321","Deni B","14/01/2019 11.59","C/Masuk","","Invalid","","11:59:00",""]
["321","Deni B","14/01/2019 12.15","C/Masuk","","Invalid","","","12:15:00"]
["321","Deni B","14/01/2019 15.50","C/Masuk","C/Keluar","OK","","",""]
["321","Deni B","15/01/2019 06.45","C/Masuk","","OK","","",""]
["321","Deni B","15/01/2019 11.58","C/Masuk","","Invalid","","11:58:00",""]
["321","Deni B","15/01/2019 12.14","C/Masuk","","Invalid","","","12:14:00"]
["321","Deni B","15/01/2019 14.52","C/Masuk","C/Keluar","OK","","",""]
["323","Novi","03/01/2019 06.46","C/Masuk","","OK","","",""]
["323","Novi","03/01/2019 11.55","C/Masuk","","Invalid","","11:55:00",""]
["323","Novi","03/01/2019 12.07","C/Masuk","","Invalid","","","12:07:00"]
["323","Novi","03/01/2019 15.09","C/Masuk","C/Keluar","OK","","",""]
["323","Novi","04/01/2019 06.45","C/Masuk","","OK","","",""]
["323","Novi","04/01/2019 11.28","C/Masuk","","Invalid","","11:28:00",""]
["323","Novi","04/01/2019 11.42","C/Masuk","","Invalid","","","11:42:00"]
["323","Novi","04/01/2019 16.21","C/Masuk","C/Keluar","OK","","",""]
["323","Novi","05/01/2019 06.43","C/Masuk","","OK","","",""]
["323","Novi","05/01/2019 11.58","C/Masuk","","Invalid","","11:58:00",""]
["323","Novi","05/01/2019 12.10","C/Masuk","","Invalid","","","12:10:00"]
["323","Novi","05/01/2019 16.50","C/Masuk","C/Keluar","OK","","",""]
["323","Novi","07/01/2019 06.43","C/Masuk","","OK","","",""]
["323","Novi","07/01/2019 16.49","C/Masuk","C/Keluar","OK","","",""]
["323","Novi","08/01/2019 06.45","C/Masuk","","OK","","",""]
["323","Novi","08/01/2019 16.56","C/Masuk","C/Keluar","OK","","",""]
["323","Novi","09/01/2019 06.45","C/Masuk","","OK","","",""]
["323","Novi","09/01/2019 11.59","C/Masuk","","Invalid","","11:59:00",""]
["323","Novi","09/01/2019 12.13","C/Masuk","","Invalid","","","12:13:00"]
["323","Novi","09/01/2019 16.59","C/Masuk","C/Keluar","OK","","",""]
["323","Novi","10/01/2019 06.51","C/Masuk","","OK","","",""]
["323","Novi","10/01/2019 06.53","C/Masuk","","Mengulang","","",""]
["323","Novi","10/01/2019 11.57","C/Masuk","","Invalid","","11:57:00",""]
["323","Novi","10/01/2019 12.09","C/Masuk","","Invalid","","","12:09:00"]
["323","Novi","10/01/2019 16.04","C/Masuk","C/Keluar","OK","","",""]
["323","Novi","11/01/2019 06.42","C/Masuk","","OK","","",""]
["323","Novi","11/01/2019 11.25","C/Masuk","","Invalid","","11:25:00",""]
["323","Novi","11/01/2019 12.23","C/Masuk","","Invalid","","","12:23:00"]
["323","Novi","11/01/2019 14.50","C/Masuk","C/Keluar","OK","","",""]
["323","Novi","14/01/2019 06.44","C/Masuk","","OK","","",""]
["323","Novi","14/01/2019 12.01","C/Masuk","","Invalid","","12:01:00",""]
["323","Novi","14/01/2019 12.12","C/Masuk","","Invalid","","","12:12:00"]
["323","Novi","14/01/2019 15.47","C/Masuk","C/Keluar","OK","","",""]
["323","Novi","15/01/2019 06.44","C/Masuk","","OK","","",""]
["323","Novi","15/01/2019 11.58","C/Masuk","","Invalid","","11:58:00",""]
["323","Novi","15/01/2019 12.12","C/Masuk","","Invalid","","","12:12:00"]
["323","Novi","15/01/2019 14.53","C/Masuk","C/Keluar","OK","","",""]
["325","Septin","03/01/2019 06.46","C/Masuk","","OK","","",""]
["325","Septin","03/01/2019 11.55","C/Masuk","","Invalid","","11:55:00",""]
["325","Septin","03/01/2019 12.18","C/Masuk","","Invalid","","","12:18:00"]
["325","Septin","03/01/2019 15.04","C/Masuk","C/Keluar","OK","","",""]
["325","Septin","04/01/2019 06.45","C/Masuk","","OK","","",""]
["325","Septin","04/01/2019 11.28","C/Masuk","","Invalid","","11:28:00",""]
["325","Septin","04/01/2019 11.41","C/Masuk","","Invalid","","","11:41:00"]
["325","Septin","04/01/2019 16.21","C/Masuk","C/Keluar","OK","",{"$f":"IF(AND($F1794=\"invalid\",$F1793<>\"Invalid\"),TIMEVALUE($C1794),\"\")","v":""},{"$f":"IF(AND($F1794=\"invalid\",$F1793=\"Invalid\"),TIMEVALUE($C1794),\"\")","v":""}]
["325","Septin","05/01/2019 06.44","C/Masuk","","OK","","",""]
["325","Septin","05/01/2019 11.55","C/Masuk","","Invalid","","11:55:00",""]
["325","Septin","05/01/2019 12.17","C/Masuk","","Invalid","","","12:17:00"]
["325","Septin","05/01/2019 16.50","C/Masuk","C/Keluar","OK","","",""]
["325","Septin","07/01/2019 06.43","C/Masuk","","OK","","",""]
["325","Septin","07/01/2019 11.58","C/Masuk","","Invalid","","11:58:00",""]
["325","Septin","07/01/2019 12.17","C/Masuk","","Invalid","","","12:17:00"]
["325","Septin","07/01/2019 16.49","C/Masuk","C/Keluar","OK","","",""]
["325","Septin","08/01/2019 06.48","C/Masuk","","OK","","",""]
["325","Septin","08/01/2019 11.57","C/Masuk","","Invalid","","11:57:00",""]
["325","Septin","08/01/2019 12.19","C/Masuk","","Invalid","","","12:19:00"]
["325","Septin","08/01/2019 16.57","C/Masuk","C/Keluar","OK","","",""]
["325","Septin","09/01/2019 06.45","C/Masuk","","OK","","",""]
["325","Septin","09/01/2019 11.58","C/Masuk","","Invalid","","11:58:00",""]
["325","Septin","09/01/2019 12.13","C/Masuk","","Invalid","","","12:13:00"]
["325","Septin","09/01/2019 16.59","C/Masuk","C/Keluar","OK","","",""]
["325","Septin","10/01/2019 06.46","C/Masuk","","OK","","",""]
["325","Septin","10/01/2019 11.57","C/Masuk","","Invalid","","11:57:00",""]
["325","Septin","10/01/2019 12.09","C/Masuk","","Invalid","","","12:09:00"]
["325","Septin","10/01/2019 15.59","C/Masuk","C/Keluar","OK","","",""]
["325","Septin","11/01/2019 06.48","C/Masuk","","OK","","",""]
["325","Septin","11/01/2019 11.25","C/Masuk","","Invalid","","11:25:00",""]
["325","Septin","11/01/2019 12.23","C/Masuk","","Invalid","","","12:23:00"]
["325","Septin","11/01/2019 14.45","C/Masuk","C/Keluar","OK","","",""]
["325","Septin","14/01/2019 06.48","C/Masuk","","OK","","",""]
["325","Septin","14/01/2019 12.01","C/Masuk","","Invalid","","12:01:00",""]
["325","Septin","14/01/2019 12.13","C/Masuk","","Invalid","","","12:13:00"]
["325","Septin","14/01/2019 15.48","C/Masuk","C/Keluar","OK","","",""]
["325","Septin","15/01/2019 06.47","C/Masuk","","OK","","",""]
["325","Septin","15/01/2019 11.58","C/Masuk","","Invalid","","11:58:00",""]
["325","Septin","15/01/2019 12.12","C/Masuk","","Invalid","","","12:12:00"]
["325","Septin","15/01/2019 14.56","C/Masuk","C/Keluar","OK","","",""]
["326","Titin","03/01/2019 06.45","C/Masuk","","OK","","",""]
["326","Titin","03/01/2019 11.56","C/Masuk","","Invalid","","11:56:00",""]
["326","Titin","03/01/2019 12.11","C/Masuk","","Invalid","","","12:11:00"]
["326","Titin","03/01/2019 15.04","C/Masuk","C/Keluar","OK","","",""]
["326","Titin","07/01/2019 06.42","C/Masuk","","OK","","",""]
["326","Titin","07/01/2019 11.58","C/Masuk","","Invalid","","11:58:00",""]
["326","Titin","07/01/2019 12.13","C/Masuk","","Invalid","","","12:13:00"]
["326","Titin","07/01/2019 16.53","C/Masuk","C/Keluar","OK","","",""]
["326","Titin","08/01/2019 06.46","C/Masuk","","OK","","",""]
["326","Titin","08/01/2019 11.58","C/Masuk","","Invalid","","11:58:00",""]
["326","Titin","08/01/2019 12.12","C/Masuk","","Invalid","","","12:12:00"]
["326","Titin","08/01/2019 16.51","C/Masuk","C/Keluar","OK","","",""]
["326","Titin","09/01/2019 06.45","C/Masuk","","OK","","",""]
["326","Titin","09/01/2019 11.56","C/Masuk","","Invalid","","11:56:00",""]
["326","Titin","09/01/2019 12.11","C/Masuk","","Invalid","","","12:11:00"]
["326","Titin","09/01/2019 16.55","C/Masuk","C/Keluar","OK","","",""]
["326","Titin","10/01/2019 06.46","C/Masuk","","OK","","",""]
["326","Titin","10/01/2019 11.55","C/Masuk","","Invalid","","11:55:00",""]
["326","Titin","10/01/2019 12.13","C/Masuk","","Invalid","","","12:13:00"]
["326","Titin","10/01/2019 16.06","C/Masuk","C/Keluar","OK","","",""]
["326","Titin","11/01/2019 06.43","C/Masuk","","OK","","",""]
["326","Titin","11/01/2019 11.27","C/Masuk","","Invalid","","11:27:00",""]
["326","Titin","11/01/2019 11.44","C/Masuk","","Invalid","","","11:44:00"]
["326","Titin","11/01/2019 14.50","C/Masuk","C/Keluar","OK","","",""]
["326","Titin","14/01/2019 06.44","C/Masuk","","OK","","",""]
["326","Titin","14/01/2019 11.57","C/Masuk","","Invalid","","11:57:00",""]
["326","Titin","14/01/2019 12.14","C/Masuk","","Invalid","","","12:14:00"]
["326","Titin","14/01/2019 15.48","C/Masuk","C/Keluar","OK","","",""]
["326","Titin","15/01/2019 06.44","C/Masuk","","OK","","",""]
["326","Titin","15/01/2019 11.58","C/Masuk","","Invalid","","11:58:00",""]
["326","Titin","15/01/2019 12.11","C/Masuk","","Invalid","","","12:11:00"]
["326","Titin","15/01/2019 14.54","C/Masuk","C/Keluar","OK","",{"$f":"IF(AND($F1858=\"invalid\",$F1857<>\"Invalid\"),TIMEVALUE($C1858),\"\")","v":""},{"$f":"IF(AND($F1858=\"invalid\",$F1857=\"Invalid\"),TIMEVALUE($C1858),\"\")","v":""}]
["327","Latifa","03/01/2019 06.45","C/Masuk","","OK","","",""]
["327","Latifa","03/01/2019 11.56","C/Masuk","","Invalid","","11:56:00",""]
["327","Latifa","03/01/2019 12.11","C/Masuk","","Invalid","","","12:11:00"]
["327","Latifa","03/01/2019 15.03","C/Masuk","C/Keluar","OK","","",""]
["327","Latifa","04/01/2019 06.45","C/Masuk","","OK","","",""]
["327","Latifa","04/01/2019 11.30","C/Masuk","","Invalid","","11:30:00",""]
["327","Latifa","04/01/2019 11.45","C/Masuk","","Invalid","","","11:45:00"]
["327","Latifa","04/01/2019 16.31","C/Masuk","C/Keluar","OK","","",""]
["327","Latifa","05/01/2019 06.44","C/Masuk","","OK","","",""]
["327","Latifa","05/01/2019 11.54","C/Masuk","","Invalid","","11:54:00",""]
["327","Latifa","05/01/2019 12.11","C/Masuk","","Invalid","","","12:11:00"]
["327","Latifa","05/01/2019 16.51","C/Masuk","C/Keluar","OK","","",""]
["327","Latifa","07/01/2019 06.42","C/Masuk","","OK","","",""]
["327","Latifa","07/01/2019 11.57","C/Masuk","","Invalid","","11:57:00",""]
["327","Latifa","07/01/2019 12.12","C/Masuk","","Invalid","","","12:12:00"]
["327","Latifa","07/01/2019 16.47","C/Masuk","C/Keluar","OK","","",""]
["327","Latifa","08/01/2019 06.46","C/Masuk","","OK","","",""]
["327","Latifa","08/01/2019 11.58","C/Masuk","","Invalid","","11:58:00",""]
["327","Latifa","08/01/2019 12.14","C/Masuk","","Invalid","","","12:14:00"]
["327","Latifa","08/01/2019 16.54","C/Masuk","C/Keluar","OK","","",""]
["327","Latifa","09/01/2019 06.45","C/Masuk","","OK","","",""]
["327","Latifa","09/01/2019 11.57","C/Masuk","","Invalid","","11:57:00",""]
["327","Latifa","09/01/2019 12.11","C/Masuk","","Invalid","","","12:11:00"]
["327","Latifa","09/01/2019 16.53","C/Masuk","C/Keluar","OK","","",""]
["327","Latifa","10/01/2019 06.45","C/Masuk","","OK","","",""]
["327","Latifa","10/01/2019 11.56","C/Masuk","","Invalid","","11:56:00",""]
["327","Latifa","10/01/2019 12.12","C/Masuk","","Invalid","","","12:12:00"]
["327","Latifa","10/01/2019 16.00","C/Masuk","C/Keluar","OK","","",""]
["327","Latifa","11/01/2019 06.43","C/Masuk","","OK","","",""]
["327","Latifa","11/01/2019 11.27","C/Masuk","","Invalid","","11:27:00",""]
["327","Latifa","11/01/2019 11.46","C/Masuk","","Invalid","","","11:46:00"]
["327","Latifa","11/01/2019 14.50","C/Masuk","C/Keluar","OK","","",""]
["327","Latifa","14/01/2019 06.44","C/Masuk","","OK","","",""]
["327","Latifa","14/01/2019 11.58","C/Masuk","","Invalid","","11:58:00",""]
["327","Latifa","14/01/2019 12.14","C/Masuk","","Invalid","","","12:14:00"]
["327","Latifa","14/01/2019 15.48","C/Masuk","C/Keluar","OK","","",""]
["327","Latifa","15/01/2019 06.44","C/Masuk","","OK","","",""]
["327","Latifa","15/01/2019 11.58","C/Masuk","","Invalid","","11:58:00",""]
["327","Latifa","15/01/2019 12.14","C/Masuk","","Invalid","","","12:14:00"]
["327","Latifa","15/01/2019 14.54","C/Masuk","C/Keluar","OK","","",""]
["328","Sri Wati","03/01/2019 06.45","C/Masuk","","OK","","",""]
["328","Sri Wati","03/01/2019 11.56","C/Masuk","","Invalid","","11:56:00",""]
["328","Sri Wati","03/01/2019 12.11","C/Masuk","","Invalid","","","12:11:00"]
["328","Sri Wati","03/01/2019 15.03","C/Masuk","C/Keluar","OK","","",""]
["328","Sri Wati","04/01/2019 06.45","C/Masuk","","OK","","",""]
["328","Sri Wati","04/01/2019 11.31","C/Masuk","","Invalid","","11:31:00",""]
["328","Sri Wati","04/01/2019 11.44","C/Masuk","","Invalid","","","11:44:00"]
["328","Sri Wati","04/01/2019 16.31","C/Masuk","C/Keluar","OK","","",""]
["328","Sri Wati","05/01/2019 06.44","C/Masuk","","OK","","",""]
["328","Sri Wati","05/01/2019 11.54","C/Masuk","","Invalid","","11:54:00",""]
["328","Sri Wati","05/01/2019 12.11","C/Masuk","","Invalid","","","12:11:00"]
["328","Sri Wati","05/01/2019 16.50","C/Masuk","C/Keluar","OK","","",""]
["328","Sri Wati","07/01/2019 06.42","C/Masuk","","OK","","",""]
["328","Sri Wati","07/01/2019 11.57","C/Masuk","","Invalid","","11:57:00",""]
["328","Sri Wati","07/01/2019 12.12","C/Masuk","","Invalid","","","12:12:00"]
["328","Sri Wati","07/01/2019 16.56","C/Masuk","C/Keluar","OK","","",""]
["328","Sri Wati","08/01/2019 06.46","C/Masuk","","OK","","",""]
["328","Sri Wati","08/01/2019 11.58","C/Masuk","","Invalid","","11:58:00",""]
["328","Sri Wati","08/01/2019 12.13","C/Masuk","","Invalid","","","12:13:00"]
["328","Sri Wati","08/01/2019 16.51","C/Masuk","C/Keluar","OK","","",""]
["328","Sri Wati","09/01/2019 06.45","C/Masuk","","OK","","",""]
["328","Sri Wati","09/01/2019 11.56","C/Masuk","","Invalid","","11:56:00",""]
["328","Sri Wati","09/01/2019 12.11","C/Masuk","","Invalid","","","12:11:00"]
["328","Sri Wati","09/01/2019 16.53","C/Masuk","C/Keluar","OK","",{"$f":"IF(AND($F1922=\"invalid\",$F1921<>\"Invalid\"),TIMEVALUE($C1922),\"\")","v":""},{"$f":"IF(AND($F1922=\"invalid\",$F1921=\"Invalid\"),TIMEVALUE($C1922),\"\")","v":""}]
["328","Sri Wati","10/01/2019 06.46","C/Masuk","","OK","","",""]
["328","Sri Wati","10/01/2019 11.56","C/Masuk","","Invalid","","11:56:00",""]
["328","Sri Wati","10/01/2019 12.12","C/Masuk","","Invalid","","","12:12:00"]
["328","Sri Wati","10/01/2019 15.59","C/Masuk","C/Keluar","OK","","",""]
["328","Sri Wati","11/01/2019 06.42","C/Masuk","","OK","","",""]
["328","Sri Wati","11/01/2019 11.28","C/Masuk","","Invalid","","11:28:00",""]
["328","Sri Wati","11/01/2019 11.46","C/Masuk","","Invalid","","","11:46:00"]
["328","Sri Wati","11/01/2019 14.57","C/Masuk","C/Keluar","OK","","",""]
["328","Sri Wati","14/01/2019 06.44","C/Masuk","","OK","","",""]
["328","Sri Wati","14/01/2019 11.58","C/Masuk","","Invalid","","11:58:00",""]
["328","Sri Wati","14/01/2019 12.14","C/Masuk","","Invalid","","","12:14:00"]
["328","Sri Wati","14/01/2019 15.50","C/Masuk","C/Keluar","OK","","",""]
["328","Sri Wati","15/01/2019 06.44","C/Masuk","","OK","","",""]
["328","Sri Wati","15/01/2019 11.57","C/Masuk","","Invalid","","11:57:00",""]
["328","Sri Wati","15/01/2019 12.14","C/Masuk","","Invalid","","","12:14:00"]
["328","Sri Wati","15/01/2019 14.54","C/Masuk","C/Keluar","OK","","",""]
["329","Indah","03/01/2019 06.46","C/Masuk","","OK","","",""]
["329","Indah","03/01/2019 11.56","C/Masuk","","Invalid","","11:56:00",""]
["329","Indah","03/01/2019 12.11","C/Masuk","","Invalid","","","12:11:00"]
["329","Indah","03/01/2019 15.03","C/Masuk","C/Keluar","OK","","",""]
["329","Indah","04/01/2019 06.45","C/Masuk","","OK","","",""]
["329","Indah","04/01/2019 11.31","C/Masuk","","Invalid","","11:31:00",""]
["329","Indah","04/01/2019 11.44","C/Masuk","","Invalid","","","11:44:00"]
["329","Indah","04/01/2019 16.21","C/Masuk","C/Keluar","OK","","",""]
["329","Indah","05/01/2019 06.43","C/Masuk","","OK","","",""]
["329","Indah","05/01/2019 11.54","C/Masuk","","Invalid","","11:54:00",""]
["329","Indah","05/01/2019 12.11","C/Masuk","","Invalid","","","12:11:00"]
["329","Indah","05/01/2019 16.51","C/Masuk","C/Keluar","OK","","",""]
["329","Indah","07/01/2019 06.43","C/Masuk","","OK","","",""]
["329","Indah","07/01/2019 11.57","C/Masuk","","Invalid","","11:57:00",""]
["329","Indah","07/01/2019 12.12","C/Masuk","","Invalid","","","12:12:00"]
["329","Indah","07/01/2019 16.47","C/Masuk","C/Keluar","OK","","",""]
["329","Indah","08/01/2019 06.46","C/Masuk","","OK","","",""]
["329","Indah","08/01/2019 11.58","C/Masuk","","Invalid","","11:58:00",""]
["329","Indah","08/01/2019 12.12","C/Masuk","","Invalid","","","12:12:00"]
["329","Indah","08/01/2019 16.52","C/Masuk","C/Keluar","OK","","",""]
["329","Indah","09/01/2019 06.46","C/Masuk","","OK","","",""]
["329","Indah","09/01/2019 11.57","C/Masuk","","Invalid","","11:57:00",""]
["329","Indah","09/01/2019 12.11","C/Masuk","","Invalid","","","12:11:00"]
["329","Indah","09/01/2019 16.53","C/Masuk","C/Keluar","OK","","",""]
["329","Indah","10/01/2019 06.46","C/Masuk","","OK","","",""]
["329","Indah","10/01/2019 11.56","C/Masuk","","Invalid","","11:56:00",""]
["329","Indah","10/01/2019 12.12","C/Masuk","","Invalid","","","12:12:00"]
["329","Indah","10/01/2019 16.08","C/Masuk","C/Keluar","OK","","",""]
["329","Indah","11/01/2019 06.43","C/Masuk","","OK","","",""]
["329","Indah","11/01/2019 11.27","C/Masuk","","Invalid","","11:27:00",""]
["329","Indah","11/01/2019 11.44","C/Masuk","","Invalid","","","11:44:00"]
["329","Indah","11/01/2019 14.58","C/Masuk","C/Keluar","OK","","",""]
["329","Indah","14/01/2019 06.44","C/Masuk","","OK","","",""]
["329","Indah","14/01/2019 11.58","C/Masuk","","Invalid","","11:58:00",""]
["329","Indah","14/01/2019 12.13","C/Masuk","","Invalid","","","12:13:00"]
["329","Indah","14/01/2019 15.50","C/Masuk","C/Keluar","OK","","",""]
["329","Indah","15/01/2019 06.44","C/Masuk","","OK","","",""]
["329","Indah","15/01/2019 11.58","C/Masuk","","Invalid","","11:58:00",""]
["329","Indah","15/01/2019 12.11","C/Masuk","","Invalid","","","12:11:00"]
["329","Indah","15/01/2019 14.54","C/Masuk","C/Keluar","OK","","",""]
["401","Khoiri","03/01/2019 06.49","C/Masuk","","OK","","",""]
["401","Khoiri","03/01/2019 12.05","C/Masuk","","Invalid","","12:05:00",""]
["401","Khoiri","03/01/2019 12.51","C/Masuk","","Invalid","","","12:51:00"]
["401","Khoiri","04/01/2019 06.49","C/Masuk","","OK","","",""]
["401","Khoiri","04/01/2019 11.53","C/Masuk","","Invalid","","11:53:00",""]
["401","Khoiri","04/01/2019 12.56","C/Masuk","","Invalid","","","12:56:00"]
["401","Khoiri","04/01/2019 17.03","C/Masuk","C/Keluar","OK","","",""]
["401","Khoiri","05/01/2019 06.48","C/Masuk","","OK","",{"$f":"IF(AND($F1986=\"invalid\",$F1985<>\"Invalid\"),TIMEVALUE($C1986),\"\")","v":""},{"$f":"IF(AND($F1986=\"invalid\",$F1985=\"Invalid\"),TIMEVALUE($C1986),\"\")","v":""}]
["401","Khoiri","05/01/2019 11.53","C/Masuk","","Invalid","","11:53:00",""]
["401","Khoiri","05/01/2019 12.51","C/Masuk","","Invalid","","","12:51:00"]
["401","Khoiri","05/01/2019 17.16","C/Masuk","C/Keluar","OK","","",""]
["401","Khoiri","07/01/2019 06.45","C/Masuk","","OK","","",""]
["401","Khoiri","07/01/2019 11.55","C/Masuk","","Invalid","","11:55:00",""]
["401","Khoiri","07/01/2019 12.51","C/Masuk","","Invalid","","","12:51:00"]
["401","Khoiri","07/01/2019 17.24","C/Masuk","C/Keluar","OK","","",""]
["401","Khoiri","08/01/2019 06.49","C/Masuk","","OK","","",""]
["401","Khoiri","08/01/2019 11.53","C/Masuk","","Invalid","","11:53:00",""]
["401","Khoiri","08/01/2019 12.54","C/Masuk","","Invalid","","","12:54:00"]
["401","Khoiri","08/01/2019 16.53","C/Masuk","C/Keluar","OK","","",""]
["401","Khoiri","09/01/2019 06.49","C/Masuk","","OK","","",""]
["401","Khoiri","09/01/2019 11.51","C/Masuk","","Invalid","","11:51:00",""]
["401","Khoiri","09/01/2019 12.55","C/Masuk","","Invalid","","","12:55:00"]
["401","Khoiri","10/01/2019 06.50","C/Masuk","","OK","","",""]
["401","Khoiri","10/01/2019 11.57","C/Masuk","","Invalid","","11:57:00",""]
["401","Khoiri","10/01/2019 12.52","C/Masuk","","Invalid","","","12:52:00"]
["401","Khoiri","11/01/2019 06.47","C/Masuk","","OK","","",""]
["401","Khoiri","11/01/2019 11.55","C/Masuk","","Invalid","","11:55:00",""]
["401","Khoiri","11/01/2019 12.51","C/Masuk","","Invalid","","","12:51:00"]
["401","Khoiri","11/01/2019 16.05","C/Masuk","C/Keluar","OK","","",""]
["401","Khoiri","14/01/2019 06.48","C/Masuk","","OK","","",""]
["401","Khoiri","14/01/2019 11.57","C/Masuk","","Invalid","","11:57:00",""]
["401","Khoiri","14/01/2019 12.56","C/Masuk","","Invalid","","","12:56:00"]
["401","Khoiri","14/01/2019 16.43","C/Masuk","C/Keluar","OK","","",""]
["401","Khoiri","15/01/2019 07.55","C/Masuk","","OK","","",""]
["401","Khoiri","15/01/2019 11.56","C/Masuk","","Invalid","","11:56:00",""]
["401","Khoiri","15/01/2019 12.52","C/Masuk","","Invalid","","","12:52:00"]
["401","Khoiri","15/01/2019 16.35","C/Masuk","C/Keluar","OK","","",""]
["402","Khoirul","03/01/2019 06.55","C/Masuk","","OK","","",""]
["402","Khoirul","03/01/2019 12.02","C/Masuk","","Invalid","","12:02:00",""]
["402","Khoirul","03/01/2019 12.54","C/Masuk","","Invalid","","","12:54:00"]
["402","Khoirul","03/01/2019 17.49","C/Masuk","C/Keluar","OK","","",""]
["402","Khoirul","04/01/2019 06.48","C/Masuk","","OK","","",""]
["402","Khoirul","04/01/2019 11.50","C/Masuk","","Invalid","","11:50:00",""]
["402","Khoirul","04/01/2019 12.58","C/Masuk","","Invalid","","","12:58:00"]
["402","Khoirul","04/01/2019 17.19","C/Masuk","C/Keluar","OK","","",""]
["402","Khoirul","05/01/2019 06.53","C/Masuk","","OK","","",""]
["402","Khoirul","05/01/2019 11.55","C/Masuk","","Invalid","","11:55:00",""]
["402","Khoirul","05/01/2019 12.59","C/Masuk","","Invalid","","","12:59:00"]
["402","Khoirul","05/01/2019 17.13","C/Masuk","C/Keluar","OK","","",""]
["402","Khoirul","07/01/2019 06.56","C/Masuk","","OK","","",""]
["402","Khoirul","07/01/2019 11.55","C/Masuk","","Invalid","","11:55:00",""]
["402","Khoirul","07/01/2019 12.59","C/Masuk","","Invalid","","","12:59:00"]
["402","Khoirul","07/01/2019 17.25","C/Masuk","C/Keluar","OK","","",""]
["402","Khoirul","08/01/2019 06.49","C/Masuk","","OK","","",""]
["402","Khoirul","08/01/2019 11.57","C/Masuk","","Invalid","","11:57:00",""]
["402","Khoirul","08/01/2019 12.57","C/Masuk","","Invalid","","","12:57:00"]
["402","Khoirul","08/01/2019 17.04","C/Masuk","C/Keluar","OK","","",""]
["402","Khoirul","09/01/2019 06.49","C/Masuk","","OK","","",""]
["402","Khoirul","09/01/2019 11.54","C/Masuk","","Invalid","","11:54:00",""]
["402","Khoirul","09/01/2019 13.02","C/Masuk","","Invalid","","","13:02:00"]
["402","Khoirul","09/01/2019 17.24","C/Masuk","C/Keluar","OK","","",""]
["402","Khoirul","10/01/2019 06.49","C/Masuk","","OK","","",""]
["402","Khoirul","10/01/2019 12.00","C/Masuk","","Invalid","","12:00:00",""]
["402","Khoirul","10/01/2019 12.56","C/Masuk","","Invalid","","","12:56:00"]
["402","Khoirul","10/01/2019 15.58","C/Masuk","C/Keluar","OK","","",""]
["402","Khoirul","11/01/2019 06.57","C/Masuk","","OK","","",""]
["402","Khoirul","11/01/2019 11.59","C/Masuk","","Invalid","","11:59:00",""]
["402","Khoirul","11/01/2019 13.06","C/Masuk","","Invalid","","","13:06:00"]
["402","Khoirul","11/01/2019 16.13","C/Masuk","C/Keluar","OK","","",""]
["402","Khoirul","14/01/2019 06.50","C/Masuk","","OK","","",""]
["402","Khoirul","14/01/2019 11.56","C/Masuk","","Invalid","","11:56:00",""]
["402","Khoirul","14/01/2019 12.53","C/Masuk","","Invalid","",{"$f":"IF(AND($F2050=\"invalid\",$F2049<>\"Invalid\"),TIMEVALUE($C2050),\"\")","v":""},{"$f":"IF(AND($F2050=\"invalid\",$F2049=\"Invalid\"),TIMEVALUE($C2050),\"\")","v":"12:53:00"}]
["402","Khoirul","14/01/2019 16.49","C/Masuk","C/Keluar","OK","","",""]
["402","Khoirul","15/01/2019 07.03","C/Masuk","","OK","","",""]
["402","Khoirul","15/01/2019 12.03","C/Masuk","","Invalid","","12:03:00",""]
["402","Khoirul","15/01/2019 13.01","C/Masuk","","Invalid","","","13:01:00"]
["402","Khoirul","15/01/2019 16.35","C/Masuk","C/Keluar","OK","","",""]
["403","Via","03/01/2019 06.50","C/Masuk","","OK","","",""]
["403","Via","03/01/2019 12.03","C/Masuk","","Invalid","","12:03:00",""]
["403","Via","03/01/2019 12.53","C/Masuk","","Invalid","","","12:53:00"]
["403","Via","03/01/2019 17.49","C/Masuk","C/Keluar","OK","","",""]
["403","Via","04/01/2019 06.49","C/Masuk","","OK","","",""]
["403","Via","04/01/2019 11.53","C/Masuk","","Invalid","","11:53:00",""]
["403","Via","04/01/2019 12.52","C/Masuk","","Invalid","","","12:52:00"]
["403","Via","04/01/2019 17.05","C/Masuk","C/Keluar","OK","","",""]
["403","Via","05/01/2019 06.51","C/Masuk","","OK","","",""]
["403","Via","05/01/2019 11.55","C/Masuk","","Invalid","","11:55:00",""]
["403","Via","05/01/2019 12.50","C/Masuk","","Invalid","","","12:50:00"]
["403","Via","05/01/2019 17.24","C/Masuk","C/Keluar","OK","","",""]
["403","Via","07/01/2019 06.46","C/Masuk","","OK","","",""]
["403","Via","07/01/2019 11.56","C/Masuk","","Invalid","","11:56:00",""]
["403","Via","07/01/2019 12.52","C/Masuk","","Invalid","","","12:52:00"]
["403","Via","08/01/2019 06.50","C/Masuk","","OK","","",""]
["403","Via","08/01/2019 12.00","C/Masuk","","Invalid","","12:00:00",""]
["403","Via","08/01/2019 12.51","C/Masuk","","Invalid","","","12:51:00"]
["403","Via","08/01/2019 17.09","C/Masuk","C/Keluar","OK","","",""]
["403","Via","09/01/2019 06.49","C/Masuk","","OK","","",""]
["403","Via","09/01/2019 11.58","C/Masuk","","Invalid","","11:58:00",""]
["403","Via","09/01/2019 12.54","C/Masuk","","Invalid","","","12:54:00"]
["403","Via","09/01/2019 17.31","C/Masuk","C/Keluar","OK","","",""]
["403","Via","10/01/2019 06.50","C/Masuk","","OK","","",""]
["403","Via","10/01/2019 11.57","C/Masuk","","Invalid","","11:57:00",""]
["403","Via","10/01/2019 12.52","C/Masuk","","Invalid","","","12:52:00"]
["403","Via","10/01/2019 15.56","C/Masuk","C/Keluar","OK","","",""]
["403","Via","11/01/2019 06.52","C/Masuk","","OK","","",""]
["403","Via","11/01/2019 11.58","C/Masuk","","Invalid","","11:58:00",""]
["403","Via","11/01/2019 12.51","C/Masuk","","Invalid","","","12:51:00"]
["403","Via","11/01/2019 16.17","C/Masuk","C/Keluar","OK","","",""]
["403","Via","14/01/2019 06.50","C/Masuk","","OK","","",""]
["403","Via","14/01/2019 11.58","C/Masuk","","Invalid","","11:58:00",""]
["403","Via","14/01/2019 12.50","C/Masuk","","Invalid","","","12:50:00"]
["403","Via","14/01/2019 16.37","C/Masuk","C/Keluar","OK","","",""]
["403","Via","15/01/2019 08.21","C/Masuk","","OK","","",""]
["403","Via","15/01/2019 12.01","C/Masuk","","Invalid","","12:01:00",""]
["403","Via","15/01/2019 12.50","C/Masuk","","Invalid","","","12:50:00"]
["403","Via","15/01/2019 16.07","C/Masuk","C/Keluar","OK","","",""]
["404","Fifi","03/01/2019 06.48","C/Masuk","","OK","","",""]
["404","Fifi","03/01/2019 12.04","C/Masuk","","Invalid","","12:04:00",""]
["404","Fifi","03/01/2019 12.51","C/Masuk","","Invalid","","","12:51:00"]
["404","Fifi","03/01/2019 17.54","C/Masuk","C/Keluar","OK","","",""]
["404","Fifi","04/01/2019 06.46","C/Masuk","","OK","","",""]
["404","Fifi","04/01/2019 12.51","C/Masuk","","Invalid","","12:51:00",""]
["404","Fifi","04/01/2019 17.07","C/Masuk","C/Keluar","OK","","",""]
["404","Fifi","05/01/2019 06.44","C/Masuk","","OK","","",""]
["404","Fifi","05/01/2019 11.55","C/Masuk","","Invalid","","11:55:00",""]
["404","Fifi","05/01/2019 12.50","C/Masuk","","Invalid","","","12:50:00"]
["404","Fifi","05/01/2019 17.23","C/Masuk","C/Keluar","OK","","",""]
["404","Fifi","07/01/2019 06.43","C/Masuk","","OK","","",""]
["404","Fifi","07/01/2019 11.54","C/Masuk","","Invalid","","11:54:00",""]
["404","Fifi","07/01/2019 12.53","C/Masuk","","Invalid","","","12:53:00"]
["404","Fifi","07/01/2019 17.31","C/Masuk","C/Keluar","OK","","",""]
["404","Fifi","08/01/2019 06.48","C/Masuk","","OK","","",""]
["404","Fifi","08/01/2019 12.00","C/Masuk","","Invalid","","12:00:00",""]
["404","Fifi","08/01/2019 12.53","C/Masuk","","Invalid","","","12:53:00"]
["404","Fifi","08/01/2019 17.10","C/Masuk","C/Keluar","OK","","",""]
["404","Fifi","09/01/2019 06.47","C/Masuk","","OK","",{"$f":"IF(AND($F2114=\"invalid\",$F2113<>\"Invalid\"),TIMEVALUE($C2114),\"\")","v":""},{"$f":"IF(AND($F2114=\"invalid\",$F2113=\"Invalid\"),TIMEVALUE($C2114),\"\")","v":""}]
["404","Fifi","09/01/2019 11.58","C/Masuk","","Invalid","","11:58:00",""]
["404","Fifi","09/01/2019 12.52","C/Masuk","","Invalid","","","12:52:00"]
["404","Fifi","09/01/2019 17.32","C/Masuk","C/Keluar","OK","","",""]
["404","Fifi","10/01/2019 06.47","C/Masuk","","OK","","",""]
["404","Fifi","10/01/2019 11.54","C/Masuk","","Invalid","","11:54:00",""]
["404","Fifi","10/01/2019 12.51","C/Masuk","","Invalid","","","12:51:00"]
["404","Fifi","10/01/2019 15.56","C/Masuk","C/Keluar","OK","","",""]
["404","Fifi","11/01/2019 06.44","C/Masuk","","OK","","",""]
["404","Fifi","11/01/2019 11.59","C/Masuk","","Invalid","","11:59:00",""]
["404","Fifi","11/01/2019 12.50","C/Masuk","","Invalid","","","12:50:00"]
["404","Fifi","11/01/2019 16.18","C/Masuk","C/Keluar","OK","","",""]
["404","Fifi","14/01/2019 06.45","C/Masuk","","OK","","",""]
["404","Fifi","14/01/2019 11.57","C/Masuk","","Invalid","","11:57:00",""]
["404","Fifi","14/01/2019 12.52","C/Masuk","","Invalid","","","12:52:00"]
["404","Fifi","14/01/2019 16.28","C/Masuk","C/Keluar","OK","","",""]
["404","Fifi","15/01/2019 06.45","C/Masuk","","OK","","",""]
["404","Fifi","15/01/2019 12.00","C/Masuk","","Invalid","","12:00:00",""]
["404","Fifi","15/01/2019 12.50","C/Masuk","","Invalid","","","12:50:00"]
["405","Zubaidah","03/01/2019 06.46","C/Masuk","","OK","","",""]
["405","Zubaidah","03/01/2019 12.04","C/Masuk","","Invalid","","12:04:00",""]
["405","Zubaidah","03/01/2019 12.51","C/Masuk","","Invalid","","","12:51:00"]
["405","Zubaidah","03/01/2019 17.48","C/Masuk","C/Keluar","OK","","",""]
["405","Zubaidah","04/01/2019 06.46","C/Masuk","","OK","","",""]
["405","Zubaidah","04/01/2019 11.51","C/Masuk","","Invalid","","11:51:00",""]
["405","Zubaidah","04/01/2019 12.51","C/Masuk","","Invalid","","","12:51:00"]
["405","Zubaidah","04/01/2019 17.08","C/Masuk","C/Keluar","OK","","",""]
["405","Zubaidah","05/01/2019 06.44","C/Masuk","","OK","","",""]
["405","Zubaidah","05/01/2019 11.55","C/Masuk","","Invalid","","11:55:00",""]
["405","Zubaidah","05/01/2019 12.49","C/Masuk","","Invalid","","","12:49:00"]
["405","Zubaidah","05/01/2019 17.21","C/Masuk","C/Keluar","OK","","",""]
["405","Zubaidah","07/01/2019 06.43","C/Masuk","","OK","","",""]
["405","Zubaidah","07/01/2019 11.53","C/Masuk","","Invalid","","11:53:00",""]
["405","Zubaidah","07/01/2019 12.51","C/Masuk","","Invalid","","","12:51:00"]
["405","Zubaidah","07/01/2019 17.31","C/Masuk","C/Keluar","OK","","",""]
["405","Zubaidah","08/01/2019 06.46","C/Masuk","","OK","","",""]
["405","Zubaidah","08/01/2019 12.00","C/Masuk","","Invalid","","12:00:00",""]
["405","Zubaidah","08/01/2019 12.51","C/Masuk","","Invalid","","","12:51:00"]
["405","Zubaidah","08/01/2019 17.08","C/Masuk","C/Keluar","OK","","",""]
["405","Zubaidah","09/01/2019 06.46","C/Masuk","","OK","","",""]
["405","Zubaidah","09/01/2019 11.57","C/Masuk","","Invalid","","11:57:00",""]
["405","Zubaidah","09/01/2019 12.55","C/Masuk","","Invalid","","","12:55:00"]
["405","Zubaidah","09/01/2019 17.30","C/Masuk","C/Keluar","OK","","",""]
["405","Zubaidah","10/01/2019 06.46","C/Masuk","","OK","","",""]
["405","Zubaidah","10/01/2019 06.54","C/Masuk","","Invalid","","06:54:00",""]
["405","Zubaidah","10/01/2019 11.53","C/Masuk","","Invalid","","","11:53:00"]
["405","Zubaidah","10/01/2019 12.37","C/Masuk","","Invalid","","","12:37:00"]
["405","Zubaidah","10/01/2019 15.58","C/Masuk","C/Keluar","OK","","",""]
["405","Zubaidah","11/01/2019 06.45","C/Masuk","","OK","","",""]
["405","Zubaidah","11/01/2019 11.58","C/Masuk","","Invalid","","11:58:00",""]
["405","Zubaidah","11/01/2019 12.52","C/Masuk","","Invalid","","","12:52:00"]
["405","Zubaidah","11/01/2019 16.18","C/Masuk","C/Keluar","OK","","",""]
["405","Zubaidah","14/01/2019 06.45","C/Masuk","","OK","","",""]
["405","Zubaidah","14/01/2019 11.57","C/Masuk","","Invalid","","11:57:00",""]
["405","Zubaidah","14/01/2019 12.47","C/Masuk","","Invalid","","","12:47:00"]
["405","Zubaidah","14/01/2019 16.27","C/Masuk","C/Keluar","OK","","",""]
["405","Zubaidah","15/01/2019 06.45","C/Masuk","","OK","","",""]
["405","Zubaidah","15/01/2019 12.00","C/Masuk","","Invalid","","12:00:00",""]
["405","Zubaidah","15/01/2019 12.52","C/Masuk","","Invalid","","","12:52:00"]
["405","Zubaidah","15/01/2019 16.11","C/Masuk","C/Keluar","OK","","",""]
["406","Rika","03/01/2019 06.47","C/Masuk","","OK","","",""]
["406","Rika","03/01/2019 12.05","C/Masuk","","Invalid","","12:05:00",""]
["406","Rika","03/01/2019 12.53","C/Masuk","","Invalid","","","12:53:00"]
["406","Rika","03/01/2019 17.47","C/Masuk","C/Keluar","OK","","",""]
["406","Rika","04/01/2019 06.47","C/Masuk","","OK","",{"$f":"IF(AND($F2178=\"invalid\",$F2177<>\"Invalid\"),TIMEVALUE($C2178),\"\")","v":""},{"$f":"IF(AND($F2178=\"invalid\",$F2177=\"Invalid\"),TIMEVALUE($C2178),\"\")","v":""}]
["406","Rika","04/01/2019 11.52","C/Masuk","","Invalid","","11:52:00",""]
["406","Rika","04/01/2019 12.53","C/Masuk","","Invalid","","","12:53:00"]
["406","Rika","04/01/2019 17.05","C/Masuk","C/Keluar","OK","","",""]
["406","Rika","05/01/2019 06.44","C/Masuk","","OK","","",""]
["406","Rika","05/01/2019 11.56","C/Masuk","","Invalid","","11:56:00",""]
["406","Rika","05/01/2019 12.51","C/Masuk","","Invalid","","","12:51:00"]
["406","Rika","05/01/2019 17.22","C/Masuk","C/Keluar","OK","","",""]
["406","Rika","07/01/2019 06.44","C/Masuk","","OK","","",""]
["406","Rika","07/01/2019 11.55","C/Masuk","","Invalid","","11:55:00",""]
["406","Rika","07/01/2019 12.52","C/Masuk","","Invalid","","","12:52:00"]
["406","Rika","07/01/2019 17.31","C/Masuk","C/Keluar","OK","","",""]
["406","Rika","08/01/2019 06.47","C/Masuk","","OK","","",""]
["406","Rika","08/01/2019 12.01","C/Masuk","","Invalid","","12:01:00",""]
["406","Rika","08/01/2019 12.54","C/Masuk","","Invalid","","","12:54:00"]
["406","Rika","09/01/2019 06.47","C/Masuk","","OK","","",""]
["406","Rika","09/01/2019 11.58","C/Masuk","","Invalid","","11:58:00",""]
["406","Rika","09/01/2019 12.54","C/Masuk","","Invalid","","","12:54:00"]
["406","Rika","09/01/2019 17.31","C/Masuk","C/Keluar","OK","","",""]
["406","Rika","10/01/2019 06.47","C/Masuk","","OK","","",""]
["406","Rika","10/01/2019 11.54","C/Masuk","","Invalid","","11:54:00",""]
["406","Rika","10/01/2019 12.52","C/Masuk","","Invalid","","","12:52:00"]
["406","Rika","10/01/2019 16.06","C/Masuk","C/Keluar","OK","","",""]
["406","Rika","11/01/2019 06.44","C/Masuk","","OK","","",""]
["406","Rika","11/01/2019 11.59","C/Masuk","","Invalid","","11:59:00",""]
["406","Rika","11/01/2019 12.52","C/Masuk","","Invalid","","","12:52:00"]
["406","Rika","11/01/2019 16.17","C/Masuk","C/Keluar","OK","","",""]
["406","Rika","14/01/2019 06.52","C/Masuk","","OK","","",""]
["406","Rika","14/01/2019 11.57","C/Masuk","","Invalid","","11:57:00",""]
["406","Rika","14/01/2019 12.51","C/Masuk","","Invalid","","","12:51:00"]
["406","Rika","14/01/2019 16.29","C/Masuk","C/Keluar","OK","","",""]
["406","Rika","15/01/2019 06.46","C/Masuk","","OK","","",""]
["406","Rika","15/01/2019 12.00","C/Masuk","","Invalid","","12:00:00",""]
["406","Rika","15/01/2019 12.51","C/Masuk","","Invalid","","","12:51:00"]
["406","Rika","15/01/2019 16.06","C/Masuk","C/Keluar","OK","","",""]
["407","Ima","03/01/2019 06.47","C/Masuk","","OK","","",""]
["407","Ima","03/01/2019 12.03","C/Masuk","","Invalid","","12:03:00",""]
["407","Ima","03/01/2019 12.50","C/Masuk","","Invalid","","","12:50:00"]
["407","Ima","03/01/2019 17.45","C/Masuk","C/Keluar","OK","","",""]
["407","Ima","04/01/2019 06.46","C/Masuk","","OK","","",""]
["407","Ima","04/01/2019 11.52","C/Masuk","","Invalid","","11:52:00",""]
["407","Ima","04/01/2019 12.51","C/Masuk","","Invalid","","","12:51:00"]
["407","Ima","04/01/2019 17.03","C/Masuk","C/Keluar","OK","","",""]
["407","Ima","05/01/2019 06.44","C/Masuk","","OK","","",""]
["407","Ima","05/01/2019 11.55","C/Masuk","","Invalid","","11:55:00",""]
["407","Ima","05/01/2019 12.50","C/Masuk","","Invalid","","","12:50:00"]
["407","Ima","05/01/2019 17.20","C/Masuk","C/Keluar","OK","","",""]
["407","Ima","07/01/2019 07.44","C/Masuk","","OK","","",""]
["407","Ima","07/01/2019 11.53","C/Masuk","","Invalid","","11:53:00",""]
["407","Ima","07/01/2019 12.51","C/Masuk","","Invalid","","","12:51:00"]
["407","Ima","07/01/2019 17.28","C/Masuk","C/Keluar","OK","","",""]
["407","Ima","08/01/2019 06.47","C/Masuk","","OK","","",""]
["407","Ima","08/01/2019 12.00","C/Masuk","","Invalid","","12:00:00",""]
["407","Ima","08/01/2019 12.51","C/Masuk","","Invalid","","","12:51:00"]
["407","Ima","08/01/2019 17.10","C/Masuk","C/Keluar","OK","","",""]
["407","Ima","09/01/2019 06.47","C/Masuk","","OK","","",""]
["407","Ima","09/01/2019 11.56","C/Masuk","","Invalid","","11:56:00",""]
["407","Ima","09/01/2019 12.52","C/Masuk","","Invalid","","","12:52:00"]
["407","Ima","09/01/2019 17.28","C/Masuk","C/Keluar","OK","","",""]
["407","Ima","10/01/2019 06.46","C/Masuk","","OK","","",""]
["407","Ima","10/01/2019 11.54","C/Masuk","","Invalid","","11:54:00",""]
["407","Ima","10/01/2019 12.51","C/Masuk","","Invalid","","","12:51:00"]
["407","Ima","10/01/2019 15.55","C/Masuk","C/Keluar","OK","","",""]
["407","Ima","11/01/2019 06.43","C/Masuk","","OK","","",""]
["407","Ima","11/01/2019 11.58","C/Masuk","","Invalid","",{"$f":"IF(AND($F2242=\"invalid\",$F2241<>\"Invalid\"),TIMEVALUE($C2242),\"\")","v":"11:58:00"},{"$f":"IF(AND($F2242=\"invalid\",$F2241=\"Invalid\"),TIMEVALUE($C2242),\"\")","v":""}]
["407","Ima","11/01/2019 12.50","C/Masuk","","Invalid","","","12:50:00"]
["407","Ima","11/01/2019 16.16","C/Masuk","C/Keluar","OK","","",""]
["407","Ima","14/01/2019 06.45","C/Masuk","","OK","","",""]
["407","Ima","14/01/2019 11.57","C/Masuk","","Invalid","","11:57:00",""]
["407","Ima","14/01/2019 12.49","C/Masuk","","Invalid","","","12:49:00"]
["407","Ima","14/01/2019 16.28","C/Masuk","C/Keluar","OK","","",""]
["407","Ima","15/01/2019 06.46","C/Masuk","","OK","","",""]
["407","Ima","15/01/2019 11.58","C/Masuk","","Invalid","","11:58:00",""]
["407","Ima","15/01/2019 12.52","C/Masuk","","Invalid","","","12:52:00"]
["407","Ima","15/01/2019 16.09","C/Masuk","C/Keluar","OK","","",""]
["408","Gita","03/01/2019 06.48","C/Masuk","","OK","","",""]
["408","Gita","03/01/2019 12.05","C/Masuk","","Invalid","","12:05:00",""]
["408","Gita","03/01/2019 12.50","C/Masuk","","Invalid","","","12:50:00"]
["408","Gita","03/01/2019 17.48","C/Masuk","C/Keluar","OK","","",""]
["408","Gita","04/01/2019 06.47","C/Masuk","","OK","","",""]
["408","Gita","04/01/2019 11.54","C/Masuk","","Invalid","","11:54:00",""]
["408","Gita","04/01/2019 12.52","C/Masuk","","Invalid","","","12:52:00"]
["408","Gita","04/01/2019 17.06","C/Masuk","C/Keluar","OK","","",""]
["408","Gita","05/01/2019 06.46","C/Masuk","","OK","","",""]
["408","Gita","05/01/2019 11.57","C/Masuk","","Invalid","","11:57:00",""]
["408","Gita","05/01/2019 12.49","C/Masuk","","Invalid","","","12:49:00"]
["408","Gita","05/01/2019 17.22","C/Masuk","C/Keluar","OK","","",""]
["408","Gita","07/01/2019 06.44","C/Masuk","","OK","","",""]
["408","Gita","07/01/2019 11.54","C/Masuk","","Invalid","","11:54:00",""]
["408","Gita","07/01/2019 12.51","C/Masuk","","Invalid","","","12:51:00"]
["408","Gita","07/01/2019 17.31","C/Masuk","C/Keluar","OK","","",""]
["408","Gita","08/01/2019 06.48","C/Masuk","","OK","","",""]
["408","Gita","08/01/2019 12.52","C/Masuk","","Invalid","","12:52:00",""]
["408","Gita","08/01/2019 17.12","C/Masuk","C/Keluar","OK","","",""]
["408","Gita","09/01/2019 06.50","C/Masuk","","OK","","",""]
["408","Gita","09/01/2019 11.58","C/Masuk","","Invalid","","11:58:00",""]
["408","Gita","09/01/2019 12.54","C/Masuk","","Invalid","","","12:54:00"]
["408","Gita","09/01/2019 17.36","C/Masuk","C/Keluar","OK","","",""]
["408","Gita","10/01/2019 06.48","C/Masuk","","OK","","",""]
["408","Gita","10/01/2019 11.54","C/Masuk","","Invalid","","11:54:00",""]
["408","Gita","10/01/2019 12.51","C/Masuk","","Invalid","","","12:51:00"]
["408","Gita","10/01/2019 15.58","C/Masuk","C/Keluar","OK","","",""]
["408","Gita","11/01/2019 06.47","C/Masuk","","OK","","",""]
["408","Gita","11/01/2019 11.59","C/Masuk","","Invalid","","11:59:00",""]
["408","Gita","11/01/2019 12.52","C/Masuk","","Invalid","","","12:52:00"]
["408","Gita","11/01/2019 16.18","C/Masuk","C/Keluar","OK","","",""]
["408","Gita","14/01/2019 06.48","C/Masuk","","OK","","",""]
["408","Gita","14/01/2019 11.56","C/Masuk","","Invalid","","11:56:00",""]
["408","Gita","14/01/2019 12.52","C/Masuk","","Invalid","","","12:52:00"]
["408","Gita","14/01/2019 16.30","C/Masuk","C/Keluar","OK","","",""]
["408","Gita","15/01/2019 06.46","C/Masuk","","OK","","",""]
["408","Gita","15/01/2019 11.58","C/Masuk","","Invalid","","11:58:00",""]
["408","Gita","15/01/2019 12.50","C/Masuk","","Invalid","","","12:50:00"]
["408","Gita","15/01/2019 16.05","C/Masuk","C/Keluar","OK","","",""]
["409","Evi","03/01/2019 06.50","C/Masuk","","OK","","",""]
["409","Evi","03/01/2019 12.02","C/Masuk","","Invalid","","12:02:00",""]
["409","Evi","03/01/2019 12.53","C/Masuk","","Invalid","","","12:53:00"]
["409","Evi","03/01/2019 17.49","C/Masuk","C/Keluar","OK","","",""]
["409","Evi","04/01/2019 06.47","C/Masuk","","OK","","",""]
["409","Evi","04/01/2019 11.52","C/Masuk","","Invalid","","11:52:00",""]
["409","Evi","04/01/2019 12.52","C/Masuk","","Invalid","","","12:52:00"]
["409","Evi","04/01/2019 17.05","C/Masuk","C/Keluar","OK","","",""]
["409","Evi","05/01/2019 06.45","C/Masuk","","OK","","",""]
["409","Evi","05/01/2019 11.55","C/Masuk","","Invalid","","11:55:00",""]
["409","Evi","05/01/2019 12.50","C/Masuk","","Invalid","","","12:50:00"]
["409","Evi","05/01/2019 17.22","C/Masuk","C/Keluar","OK","","",""]
["409","Evi","07/01/2019 07.43","C/Masuk","","OK","","",""]
["409","Evi","07/01/2019 11.53","C/Masuk","","Invalid","","11:53:00",""]
["409","Evi","07/01/2019 12.52","C/Masuk","","Invalid","",{"$f":"IF(AND($F2306=\"invalid\",$F2305<>\"Invalid\"),TIMEVALUE($C2306),\"\")","v":""},{"$f":"IF(AND($F2306=\"invalid\",$F2305=\"Invalid\"),TIMEVALUE($C2306),\"\")","v":"12:52:00"}]
["409","Evi","07/01/2019 15.01","C/Masuk","C/Keluar","OK","","",""]
["409","Evi","08/01/2019 06.50","C/Masuk","","OK","","",""]
["409","Evi","08/01/2019 12.00","C/Masuk","","Invalid","","12:00:00",""]
["409","Evi","08/01/2019 12.54","C/Masuk","","Invalid","","","12:54:00"]
["409","Evi","08/01/2019 17.07","C/Masuk","C/Keluar","OK","","",""]
["409","Evi","09/01/2019 06.47","C/Masuk","","OK","","",""]
["409","Evi","09/01/2019 11.58","C/Masuk","","Invalid","","11:58:00",""]
["409","Evi","09/01/2019 12.53","C/Masuk","","Invalid","","","12:53:00"]
["409","Evi","09/01/2019 17.31","C/Masuk","C/Keluar","OK","","",""]
["409","Evi","10/01/2019 06.48","C/Masuk","","OK","","",""]
["409","Evi","10/01/2019 11.55","C/Masuk","","Invalid","","11:55:00",""]
["409","Evi","10/01/2019 15.57","C/Masuk","C/Keluar","OK","","",""]
["409","Evi","11/01/2019 06.43","C/Masuk","","OK","","",""]
["409","Evi","11/01/2019 11.59","C/Masuk","","Invalid","","11:59:00",""]
["409","Evi","11/01/2019 12.52","C/Masuk","","Invalid","","","12:52:00"]
["409","Evi","11/01/2019 16.18","C/Masuk","C/Keluar","OK","","",""]
["409","Evi","14/01/2019 06.46","C/Masuk","","OK","","",""]
["409","Evi","14/01/2019 11.58","C/Masuk","","Invalid","","11:58:00",""]
["409","Evi","14/01/2019 12.52","C/Masuk","","Invalid","","","12:52:00"]
["409","Evi","14/01/2019 16.30","C/Masuk","C/Keluar","OK","","",""]
["409","Evi","15/01/2019 06.47","C/Masuk","","OK","","",""]
["409","Evi","15/01/2019 12.52","C/Masuk","","Invalid","","12:52:00",""]
["409","Evi","15/01/2019 16.06","C/Masuk","C/Keluar","OK","","",""]
["410","Fitri","03/01/2019 06.50","C/Masuk","","OK","","",""]
["410","Fitri","03/01/2019 12.04","C/Masuk","","Invalid","","12:04:00",""]
["410","Fitri","03/01/2019 12.53","C/Masuk","","Invalid","","","12:53:00"]
["410","Fitri","03/01/2019 17.48","C/Masuk","C/Keluar","OK","","",""]
["410","Fitri","04/01/2019 06.49","C/Masuk","","OK","","",""]
["410","Fitri","04/01/2019 11.54","C/Masuk","","Invalid","","11:54:00",""]
["410","Fitri","04/01/2019 12.52","C/Masuk","","Invalid","","","12:52:00"]
["410","Fitri","04/01/2019 17.08","C/Masuk","C/Keluar","OK","","",""]
["410","Fitri","05/01/2019 06.47","C/Masuk","","OK","","",""]
["410","Fitri","05/01/2019 11.57","C/Masuk","","Invalid","","11:57:00",""]
["410","Fitri","05/01/2019 12.50","C/Masuk","","Invalid","","","12:50:00"]
["410","Fitri","05/01/2019 17.22","C/Masuk","C/Keluar","OK","","",""]
["410","Fitri","07/01/2019 06.43","C/Masuk","","OK","","",""]
["410","Fitri","07/01/2019 11.56","C/Masuk","","Invalid","","11:56:00",""]
["410","Fitri","07/01/2019 12.52","C/Masuk","","Invalid","","","12:52:00"]
["410","Fitri","07/01/2019 17.34","C/Masuk","C/Keluar","OK","","",""]
["410","Fitri","08/01/2019 06.49","C/Masuk","","OK","","",""]
["410","Fitri","08/01/2019 12.00","C/Masuk","","Invalid","","12:00:00",""]
["410","Fitri","08/01/2019 12.53","C/Masuk","","Invalid","","","12:53:00"]
["410","Fitri","08/01/2019 17.12","C/Masuk","C/Keluar","OK","","",""]
["410","Fitri","09/01/2019 11.59","C/Masuk","","Invalid","","11:59:00",""]
["410","Fitri","09/01/2019 12.54","C/Masuk","","Invalid","","","12:54:00"]
["410","Fitri","09/01/2019 17.34","C/Masuk","C/Keluar","OK","","",""]
["410","Fitri","10/01/2019 06.49","C/Masuk","","OK","","",""]
["410","Fitri","10/01/2019 11.54","C/Masuk","","Invalid","","11:54:00",""]
["410","Fitri","10/01/2019 12.51","C/Masuk","","Invalid","","","12:51:00"]
["410","Fitri","10/01/2019 16.01","C/Masuk","C/Keluar","OK","","",""]
["410","Fitri","11/01/2019 06.44","C/Masuk","","OK","","",""]
["410","Fitri","11/01/2019 11.59","C/Masuk","","Invalid","","11:59:00",""]
["410","Fitri","11/01/2019 12.52","C/Masuk","","Invalid","","","12:52:00"]
["410","Fitri","11/01/2019 16.19","C/Masuk","C/Keluar","OK","","",""]
["410","Fitri","14/01/2019 06.45","C/Masuk","","OK","","",""]
["410","Fitri","14/01/2019 12.00","C/Masuk","","Invalid","","12:00:00",""]
["410","Fitri","14/01/2019 12.50","C/Masuk","","Invalid","","","12:50:00"]
["410","Fitri","14/01/2019 16.37","C/Masuk","C/Keluar","OK","","",""]
["410","Fitri","15/01/2019 06.48","C/Masuk","","OK","","",""]
["410","Fitri","15/01/2019 11.59","C/Masuk","","Invalid","","11:59:00",""]
["410","Fitri","15/01/2019 12.50","C/Masuk","","Invalid","","","12:50:00"]
["410","Fitri","15/01/2019 16.08","C/Masuk","C/Keluar","OK","","",""]
["411","Vita","03/01/2019 06.50","C/Masuk","","OK","","",""]
["411","Vita","03/01/2019 12.05","C/Masuk","","Invalid","",{"$f":"IF(AND($F2370=\"invalid\",$F2369<>\"Invalid\"),TIMEVALUE($C2370),\"\")","v":"12:05:00"},{"$f":"IF(AND($F2370=\"invalid\",$F2369=\"Invalid\"),TIMEVALUE($C2370),\"\")","v":""}]
["411","Vita","03/01/2019 12.51","C/Masuk","","Invalid","","","12:51:00"]
["411","Vita","03/01/2019 17.50","C/Masuk","C/Keluar","OK","","",""]
["411","Vita","04/01/2019 06.46","C/Masuk","","OK","","",""]
["411","Vita","04/01/2019 11.53","C/Masuk","","Invalid","","11:53:00",""]
["411","Vita","04/01/2019 12.52","C/Masuk","","Invalid","","","12:52:00"]
["411","Vita","04/01/2019 17.12","C/Masuk","C/Keluar","OK","","",""]
["411","Vita","05/01/2019 06.46","C/Masuk","","OK","","",""]
["411","Vita","05/01/2019 11.57","C/Masuk","","Invalid","","11:57:00",""]
["411","Vita","05/01/2019 12.50","C/Masuk","","Invalid","","","12:50:00"]
["411","Vita","05/01/2019 17.23","C/Masuk","C/Keluar","OK","","",""]
["411","Vita","07/01/2019 06.44","C/Masuk","","OK","","",""]
["411","Vita","07/01/2019 11.54","C/Masuk","","Invalid","","11:54:00",""]
["411","Vita","07/01/2019 12.52","C/Masuk","","Invalid","","","12:52:00"]
["411","Vita","07/01/2019 17.31","C/Masuk","C/Keluar","OK","","",""]
["411","Vita","10/01/2019 06.50","C/Masuk","","OK","","",""]
["411","Vita","10/01/2019 11.55","C/Masuk","","Invalid","","11:55:00",""]
["411","Vita","10/01/2019 12.51","C/Masuk","","Invalid","","","12:51:00"]
["411","Vita","11/01/2019 06.45","C/Masuk","","OK","","",""]
["411","Vita","11/01/2019 11.59","C/Masuk","","Invalid","","11:59:00",""]
["411","Vita","11/01/2019 12.50","C/Masuk","","Invalid","","","12:50:00"]
["411","Vita","11/01/2019 16.18","C/Masuk","C/Keluar","OK","","",""]
["411","Vita","14/01/2019 06.46","C/Masuk","","OK","","",""]
["411","Vita","14/01/2019 11.59","C/Masuk","","Invalid","","11:59:00",""]
["411","Vita","14/01/2019 12.51","C/Masuk","","Invalid","","","12:51:00"]
["411","Vita","14/01/2019 16.30","C/Masuk","C/Keluar","OK","","",""]
["411","Vita","15/01/2019 06.47","C/Masuk","","OK","","",""]
["411","Vita","15/01/2019 12.00","C/Masuk","","Invalid","","12:00:00",""]
["411","Vita","15/01/2019 12.53","C/Masuk","","Invalid","","","12:53:00"]
["411","Vita","15/01/2019 16.07","C/Masuk","C/Keluar","OK","","",""]
["412","Nafil","03/01/2019 06.50","C/Masuk","","OK","","",""]
["412","Nafil","03/01/2019 12.04","C/Masuk","","Invalid","","12:04:00",""]
["412","Nafil","03/01/2019 12.53","C/Masuk","","Invalid","","","12:53:00"]
["412","Nafil","03/01/2019 17.47","C/Masuk","C/Keluar","OK","","",""]
["412","Nafil","04/01/2019 06.48","C/Masuk","","OK","","",""]
["412","Nafil","04/01/2019 11.53","C/Masuk","","Invalid","","11:53:00",""]
["412","Nafil","04/01/2019 12.52","C/Masuk","","Invalid","","","12:52:00"]
["412","Nafil","04/01/2019 17.05","C/Masuk","C/Keluar","OK","","",""]
["412","Nafil","05/01/2019 06.45","C/Masuk","","OK","","",""]
["412","Nafil","05/01/2019 11.56","C/Masuk","","Invalid","","11:56:00",""]
["412","Nafil","05/01/2019 12.51","C/Masuk","","Invalid","","","12:51:00"]
["412","Nafil","05/01/2019 17.19","C/Masuk","C/Keluar","OK","","",""]
["412","Nafil","07/01/2019 06.44","C/Masuk","","OK","","",""]
["412","Nafil","07/01/2019 11.53","C/Masuk","","Invalid","","11:53:00",""]
["412","Nafil","07/01/2019 12.52","C/Masuk","","Invalid","","","12:52:00"]
["412","Nafil","07/01/2019 17.29","C/Masuk","C/Keluar","OK","","",""]
["412","Nafil","08/01/2019 06.48","C/Masuk","","OK","","",""]
["412","Nafil","08/01/2019 12.00","C/Masuk","","Invalid","","12:00:00",""]
["412","Nafil","08/01/2019 12.53","C/Masuk","","Invalid","","","12:53:00"]
["412","Nafil","09/01/2019 06.47","C/Masuk","","OK","","",""]
["412","Nafil","09/01/2019 11.57","C/Masuk","","Invalid","","11:57:00",""]
["412","Nafil","09/01/2019 12.54","C/Masuk","","Invalid","","","12:54:00"]
["412","Nafil","09/01/2019 17.30","C/Masuk","C/Keluar","OK","","",""]
["412","Nafil","10/01/2019 06.47","C/Masuk","","OK","","",""]
["412","Nafil","10/01/2019 11.55","C/Masuk","","Invalid","","11:55:00",""]
["412","Nafil","10/01/2019 12.51","C/Masuk","","Invalid","","","12:51:00"]
["412","Nafil","10/01/2019 15.56","C/Masuk","C/Keluar","OK","","",""]
["412","Nafil","11/01/2019 06.44","C/Masuk","","OK","","",""]
["412","Nafil","11/01/2019 12.00","C/Masuk","","Invalid","","12:00:00",""]
["412","Nafil","11/01/2019 12.52","C/Masuk","","Invalid","","","12:52:00"]
["412","Nafil","11/01/2019 16.18","C/Masuk","C/Keluar","OK","","",""]
["412","Nafil","14/01/2019 06.46","C/Masuk","","OK","","",""]
["412","Nafil","14/01/2019 11.57","C/Masuk","","Invalid","","11:57:00",""]
["412","Nafil","14/01/2019 12.51","C/Masuk","","Invalid","","","12:51:00"]
["412","Nafil","14/01/2019 16.27","C/Masuk","C/Keluar","OK","",{"$f":"IF(AND($F2434=\"invalid\",$F2433<>\"Invalid\"),TIMEVALUE($C2434),\"\")","v":""},{"$f":"IF(AND($F2434=\"invalid\",$F2433=\"Invalid\"),TIMEVALUE($C2434),\"\")","v":""}]
["412","Nafil","15/01/2019 06.47","C/Masuk","","OK","","",""]
["412","Nafil","15/01/2019 12.01","C/Masuk","","Invalid","","12:01:00",""]
["412","Nafil","15/01/2019 12.52","C/Masuk","","Invalid","","","12:52:00"]
["412","Nafil","15/01/2019 16.05","C/Masuk","C/Keluar","OK","","",""]
["413","Ayunda","03/01/2019 06.47","C/Masuk","","OK","","",""]
["413","Ayunda","03/01/2019 12.05","C/Masuk","","Invalid","","12:05:00",""]
["413","Ayunda","03/01/2019 12.52","C/Masuk","","Invalid","","","12:52:00"]
["413","Ayunda","04/01/2019 06.47","C/Masuk","","OK","","",""]
["413","Ayunda","04/01/2019 11.52","C/Masuk","","Invalid","","11:52:00",""]
["413","Ayunda","04/01/2019 12.52","C/Masuk","","Invalid","","","12:52:00"]
["413","Ayunda","04/01/2019 17.05","C/Masuk","C/Keluar","OK","","",""]
["413","Ayunda","05/01/2019 06.47","C/Masuk","","OK","","",""]
["413","Ayunda","05/01/2019 11.55","C/Masuk","","Invalid","","11:55:00",""]
["413","Ayunda","05/01/2019 12.51","C/Masuk","","Invalid","","","12:51:00"]
["413","Ayunda","05/01/2019 17.21","C/Masuk","C/Keluar","OK","","",""]
["413","Ayunda","07/01/2019 06.45","C/Masuk","","OK","","",""]
["413","Ayunda","07/01/2019 11.54","C/Masuk","","Invalid","","11:54:00",""]
["413","Ayunda","07/01/2019 12.52","C/Masuk","","Invalid","","","12:52:00"]
["413","Ayunda","07/01/2019 17.31","C/Masuk","C/Keluar","OK","","",""]
["413","Ayunda","08/01/2019 06.47","C/Masuk","","OK","","",""]
["413","Ayunda","08/01/2019 12.01","C/Masuk","","Invalid","","12:01:00",""]
["413","Ayunda","08/01/2019 12.52","C/Masuk","","Invalid","","","12:52:00"]
["413","Ayunda","08/01/2019 17.12","C/Masuk","C/Keluar","OK","","",""]
["413","Ayunda","09/01/2019 06.47","C/Masuk","","OK","","",""]
["413","Ayunda","09/01/2019 11.57","C/Masuk","","Invalid","","11:57:00",""]
["413","Ayunda","09/01/2019 12.54","C/Masuk","","Invalid","","","12:54:00"]
["413","Ayunda","09/01/2019 17.30","C/Masuk","C/Keluar","OK","","",""]
["413","Ayunda","10/01/2019 06.47","C/Masuk","","OK","","",""]
["413","Ayunda","10/01/2019 11.54","C/Masuk","","Invalid","","11:54:00",""]
["413","Ayunda","10/01/2019 12.52","C/Masuk","","Invalid","","","12:52:00"]
["413","Ayunda","10/01/2019 15.56","C/Masuk","C/Keluar","OK","","",""]
["413","Ayunda","11/01/2019 06.45","C/Masuk","","OK","","",""]
["413","Ayunda","11/01/2019 11.59","C/Masuk","","Invalid","","11:59:00",""]
["413","Ayunda","11/01/2019 12.51","C/Masuk","","Invalid","","","12:51:00"]
["413","Ayunda","11/01/2019 16.19","C/Masuk","C/Keluar","OK","","",""]
["413","Ayunda","14/01/2019 06.46","C/Masuk","","OK","","",""]
["413","Ayunda","14/01/2019 11.57","C/Masuk","","Invalid","","11:57:00",""]
["413","Ayunda","14/01/2019 12.51","C/Masuk","","Invalid","","","12:51:00"]
["413","Ayunda","14/01/2019 16.28","C/Masuk","C/Keluar","OK","","",""]
["413","Ayunda","15/01/2019 06.46","C/Masuk","","OK","","",""]
["413","Ayunda","15/01/2019 11.59","C/Masuk","","Invalid","","11:59:00",""]
["413","Ayunda","15/01/2019 12.52","C/Masuk","","Invalid","","","12:52:00"]
["413","Ayunda","15/01/2019 16.06","C/Masuk","C/Keluar","OK","","",""]
["414","Vina","03/01/2019 06.47","C/Masuk","","OK","","",""]
["414","Vina","03/01/2019 12.05","C/Masuk","","Invalid","","12:05:00",""]
["414","Vina","03/01/2019 12.52","C/Masuk","","Invalid","","","12:52:00"]
["414","Vina","03/01/2019 17.48","C/Masuk","C/Keluar","OK","","",""]
["414","Vina","04/01/2019 06.49","C/Masuk","","OK","","",""]
["414","Vina","04/01/2019 11.53","C/Masuk","","Invalid","","11:53:00",""]
["414","Vina","04/01/2019 12.52","C/Masuk","","Invalid","","","12:52:00"]
["414","Vina","04/01/2019 17.07","C/Masuk","C/Keluar","OK","","",""]
["414","Vina","05/01/2019 06.45","C/Masuk","","OK","","",""]
["414","Vina","05/01/2019 11.57","C/Masuk","","Invalid","","11:57:00",""]
["414","Vina","05/01/2019 12.50","C/Masuk","","Invalid","","","12:50:00"]
["414","Vina","05/01/2019 17.21","C/Masuk","C/Keluar","OK","","",""]
["414","Vina","07/01/2019 06.44","C/Masuk","","OK","","",""]
["414","Vina","07/01/2019 11.55","C/Masuk","","Invalid","","11:55:00",""]
["414","Vina","07/01/2019 12.52","C/Masuk","","Invalid","","","12:52:00"]
["414","Vina","07/01/2019 17.29","C/Masuk","C/Keluar","OK","","",""]
["414","Vina","08/01/2019 06.48","C/Masuk","","OK","","",""]
["414","Vina","08/01/2019 12.01","C/Masuk","","Invalid","","12:01:00",""]
["414","Vina","08/01/2019 12.53","C/Masuk","","Invalid","","","12:53:00"]
["414","Vina","08/01/2019 17.11","C/Masuk","C/Keluar","OK","","",""]
["414","Vina","09/01/2019 06.47","C/Masuk","","OK","",{"$f":"IF(AND($F2498=\"invalid\",$F2497<>\"Invalid\"),TIMEVALUE($C2498),\"\")","v":""},{"$f":"IF(AND($F2498=\"invalid\",$F2497=\"Invalid\"),TIMEVALUE($C2498),\"\")","v":""}]
["414","Vina","09/01/2019 11.58","C/Masuk","","Invalid","","11:58:00",""]
["414","Vina","09/01/2019 12.54","C/Masuk","","Invalid","","","12:54:00"]
["414","Vina","09/01/2019 17.30","C/Masuk","C/Keluar","OK","","",""]
["414","Vina","10/01/2019 06.48","C/Masuk","","OK","","",""]
["414","Vina","10/01/2019 11.54","C/Masuk","","Invalid","","11:54:00",""]
["414","Vina","10/01/2019 12.52","C/Masuk","","Invalid","","","12:52:00"]
["414","Vina","10/01/2019 15.59","C/Masuk","C/Keluar","OK","","",""]
["414","Vina","11/01/2019 06.45","C/Masuk","","OK","","",""]
["414","Vina","11/01/2019 11.59","C/Masuk","","Invalid","","11:59:00",""]
["414","Vina","11/01/2019 12.52","C/Masuk","","Invalid","","","12:52:00"]
["414","Vina","11/01/2019 16.19","C/Masuk","C/Keluar","OK","","",""]
["414","Vina","14/01/2019 06.46","C/Masuk","","OK","","",""]
["414","Vina","14/01/2019 11.57","C/Masuk","","Invalid","","11:57:00",""]
["414","Vina","14/01/2019 12.52","C/Masuk","","Invalid","","","12:52:00"]
["414","Vina","14/01/2019 16.30","C/Masuk","C/Keluar","OK","","",""]
["414","Vina","15/01/2019 06.47","C/Masuk","","OK","","",""]
["414","Vina","15/01/2019 12.00","C/Masuk","","Invalid","","12:00:00",""]
["414","Vina","15/01/2019 12.53","C/Masuk","","Invalid","","","12:53:00"]
["414","Vina","15/01/2019 16.05","C/Masuk","C/Keluar","OK","","",""]
["415","Weni","03/01/2019 06.47","C/Masuk","","OK","","",""]
["415","Weni","03/01/2019 12.05","C/Masuk","","Invalid","","12:05:00",""]
["415","Weni","03/01/2019 12.52","C/Masuk","","Invalid","","","12:52:00"]
["415","Weni","03/01/2019 17.48","C/Masuk","C/Keluar","OK","","",""]
["415","Weni","04/01/2019 06.47","C/Masuk","","OK","","",""]
["415","Weni","04/01/2019 11.53","C/Masuk","","Invalid","","11:53:00",""]
["415","Weni","04/01/2019 12.52","C/Masuk","","Invalid","","","12:52:00"]
["415","Weni","04/01/2019 17.05","C/Masuk","C/Keluar","OK","","",""]
["415","Weni","05/01/2019 06.45","C/Masuk","","OK","","",""]
["415","Weni","05/01/2019 11.56","C/Masuk","","Invalid","","11:56:00",""]
["415","Weni","05/01/2019 12.50","C/Masuk","","Invalid","","","12:50:00"]
["415","Weni","05/01/2019 17.23","C/Masuk","C/Keluar","OK","","",""]
["415","Weni","07/01/2019 06.45","C/Masuk","","OK","","",""]
["415","Weni","07/01/2019 11.55","C/Masuk","","Invalid","","11:55:00",""]
["415","Weni","07/01/2019 12.52","C/Masuk","","Invalid","","","12:52:00"]
["415","Weni","07/01/2019 17.29","C/Masuk","C/Keluar","OK","","",""]
["415","Weni","08/01/2019 06.47","C/Masuk","","OK","","",""]
["415","Weni","08/01/2019 12.01","C/Masuk","","Invalid","","12:01:00",""]
["415","Weni","08/01/2019 12.52","C/Masuk","","Invalid","","","12:52:00"]
["415","Weni","08/01/2019 17.10","C/Masuk","C/Keluar","OK","","",""]
["415","Weni","09/01/2019 06.47","C/Masuk","","OK","","",""]
["415","Weni","09/01/2019 11.57","C/Masuk","","Invalid","","11:57:00",""]
["415","Weni","09/01/2019 12.54","C/Masuk","","Invalid","","","12:54:00"]
["415","Weni","09/01/2019 17.31","C/Masuk","C/Keluar","OK","","",""]
["415","Weni","10/01/2019 06.48","C/Masuk","","OK","","",""]
["415","Weni","10/01/2019 11.54","C/Masuk","","Invalid","","11:54:00",""]
["415","Weni","10/01/2019 12.52","C/Masuk","","Invalid","","","12:52:00"]
["415","Weni","10/01/2019 15.56","C/Masuk","C/Keluar","OK","","",""]
["415","Weni","11/01/2019 06.45","C/Masuk","","OK","","",""]
["415","Weni","11/01/2019 11.59","C/Masuk","","Invalid","","11:59:00",""]
["415","Weni","11/01/2019 12.51","C/Masuk","","Invalid","","","12:51:00"]
["415","Weni","11/01/2019 16.18","C/Masuk","C/Keluar","OK","","",""]
["415","Weni","14/01/2019 06.46","C/Masuk","","OK","","",""]
["415","Weni","14/01/2019 11.58","C/Masuk","","Invalid","","11:58:00",""]
["415","Weni","14/01/2019 12.51","C/Masuk","","Invalid","","","12:51:00"]
["415","Weni","15/01/2019 06.47","C/Masuk","","OK","","",""]
["415","Weni","15/01/2019 12.01","C/Masuk","","Invalid","","12:01:00",""]
["415","Weni","15/01/2019 12.52","C/Masuk","","Invalid","","","12:52:00"]
["415","Weni","15/01/2019 16.05","C/Masuk","C/Keluar","OK","","",""]
["416","Siyati","03/01/2019 06.47","C/Masuk","","OK","","",""]
["416","Siyati","03/01/2019 12.51","C/Masuk","","Invalid","","12:51:00",""]
["416","Siyati","03/01/2019 17.47","C/Masuk","C/Keluar","OK","","",""]
["416","Siyati","04/01/2019 06.47","C/Masuk","","OK","","",""]
["416","Siyati","04/01/2019 11.53","C/Masuk","","Invalid","","11:53:00",""]
["416","Siyati","04/01/2019 12.52","C/Masuk","","Invalid","",{"$f":"IF(AND($F2562=\"invalid\",$F2561<>\"Invalid\"),TIMEVALUE($C2562),\"\")","v":""},{"$f":"IF(AND($F2562=\"invalid\",$F2561=\"Invalid\"),TIMEVALUE($C2562),\"\")","v":"12:52:00"}]
["416","Siyati","04/01/2019 17.04","C/Masuk","C/Keluar","OK","","",""]
["416","Siyati","05/01/2019 06.45","C/Masuk","","OK","","",""]
["416","Siyati","05/01/2019 11.55","C/Masuk","","Invalid","","11:55:00",""]
["416","Siyati","05/01/2019 12.50","C/Masuk","","Invalid","","","12:50:00"]
["416","Siyati","05/01/2019 17.22","C/Masuk","C/Keluar","OK","","",""]
["416","Siyati","07/01/2019 06.44","C/Masuk","","OK","","",""]
["416","Siyati","07/01/2019 11.54","C/Masuk","","Invalid","","11:54:00",""]
["416","Siyati","07/01/2019 12.52","C/Masuk","","Invalid","","","12:52:00"]
["416","Siyati","07/01/2019 17.30","C/Masuk","C/Keluar","OK","","",""]
["416","Siyati","08/01/2019 06.47","C/Masuk","","OK","","",""]
["416","Siyati","08/01/2019 12.00","C/Masuk","","Invalid","","12:00:00",""]
["416","Siyati","08/01/2019 12.52","C/Masuk","","Invalid","","","12:52:00"]
["416","Siyati","08/01/2019 17.09","C/Masuk","C/Keluar","OK","","",""]
["416","Siyati","09/01/2019 06.47","C/Masuk","","OK","","",""]
["416","Siyati","09/01/2019 11.57","C/Masuk","","Invalid","","11:57:00",""]
["416","Siyati","09/01/2019 12.53","C/Masuk","","Invalid","","","12:53:00"]
["416","Siyati","09/01/2019 17.33","C/Masuk","C/Keluar","OK","","",""]
["416","Siyati","10/01/2019 06.47","C/Masuk","","OK","","",""]
["416","Siyati","10/01/2019 11.54","C/Masuk","","Invalid","","11:54:00",""]
["416","Siyati","10/01/2019 12.51","C/Masuk","","Invalid","","","12:51:00"]
["416","Siyati","10/01/2019 15.56","C/Masuk","C/Keluar","OK","","",""]
["416","Siyati","11/01/2019 06.44","C/Masuk","","OK","","",""]
["416","Siyati","11/01/2019 11.59","C/Masuk","","Invalid","","11:59:00",""]
["416","Siyati","11/01/2019 12.50","C/Masuk","","Invalid","","","12:50:00"]
["416","Siyati","11/01/2019 16.18","C/Masuk","C/Keluar","OK","","",""]
["416","Siyati","14/01/2019 06.46","C/Masuk","","OK","","",""]
["416","Siyati","14/01/2019 11.57","C/Masuk","","Invalid","","11:57:00",""]
["416","Siyati","14/01/2019 12.51","C/Masuk","","Invalid","","","12:51:00"]
["416","Siyati","14/01/2019 16.28","C/Masuk","C/Keluar","OK","","",""]
["416","Siyati","15/01/2019 06.46","C/Masuk","","OK","","",""]
["416","Siyati","15/01/2019 12.00","C/Masuk","","Invalid","","12:00:00",""]
["416","Siyati","15/01/2019 12.51","C/Masuk","","Invalid","","","12:51:00"]
["416","Siyati","15/01/2019 16.04","C/Masuk","C/Keluar","OK","","",""]
["418","Suntrik","03/01/2019 06.47","C/Masuk","","OK","","",""]
["418","Suntrik","03/01/2019 12.04","C/Masuk","","Invalid","","12:04:00",""]
["418","Suntrik","03/01/2019 12.53","C/Masuk","","Invalid","","","12:53:00"]
["418","Suntrik","03/01/2019 17.50","C/Masuk","C/Keluar","OK","","",""]
["418","Suntrik","04/01/2019 06.47","C/Masuk","","OK","","",""]
["418","Suntrik","04/01/2019 11.53","C/Masuk","","Invalid","","11:53:00",""]
["418","Suntrik","04/01/2019 12.52","C/Masuk","","Invalid","","","12:52:00"]
["418","Suntrik","04/01/2019 17.06","C/Masuk","C/Keluar","OK","","",""]
["418","Suntrik","05/01/2019 06.45","C/Masuk","","OK","","",""]
["418","Suntrik","05/01/2019 11.56","C/Masuk","","Invalid","","11:56:00",""]
["418","Suntrik","05/01/2019 12.50","C/Masuk","","Invalid","","","12:50:00"]
["418","Suntrik","05/01/2019 17.24","C/Masuk","C/Keluar","OK","","",""]
["418","Suntrik","07/01/2019 06.44","C/Masuk","","OK","","",""]
["418","Suntrik","07/01/2019 11.53","C/Masuk","","Invalid","","11:53:00",""]
["418","Suntrik","07/01/2019 12.52","C/Masuk","","Invalid","","","12:52:00"]
["418","Suntrik","07/01/2019 17.33","C/Masuk","C/Keluar","OK","","",""]
["418","Suntrik","08/01/2019 06.47","C/Masuk","","OK","","",""]
["418","Suntrik","08/01/2019 11.59","C/Masuk","","Invalid","","11:59:00",""]
["418","Suntrik","08/01/2019 12.53","C/Masuk","","Invalid","","","12:53:00"]
["418","Suntrik","08/01/2019 17.11","C/Masuk","C/Keluar","OK","","",""]
["418","Suntrik","09/01/2019 06.47","C/Masuk","","OK","","",""]
["418","Suntrik","09/01/2019 11.57","C/Masuk","","Invalid","","11:57:00",""]
["418","Suntrik","09/01/2019 12.53","C/Masuk","","Invalid","","","12:53:00"]
["418","Suntrik","09/01/2019 17.34","C/Masuk","C/Keluar","OK","","",""]
["418","Suntrik","14/01/2019 06.45","C/Masuk","","OK","","",""]
["418","Suntrik","14/01/2019 11.57","C/Masuk","","Invalid","","11:57:00",""]
["418","Suntrik","14/01/2019 12.52","C/Masuk","","Invalid","","","12:52:00"]
["418","Suntrik","14/01/2019 16.34","C/Masuk","C/Keluar","OK","","",""]
["418","Suntrik","15/01/2019 06.46","C/Masuk","","OK","","",""]
["418","Suntrik","15/01/2019 11.59","C/Masuk","","Invalid","","11:59:00",""]
["418","Suntrik","15/01/2019 12.52","C/Masuk","","Invalid","",{"$f":"IF(AND($F2626=\"invalid\",$F2625<>\"Invalid\"),TIMEVALUE($C2626),\"\")","v":""},{"$f":"IF(AND($F2626=\"invalid\",$F2625=\"Invalid\"),TIMEVALUE($C2626),\"\")","v":"12:52:00"}]
["418","Suntrik","15/01/2019 16.07","C/Masuk","C/Keluar","OK","","",""]
["419","Elsa","03/01/2019 06.47","C/Masuk","","OK","","",""]
["419","Elsa","03/01/2019 12.04","C/Masuk","","Invalid","","12:04:00",""]
["419","Elsa","03/01/2019 12.51","C/Masuk","","Invalid","","","12:51:00"]
["419","Elsa","03/01/2019 17.35","C/Masuk","C/Keluar","OK","","",""]
["419","Elsa","04/01/2019 06.47","C/Masuk","","OK","","",""]
["419","Elsa","04/01/2019 11.53","C/Masuk","","Invalid","","11:53:00",""]
["419","Elsa","04/01/2019 12.54","C/Masuk","","Invalid","","","12:54:00"]
["419","Elsa","04/01/2019 17.03","C/Masuk","C/Keluar","OK","","",""]
["419","Elsa","05/01/2019 06.45","C/Masuk","","OK","","",""]
["419","Elsa","05/01/2019 11.55","C/Masuk","","Invalid","","11:55:00",""]
["419","Elsa","05/01/2019 12.50","C/Masuk","","Invalid","","","12:50:00"]
["419","Elsa","05/01/2019 17.22","C/Masuk","C/Keluar","OK","","",""]
["419","Elsa","07/01/2019 06.44","C/Masuk","","OK","","",""]
["419","Elsa","07/01/2019 11.54","C/Masuk","","Invalid","","11:54:00",""]
["419","Elsa","07/01/2019 12.52","C/Masuk","","Invalid","","","12:52:00"]
["419","Elsa","08/01/2019 06.47","C/Masuk","","OK","","",""]
["419","Elsa","08/01/2019 11.59","C/Masuk","","Invalid","","11:59:00",""]
["419","Elsa","08/01/2019 12.52","C/Masuk","","Invalid","","","12:52:00"]
["419","Elsa","08/01/2019 16.53","C/Masuk","C/Keluar","OK","","",""]
["419","Elsa","09/01/2019 11.57","C/Masuk","","Invalid","","11:57:00",""]
["419","Elsa","09/01/2019 12.53","C/Masuk","","Invalid","","","12:53:00"]
["419","Elsa","09/01/2019 17.31","C/Masuk","C/Keluar","OK","","",""]
["419","Elsa","10/01/2019 06.47","C/Masuk","","OK","","",""]
["419","Elsa","10/01/2019 11.54","C/Masuk","","Invalid","","11:54:00",""]
["419","Elsa","10/01/2019 12.52","C/Masuk","","Invalid","","","12:52:00"]
["419","Elsa","10/01/2019 15.43","C/Masuk","C/Keluar","OK","","",""]
["419","Elsa","11/01/2019 06.45","C/Masuk","","OK","","",""]
["419","Elsa","11/01/2019 11.58","C/Masuk","","Invalid","","11:58:00",""]
["419","Elsa","11/01/2019 12.51","C/Masuk","","Invalid","","","12:51:00"]
["419","Elsa","11/01/2019 16.18","C/Masuk","C/Keluar","OK","","",""]
["419","Elsa","14/01/2019 06.46","C/Masuk","","OK","","",""]
["419","Elsa","14/01/2019 11.56","C/Masuk","","Invalid","","11:56:00",""]
["419","Elsa","14/01/2019 12.52","C/Masuk","","Invalid","","","12:52:00"]
["419","Elsa","14/01/2019 16.29","C/Masuk","C/Keluar","OK","","",""]
["419","Elsa","15/01/2019 06.47","C/Masuk","","OK","","",""]
["419","Elsa","15/01/2019 11.58","C/Masuk","","Invalid","","11:58:00",""]
["419","Elsa","15/01/2019 12.51","C/Masuk","","Invalid","","","12:51:00"]
["419","Elsa","15/01/2019 16.05","C/Masuk","C/Keluar","OK","","",""]
["420","Evi B","03/01/2019 06.48","C/Masuk","","OK","","",""]
["420","Evi B","03/01/2019 12.04","C/Masuk","","Invalid","","12:04:00",""]
["420","Evi B","03/01/2019 12.52","C/Masuk","","Invalid","","","12:52:00"]
["420","Evi B","03/01/2019 17.48","C/Masuk","C/Keluar","OK","","",""]
["420","Evi B","04/01/2019 06.48","C/Masuk","","OK","","",""]
["420","Evi B","04/01/2019 11.53","C/Masuk","","Invalid","","11:53:00",""]
["420","Evi B","04/01/2019 12.52","C/Masuk","","Invalid","","","12:52:00"]
["420","Evi B","04/01/2019 17.07","C/Masuk","C/Keluar","OK","","",""]
["420","Evi B","05/01/2019 06.45","C/Masuk","","OK","","",""]
["420","Evi B","05/01/2019 11.55","C/Masuk","","Invalid","","11:55:00",""]
["420","Evi B","05/01/2019 12.34","C/Masuk","","Invalid","","","12:34:00"]
["420","Evi B","08/01/2019 06.48","C/Masuk","","OK","","",""]
["420","Evi B","08/01/2019 12.00","C/Masuk","","Invalid","","12:00:00",""]
["420","Evi B","08/01/2019 12.51","C/Masuk","","Invalid","","","12:51:00"]
["420","Evi B","08/01/2019 17.11","C/Masuk","C/Keluar","OK","","",""]
["420","Evi B","09/01/2019 06.47","C/Masuk","","OK","","",""]
["420","Evi B","09/01/2019 11.58","C/Masuk","","Invalid","","11:58:00",""]
["420","Evi B","09/01/2019 12.54","C/Masuk","","Invalid","","","12:54:00"]
["420","Evi B","09/01/2019 17.31","C/Masuk","C/Keluar","OK","","",""]
["420","Evi B","10/01/2019 06.48","C/Masuk","","OK","","",""]
["420","Evi B","10/01/2019 11.54","C/Masuk","","Invalid","","11:54:00",""]
["420","Evi B","10/01/2019 12.50","C/Masuk","","Invalid","","","12:50:00"]
["420","Evi B","10/01/2019 16.01","C/Masuk","C/Keluar","OK","","",""]
["420","Evi B","11/01/2019 06.45","C/Masuk","","OK","","",""]
["420","Evi B","11/01/2019 11.58","C/Masuk","","Invalid","",{"$f":"IF(AND($F2690=\"invalid\",$F2689<>\"Invalid\"),TIMEVALUE($C2690),\"\")","v":"11:58:00"},{"$f":"IF(AND($F2690=\"invalid\",$F2689=\"Invalid\"),TIMEVALUE($C2690),\"\")","v":""}]
["420","Evi B","11/01/2019 12.50","C/Masuk","","Invalid","","","12:50:00"]
["420","Evi B","11/01/2019 16.22","C/Masuk","C/Keluar","OK","","",""]
["420","Evi B","14/01/2019 06.46","C/Masuk","","OK","","",""]
["420","Evi B","14/01/2019 11.58","C/Masuk","","Invalid","","11:58:00",""]
["420","Evi B","14/01/2019 12.52","C/Masuk","","Invalid","","","12:52:00"]
["420","Evi B","14/01/2019 16.28","C/Masuk","C/Keluar","OK","","",""]
["420","Evi B","15/01/2019 06.48","C/Masuk","","OK","","",""]
["420","Evi B","15/01/2019 12.00","C/Masuk","","Invalid","","12:00:00",""]
["420","Evi B","15/01/2019 12.51","C/Masuk","","Invalid","","","12:51:00"]
["420","Evi B","15/01/2019 16.04","C/Masuk","C/Keluar","OK","","",""]

{"sheet":"Harian","index":2,"n_rows":123,"n_cols":73,"rows_kept":123,"cut":false,"hidden":false,"merged":[[92,67,92,69],[94,61,94,62],[79,66,79,67],[79,69,79,70],[80,67,80,69],[81,66,81,67],[81,69,81,70],[82,66,82,67],[82,69,82,70],[83,67,83,69],[86,66,86,70],[87,66,87,67],[87,69,87,70],[88,66,88,67],[88,69,88,70],[89,67,89,69],[90,66,90,67],[90,69,90,70],[91,66,91,67],[91,69,91,70],[68,67,68,69],[69,66,69,67],[69,69,69,70],[70,66,70,67],[70,69,70,70],[71,67,71,69],[72,66,72,67],[72,69,72,70],[73,66,73,67],[73,69,73,70],[74,67,74,69],[75,66,75,67],[75,69,75,70],[76,66,76,67],[76,69,76,70],[77,67,77,69],[78,66,78,67],[78,69,78,70],[58,66,58,67],[58,69,58,70],[59,67,59,69],[60,66,60,67],[60,69,60,70],[61,66,61,67],[61,69,61,70],[62,67,62,69],[63,66,63,67],[63,69,63,70],[64,66,64,67],[64,69,64,70],[65,67,65,69],[66,66,66,67],[66,69,66,70],[67,66,67,67],[67,69,67,70],[47,67,47,69],[48,66,48,67],[48,69,48,70],[49,66,49,67],[49,69,49,70],[50,67,50,69],[51,66,51,67],[51,69,51,70],[52,66,52,67],[52,69,52,70],[53,67,53,69],[54,66,54,67],[54,69,54,70],[55,66,55,67],[55,69,55,70],[56,67,56,69],[57,66,57,67],[57,69,57,70],[34,66,34,67],[34,69,34,70],[35,67,35,69],[36,66,36,67],[36,69,36,70],[37,66,37,67],[37,69,37,70],[38,67,38,69],[39,66,39,67],[39,69,39,70],[40,66,40,67],[40,69,40,70],[41,67,41,69],[44,66,44,70],[45,66,45,67],[45,69,45,70],[46,66,46,67],[46,69,46,70],[23,67,23,69],[24,66,24,67],[24,69,24,70],[25,66,25,67],[25,69,25,70],[26,67,26,69],[27,66,27,67],[27,69,27,70],[28,66,28,67],[28,69,28,70],[29,67,29,69],[30,66,30,67],[30,69,30,70],[31,66,31,67],[31,69,31,70],[32,67,32,69],[33,66,33,67],[33,69,33,70],[13,66,13,67],[13,69,13,70],[14,67,14,69],[15,66,15,67],[15,69,15,70],[16,66,16,67],[16,69,16,70],[17,67,17,69],[18,66,18,67],[18,69,18,70],[19,66,19,67],[19,69,19,70],[20,67,20,69],[21,66,21,67],[21,69,21,70],[22,66,22,67],[22,69,22,70],[2,66,2,70],[3,66,3,67],[3,69,3,70],[4,66,4,67],[4,69,4,70],[5,67,5,69],[6,66,6,67],[6,69,6,70],[7,66,7,67],[7,69,7,70],[8,67,8,69],[9,66,9,67],[9,69,9,70],[10,66,10,67],[10,69,10,70],[11,67,11,69],[12,66,12,67],[12,69,12,70],[4,9,4,10],[5,7,5,9],[3,11,3,12],[3,21,3,22],[3,26,3,27],[3,39,3,40],[3,44,3,45],[3,49,3,50],[3,54,3,55],[3,59,3,60],[4,19,4,20],[5,12,5,14],[4,61,4,62],[4,64,4,65],[4,21,4,22],[4,24,4,25],[4,26,4,27],[4,29,4,30],[5,42,5,44],[5,47,5,49],[5,52,5,54],[4,51,4,52],[4,54,4,55],[4,56,4,57],[4,59,4,60],[5,32,5,34],[5,37,5,39],[4,31,4,32],[4,34,4,35],[2,36,2,40],[3,31,3,32],[3,14,3,15],[5,57,5,59],[6,16,6,17],[6,19,6,20],[3,64,3,65],[3,61,3,62],[2,21,2,25],[2,26,2,30],[5,22,5,24],[5,27,5,29],[5,17,5,19],[4,16,4,17],[2,61,2,65],[3,36,3,37],[2,31,2,35],[4,36,4,37],[4,39,4,40],[5,62,5,64],[4,41,4,42],[4,44,4,45],[4,46,4,47],[4,49,4,50],[0,0,0,5],[3,41,3,42],[3,46,3,47],[3,51,3,52],[3,56,3,57],[2,41,2,45],[2,46,2,50],[2,51,2,55],[2,56,2,60],[6,14,6,15],[6,54,6,55],[6,56,6,57],[6,59,6,60],[3,19,3,20],[3,24,3,25],[3,29,3,30],[3,34,3,35],[2,11,2,15],[2,16,2,20],[3,16,3,17],[3,1,3,2],[4,1,4,2],[4,4,4,5],[5,2,5,4],[4,11,4,12],[4,14,4,15],[3,6,3,7],[4,6,4,7],[3,4,3,5],[3,9,3,10],[2,1,2,5],[2,6,2,10],[7,1,7,2],[7,4,7,5],[7,6,7,7],[7,9,7,10],[7,11,7,12],[7,14,7,15],[7,16,7,17],[7,19,7,20],[7,21,7,22],[7,24,7,25],[7,26,7,27],[7,29,7,30],[6,21,6,22],[6,24,6,25],[6,1,6,2],[6,4,6,5],[6,6,6,7],[6,9,6,10],[6,11,6,12],[7,56,7,57],[7,59,7,60],[7,61,7,62],[7,64,7,65],[7,44,7,45],[7,46,7,47],[7,49,7,50],[7,51,7,52],[7,54,7,55],[7,31,7,32],[7,34,7,35],[7,36,7,37],[7,39,7,40],[7,41,7,42],[6,51,6,52],[6,29,6,30],[6,31,6,32],[6,34,6,35],[6,36,6,37],[6,39,6,40],[6,61,6,62],[6,64,6,65],[6,41,6,42],[6,44,6,45],[6,46,6,47],[6,49,6,50],[9,1,9,2],[9,4,9,5],[9,6,9,7],[9,9,9,10],[9,11,9,12],[9,14,9,15],[9,16,9,17],[9,19,9,20],[9,21,9,22],[9,24,9,25],[9,29,9,30],[9,31,9,32],[9,34,9,35],[9,36,9,37],[8,2,8,4],[8,7,8,9],[8,12,8,14],[8,17,8,19],[8,22,8,24],[8,27,8,29],[8,32,8,34],[8,37,8,39],[8,42,8,44],[8,47,8,49],[8,52,8,54],[8,57,8,59],[8,62,8,64],[10,14,10,15],[10,16,10,17],[10,19,10,20],[10,21,10,22],[10,24,10,25],[10,1,10,2],[10,4,10,5],[10,6,10,7],[10,9,10,10],[10,11,10,12],[9,64,9,65],[9,51,9,52],[9,54,9,55],[9,56,9,57],[9,59,9,60],[9,61,9,62],[9,39,9,40],[9,41,9,42],[9,44,9,45],[9,46,9,47],[9,49,9,50],[10,64,10,65],[10,51,10,52],[10,54,10,55],[10,56,10,57],[10,59,10,60],[10,61,10,62],[10,39,10,40],[10,41,10,42],[10,44,10,45],[10,46,10,47],[10,49,10,50],[10,26,10,27],[10,29,10,30],[10,31,10,32],[10,34,10,35],[10,36,10,37],[12,21,12,22],[12,24,12,25],[12,1,12,2],[12,4,12,5],[12,6,12,7],[12,9,12,10],[12,11,12,12],[11,52,11,54],[11,57,11,59],[11,62,11,64],[12,44,12,45],[12,46,12,47],[12,49,12,50],[12,51,12,52],[12,29,12,30],[12,31,12,32],[12,34,12,35],[12,36,12,37],[11,27,11,29],[11,32,11,34],[11,37,11,39],[11,42,11,44],[11,47,11,49],[11,2,11,4],[11,7,11,9],[11,12,11,14],[11,17,11,19],[11,22,11,24],[12,54,12,55],[12,56,12,57],[12,59,12,60],[12,61,12,62],[12,64,12,65],[12,41,12,42],[12,39,12,40],[12,14,12,15],[12,16,12,17],[12,19,12,20],[13,56,13,57],[13,59,13,60],[13,61,13,62],[13,64,13,65],[13,44,13,45],[13,46,13,47],[13,49,13,50],[13,51,13,52],[13,54,13,55],[13,31,13,32],[13,34,13,35],[13,36,13,37],[13,39,13,40],[13,41,13,42],[15,21,15,22],[15,24,15,25],[15,29,15,30],[15,31,15,32],[15,34,15,35],[15,36,15,37],[14,47,14,49],[14,52,14,54],[14,57,14,59],[14,62,14,64],[15,64,15,65],[15,51,15,52],[15,54,15,55],[15,56,15,57],[15,59,15,60],[15,61,15,62],[15,39,15,40],[15,41,15,42],[14,2,14,4],[14,7,14,9],[14,12,14,14],[14,17,14,19],[14,22,14,24],[14,27,14,29],[14,32,14,34],[14,37,14,39],[13,14,13,15],[13,16,13,17],[13,19,13,20],[13,21,13,22],[13,24,13,25],[13,26,13,27],[13,29,13,30],[14,42,14,44],[13,1,13,2],[13,4,13,5],[13,6,13,7],[13,9,13,10],[13,11,13,12],[15,44,15,45],[15,46,15,47],[15,49,15,50],[15,1,15,2],[15,4,15,5],[15,6,15,7],[15,9,15,10],[15,11,15,12],[15,14,15,15],[15,16,15,17],[15,19,15,20],[17,2,17,4],[17,7,17,9],[17,12,17,14],[17,17,17,19],[17,22,17,24],[16,64,16,65],[16,51,16,52],[16,54,16,55],[16,56,16,57],[16,59,16,60],[16,61,16,62],[16,39,16,40],[16,41,16,42],[16,44,16,45],[16,46,16,47],[16,49,16,50],[16,26,16,27],[16,29,16,30],[16,31,16,32],[16,34,16,35],[16,36,16,37],[16,14,16,15],[16,16,16,17],[16,19,16,20],[16,21,16,22],[16,24,16,25],[16,1,16,2],[16,4,16,5],[16,6,16,7],[16,9,16,10],[16,11,16,12],[19,44,19,45],[18,19,18,20],[18,21,18,22],[18,24,18,25],[18,29,18,30],[18,31,18,32],[18,34,18,35],[18,36,18,37],[17,52,17,54],[17,57,17,59],[17,62,17,64],[17,27,17,29],[17,32,17,34],[17,37,17,39],[17,42,17,44],[17,47,17,49],[19,14,19,15],[19,16,19,17],[19,19,19,20],[19,21,19,22],[19,24,19,25],[19,46,19,47],[19,49,19,50],[19,26,19,27],[19,29,19,30],[19,31,19,32],[19,34,19,35],[19,36,19,37],[21,61,21,62],[19,1,19,2],[19,4,19,5],[19,6,19,7],[19,9,19,10],[19,11,19,12],[18,64,18,65],[18,51,18,52],[18,54,18,55],[18,56,18,57],[18,59,18,60],[18,61,18,62],[18,39,18,40],[18,41,18,42],[18,44,18,45],[18,46,18,47],[18,49,18,50],[18,1,18,2],[18,4,18,5],[18,6,18,7],[18,9,18,10],[18,11,18,12],[18,14,18,15],[18,16,18,17],[19,64,19,65],[19,51,19,52],[19,54,19,55],[19,56,19,57],[19,59,19,60],[19,61,19,62],[19,39,19,40],[19,41,19,42],[21,56,21,57],[21,59,21,60],[21,1,21,2],[21,4,21,5],[21,6,21,7],[21,9,21,10],[21,11,21,12],[20,52,20,54],[20,57,20,59],[20,62,20,64],[20,27,20,29],[20,32,20,34],[20,37,20,39],[20,42,20,44],[20,47,20,49],[20,2,20,4],[20,7,20,9],[20,12,20,14],[20,17,20,19],[20,22,20,24],[21,41,21,42],[21,44,21,45],[21,46,21,47],[21,49,21,50],[21,51,21,52],[21,29,21,30],[21,31,21,32],[21,34,21,35],[21,36,21,37],[21,39,21,40],[21,14,21,15],[21,16,21,17],[21,21,21,22],[21,24,21,25],[22,44,22,45],[22,46,22,47],[22,49,22,50],[22,51,22,52],[22,54,22,55],[22,31,22,32],[22,34,22,35],[22,36,22,37],[22,39,22,40],[22,41,22,42],[22,1,22,2],[22,4,22,5],[22,6,22,7],[22,9,22,10],[22,11,22,12],[22,14,22,15],[22,16,22,17],[22,19,22,20],[22,21,22,22],[22,24,22,25],[22,26,22,27],[22,29,22,30],[21,54,21,55],[21,19,21,20],[21,64,21,65],[24,1,24,2],[24,4,24,5],[24,6,24,7],[24,9,24,10],[24,11,24,12],[24,14,24,15],[24,16,24,17],[24,19,24,20],[24,21,24,22],[24,24,24,25],[24,29,24,30],[24,31,24,32],[24,34,24,35],[24,36,24,37],[23,2,23,4],[23,7,23,9],[23,12,23,14],[23,17,23,19],[23,22,23,24],[23,27,23,29],[23,32,23,34],[23,37,23,39],[23,42,23,44],[23,47,23,49],[23,52,23,54],[23,57,23,59],[23,62,23,64],[22,61,22,62],[22,64,22,65],[22,56,22,57],[22,59,22,60],[25,1,25,2],[25,4,25,5],[25,6,25,7],[25,9,25,10],[25,11,25,12],[24,64,24,65],[24,51,24,52],[24,54,24,55],[24,56,24,57],[24,59,24,60],[24,61,24,62],[24,39,24,40],[24,41,24,42],[24,44,24,45],[24,46,24,47],[24,49,24,50],[25,64,25,65],[25,51,25,52],[25,54,25,55],[25,56,25,57],[25,59,25,60],[25,61,25,62],[25,39,25,40],[25,41,25,42],[25,44,25,45],[25,46,25,47],[25,49,25,50],[25,26,25,27],[25,29,25,30],[25,31,25,32],[25,34,25,35],[25,36,25,37],[27,1,27,2],[27,4,27,5],[27,6,27,7],[27,9,27,10],[27,11,27,12],[26,52,26,54],[26,57,26,59],[26,62,26,64],[26,27,26,29],[26,32,26,34],[26,37,26,39],[26,42,26,44],[26,47,26,49],[26,2,26,4],[26,7,26,9],[26,12,26,14],[26,17,26,19],[26,22,26,24],[25,14,25,15],[25,16,25,17],[25,19,25,20],[25,21,25,22],[25,24,25,25],[28,14,28,15],[28,16,28,17],[28,19,28,20],[28,21,28,22],[28,24,28,25],[28,26,28,27],[28,29,28,30],[27,54,27,55],[27,56,27,57],[27,59,27,60],[27,61,27,62],[27,64,27,65],[27,41,27,42],[27,44,27,45],[27,46,27,47],[27,49,27,50],[27,51,27,52],[27,29,27,30],[27,31,27,32],[27,34,27,35],[27,36,27,37],[27,39,27,40],[27,14,27,15],[27,16,27,17],[27,19,27,20],[27,21,27,22],[27,24,27,25],[29,2,29,4],[29,7,29,9],[29,12,29,14],[29,17,29,19],[29,22,29,24],[29,27,29,29],[29,32,29,34],[29,37,29,39],[29,42,29,44],[29,47,29,49],[29,52,29,54],[29,57,29,59],[29,62,29,64],[28,56,28,57],[28,59,28,60],[28,61,28,62],[28,64,28,65],[28,44,28,45],[28,46,28,47],[28,49,28,50],[28,51,28,52],[28,54,28,55],[28,31,28,32],[28,34,28,35],[28,36,28,37],[28,39,28,40],[28,41,28,42],[28,1,28,2],[28,4,28,5],[28,6,28,7],[28,9,28,10],[28,11,28,12],[30,59,30,60],[30,61,30,62],[30,39,30,40],[30,41,30,42],[30,44,30,45],[30,46,30,47],[30,49,30,50],[30,1,30,2],[30,4,30,5],[30,6,30,7],[30,9,30,10],[30,11,30,12],[30,14,30,15],[30,16,30,17],[30,19,30,20],[30,21,30,22],[30,24,30,25],[30,29,30,30],[30,31,30,32],[30,34,30,35],[30,36,30,37],[31,14,31,15],[31,16,31,17],[31,19,31,20],[31,21,31,22],[31,24,31,25],[31,1,31,2],[31,4,31,5],[31,6,31,7],[31,9,31,10],[31,11,31,12],[30,64,30,65],[32,52,32,54],[32,57,32,59],[32,62,32,64],[32,27,32,29],[32,32,32,34],[32,37,32,39],[32,42,32,44],[32,47,32,49],[32,2,32,4],[32,7,32,9],[32,12,32,14],[32,17,32,19],[32,22,32,24],[31,64,31,65],[31,51,31,52],[31,54,31,55],[31,56,31,57],[31,59,31,60],[30,51,30,52],[30,54,30,55],[30,56,30,57],[31,61,31,62],[31,39,31,40],[31,41,31,42],[31,44,31,45],[31,46,31,47],[31,49,31,50],[31,26,31,27],[31,29,31,30],[33,41,33,42],[33,44,33,45],[33,46,33,47],[33,49,33,50],[33,51,33,52],[33,29,33,30],[33,31,33,32],[33,34,33,35],[33,36,33,37],[33,39,33,40],[33,54,33,55],[33,56,33,57],[33,59,33,60],[33,61,33,62],[31,31,31,32],[31,34,31,35],[31,36,31,37],[33,21,33,22],[33,24,33,25],[33,1,33,2],[33,4,33,5],[33,6,33,7],[33,9,33,10],[33,11,33,12],[34,44,34,45],[34,46,34,47],[34,49,34,50],[34,51,34,52],[34,54,34,55],[34,31,34,32],[34,34,34,35],[34,36,34,37],[34,39,34,40],[34,41,34,42],[34,1,34,2],[34,4,34,5],[34,6,34,7],[34,9,34,10],[34,11,34,12],[34,14,34,15],[34,16,34,17],[34,19,34,20],[34,21,34,22],[34,24,34,25],[34,26,34,27],[34,29,34,30],[36,24,36,25],[33,64,33,65],[6,26,6,27],[9,26,9,27],[12,26,12,27],[15,26,15,27],[18,26,18,27],[21,26,21,27],[24,26,24,27],[27,26,27,27],[30,26,30,27],[33,26,33,27],[35,2,35,4],[35,7,35,9],[35,12,35,14],[35,17,35,19],[35,22,35,24],[35,27,35,29],[35,32,35,34],[35,37,35,39],[35,42,35,44],[35,47,35,49],[35,52,35,54],[35,57,35,59],[35,62,35,64],[34,56,34,57],[34,59,34,60],[34,61,34,62],[34,64,34,65],[33,14,33,15],[33,16,33,17],[33,19,33,20],[37,21,37,22],[37,24,37,25],[37,1,37,2],[37,4,37,5],[37,6,37,7],[37,9,37,10],[37,11,37,12],[36,64,36,65],[36,1,36,2],[36,4,36,5],[36,6,36,7],[36,9,36,10],[36,11,36,12],[36,51,36,52],[36,54,36,55],[36,56,36,57],[36,59,36,60],[36,61,36,62],[36,39,36,40],[36,41,36,42],[36,44,36,45],[36,46,36,47],[36,49,36,50],[36,26,36,27],[36,29,36,30],[36,31,36,32],[36,34,36,35],[36,36,36,37],[36,14,36,15],[36,16,36,17],[36,19,36,20],[36,21,36,22],[38,52,38,54],[38,57,38,59],[38,62,38,64],[38,27,38,29],[38,32,38,34],[38,37,38,39],[38,42,38,44],[38,47,38,49],[38,2,38,4],[38,7,38,9],[38,12,38,14],[38,17,38,19],[38,22,38,24],[37,64,37,65],[37,51,37,52],[37,54,37,55],[37,56,37,57],[37,59,37,60],[37,61,37,62],[37,39,37,40],[37,41,37,42],[37,44,37,45],[37,46,37,47],[37,49,37,50],[37,26,37,27],[37,29,37,30],[37,31,37,32],[37,34,37,35],[37,36,37,37],[37,14,37,15],[37,16,37,17],[37,19,37,20],[39,1,39,2],[39,4,39,5],[39,6,39,7],[39,9,39,10],[39,11,39,12],[44,61,44,65],[44,51,44,55],[44,56,44,60],[44,36,44,40],[44,41,44,45],[44,46,44,50],[44,26,44,30],[44,31,44,35],[44,11,44,15],[44,16,44,20],[44,21,44,25],[44,1,44,5],[44,6,44,10],[40,1,40,2],[40,4,40,5],[40,6,40,7],[40,9,40,10],[40,11,40,12],[40,14,40,15],[40,16,40,17],[40,19,40,20],[40,21,40,22],[40,24,40,25],[39,64,39,65],[39,51,39,52],[39,54,39,55],[39,56,39,57],[39,59,39,60],[39,61,39,62],[39,39,39,40],[39,41,39,42],[39,44,39,45],[39,46,39,47],[39,49,39,50],[39,26,39,27],[39,29,39,30],[39,31,39,32],[39,34,39,35],[39,36,39,37],[39,14,39,15],[39,16,39,17],[39,19,39,20],[39,21,39,22],[39,24,39,25],[40,51,40,52],[40,54,40,55],[40,56,40,57],[40,59,40,60],[40,61,40,62],[40,64,40,65],[40,26,40,27],[40,29,40,30],[40,31,40,32],[40,34,40,35],[40,36,40,37],[40,39,40,40],[40,41,40,42]],"merged_total":2147,"flags":["merged_cut"]}
["Rekap Absen Harian"]
[]
["NAMA","2019-01-16",null,null,null,null,"2019-01-17",null,null,null,null,"2019-01-18",null,null,null,null,"2019-01-19",null,null,null,null,"2019-01-21",null,null,null,null,"2019-01-22",null,null,null,null,"2019-01-23",null,null,null,null,"2019-01-24",null,null,null,null,"2019-01-25",null,null,null,null,"2019-01-26",null,null,null,null,"2019-01-28",null,null,null,null,"2019-01-29",null,null,null,null,"2019-01-30",null,null,null,null,"2019-01-31",null,null,null,null,"Telat Kali (X)","Lembur Menit"]
["Fahrudin",{"$f":"INDEX(data_absen!$G$2:$G$2000,SUMPRODUCT((data_absen!$B$2:$B$2000=$A4)*(data_absen!$C$2:$C$2000=B$3)*(ROW(data_absen!$C$2:$C$2000)))-1)","v":"06:47:00"},null,"-",{"$f":"INDEX(data_absen!$H$2:$H$2000,SUMPRODUCT((data_absen!$B$2:$B$2000=$A4)*(data_absen!$C$2:$C$2000=B$3)*(ROW(data_absen!$C$2:$C$2000)))-1)","v":"15:54:00"},null,{"$f":"INDEX(data_absen!$G$2:$G$2000,SUMPRODUCT((data_absen!$B$2:$B$2000=$A4)*(data_absen!$C$2:$C$2000=G$3)*(ROW(data_absen!$C$2:$C$2000)))-1)","v":"06:46:00"},null,"-",{"$f":"INDEX(data_absen!$H$2:$H$2000,SUMPRODUCT((data_absen!$B$2:$B$2000=$A4)*(data_absen!$C$2:$C$2000=G$3)*(ROW(data_absen!$C$2:$C$2000)))-1)","v":"15:54:00"},null,{"$f":"INDEX(data_absen!$G$2:$G$2000,SUMPRODUCT((data_absen!$B$2:$B$2000=$A4)*(data_absen!$C$2:$C$2000=L$3)*(ROW(data_absen!$C$2:$C$2000)))-1)","v":"06:45:00"},null,"-",{"$f":"INDEX(data_absen!$H$2:$H$2000,SUMPRODUCT((data_absen!$B$2:$B$2000=$A4)*(data_absen!$C$2:$C$2000=L$3)*(ROW(data_absen!$C$2:$C$2000)))-1)","v":""},null,{"$f":"INDEX(data_absen!$G$2:$G$2000,SUMPRODUCT((data_absen!$B$2:$B$2000=$A4)*(data_absen!$C$2:$C$2000=Q$3)*(ROW(data_absen!$C$2:$C$2000)))-1)","v":{"$error":"#VALUE!"}},null,"-",{"$f":"INDEX(data_absen!$H$2:$H$2000,SUMPRODUCT((data_absen!$B$2:$B$2000=$A4)*(data_absen!$C$2:$C$2000=Q$3)*(ROW(data_absen!$C$2:$C$2000)))-1)","v":{"$error":"#VALUE!"}},null,{"$f":"INDEX(data_absen!$G$2:$G$2000,SUMPRODUCT((data_absen!$B$2:$B$2000=$A4)*(data_absen!$C$2:$C$2000=V$3)*(ROW(data_absen!$C$2:$C$2000)))-1)","v":{"$error":"#VALUE!"}},null,"-",{"$f":"INDEX(data_absen!$H$2:$H$2000,SUMPRODUCT((data_absen!$B$2:$B$2000=$A4)*(data_absen!$C$2:$C$2000=V$3)*(ROW(data_absen!$C$2:$C$2000)))-1)","v":{"$error":"#VALUE!"}},null,{"$f":"INDEX(data_absen!$G$2:$G$2000,SUMPRODUCT((data_absen!$B$2:$B$2000=$A4)*(data_absen!$C$2:$C$2000=AA$3)*(ROW(data_absen!$C$2:$C$2000)))-1)","v":{"$error":"#VALUE!"}},null,"-",{"$f":"INDEX(data_absen!$H$2:$H$2000,SUMPRODUCT((data_absen!$B$2:$B$2000=$A4)*(data_absen!$C$2:$C$2000=AA$3)*(ROW(data_absen!$C$2:$C$2000)))-1)","v":{"$error":"#VALUE!"}},null,{"$f":"INDEX(data_absen!$G$2:$G$2000,SUMPRODUCT((data_absen!$B$2:$B$2000=$A4)*(data_absen!$C$2:$C$2000=AF$3)*(ROW(data_absen!$C$2:$C$2000)))-1)","v":{"$error":"#VALUE!"}},null,"-",{"$f":"INDEX(data_absen!$H$2:$H$2000,SUMPRODUCT((data_absen!$B$2:$B$2000=$A4)*(data_absen!$C$2:$C$2000=AF$3)*(ROW(data_absen!$C$2:$C$2000)))-1)","v":{"$error":"#VALUE!"}},null,{"$f":"INDEX(data_absen!$G$2:$G$2000,SUMPRODUCT((data_absen!$B$2:$B$2000=$A4)*(data_absen!$C$2:$C$2000=AK$3)*(ROW(data_absen!$C$2:$C$2000)))-1)","v":{"$error":"#VALUE!"}},null,"-",{"$f":"INDEX(data_absen!$H$2:$H$2000,SUMPRODUCT((data_absen!$B$2:$B$2000=$A4)*(data_absen!$C$2:$C$2000=AK$3)*(ROW(data_absen!$C$2:$C$2000)))-1)","v":{"$error":"#VALUE!"}},null,{"$f":"INDEX(data_absen!$G$2:$G$2000,SUMPRODUCT((data_absen!$B$2:$B$2000=$A4)*(data_absen!$C$2:$C$2000=AP$3)*(ROW(data_absen!$C$2:$C$2000)))-1)","v":{"$error":"#VALUE!"}},null,"-",{"$f":"INDEX(data_absen!$H$2:$H$2000,SUMPRODUCT((data_absen!$B$2:$B$2000=$A4)*(data_absen!$C$2:$C$2000=AP$3)*(ROW(data_absen!$C$2:$C$2000)))-1)","v":{"$error":"#VALUE!"}},null,{"$f":"INDEX(data_absen!$G$2:$G$2000,SUMPRODUCT((data_absen!$B$2:$B$2000=$A4)*(data_absen!$C$2:$C$2000=AU$3)*(ROW(data_absen!$C$2:$C$2000)))-1)","v":{"$error":"#VALUE!"}},null,"-",{"$f":"INDEX(data_absen!$H$2:$H$2000,SUMPRODUCT((data_absen!$B$2:$B$2000=$A4)*(data_absen!$C$2:$C$2000=AU$3)*(ROW(data_absen!$C$2:$C$2000)))-1)","v":{"$error":"#VALUE!"}},null,{"$f":"INDEX(data_absen!$G$2:$G$2000,SUMPRODUCT((data_absen!$B$2:$B$2000=$A4)*(data_absen!$C$2:$C$2000=AZ$3)*(ROW(data_absen!$C$2:$C$2000)))-1)","v":{"$error":"#VALUE!"}},null,"-",{"$f":"INDEX(data_absen!$H$2:$H$2000,SUMPRODUCT((data_absen!$B$2:$B$2000=$A4)*(data_absen!$C$2:$C$2000=AZ$3)*(ROW(data_absen!$C$2:$C$2000)))-1)","v":{"$error":"#VALUE!"}},null,{"$f":"INDEX(data_absen!$G$2:$G$2000,SUMPRODUCT((data_absen!$B$2:$B$2000=$A4)*(data_absen!$C$2:$C$2000=BE$3)*(ROW(data_absen!$C$2:$C$2000)))-1)","v":{"$error":"#VALUE!"}},null,"-",{"$f":"INDEX(data_absen!$H$2:$H$2000,SUMPRODUCT((data_absen!$B$2:$B$2000=$A4)*(data_absen!$C$2:$C$2000=BE$3)*(ROW(data_absen!$C$2:$C$2000)))-1)","v":{"$error":"#VALUE!"}},null,{"$f":"INDEX(data_absen!$G$2:$G$2000,SUMPRODUCT((data_absen!$B$2:$B$2000=$A4)*(data_absen!$C$2:$C$2000=BJ$3)*(ROW(data_absen!$C$2:$C$2000)))-1)","v":{"$error":"#VALUE!"}},null,"-",{"$f":"INDEX(data_absen!$H$2:$H$2000,SUMPRODUCT((data_absen!$B$2:$B$2000=$A4)*(data_absen!$C$2:$C$2000=BJ$3)*(ROW(data_absen!$C$2:$C$2000)))-1)","v":{"$error":"#VALUE!"}},null,{"$f":"INDEX(data_absen!$G$2:$G$2000,SUMPRODUCT((data_absen!$B$2:$B$2000=$A4)*(data_absen!$C$2:$C$2000=BO$3)*(ROW(data_absen!$C$2:$C$2000)))-1)","v":{"$error":"#VALUE!"}},null,"-",{"$f":"INDEX(data_absen!$H$2:$H$2000,SUMPRODUCT((data_absen!$B$2:$B$2000=$A4)*(data_absen!$C$2:$C$2000=BO$3)*(ROW(data_absen!$C$2:$C$2000)))-1)","v":{"$error":"#VALUE!"}}]
[101,null,null,"-",null,null,null,null,"-",null,null,null,null,"-",null,null,null,null,"-",null,null,null,null,"-",null,null,null,null,"-",null,null,null,null,"-",null,null,null,null,"-",null,null,null,null,"-",null,null,null,null,"-",null,null,null,null,"-",null,null,null,null,"-",null,null,null,null,"-",null,null,null,null,"-"]
[null,{"$f":"IFERROR(INDEX(data_absen!$K$2:$K$2000,SUMPRODUCT((data_absen!$B$2:$B$2000=$A4)*(data_absen!$C$2:$C$2000=B$3)*(ROW(data_absen!$C$2:$C$2000)))-1)*1440,\"\")","v":""},{"$f":"IFERROR(INDEX(data_absen!$I$2:$I$2000,SUMPRODUCT((data_absen!$B$2:$B$2000=$A4)*(data_absen!$C$2:$C$2000=B$3)*(ROW(data_absen!$C$2:$C$2000)))-1)*1440,\"\")","v":""},null,null,{"$f":"IFERROR(INDEX(data_absen!$J$2:$J$2000,SUMPRODUCT((data_absen!$B$2:$B$2000=$A4)*(data_absen!$C$2:$C$2000=B$3)*(ROW(data_absen!$C$2:$C$2000)))-1)*1440,\"\")","v":6},{"$f":"IFERROR(INDEX(data_absen!$K$2:$K$2000,SUMPRODUCT((data_absen!$B$2:$B$2000=$A4)*(data_absen!$C$2:$C$2000=G$3)*(ROW(data_absen!$C$2:$C$2000)))-1)*1440,\"\")","v":""},{"$f":"IFERROR(INDEX(data_absen!$I$2:$I$2000,SUMPRODUCT((data_absen!$B$2:$B$2000=$A4)*(data_absen!$C$2:$C$2000=G$3)*(ROW(data_absen!$C$2:$C$2000)))-1)*1440,\"\")","v":""},null,null,{"$f":"IFERROR(INDEX(data_absen!$J$2:$J$2000,SUMPRODUCT((data_absen!$B$2:$B$2000=$A4)*(data_absen!$C$2:$C$2000=G$3)*(ROW(data_absen!$C$2:$C$2000)))-1)*1440,\"\")","v":6},{"$f":"IFERROR(INDEX(data_absen!$K$2:$K$2000,SUMPRODUCT((data_absen!$B$2:$B$2000=$A4)*(data_absen!$C$2:$C$2000=L$3)*(ROW(data_absen!$C$2:$C$2000)))-1)*1440,\"\")","v":""},{"$f":"IFERROR(INDEX(data_absen!$I$2:$I$2000,SUMPRODUCT((data_absen!$B$2:$B$2000=$A4)*(data_absen!$C$2:$C$2000=L$3)*(ROW(data_absen!$C$2:$C$2000)))-1)*1440,\"\")","v":""},null,null,{"$f":"IFERROR(INDEX(data_absen!$J$2:$J$2000,SUMPRODUCT((data_absen!$B$2:$B$2000=$A4)*(data_absen!$C$2:$C$2000=L$3)*(ROW(data_absen!$C$2:$C$2000)))-1)*1440,\"\")","v":120},{"$f":"IFERROR(INDEX(data_absen!$K$2:$K$2000,SUMPRODUCT((data_absen!$B$2:$B$2000=$A4)*(data_absen!$C$2:$C$2000=Q$3)*(ROW(data_absen!$C$2:$C$2000)))-1)*1440,\"\")","v":""},{"$f":"IFERROR(INDEX(data_absen!$I$2:$I$2000,SUMPRODUCT((data_absen!$B$2:$B$2000=$A4)*(data_absen!$C$2:$C$2000=Q$3)*(ROW(data_absen!$C$2:$C$2000)))-1)*1440,\"\")","v":""},null,null,{"$f":"IFERROR(INDEX(data_absen!$J$2:$J$2000,SUMPRODUCT((data_absen!$B$2:$B$2000=$A4)*(data_absen!$C$2:$C$2000=Q$3)*(ROW(data_absen!$C$2:$C$2000)))-1)*1440,\"\")","v":""},{"$f":"IFERROR(INDEX(data_absen!$K$2:$K$2000,SUMPRODUCT((data_absen!$B$2:$B$2000=$A4)*(data_absen!$C$2:$C$2000=V$3)*(ROW(data_absen!$C$2:$C$2000)))-1)*1440,\"\")","v":""},{"$f":"IFERROR(INDEX(data_absen!$I$2:$I$2000,SUMPRODUCT((data_absen!$B$2:$B$2000=$A4)*(data_absen!$C$2:$C$2000=V$3)*(ROW(data_absen!$C$2:$C$2000)))-1)*1440,\"\")","v":""},null,null,{"$f":"IFERROR(INDEX(data_absen!$J$2:$J$2000,SUMPRODUCT((data_absen!$B$2:$B$2000=$A4)*(data_absen!$C$2:$C$2000=V$3)*(ROW(data_absen!$C$2:$C$2000)))-1)*1440,\"\")","v":""},{"$f":"IFERROR(INDEX(data_absen!$K$2:$K$2000,SUMPRODUCT((data_absen!$B$2:$B$2000=$A4)*(data_absen!$C$2:$C$2000=AA$3)*(ROW(data_absen!$C$2:$C$2000)))-1)*1440,\"\")","v":""},{"$f":"IFERROR(INDEX(data_absen!$I$2:$I$2000,SUMPRODUCT((data_absen!$B$2:$B$2000=$A4)*(data_absen!$C$2:$C$2000=AA$3)*(ROW(data_absen!$C$2:$C$2000)))-1)*1440,\"\")","v":""},null,null,{"$f":"IFERROR(INDEX(data_absen!$J$2:$J$2000,SUMPRODUCT((data_absen!$B$2:$B$2000=$A4)*(data_absen!$C$2:$C$2000=AA$3)*(ROW(data_absen!$C$2:$C$2000)))-1)*1440,\"\")","v":""},{"$f":"IFERROR(INDEX(data_absen!$K$2:$K$2000,SUMPRODUCT((data_absen!$B$2:$B$2000=$A4)*(data_absen!$C$2:$C$2000=AF$3)*(ROW(data_absen!$C$2:$C$2000)))-1)*1440,\"\")","v":""},{"$f":"IFERROR(INDEX(data_absen!$I$2:$I$2000,SUMPRODUCT((data_absen!$B$2:$B$2000=$A4)*(data_absen!$C$2:$C$2000=AF$3)*(ROW(data_absen!$C$2:$C$2000)))-1)*1440,\"\")","v":""},null,null,{"$f":"IFERROR(INDEX(data_absen!$J$2:$J$2000,SUMPRODUCT((data_absen!$B$2:$B$2000=$A4)*(data_absen!$C$2:$C$2000=AF$3)*(ROW(data_absen!$C$2:$C$2000)))-1)*1440,\"\")","v":""},{"$f":"IFERROR(INDEX(data_absen!$K$2:$K$2000,SUMPRODUCT((data_absen!$B$2:$B$2000=$A4)*(data_absen!$C$2:$C$2000=AK$3)*(ROW(data_absen!$C$2:$C$2000)))-1)*1440,\"\")","v":""},{"$f":"IFERROR(INDEX(data_absen!$I$2:$I$2000,SUMPRODUCT((data_absen!$B$2:$B$2000=$A4)*(data_absen!$C$2:$C$2000=AK$3)*(ROW(data_absen!$C$2:$C$2000)))-1)*1440,\"\")","v":""},null,null,{"$f":"IFERROR(INDEX(data_absen!$J$2:$J$2000,SUMPRODUCT((data_absen!$B$2:$B$2000=$A4)*(data_absen!$C$2:$C$2000=AK$3)*(ROW(data_absen!$C$2:$C$2000)))-1)*1440,\"\")","v":""},{"$f":"IFERROR(INDEX(data_absen!$K$2:$K$2000,SUMPRODUCT((data_absen!$B$2:$B$2000=$A4)*(data_absen!$C$2:$C$2000=AP$3)*(ROW(data_absen!$C$2:$C$2000)))-1)*1440,\"\")","v":""},{"$f":"IFERROR(INDEX(data_absen!$I$2:$I$2000,SUMPRODUCT((data_absen!$B$2:$B$2000=$A4)*(data_absen!$C$2:$C$2000=AP$3)*(ROW(data_absen!$C$2:$C$2000)))-1)*1440,\"\")","v":""},null,null,{"$f":"IFERROR(INDEX(data_absen!$J$2:$J$2000,SUMPRODUCT((data_absen!$B$2:$B$2000=$A4)*(data_absen!$C$2:$C$2000=AP$3)*(ROW(data_absen!$C$2:$C$2000)))-1)*1440,\"\")","v":""},{"$f":"IFERROR(INDEX(data_absen!$K$2:$K$2000,SUMPRODUCT((data_absen!$B$2:$B$2000=$A4)*(data_absen!$C$2:$C$2000=AU$3)*(ROW(data_absen!$C$2:$C$2000)))-1)*1440,\"\")","v":""},{"$f":"IFERROR(INDEX(data_absen!$I$2:$I$2000,SUMPRODUCT((data_absen!$B$2:$B$2000=$A4)*(data_absen!$C$2:$C$2000=AU$3)*(ROW(data_absen!$C$2:$C$2000)))-1)*1440,\"\")","v":""},null,null,{"$f":"IFERROR(INDEX(data_absen!$J$2:$J$2000,SUMPRODUCT((data_absen!$B$2:$B$2000=$A4)*(data_absen!$C$2:$C$2000=AU$3)*(ROW(data_absen!$C$2:$C$2000)))-1)*1440,\"\")","v":""},{"$f":"IFERROR(INDEX(data_absen!$K$2:$K$2000,SUMPRODUCT((data_absen!$B$2:$B$2000=$A4)*(data_absen!$C$2:$C$2000=AZ$3)*(ROW(data_absen!$C$2:$C$2000)))-1)*1440,\"\")","v":""},{"$f":"IFERROR(INDEX(data_absen!$I$2:$I$2000,SUMPRODUCT((data_absen!$B$2:$B$2000=$A4)*(data_absen!$C$2:$C$2000=AZ$3)*(ROW(data_absen!$C$2:$C$2000)))-1)*1440,\"\")","v":""},null,null,{"$f":"IFERROR(INDEX(data_absen!$J$2:$J$2000,SUMPRODUCT((data_absen!$B$2:$B$2000=$A4)*(data_absen!$C$2:$C$2000=AZ$3)*(ROW(data_absen!$C$2:$C$2000)))-1)*1440,\"\")","v":""},{"$f":"IFERROR(INDEX(data_absen!$K$2:$K$2000,SUMPRODUCT((data_absen!$B$2:$B$2000=$A4)*(data_absen!$C$2:$C$2000=BE$3)*(ROW(data_absen!$C$2:$C$2000)))-1)*1440,\"\")","v":""},{"$f":"IFERROR(INDEX(data_absen!$I$2:$I$2000,SUMPRODUCT((data_absen!$B$2:$B$2000=$A4)*(data_absen!$C$2:$C$2000=BE$3)*(ROW(data_absen!$C$2:$C$2000)))-1)*1440,\"\")","v":""},null,null,{"$f":"IFERROR(INDEX(data_absen!$J$2:$J$2000,SUMPRODUCT((data_absen!$B$2:$B$2000=$A4)*(data_absen!$C$2:$C$2000=BE$3)*(ROW(data_absen!$C$2:$C$2000)))-1)*1440,\"\")","v":""},{"$f":"IFERROR(INDEX(data_absen!$K$2:$K$2000,SUMPRODUCT((data_absen!$B$2:$B$2000=$A4)*(data_absen!$C$2:$C$2000=BJ$3)*(ROW(data_absen!$C$2:$C$2000)))-1)*1440,\"\")","v":""},{"$f":"IFERROR(INDEX(data_absen!$I$2:$I$2000,SUMPRODUCT((data_absen!$B$2:$B$2000=$A4)*(data_absen!$C$2:$C$2000=BJ$3)*(ROW(data_absen!$C$2:$C$2000)))-1)*1440,\"\")","v":""},null,null,{"$f":"IFERROR(INDEX(data_absen!$J$2:$J$2000,SUMPRODUCT((data_absen!$B$2:$B$2000=$A4)*(data_absen!$C$2:$C$2000=BJ$3)*(ROW(data_absen!$C$2:$C$2000)))-1)*1440,\"\")","v":""},{"$f":"IFERROR(INDEX(data_absen!$K$2:$K$2000,SUMPRODUCT((data_absen!$B$2:$B$2000=$A4)*(data_absen!$C$2:$C$2000=BO$3)*(ROW(data_absen!$C$2:$C$2000)))-1)*1440,\"\")","v":""},{"$f":"IFERROR(INDEX(data_absen!$I$2:$I$2000,SUMPRODUCT((data_absen!$B$2:$B$2000=$A4)*(data_absen!$C$2:$C$2000=BO$3)*(ROW(data_absen!$C$2:$C$2000)))-1)*1440,\"\")","v":""},null,null,{"$f":"IFERROR(INDEX(data_absen!$J$2:$J$2000,SUMPRODUCT((data_absen!$B$2:$B$2000=$A4)*(data_absen!$C$2:$C$2000=BO$3)*(ROW(data_absen!$C$2:$C$2000)))-1)*1440,\"\")","v":""},{"$f":"COUNTIFS(data_absen!$B$2:$B$2000,$A4,data_absen!$I$2:$I$2000,\">0\")","v":0}]
["Rio",{"$f":"INDEX(data_absen!$G$2:$G$2000,SUMPRODUCT((data_absen!$B$2:$B$2000=$A7)*(data_absen!$C$2:$C$2000=B$3)*(ROW(data_absen!$C$2:$C$2000)))-1)","v":"06:49:00"},null,"-",{"$f":"INDEX(data_absen!$H$2:$H$2000,SUMPRODUCT((data_absen!$B$2:$B$2000=$A7)*(data_absen!$C$2:$C$2000=B$3)*(ROW(data_absen!$C$2:$C$2000)))-1)","v":"15:55:00"},null,{"$f":"INDEX(data_absen!$G$2:$G$2000,SUMPRODUCT((data_absen!$B$2:$B$2000=$A7)*(data_absen!$C$2:$C$2000=G$3)*(ROW(data_absen!$C$2:$C$2000)))-1)","v":"06:46:00"},null,"-",{"$f":"INDEX(data_absen!$H$2:$H$2000,SUMPRODUCT((data_absen!$B$2:$B$2000=$A7)*(data_absen!$C$2:$C$2000=G$3)*(ROW(data_absen!$C$2:$C$2000)))-1)","v":"14:56:00"},null,{"$f":"INDEX(data_absen!$G$2:$G$2000,SUMPRODUCT((data_absen!$B$2:$B$2000=$A7)*(data_absen!$C$2:$C$2000=L$3)*(ROW(data_absen!$C$2:$C$2000)))-1)","v":"06:46:00"},null,"-",{"$f":"INDEX(data_absen!$H$2:$H$2000,SUMPRODUCT((data_absen!$B$2:$B$2000=$A7)*(data_absen!$C$2:$C$2000=L$3)*(ROW(data_absen!$C$2:$C$2000)))-1)","v":"14:58:00"},null,{"$f":"INDEX(data_absen!$G$2:$G$2000,SUMPRODUCT((data_absen!$B$2:$B$2000=$A7)*(data_absen!$C$2:$C$2000=Q$3)*(ROW(data_absen!$C$2:$C$2000)))-1)","v":{"$error":"#VALUE!"}},null,"-",{"$f":"INDEX(data_absen!$H$2:$H$2000,SUMPRODUCT((data_absen!$B$2:$B$2000=$A7)*(data_absen!$C$2:$C$2000=Q$3)*(ROW(data_absen!$C$2:$C$2000)))-1)","v":{"$error":"#VALUE!"}},null,{"$f":"INDEX(data_absen!$G$2:$G$2000,SUMPRODUCT((data_absen!$B$2:$B$2000=$A7)*(data_absen!$C$2:$C$2000=V$3)*(ROW(data_absen!$C$2:$C$2000)))-1)","v":{"$error":"#VALUE!"}},null,"-",{"$f":"INDEX(data_absen!$H$2:$H$2000,SUMPRODUCT((data_absen!$B$2:$B$2000=$A7)*(data_absen!$C$2:$C$2000=V$3)*(ROW(data_absen!$C$2:$C$2000)))-1)","v":{"$error":"#VALUE!"}},null,{"$f":"INDEX(data_absen!$G$2:$G$2000,SUMPRODUCT((data_absen!$B$2:$B$2000=$A7)*(data_absen!$C$2:$C$2000=AA$3)*(ROW(data_absen!$C$2:$C$2000)))-1)","v":{"$error":"#VALUE!"}},null,"-",{"$f":"INDEX(data_absen!$H$2:$H$2000,SUMPRODUCT((data_absen!$B$2:$B$2000=$A7)*(data_absen!$C$2:$C$2000=AA$3)*(ROW(data_absen!$C$2:$C$2000)))-1)","v":{"$error":"#VALUE!"}},null,{"$f":"INDEX(data_absen!$G$2:$G$2000,SUMPRODUCT((data_absen!$B$2:$B$2000=$A7)*(data_absen!$C$2:$C$2000=AF$3)*(ROW(data_absen!$C$2:$C$2000)))-1)","v":{"$error":"#VALUE!"}},null,"-",{"$f":"INDEX(data_absen!$H$2:$H$2000,SUMPRODUCT((data_absen!$B$2:$B$2000=$A7)*(data_absen!$C$2:$C$2000=AF$3)*(ROW(data_absen!$C$2:$C$2000)))-1)","v":{"$error":"#VALUE!"}},null,{"$f":"INDEX(data_absen!$G$2:$G$2000,SUMPRODUCT((data_absen!$B$2:$B$2000=$A7)*(data_absen!$C$2:$C$2000=AK$3)*(ROW(data_absen!$C$2:$C$2000)))-1)","v":{"$error":"#VALUE!"}},null,"-",{"$f":"INDEX(data_absen!$H$2:$H$2000,SUMPRODUCT((data_absen!$B$2:$B$2000=$A7)*(data_absen!$C$2:$C$2000=AK$3)*(ROW(data_absen!$C$2:$C$2000)))-1)","v":{"$error":"#VALUE!"}},null,{"$f":"INDEX(data_absen!$G$2:$G$2000,SUMPRODUCT((data_absen!$B$2:$B$2000=$A7)*(data_absen!$C$2:$C$2000=AP$3)*(ROW(data_absen!$C$2:$C$2000)))-1)","v":{"$error":"#VALUE!"}},null,"-",{"$f":"INDEX(data_absen!$H$2:$H$2000,SUMPRODUCT((data_absen!$B$2:$B$2000=$A7)*(data_absen!$C$2:$C$2000=AP$3)*(ROW(data_absen!$C$2:$C$2000)))-1)","v":{"$error":"#VALUE!"}},null,{"$f":"INDEX(data_absen!$G$2:$G$2000,SUMPRODUCT((data_absen!$B$2:$B$2000=$A7)*(data_absen!$C$2:$C$2000=AU$3)*(ROW(data_absen!$C$2:$C$2000)))-1)","v":{"$error":"#VALUE!"}},null,"-",{"$f":"INDEX(data_absen!$H$2:$H$2000,SUMPRODUCT((data_absen!$B$2:$B$2000=$A7)*(data_absen!$C$2:$C$2000=AU$3)*(ROW(data_absen!$C$2:$C$2000)))-1)","v":{"$error":"#VALUE!"}},null,{"$f":"INDEX(data_absen!$G$2:$G$2000,SUMPRODUCT((data_absen!$B$2:$B$2000=$A7)*(data_absen!$C$2:$C$2000=AZ$3)*(ROW(data_absen!$C$2:$C$2000)))-1)","v":{"$error":"#VALUE!"}},null,"-",{"$f":"INDEX(data_absen!$H$2:$H$2000,SUMPRODUCT((data_absen!$B$2:$B$2000=$A7)*(data_absen!$C$2:$C$2000=AZ$3)*(ROW(data_absen!$C$2:$C$2000)))-1)","v":{"$error":"#VALUE!"}},null,{"$f":"INDEX(data_absen!$G$2:$G$2000,SUMPRODUCT((data_absen!$B$2:$B$2000=$A7)*(data_absen!$C$2:$C$2000=BE$3)*(ROW(data_absen!$C$2:$C$2000)))-1)","v":{"$error":"#VALUE!"}},null,"-",{"$f":"INDEX(data_absen!$H$2:$H$2000,SUMPRODUCT((data_absen!$B$2:$B$2000=$A7)*(data_absen!$C$2:$C$2000=BE$3)*(ROW(data_absen!$C$2:$C$2000)))-1)","v":{"$error":"#VALUE!"}},null,{"$f":"INDEX(data_absen!$G$2:$G$2000,SUMPRODUCT((data_absen!$B$2:$B$2000=$A7)*(data_absen!$C$2:$C$2000=BJ$3)*(ROW(data_absen!$C$2:$C$2000)))-1)","v":{"$error":"#VALUE!"}},null,"-",{"$f":"INDEX(data_absen!$H$2:$H$2000,SUMPRODUCT((data_absen!$B$2:$B$2000=$A7)*(data_absen!$C$2:$C$2000=BJ$3)*(ROW(data_absen!$C$2:$C$2000)))-1)","v":{"$error":"#VALUE!"}},null,{"$f":"INDEX(data_absen!$G$2:$G$2000,SUMPRODUCT((data_absen!$B$2:$B$2000=$A7)*(data_absen!$C$2:$C$2000=BO$3)*(ROW(data_absen!$C$2:$C$2000)))-1)","v":{"$error":"#VALUE!"}},null,"-",{"$f":"INDEX(data_absen!$H$2:$H$2000,SUMPRODUCT((data_absen!$B$2:$B$2000=$A7)*(data_absen!$C$2:$C$2000=BO$3)*(ROW(data_absen!$C$2:$C$2000)))-1)","v":{"$error":"#VALUE!"}}]
[102,null,null,"-",null,null,null,null,"-",null,null,null,null,"-",null,null,null,null,"-",null,null,null,null,"-",null,null,null,null,"-",null,null,null,null,"-",null,null,null,null,"-",null,null,null,null,"-",null,null,null,null,"-",null,null,null,null,"-",null,null,null,null,"-",null,null,null,null,"-",null,null,null,null,"-"]
[null,{"$f":"IFERROR(INDEX(data_absen!$K$2:$K$2000,SUMPRODUCT((data_absen!$B$2:$B$2000=$A7)*(data_absen!$C$2:$C$2000=B$3)*(ROW(data_absen!$C$2:$C$2000)))-1)*1440,\"\")","v":""},{"$f":"IFERROR(INDEX(data_absen!$I$2:$I$2000,SUMPRODUCT((data_absen!$B$2:$B$2000=$A7)*(data_absen!$C$2:$C$2000=B$3)*(ROW(data_absen!$C$2:$C$2000)))-1)*1440,\"\")","v":""},null,null,{"$f":"IFERROR(INDEX(data_absen!$J$2:$J$2000,SUMPRODUCT((data_absen!$B$2:$B$2000=$A7)*(data_absen!$C$2:$C$2000=B$3)*(ROW(data_absen!$C$2:$C$2000)))-1)*1440,\"\")","v":""},{"$f":"IFERROR(INDEX(data_absen!$K$2:$K$2000,SUMPRODUCT((data_absen!$B$2:$B$2000=$A7)*(data_absen!$C$2:$C$2000=G$3)*(ROW(data_absen!$C$2:$C$2000)))-1)*1440,\"\")","v":""},{"$f":"IFERROR(INDEX(data_absen!$I$2:$I$2000,SUMPRODUCT((data_absen!$B$2:$B$2000=$A7)*(data_absen!$C$2:$C$2000=G$3)*(ROW(data_absen!$C$2:$C$2000)))-1)*1440,\"\")","v":""},null,null,{"$f":"IFERROR(INDEX(data_absen!$J$2:$J$2000,SUMPRODUCT((data_absen!$B$2:$B$2000=$A7)*(data_absen!$C$2:$C$2000=G$3)*(ROW(data_absen!$C$2:$C$2000)))-1)*1440,\"\")","v":64},{"$f":"IFERROR(INDEX(data_absen!$K$2:$K$2000,SUMPRODUCT((data_absen!$B$2:$B$2000=$A7)*(data_absen!$C$2:$C$2000=L$3)*(ROW(data_absen!$C$2:$C$2000)))-1)*1440,\"\")","v":""},{"$f":"IFERROR(INDEX(data_absen!$I$2:$I$2000,SUMPRODUCT((data_absen!$B$2:$B$2000=$A7)*(data_absen!$C$2:$C$2000=L$3)*(ROW(data_absen!$C$2:$C$2000)))-1)*1440,\"\")","v":""},null,null,{"$f":"IFERROR(INDEX(data_absen!$J$2:$J$2000,SUMPRODUCT((data_absen!$B$2:$B$2000=$A7)*(data_absen!$C$2:$C$2000=L$3)*(ROW(data_absen!$C$2:$C$2000)))-1)*1440,\"\")","v":62.000000000000007},{"$f":"IFERROR(INDEX(data_absen!$K$2:$K$2000,SUMPRODUCT((data_absen!$B$2:$B$2000=$A7)*(data_absen!$C$2:$C$2000=Q$3)*(ROW(data_absen!$C$2:$C$2000)))-1)*1440,\"\")","v":""},{"$f":"IFERROR(INDEX(data_absen!$I$2:$I$2000,SUMPRODUCT((data_absen!$B$2:$B$2000=$A7)*(data_absen!$C$2:$C$2000=Q$3)*(ROW(data_absen!$C$2:$C$2000)))-1)*1440,\"\")","v":""},null,null,{"$f":"IFERROR(INDEX(data_absen!$J$2:$J$2000,SUMPRODUCT((data_absen!$B$2:$B$2000=$A7)*(data_absen!$C$2:$C$2000=Q$3)*(ROW(data_absen!$C$2:$C$2000)))-1)*1440,\"\")","v":""},{"$f":"IFERROR(INDEX(data_absen!$K$2:$K$2000,SUMPRODUCT((data_absen!$B$2:$B$2000=$A7)*(data_absen!$C$2:$C$2000=V$3)*(ROW(data_absen!$C$2:$C$2000)))-1)*1440,\"\")","v":""},{"$f":"IFERROR(INDEX(data_absen!$I$2:$I$2000,SUMPRODUCT((data_absen!$B$2:$B$2000=$A7)*(data_absen!$C$2:$C$2000=V$3)*(ROW(data_absen!$C$2:$C$2000)))-1)*1440,\"\")","v":""},null,null,{"$f":"IFERROR(INDEX(data_absen!$J$2:$J$2000,SUMPRODUCT((data_absen!$B$2:$B$2000=$A7)*(data_absen!$C$2:$C$2000=V$3)*(ROW(data_absen!$C$2:$C$2000)))-1)*1440,\"\")","v":""},{"$f":"IFERROR(INDEX(data_absen!$K$2:$K$2000,SUMPRODUCT((data_absen!$B$2:$B$2000=$A7)*(data_absen!$C$2:$C$2000=AA$3)*(ROW(data_absen!$C$2:$C$2000)))-1)*1440,\"\")","v":""},{"$f":"IFERROR(INDEX(data_absen!$I$2:$I$2000,SUMPRODUCT((data_absen!$B$2:$B$2000=$A7)*(data_absen!$C$2:$C$2000=AA$3)*(ROW(data_absen!$C$2:$C$2000)))-1)*1440,\"\")","v":""},null,null,{"$f":"IFERROR(INDEX(data_absen!$J$2:$J$2000,SUMPRODUCT((data_absen!$B$2:$B$2000=$A7)*(data_absen!$C$2:$C$2000=AA$3)*(ROW(data_absen!$C$2:$C$2000)))-1)*1440,\"\")","v":""},{"$f":"IFERROR(INDEX(data_absen!$K$2:$K$2000,SUMPRODUCT((data_absen!$B$2:$B$2000=$A7)*(data_absen!$C$2:$C$2000=AF$3)*(ROW(data_absen!$C$2:$C$2000)))-1)*1440,\"\")","v":""},{"$f":"IFERROR(INDEX(data_absen!$I$2:$I$2000,SUMPRODUCT((data_absen!$B$2:$B$2000=$A7)*(data_absen!$C$2:$C$2000=AF$3)*(ROW(data_absen!$C$2:$C$2000)))-1)*1440,\"\")","v":""},null,null,{"$f":"IFERROR(INDEX(data_absen!$J$2:$J$2000,SUMPRODUCT((data_absen!$B$2:$B$2000=$A7)*(data_absen!$C$2:$C$2000=AF$3)*(ROW(data_absen!$C$2:$C$2000)))-1)*1440,\"\")","v":""},{"$f":"IFERROR(INDEX(data_absen!$K$2:$K$2000,SUMPRODUCT((data_absen!$B$2:$B$2000=$A7)*(data_absen!$C$2:$C$2000=AK$3)*(ROW(data_absen!$C$2:$C$2000)))-1)*1440,\"\")","v":""},{"$f":"IFERROR(INDEX(data_absen!$I$2:$I$2000,SUMPRODUCT((data_absen!$B$2:$B$2000=$A7)*(data_absen!$C$2:$C$2000=AK$3)*(ROW(data_absen!$C$2:$C$2000)))-1)*1440,\"\")","v":""},null,null,{"$f":"IFERROR(INDEX(data_absen!$J$2:$J$2000,SUMPRODUCT((data_absen!$B$2:$B$2000=$A7)*(data_absen!$C$2:$C$2000=AK$3)*(ROW(data_absen!$C$2:$C$2000)))-1)*1440,\"\")","v":""},{"$f":"IFERROR(INDEX(data_absen!$K$2:$K$2000,SUMPRODUCT((data_absen!$B$2:$B$2000=$A7)*(data_absen!$C$2:$C$2000=AP$3)*(ROW(data_absen!$C$2:$C$2000)))-1)*1440,\"\")","v":""},{"$f":"IFERROR(INDEX(data_absen!$I$2:$I$2000,SUMPRODUCT((data_absen!$B$2:$B$2000=$A7)*(data_absen!$C$2:$C$2000=AP$3)*(ROW(data_absen!$C$2:$C$2000)))-1)*1440,\"\")","v":""},null,null,{"$f":"IFERROR(INDEX(data_absen!$J$2:$J$2000,SUMPRODUCT((data_absen!$B$2:$B$2000=$A7)*(data_absen!$C$2:$C$2000=AP$3)*(ROW(data_absen!$C$2:$C$2000)))-1)*1440,\"\")","v":""},{"$f":"IFERROR(INDEX(data_absen!$K$2:$K$2000,SUMPRODUCT((data_absen!$B$2:$B$2000=$A7)*(data_absen!$C$2:$C$2000=AU$3)*(ROW(data_absen!$C$2:$C$2000)))-1)*1440,\"\")","v":""},{"$f":"IFERROR(INDEX(data_absen!$I$2:$I$2000,SUMPRODUCT((data_absen!$B$2:$B$2000=$A7)*(data_absen!$C$2:$C$2000=AU$3)*(ROW(data_absen!$C$2:$C$2000)))-1)*1440,\"\")","v":""},null,null,{"$f":"IFERROR(INDEX(data_absen!$J$2:$J$2000,SUMPRODUCT((data_absen!$B$2:$B$2000=$A7)*(data_absen!$C$2:$C$2000=AU$3)*(ROW(data_absen!$C$2:$C$2000)))-1)*1440,\"\")","v":""},{"$f":"IFERROR(INDEX(data_absen!$K$2:$K$2000,SUMPRODUCT((data_absen!$B$2:$B$2000=$A7)*(data_absen!$C$2:$C$2000=AZ$3)*(ROW(data_absen!$C$2:$C$2000)))-1)*1440,\"\")","v":""},{"$f":"IFERROR(INDEX(data_absen!$I$2:$I$2000,SUMPRODUCT((data_absen!$B$2:$B$2000=$A7)*(data_absen!$C$2:$C$2000=AZ$3)*(ROW(data_absen!$C$2:$C$2000)))-1)*1440,\"\")","v":""},null,null,{"$f":"IFERROR(INDEX(data_absen!$J$2:$J$2000,SUMPRODUCT((data_absen!$B$2:$B$2000=$A7)*(data_absen!$C$2:$C$2000=AZ$3)*(ROW(data_absen!$C$2:$C$2000)))-1)*1440,\"\")","v":""},{"$f":"IFERROR(INDEX(data_absen!$K$2:$K$2000,SUMPRODUCT((data_absen!$B$2:$B$2000=$A7)*(data_absen!$C$2:$C$2000=BE$3)*(ROW(data_absen!$C$2:$C$2000)))-1)*1440,\"\")","v":""},{"$f":"IFERROR(INDEX(data_absen!$I$2:$I$2000,SUMPRODUCT((data_absen!$B$2:$B$2000=$A7)*(data_absen!$C$2:$C$2000=BE$3)*(ROW(data_absen!$C$2:$C$2000)))-1)*1440,\"\")","v":""},null,null,{"$f":"IFERROR(INDEX(data_absen!$J$2:$J$2000,SUMPRODUCT((data_absen!$B$2:$B$2000=$A7)*(data_absen!$C$2:$C$2000=BE$3)*(ROW(data_absen!$C$2:$C$2000)))-1)*1440,\"\")","v":""},{"$f":"IFERROR(INDEX(data_absen!$K$2:$K$2000,SUMPRODUCT((data_absen!$B$2:$B$2000=$A7)*(data_absen!$C$2:$C$2000=BJ$3)*(ROW(data_absen!$C$2:$C$2000)))-1)*1440,\"\")","v":""},{"$f":"IFERROR(INDEX(data_absen!$I$2:$I$2000,SUMPRODUCT((data_absen!$B$2:$B$2000=$A7)*(data_absen!$C$2:$C$2000=BJ$3)*(ROW(data_absen!$C$2:$C$2000)))-1)*1440,\"\")","v":""},null,null,{"$f":"IFERROR(INDEX(data_absen!$J$2:$J$2000,SUMPRODUCT((data_absen!$B$2:$B$2000=$A7)*(data_absen!$C$2:$C$2000=BJ$3)*(ROW(data_absen!$C$2:$C$2000)))-1)*1440,\"\")","v":""},{"$f":"IFERROR(INDEX(data_absen!$K$2:$K$2000,SUMPRODUCT((data_absen!$B$2:$B$2000=$A7)*(data_absen!$C$2:$C$2000=BO$3)*(ROW(data_absen!$C$2:$C$2000)))-1)*1440,\"\")","v":""},{"$f":"IFERROR(INDEX(data_absen!$I$2:$I$2000,SUMPRODUCT((data_absen!$B$2:$B$2000=$A7)*(data_absen!$C$2:$C$2000=BO$3)*(ROW(data_absen!$C$2:$C$2000)))-1)*1440,\"\")","v":""},null,null,{"$f":"IFERROR(INDEX(data_absen!$J$2:$J$2000,SUMPRODUCT((data_absen!$B$2:$B$2000=$A7)*(data_absen!$C$2:$C$2000=BO$3)*(ROW(data_absen!$C$2:$C$2000)))-1)*1440,\"\")","v":""},{"$f":"COUNTIFS(data_absen!$B$2:$B$2000,$A7,data_absen!$I$2:$I$2000,\">0\")","v":0}]
["Paidi",{"$f":"INDEX(data_absen!$G$2:$G$2000,SUMPRODUCT((data_absen!$B$2:$B$2000=$A10)*(data_absen!$C$2:$C$2000=B$3)*(ROW(data_absen!$C$2:$C$2000)))-1)","v":"05:30:00"},null,"-",{"$f":"INDEX(data_absen!$H$2:$H$2000,SUMPRODUCT((data_absen!$B$2:$B$2000=$A10)*(data_absen!$C$2:$C$2000=B$3)*(ROW(data_absen!$C$2:$C$2000)))-1)","v":"14:58:00"},null,{"$f":"INDEX(data_absen!$G$2:$G$2000,SUMPRODUCT((data_absen!$B$2:$B$2000=$A10)*(data_absen!$C$2:$C$2000=G$3)*(ROW(data_absen!$C$2:$C$2000)))-1)","v":"05:30:00"},null,"-",{"$f":"INDEX(data_absen!$H$2:$H$2000,SUMPRODUCT((data_absen!$B$2:$B$2000=$A10)*(data_absen!$C$2:$C$2000=G$3)*(ROW(data_absen!$C$2:$C$2000)))-1)","v":"14:57:00"},null,{"$f":"INDEX(data_absen!$G$2:$G$2000,SUMPRODUCT((data_absen!$B$2:$B$2000=$A10)*(data_absen!$C$2:$C$2000=L$3)*(ROW(data_absen!$C$2:$C$2000)))-1)","v":"05:30:00"},null,"-",{"$f":"INDEX(data_absen!$H$2:$H$2000,SUMPRODUCT((data_absen!$B$2:$B$2000=$A10)*(data_absen!$C$2:$C$2000=L$3)*(ROW(data_absen!$C$2:$C$2000)))-1)","v":""},null,{"$f":"INDEX(data_absen!$G$2:$G$2000,SUMPRODUCT((data_absen!$B$2:$B$2000=$A10)*(data_absen!$C$2:$C$2000=Q$3)*(ROW(data_absen!$C$2:$C$2000)))-1)","v":{"$error":"#VALUE!"}},null,"-",{"$f":"INDEX(data_absen!$H$2:$H$2000,SUMPRODUCT((data_absen!$B$2:$B$2000=$A10)*(data_absen!$C$2:$C$2000=Q$3)*(ROW(data_absen!$C$2:$C$2000)))-1)","v":{"$error":"#VALUE!"}},null,{"$f":"INDEX(data_absen!$G$2:$G$2000,SUMPRODUCT((data_absen!$B$2:$B$2000=$A10)*(data_absen!$C$2:$C$2000=V$3)*(ROW(data_absen!$C$2:$C$2000)))-1)","v":{"$error":"#VALUE!"}},null,"-",{"$f":"INDEX(data_absen!$H$2:$H$2000,SUMPRODUCT((data_absen!$B$2:$B$2000=$A10)*(data_absen!$C$2:$C$2000=V$3)*(ROW(data_absen!$C$2:$C$2000)))-1)","v":{"$error":"#VALUE!"}},null,{"$f":"INDEX(data_absen!$G$2:$G$2000,SUMPRODUCT((data_absen!$B$2:$B$2000=$A10)*(data_absen!$C$2:$C$2000=AA$3)*(ROW(data_absen!$C$2:$C$2000)))-1)","v":{"$error":"#VALUE!"}},null,"-",{"$f":"INDEX(data_absen!$H$2:$H$2000,SUMPRODUCT((data_absen!$B$2:$B$2000=$A10)*(data_absen!$C$2:$C$2000=AA$3)*(ROW(data_absen!$C$2:$C$2000)))-1)","v":{"$error":"#VALUE!"}},null,{"$f":"INDEX(data_absen!$G$2:$G$2000,SUMPRODUCT((data_absen!$B$2:$B$2000=$A10)*(data_absen!$C$2:$C$2000=AF$3)*(ROW(data_absen!$C$2:$C$2000)))-1)","v":{"$error":"#VALUE!"}},null,"-",{"$f":"INDEX(data_absen!$H$2:$H$2000,SUMPRODUCT((data_absen!$B$2:$B$2000=$A10)*(data_absen!$C$2:$C$2000=AF$3)*(ROW(data_absen!$C$2:$C$2000)))-1)","v":{"$error":"#VALUE!"}},null,{"$f":"INDEX(data_absen!$G$2:$G$2000,SUMPRODUCT((data_absen!$B$2:$B$2000=$A10)*(data_absen!$C$2:$C$2000=AK$3)*(ROW(data_absen!$C$2:$C$2000)))-1)","v":{"$error":"#VALUE!"}},null,"-",{"$f":"INDEX(data_absen!$H$2:$H$2000,SUMPRODUCT((data_absen!$B$2:$B$2000=$A10)*(data_absen!$C$2:$C$2000=AK$3)*(ROW(data_absen!$C$2:$C$2000)))-1)","v":{"$error":"#VALUE!"}},null,{"$f":"INDEX(data_absen!$G$2:$G$2000,SUMPRODUCT((data_absen!$B$2:$B$2000=$A10)*(data_absen!$C$2:$C$2000=AP$3)*(ROW(data_absen!$C$2:$C$2000)))-1)","v":{"$error":"#VALUE!"}},null,"-",{"$f":"INDEX(data_absen!$H$2:$H$2000,SUMPRODUCT((data_absen!$B$2:$B$2000=$A10)*(data_absen!$C$2:$C$2000=AP$3)*(ROW(data_absen!$C$2:$C$2000)))-1)","v":{"$error":"#VALUE!"}},null,{"$f":"INDEX(data_absen!$G$2:$G$2000,SUMPRODUCT((data_absen!$B$2:$B$2000=$A10)*(data_absen!$C$2:$C$2000=AU$3)*(ROW(data_absen!$C$2:$C$2000)))-1)","v":{"$error":"#VALUE!"}},null,"-",{"$f":"INDEX(data_absen!$H$2:$H$2000,SUMPRODUCT((data_absen!$B$2:$B$2000=$A10)*(data_absen!$C$2:$C$2000=AU$3)*(ROW(data_absen!$C$2:$C$2000)))-1)","v":{"$error":"#VALUE!"}},null,{"$f":"INDEX(data_absen!$G$2:$G$2000,SUMPRODUCT((data_absen!$B$2:$B$2000=$A10)*(data_absen!$C$2:$C$2000=AZ$3)*(ROW(data_absen!$C$2:$C$2000)))-1)","v":{"$error":"#VALUE!"}},null,"-",{"$f":"INDEX(data_absen!$H$2:$H$2000,SUMPRODUCT((data_absen!$B$2:$B$2000=$A10)*(data_absen!$C$2:$C$2000=AZ$3)*(ROW(data_absen!$C$2:$C$2000)))-1)","v":{"$error":"#VALUE!"}},null,{"$f":"INDEX(data_absen!$G$2:$G$2000,SUMPRODUCT((data_absen!$B$2:$B$2000=$A10)*(data_absen!$C$2:$C$2000=BE$3)*(ROW(data_absen!$C$2:$C$2000)))-1)","v":{"$error":"#VALUE!"}},null,"-",{"$f":"INDEX(data_absen!$H$2:$H$2000,SUMPRODUCT((data_absen!$B$2:$B$2000=$A10)*(data_absen!$C$2:$C$2000=BE$3)*(ROW(data_absen!$C$2:$C$2000)))-1)","v":{"$error":"#VALUE!"}},null,{"$f":"INDEX(data_absen!$G$2:$G$2000,SUMPRODUCT((data_absen!$B$2:$B$2000=$A10)*(data_absen!$C$2:$C$2000=BJ$3)*(ROW(data_absen!$C$2:$C$2000)))-1)","v":{"$error":"#VALUE!"}},null,"-",{"$f":"INDEX(data_absen!$H$2:$H$2000,SUMPRODUCT((data_absen!$B$2:$B$2000=$A10)*(data_absen!$C$2:$C$2000=BJ$3)*(ROW(data_absen!$C$2:$C$2000)))-1)","v":{"$error":"#VALUE!"}},null,{"$f":"INDEX(data_absen!$G$2:$G$2000,SUMPRODUCT((data_absen!$B$2:$B$2000=$A10)*(data_absen!$C$2:$C$2000=BO$3)*(ROW(data_absen!$C$2:$C$2000)))-1)","v":{"$error":"#VALUE!"}},null,"-",{"$f":"INDEX(data_absen!$H$2:$H$2000,SUMPRODUCT((data_absen!$B$2:$B$2000=$A10)*(data_absen!$C$2:$C$2000=BO$3)*(ROW(data_absen!$C$2:$C$2000)))-1)","v":{"$error":"#VALUE!"}}]
[103,null,null,"-",null,null,null,null,"-",null,null,null,null,"-",null,null,null,null,"-",null,null,null,null,"-",null,null,null,null,"-",null,null,null,null,"-",null,null,null,null,"-",null,null,null,null,"-",null,null,null,null,"-",null,null,null,null,"-",null,null,null,null,"-",null,null,null,null,"-",null,null,null,null,"-"]
[null,{"$f":"IFERROR(INDEX(data_absen!$K$2:$K$2000,SUMPRODUCT((data_absen!$B$2:$B$2000=$A10)*(data_absen!$C$2:$C$2000=B$3)*(ROW(data_absen!$C$2:$C$2000)))-1)*1440,\"\")","v":""},{"$f":"IFERROR(INDEX(data_absen!$I$2:$I$2000,SUMPRODUCT((data_absen!$B$2:$B$2000=$A10)*(data_absen!$C$2:$C$2000=B$3)*(ROW(data_absen!$C$2:$C$2000)))-1)*1440,\"\")","v":""},null,null,{"$f":"IFERROR(INDEX(data_absen!$J$2:$J$2000,SUMPRODUCT((data_absen!$B$2:$B$2000=$A10)*(data_absen!$C$2:$C$2000=B$3)*(ROW(data_absen!$C$2:$C$2000)))-1)*1440,\"\")","v":""},{"$f":"IFERROR(INDEX(data_absen!$K$2:$K$2000,SUMPRODUCT((data_absen!$B$2:$B$2000=$A10)*(data_absen!$C$2:$C$2000=G$3)*(ROW(data_absen!$C$2:$C$2000)))-1)*1440,\"\")","v":""},{"$f":"IFERROR(INDEX(data_absen!$I$2:$I$2000,SUMPRODUCT((data_absen!$B$2:$B$2000=$A10)*(data_absen!$C$2:$C$2000=G$3)*(ROW(data_absen!$C$2:$C$2000)))-1)*1440,\"\")","v":""},null,null,{"$f":"IFERROR(INDEX(data_absen!$J$2:$J$2000,SUMPRODUCT((data_absen!$B$2:$B$2000=$A10)*(data_absen!$C$2:$C$2000=G$3)*(ROW(data_absen!$C$2:$C$2000)))-1)*1440,\"\")","v":""},{"$f":"IFERROR(INDEX(data_absen!$K$2:$K$2000,SUMPRODUCT((data_absen!$B$2:$B$2000=$A10)*(data_absen!$C$2:$C$2000=L$3)*(ROW(data_absen!$C$2:$C$2000)))-1)*1440,\"\")","v":""},{"$f":"IFERROR(INDEX(data_absen!$I$2:$I$2000,SUMPRODUCT((data_absen!$B$2:$B$2000=$A10)*(data_absen!$C$2:$C$2000=L$3)*(ROW(data_absen!$C$2:$C$2000)))-1)*1440,\"\")","v":""},null,null,{"$f":"IFERROR(INDEX(data_absen!$J$2:$J$2000,SUMPRODUCT((data_absen!$B$2:$B$2000=$A10)*(data_absen!$C$2:$C$2000=L$3)*(ROW(data_absen!$C$2:$C$2000)))-1)*1440,\"\")","v":120},{"$f":"IFERROR(INDEX(data_absen!$K$2:$K$2000,SUMPRODUCT((data_absen!$B$2:$B$2000=$A10)*(data_absen!$C$2:$C$2000=Q$3)*(ROW(data_absen!$C$2:$C$2000)))-1)*1440,\"\")","v":""},{"$f":"IFERROR(INDEX(data_absen!$I$2:$I$2000,SUMPRODUCT((data_absen!$B$2:$B$2000=$A10)*(data_absen!$C$2:$C$2000=Q$3)*(ROW(data_absen!$C$2:$C$2000)))-1)*1440,\"\")","v":""},null,null,{"$f":"IFERROR(INDEX(data_absen!$J$2:$J$2000,SUMPRODUCT((data_absen!$B$2:$B$2000=$A10)*(data_absen!$C$2:$C$2000=Q$3)*(ROW(data_absen!$C$2:$C$2000)))-1)*1440,\"\")","v":""},{"$f":"IFERROR(INDEX(data_absen!$K$2:$K$2000,SUMPRODUCT((data_absen!$B$2:$B$2000=$A10)*(data_absen!$C$2:$C$2000=V$3)*(ROW(data_absen!$C$2:$C$2000)))-1)*1440,\"\")","v":""},{"$f":"IFERROR(INDEX(data_absen!$I$2:$I$2000,SUMPRODUCT((data_absen!$B$2:$B$2000=$A10)*(data_absen!$C$2:$C$2000=V$3)*(ROW(data_absen!$C$2:$C$2000)))-1)*1440,\"\")","v":""},null,null,{"$f":"IFERROR(INDEX(data_absen!$J$2:$J$2000,SUMPRODUCT((data_absen!$B$2:$B$2000=$A10)*(data_absen!$C$2:$C$2000=V$3)*(ROW(data_absen!$C$2:$C$2000)))-1)*1440,\"\")","v":""},{"$f":"IFERROR(INDEX(data_absen!$K$2:$K$2000,SUMPRODUCT((data_absen!$B$2:$B$2000=$A10)*(data_absen!$C$2:$C$2000=AA$3)*(ROW(data_absen!$C$2:$C$2000)))-1)*1440,\"\")","v":""},{"$f":"IFERROR(INDEX(data_absen!$I$2:$I$2000,SUMPRODUCT((data_absen!$B$2:$B$2000=$A10)*(data_absen!$C$2:$C$2000=AA$3)*(ROW(data_absen!$C$2:$C$2000)))-1)*1440,\"\")","v":""},null,null,{"$f":"IFERROR(INDEX(data_absen!$J$2:$J$2000,SUMPRODUCT((data_absen!$B$2:$B$2000=$A10)*(data_absen!$C$2:$C$2000=AA$3)*(ROW(data_absen!$C$2:$C$2000)))-1)*1440,\"\")","v":""},{"$f":"IFERROR(INDEX(data_absen!$K$2:$K$2000,SUMPRODUCT((data_absen!$B$2:$B$2000=$A10)*(data_absen!$C$2:$C$2000=AF$3)*(ROW(data_absen!$C$2:$C$2000)))-1)*1440,\"\")","v":""},{"$f":"IFERROR(INDEX(data_absen!$I$2:$I$2000,SUMPRODUCT((data_absen!$B$2:$B$2000=$A10)*(data_absen!$C$2:$C$2000=AF$3)*(ROW(data_absen!$C$2:$C$2000)))-1)*1440,\"\")","v":""},null,null,{"$f":"IFERROR(INDEX(data_absen!$J$2:$J$2000,SUMPRODUCT((data_absen!$B$2:$B$2000=$A10)*(data_absen!$C$2:$C$2000=AF$3)*(ROW(data_absen!$C$2:$C$2000)))-1)*1440,\"\")","v":""},{"$f":"IFERROR(INDEX(data_absen!$K$2:$K$2000,SUMPRODUCT((data_absen!$B$2:$B$2000=$A10)*(data_absen!$C$2:$C$2000=AK$3)*(ROW(data_absen!$C$2:$C$2000)))-1)*1440,\"\")","v":""},{"$f":"IFERROR(INDEX(data_absen!$I$2:$I$2000,SUMPRODUCT((data_absen!$B$2:$B$2000=$A10)*(data_absen!$C$2:$C$2000=AK$3)*(ROW(data_absen!$C$2:$C$2000)))-1)*1440,\"\")","v":""},null,null,{"$f":"IFERROR(INDEX(data_absen!$J$2:$J$2000,SUMPRODUCT((data_absen!$B$2:$B$2000=$A10)*(data_absen!$C$2:$C$2000=AK$3)*(ROW(data_absen!$C$2:$C$2000)))-1)*1440,\"\")","v":""},{"$f":"IFERROR(INDEX(data_absen!$K$2:$K$2000,SUMPRODUCT((data_absen!$B$2:$B$2000=$A10)*(data_absen!$C$2:$C$2000=AP$3)*(ROW(data_absen!$C$2:$C$2000)))-1)*1440,\"\")","v":""},{"$f":"IFERROR(INDEX(data_absen!$I$2:$I$2000,SUMPRODUCT((data_absen!$B$2:$B$2000=$A10)*(data_absen!$C$2:$C$2000=AP$3)*(ROW(data_absen!$C$2:$C$2000)))-1)*1440,\"\")","v":""},null,null,{"$f":"IFERROR(INDEX(data_absen!$J$2:$J$2000,SUMPRODUCT((data_absen!$B$2:$B$2000=$A10)*(data_absen!$C$2:$C$2000=AP$3)*(ROW(data_absen!$C$2:$C$2000)))-1)*1440,\"\")","v":""},{"$f":"IFERROR(INDEX(data_absen!$K$2:$K$2000,SUMPRODUCT((data_absen!$B$2:$B$2000=$A10)*(data_absen!$C$2:$C$2000=AU$3)*(ROW(data_absen!$C$2:$C$2000)))-1)*1440,\"\")","v":""},{"$f":"IFERROR(INDEX(data_absen!$I$2:$I$2000,SUMPRODUCT((data_absen!$B$2:$B$2000=$A10)*(data_absen!$C$2:$C$2000=AU$3)*(ROW(data_absen!$C$2:$C$2000)))-1)*1440,\"\")","v":""},null,null,{"$f":"IFERROR(INDEX(data_absen!$J$2:$J$2000,SUMPRODUCT((data_absen!$B$2:$B$2000=$A10)*(data_absen!$C$2:$C$2000=AU$3)*(ROW(data_absen!$C$2:$C$2000)))-1)*1440,\"\")","v":""},{"$f":"IFERROR(INDEX(data_absen!$K$2:$K$2000,SUMPRODUCT((data_absen!$B$2:$B$2000=$A10)*(data_absen!$C$2:$C$2000=AZ$3)*(ROW(data_absen!$C$2:$C$2000)))-1)*1440,\"\")","v":""},{"$f":"IFERROR(INDEX(data_absen!$I$2:$I$2000,SUMPRODUCT((data_absen!$B$2:$B$2000=$A10)*(data_absen!$C$2:$C$2000=AZ$3)*(ROW(data_absen!$C$2:$C$2000)))-1)*1440,\"\")","v":""},null,null,{"$f":"IFERROR(INDEX(data_absen!$J$2:$J$2000,SUMPRODUCT((data_absen!$B$2:$B$2000=$A10)*(data_absen!$C$2:$C$2000=AZ$3)*(ROW(data_absen!$C$2:$C$2000)))-1)*1440,\"\")","v":""},{"$f":"IFERROR(INDEX(data_absen!$K$2:$K$2000,SUMPRODUCT((data_absen!$B$2:$B$2000=$A10)*(data_absen!$C$2:$C$2000=BE$3)*(ROW(data_absen!$C$2:$C$2000)))-1)*1440,\"\")","v":""},{"$f":"IFERROR(INDEX(data_absen!$I$2:$I$2000,SUMPRODUCT((data_absen!$B$2:$B$2000=$A10)*(data_absen!$C$2:$C$2000=BE$3)*(ROW(data_absen!$C$2:$C$2000)))-1)*1440,\"\")","v":""},null,null,{"$f":"IFERROR(INDEX(data_absen!$J$2:$J$2000,SUMPRODUCT((data_absen!$B$2:$B$2000=$A10)*(data_absen!$C$2:$C$2000=BE$3)*(ROW(data_absen!$C$2:$C$2000)))-1)*1440,\"\")","v":""},{"$f":"IFERROR(INDEX(data_absen!$K$2:$K$2000,SUMPRODUCT((data_absen!$B$2:$B$2000=$A10)*(data_absen!$C$2:$C$2000=BJ$3)*(ROW(data_absen!$C$2:$C$2000)))-1)*1440,\"\")","v":""},{"$f":"IFERROR(INDEX(data_absen!$I$2:$I$2000,SUMPRODUCT((data_absen!$B$2:$B$2000=$A10)*(data_absen!$C$2:$C$2000=BJ$3)*(ROW(data_absen!$C$2:$C$2000)))-1)*1440,\"\")","v":""},null,null,{"$f":"IFERROR(INDEX(data_absen!$J$2:$J$2000,SUMPRODUCT((data_absen!$B$2:$B$2000=$A10)*(data_absen!$C$2:$C$2000=BJ$3)*(ROW(data_absen!$C$2:$C$2000)))-1)*1440,\"\")","v":""},{"$f":"IFERROR(INDEX(data_absen!$K$2:$K$2000,SUMPRODUCT((data_absen!$B$2:$B$2000=$A10)*(data_absen!$C$2:$C$2000=BO$3)*(ROW(data_absen!$C$2:$C$2000)))-1)*1440,\"\")","v":""},{"$f":"IFERROR(INDEX(data_absen!$I$2:$I$2000,SUMPRODUCT((data_absen!$B$2:$B$2000=$A10)*(data_absen!$C$2:$C$2000=BO$3)*(ROW(data_absen!$C$2:$C$2000)))-1)*1440,\"\")","v":""},null,null,{"$f":"IFERROR(INDEX(data_absen!$J$2:$J$2000,SUMPRODUCT((data_absen!$B$2:$B$2000=$A10)*(data_absen!$C$2:$C$2000=BO$3)*(ROW(data_absen!$C$2:$C$2000)))-1)*1440,\"\")","v":""},{"$f":"COUNTIFS(data_absen!$B$2:$B$2000,$A10,data_absen!$I$2:$I$2000,\">0\")","v":0}]
["Slamet",{"$f":"INDEX(data_absen!$G$2:$G$2000,SUMPRODUCT((data_absen!$B$2:$B$2000=$A13)*(data_absen!$C$2:$C$2000=B$3)*(ROW(data_absen!$C$2:$C$2000)))-1)","v":"06:47:00"},null,"-",{"$f":"INDEX(data_absen!$H$2:$H$2000,SUMPRODUCT((data_absen!$B$2:$B$2000=$A13)*(data_absen!$C$2:$C$2000=B$3)*(ROW(data_absen!$C$2:$C$2000)))-1)","v":"14:57:00"},null,{"$f":"INDEX(data_absen!$G$2:$G$2000,SUMPRODUCT((data_absen!$B$2:$B$2000=$A13)*(data_absen!$C$2:$C$2000=G$3)*(ROW(data_absen!$C$2:$C$2000)))-1)","v":"06:46:00"},null,"-",{"$f":"INDEX(data_absen!$H$2:$H$2000,SUMPRODUCT((data_absen!$B$2:$B$2000=$A13)*(data_absen!$C$2:$C$2000=G$3)*(ROW(data_absen!$C$2:$C$2000)))-1)","v":"14:56:00"},null,{"$f":"INDEX(data_absen!$G$2:$G$2000,SUMPRODUCT((data_absen!$B$2:$B$2000=$A13)*(data_absen!$C$2:$C$2000=L$3)*(ROW(data_absen!$C$2:$C$2000)))-1)","v":"06:43:00"},null,"-",{"$f":"INDEX(data_absen!$H$2:$H$2000,SUMPRODUCT((data_absen!$B$2:$B$2000=$A13)*(data_absen!$C$2:$C$2000=L$3)*(ROW(data_absen!$C$2:$C$2000)))-1)","v":"14:58:00"},null,{"$f":"INDEX(data_absen!$G$2:$G$2000,SUMPRODUCT((data_absen!$B$2:$B$2000=$A13)*(data_absen!$C$2:$C$2000=Q$3)*(ROW(data_absen!$C$2:$C$2000)))-1)","v":{"$error":"#VALUE!"}},null,"-",{"$f":"INDEX(data_absen!$H$2:$H$2000,SUMPRODUCT((data_absen!$B$2:$B$2000=$A13)*(data_absen!$C$2:$C$2000=Q$3)*(ROW(data_absen!$C$2:$C$2000)))-1)","v":{"$error":"#VALUE!"}},null,{"$f":"INDEX(data_absen!$G$2:$G$2000,SUMPRODUCT((data_absen!$B$2:$B$2000=$A13)*(data_absen!$C$2:$C$2000=V$3)*(ROW(data_absen!$C$2:$C$2000)))-1)","v":{"$error":"#VALUE!"}},null,"-",{"$f":"INDEX(data_absen!$H$2:$H$2000,SUMPRODUCT((data_absen!$B$2:$B$2000=$A13)*(data_absen!$C$2:$C$2000=V$3)*(ROW(data_absen!$C$2:$C$2000)))-1)","v":{"$error":"#VALUE!"}},null,{"$f":"INDEX(data_absen!$G$2:$G$2000,SUMPRODUCT((data_absen!$B$2:$B$2000=$A13)*(data_absen!$C$2:$C$2000=AA$3)*(ROW(data_absen!$C$2:$C$2000)))-1)","v":{"$error":"#VALUE!"}},null,"-",{"$f":"INDEX(data_absen!$H$2:$H$2000,SUMPRODUCT((data_absen!$B$2:$B$2000=$A13)*(data_absen!$C$2:$C$2000=AA$3)*(ROW(data_absen!$C$2:$C$2000)))-1)","v":{"$error":"#VALUE!"}},null,{"$f":"INDEX(data_absen!$G$2:$G$2000,SUMPRODUCT((data_absen!$B$2:$B$2000=$A13)*(data_absen!$C$2:$C$2000=AF$3)*(ROW(data_absen!$C$2:$C$2000)))-1)","v":{"$error":"#VALUE!"}},null,"-",{"$f":"INDEX(data_absen!$H$2:$H$2000,SUMPRODUCT((data_absen!$B$2:$B$2000=$A13)*(data_absen!$C$2:$C$2000=AF$3)*(ROW(data_absen!$C$2:$C$2000)))-1)","v":{"$error":"#VALUE!"}},null,{"$f":"INDEX(data_absen!$G$2:$G$2000,SUMPRODUCT((data_absen!$B$2:$B$2000=$A13)*(data_absen!$C$2:$C$2000=AK$3)*(ROW(data_absen!$C$2:$C$2000)))-1)","v":{"$error":"#VALUE!"}},null,"-",{"$f":"INDEX(data_absen!$H$2:$H$2000,SUMPRODUCT((data_absen!$B$2:$B$2000=$A13)*(data_absen!$C$2:$C$2000=AK$3)*(ROW(data_absen!$C$2:$C$2000)))-1)","v":{"$error":"#VALUE!"}},null,{"$f":"INDEX(data_absen!$G$2:$G$2000,SUMPRODUCT((data_absen!$B$2:$B$2000=$A13)*(data_absen!$C$2:$C$2000=AP$3)*(ROW(data_absen!$C$2:$C$2000)))-1)","v":{"$error":"#VALUE!"}},null,"-",{"$f":"INDEX(data_absen!$H$2:$H$2000,SUMPRODUCT((data_absen!$B$2:$B$2000=$A13)*(data_absen!$C$2:$C$2000=AP$3)*(ROW(data_absen!$C$2:$C$2000)))-1)","v":{"$error":"#VALUE!"}},null,{"$f":"INDEX(data_absen!$G$2:$G$2000,SUMPRODUCT((data_absen!$B$2:$B$2000=$A13)*(data_absen!$C$2:$C$2000=AU$3)*(ROW(data_absen!$C$2:$C$2000)))-1)","v":{"$error":"#VALUE!"}},null,"-",{"$f":"INDEX(data_absen!$H$2:$H$2000,SUMPRODUCT((data_absen!$B$2:$B$2000=$A13)*(data_absen!$C$2:$C$2000=AU$3)*(ROW(data_absen!$C$2:$C$2000)))-1)","v":{"$error":"#VALUE!"}},null,{"$f":"INDEX(data_absen!$G$2:$G$2000,SUMPRODUCT((data_absen!$B$2:$B$2000=$A13)*(data_absen!$C$2:$C$2000=AZ$3)*(ROW(data_absen!$C$2:$C$2000)))-1)","v":{"$error":"#VALUE!"}},null,"-",{"$f":"INDEX(data_absen!$H$2:$H$2000,SUMPRODUCT((data_absen!$B$2:$B$2000=$A13)*(data_absen!$C$2:$C$2000=AZ$3)*(ROW(data_absen!$C$2:$C$2000)))-1)","v":{"$error":"#VALUE!"}},null,{"$f":"INDEX(data_absen!$G$2:$G$2000,SUMPRODUCT((data_absen!$B$2:$B$2000=$A13)*(data_absen!$C$2:$C$2000=BE$3)*(ROW(data_absen!$C$2:$C$2000)))-1)","v":{"$error":"#VALUE!"}},null,"-",{"$f":"INDEX(data_absen!$H$2:$H$2000,SUMPRODUCT((data_absen!$B$2:$B$2000=$A13)*(data_absen!$C$2:$C$2000=BE$3)*(ROW(data_absen!$C$2:$C$2000)))-1)","v":{"$error":"#VALUE!"}},null,{"$f":"INDEX(data_absen!$G$2:$G$2000,SUMPRODUCT((data_absen!$B$2:$B$2000=$A13)*(data_absen!$C$2:$C$2000=BJ$3)*(ROW(data_absen!$C$2:$C$2000)))-1)","v":{"$error":"#VALUE!"}},null,"-",{"$f":"INDEX(data_absen!$H$2:$H$2000,SUMPRODUCT((data_absen!$B$2:$B$2000=$A13)*(data_absen!$C$2:$C$2000=BJ$3)*(ROW(data_absen!$C$2:$C$2000)))-1)","v":{"$error":"#VALUE!"}},null,{"$f":"INDEX(data_absen!$G$2:$G$2000,SUMPRODUCT((data_absen!$B$2:$B$2000=$A13)*(data_absen!$C$2:$C$2000=BO$3)*(ROW(data_absen!$C$2:$C$2000)))-1)","v":{"$error":"#VALUE!"}},null,"-",{"$f":"INDEX(data_absen!$H$2:$H$2000,SUMPRODUCT((data_absen!$B$2:$B$2000=$A13)*(data_absen!$C$2:$C$2000=BO$3)*(ROW(data_absen!$C$2:$C$2000)))-1)","v":{"$error":"#VALUE!"}}]
[104,null,null,"-",null,null,null,null,"-",null,null,null,null,"-",null,null,null,null,"-",null,null,null,null,"-",null,null,null,null,"-",null,null,null,null,"-",null,null,null,null,"-",null,null,null,null,"-",null,null,null,null,"-",null,null,null,null,"-",null,null,null,null,"-",null,null,null,null,"-",null,null,null,null,"-"]
[null,{"$f":"IFERROR(INDEX(data_absen!$K$2:$K$2000,SUMPRODUCT((data_absen!$B$2:$B$2000=$A13)*(data_absen!$C$2:$C$2000=B$3)*(ROW(data_absen!$C$2:$C$2000)))-1)*1440,\"\")","v":""},{"$f":"IFERROR(INDEX(data_absen!$I$2:$I$2000,SUMPRODUCT((data_absen!$B$2:$B$2000=$A13)*(data_absen!$C$2:$C$2000=B$3)*(ROW(data_absen!$C$2:$C$2000)))-1)*1440,\"\")","v":""},null,null,{"$f":"IFERROR(INDEX(data_absen!$J$2:$J$2000,SUMPRODUCT((data_absen!$B$2:$B$2000=$A13)*(data_absen!$C$2:$C$2000=B$3)*(ROW(data_absen!$C$2:$C$2000)))-1)*1440,\"\")","v":""},{"$f":"IFERROR(INDEX(data_absen!$K$2:$K$2000,SUMPRODUCT((data_absen!$B$2:$B$2000=$A13)*(data_absen!$C$2:$C$2000=G$3)*(ROW(data_absen!$C$2:$C$2000)))-1)*1440,\"\")","v":""},{"$f":"IFERROR(INDEX(data_absen!$I$2:$I$2000,SUMPRODUCT((data_absen!$B$2:$B$2000=$A13)*(data_absen!$C$2:$C$2000=G$3)*(ROW(data_absen!$C$2:$C$2000)))-1)*1440,\"\")","v":""},null,null,{"$f":"IFERROR(INDEX(data_absen!$J$2:$J$2000,SUMPRODUCT((data_absen!$B$2:$B$2000=$A13)*(data_absen!$C$2:$C$2000=G$3)*(ROW(data_absen!$C$2:$C$2000)))-1)*1440,\"\")","v":""},{"$f":"IFERROR(INDEX(data_absen!$K$2:$K$2000,SUMPRODUCT((data_absen!$B$2:$B$2000=$A13)*(data_absen!$C$2:$C$2000=L$3)*(ROW(data_absen!$C$2:$C$2000)))-1)*1440,\"\")","v":""},{"$f":"IFERROR(INDEX(data_absen!$I$2:$I$2000,SUMPRODUCT((data_absen!$B$2:$B$2000=$A13)*(data_absen!$C$2:$C$2000=L$3)*(ROW(data_absen!$C$2:$C$2000)))-1)*1440,\"\")","v":""},null,null,{"$f":"IFERROR(INDEX(data_absen!$J$2:$J$2000,SUMPRODUCT((data_absen!$B$2:$B$2000=$A13)*(data_absen!$C$2:$C$2000=L$3)*(ROW(data_absen!$C$2:$C$2000)))-1)*1440,\"\")","v":""},{"$f":"IFERROR(INDEX(data_absen!$K$2:$K$2000,SUMPRODUCT((data_absen!$B$2:$B$2000=$A13)*(data_absen!$C$2:$C$2000=Q$3)*(ROW(data_absen!$C$2:$C$2000)))-1)*1440,\"\")","v":""},{"$f":"IFERROR(INDEX(data_absen!$I$2:$I$2000,SUMPRODUCT((data_absen!$B$2:$B$2000=$A13)*(data_absen!$C$2:$C$2000=Q$3)*(ROW(data_absen!$C$2:$C$2000)))-1)*1440,\"\")","v":""},null,null,{"$f":"IFERROR(INDEX(data_absen!$J$2:$J$2000,SUMPRODUCT((data_absen!$B$2:$B$2000=$A13)*(data_absen!$C$2:$C$2000=Q$3)*(ROW(data_absen!$C$2:$C$2000)))-1)*1440,\"\")","v":""},{"$f":"IFERROR(INDEX(data_absen!$K$2:$K$2000,SUMPRODUCT((data_absen!$B$2:$B$2000=$A13)*(data_absen!$C$2:$C$2000=V$3)*(ROW(data_absen!$C$2:$C$2000)))-1)*1440,\"\")","v":""},{"$f":"IFERROR(INDEX(data_absen!$I$2:$I$2000,SUMPRODUCT((data_absen!$B$2:$B$2000=$A13)*(data_absen!$C$2:$C$2000=V$3)*(ROW(data_absen!$C$2:$C$2000)))-1)*1440,\"\")","v":""},null,null,{"$f":"IFERROR(INDEX(data_absen!$J$2:$J$2000,SUMPRODUCT((data_absen!$B$2:$B$2000=$A13)*(data_absen!$C$2:$C$2000=V$3)*(ROW(data_absen!$C$2:$C$2000)))-1)*1440,\"\")","v":""},{"$f":"IFERROR(INDEX(data_absen!$K$2:$K$2000,SUMPRODUCT((data_absen!$B$2:$B$2000=$A13)*(data_absen!$C$2:$C$2000=AA$3)*(ROW(data_absen!$C$2:$C$2000)))-1)*1440,\"\")","v":""},{"$f":"IFERROR(INDEX(data_absen!$I$2:$I$2000,SUMPRODUCT((data_absen!$B$2:$B$2000=$A13)*(data_absen!$C$2:$C$2000=AA$3)*(ROW(data_absen!$C$2:$C$2000)))-1)*1440,\"\")","v":""},null,null,{"$f":"IFERROR(INDEX(data_absen!$J$2:$J$2000,SUMPRODUCT((data_absen!$B$2:$B$2000=$A13)*(data_absen!$C$2:$C$2000=AA$3)*(ROW(data_absen!$C$2:$C$2000)))-1)*1440,\"\")","v":""},{"$f":"IFERROR(INDEX(data_absen!$K$2:$K$2000,SUMPRODUCT((data_absen!$B$2:$B$2000=$A13)*(data_absen!$C$2:$C$2000=AF$3)*(ROW(data_absen!$C$2:$C$2000)))-1)*1440,\"\")","v":""},{"$f":"IFERROR(INDEX(data_absen!$I$2:$I$2000,SUMPRODUCT((data_absen!$B$2:$B$2000=$A13)*(data_absen!$C$2:$C$2000=AF$3)*(ROW(data_absen!$C$2:$C$2000)))-1)*1440,\"\")","v":""},null,null,{"$f":"IFERROR(INDEX(data_absen!$J$2:$J$2000,SUMPRODUCT((data_absen!$B$2:$B$2000=$A13)*(data_absen!$C$2:$C$2000=AF$3)*(ROW(data_absen!$C$2:$C$2000)))-1)*1440,\"\")","v":""},{"$f":"IFERROR(INDEX(data_absen!$K$2:$K$2000,SUMPRODUCT((data_absen!$B$2:$B$2000=$A13)*(data_absen!$C$2:$C$2000=AK$3)*(ROW(data_absen!$C$2:$C$2000)))-1)*1440,\"\")","v":""},{"$f":"IFERROR(INDEX(data_absen!$I$2:$I$2000,SUMPRODUCT((data_absen!$B$2:$B$2000=$A13)*(data_absen!$C$2:$C$2000=AK$3)*(ROW(data_absen!$C$2:$C$2000)))-1)*1440,\"\")","v":""},null,null,{"$f":"IFERROR(INDEX(data_absen!$J$2:$J$2000,SUMPRODUCT((data_absen!$B$2:$B$2000=$A13)*(data_absen!$C$2:$C$2000=AK$3)*(ROW(data_absen!$C$2:$C$2000)))-1)*1440,\"\")","v":""},{"$f":"IFERROR(INDEX(data_absen!$K$2:$K$2000,SUMPRODUCT((data_absen!$B$2:$B$2000=$A13)*(data_absen!$C$2:$C$2000=AP$3)*(ROW(data_absen!$C$2:$C$2000)))-1)*1440,\"\")","v":""},{"$f":"IFERROR(INDEX(data_absen!$I$2:$I$2000,SUMPRODUCT((data_absen!$B$2:$B$2000=$A13)*(data_absen!$C$2:$C$2000=AP$3)*(ROW(data_absen!$C$2:$C$2000)))-1)*1440,\"\")","v":""},null,null,{"$f":"IFERROR(INDEX(data_absen!$J$2:$J$2000,SUMPRODUCT((data_absen!$B$2:$B$2000=$A13)*(data_absen!$C$2:$C$2000=AP$3)*(ROW(data_absen!$C$2:$C$2000)))-1)*1440,\"\")","v":""},{"$f":"IFERROR(INDEX(data_absen!$K$2:$K$2000,SUMPRODUCT((data_absen!$B$2:$B$2000=$A13)*(data_absen!$C$2:$C$2000=AU$3)*(ROW(data_absen!$C$2:$C$2000)))-1)*1440,\"\")","v":""},{"$f":"IFERROR(INDEX(data_absen!$I$2:$I$2000,SUMPRODUCT((data_absen!$B$2:$B$2000=$A13)*(data_absen!$C$2:$C$2000=AU$3)*(ROW(data_absen!$C$2:$C$2000)))-1)*1440,\"\")","v":""},null,null,{"$f":"IFERROR(INDEX(data_absen!$J$2:$J$2000,SUMPRODUCT((data_absen!$B$2:$B$2000=$A13)*(data_absen!$C$2:$C$2000=AU$3)*(ROW(data_absen!$C$2:$C$2000)))-1)*1440,\"\")","v":""},{"$f":"IFERROR(INDEX(data_absen!$K$2:$K$2000,SUMPRODUCT((data_absen!$B$2:$B$2000=$A13)*(data_absen!$C$2:$C$2000=AZ$3)*(ROW(data_absen!$C$2:$C$2000)))-1)*1440,\"\")","v":""},{"$f":"IFERROR(INDEX(data_absen!$I$2:$I$2000,SUMPRODUCT((data_absen!$B$2:$B$2000=$A13)*(data_absen!$C$2:$C$2000=AZ$3)*(ROW(data_absen!$C$2:$C$2000)))-1)*1440,\"\")","v":""},null,null,{"$f":"IFERROR(INDEX(data_absen!$J$2:$J$2000,SUMPRODUCT((data_absen!$B$2:$B$2000=$A13)*(data_absen!$C$2:$C$2000=AZ$3)*(ROW(data_absen!$C$2:$C$2000)))-1)*1440,\"\")","v":""},{"$f":"IFERROR(INDEX(data_absen!$K$2:$K$2000,SUMPRODUCT((data_absen!$B$2:$B$2000=$A13)*(data_absen!$C$2:$C$2000=BE$3)*(ROW(data_absen!$C$2:$C$2000)))-1)*1440,\"\")","v":""},{"$f":"IFERROR(INDEX(data_absen!$I$2:$I$2000,SUMPRODUCT((data_absen!$B$2:$B$2000=$A13)*(data_absen!$C$2:$C$2000=BE$3)*(ROW(data_absen!$C$2:$C$2000)))-1)*1440,\"\")","v":""},null,null,{"$f":"IFERROR(INDEX(data_absen!$J$2:$J$2000,SUMPRODUCT((data_absen!$B$2:$B$2000=$A13)*(data_absen!$C$2:$C$2000=BE$3)*(ROW(data_absen!$C$2:$C$2000)))-1)*1440,\"\")","v":""},{"$f":"IFERROR(INDEX(data_absen!$K$2:$K$2000,SUMPRODUCT((data_absen!$B$2:$B$2000=$A13)*(data_absen!$C$2:$C$2000=BJ$3)*(ROW(data_absen!$C$2:$C$2000)))-1)*1440,\"\")","v":""},{"$f":"IFERROR(INDEX(data_absen!$I$2:$I$2000,SUMPRODUCT((data_absen!$B$2:$B$2000=$A13)*(data_absen!$C$2:$C$2000=BJ$3)*(ROW(data_absen!$C$2:$C$2000)))-1)*1440,\"\")","v":""},null,null,{"$f":"IFERROR(INDEX(data_absen!$J$2:$J$2000,SUMPRODUCT((data_absen!$B$2:$B$2000=$A13)*(data_absen!$C$2:$C$2000=BJ$3)*(ROW(data_absen!$C$2:$C$2000)))-1)*1440,\"\")","v":""},{"$f":"IFERROR(INDEX(data_absen!$K$2:$K$2000,SUMPRODUCT((data_absen!$B$2:$B$2000=$A13)*(data_absen!$C$2:$C$2000=BO$3)*(ROW(data_absen!$C$2:$C$2000)))-1)*1440,\"\")","v":""},{"$f":"IFERROR(INDEX(data_absen!$I$2:$I$2000,SUMPRODUCT((data_absen!$B$2:$B$2000=$A13)*(data_absen!$C$2:$C$2000=BO$3)*(ROW(data_absen!$C$2:$C$2000)))-1)*1440,\"\")","v":""},null,null,{"$f":"IFERROR(INDEX(data_absen!$J$2:$J$2000,SUMPRODUCT((data_absen!$B$2:$B$2000=$A13)*(data_absen!$C$2:$C$2000=BO$3)*(ROW(data_absen!$C$2:$C$2000)))-1)*1440,\"\")","v":""},{"$f":"COUNTIFS(data_absen!$B$2:$B$2000,$A13,data_absen!$I$2:$I$2000,\">0\")","v":0}]
["Ismi",{"$f":"INDEX(data_absen!$G$2:$G$2000,SUMPRODUCT((data_absen!$B$2:$B$2000=$A16)*(data_absen!$C$2:$C$2000=B$3)*(ROW(data_absen!$C$2:$C$2000)))-1)","v":"06:47:00"},null,"-",{"$f":"INDEX(data_absen!$H$2:$H$2000,SUMPRODUCT((data_absen!$B$2:$B$2000=$A16)*(data_absen!$C$2:$C$2000=B$3)*(ROW(data_absen!$C$2:$C$2000)))-1)","v":""},null,{"$f":"INDEX(data_absen!$G$2:$G$2000,SUMPRODUCT((data_absen!$B$2:$B$2000=$A16)*(data_absen!$C$2:$C$2000=G$3)*(ROW(data_absen!$C$2:$C$2000)))-1)","v":"06:45:00"},null,"-",{"$f":"INDEX(data_absen!$H$2:$H$2000,SUMPRODUCT((data_absen!$B$2:$B$2000=$A16)*(data_absen!$C$2:$C$2000=G$3)*(ROW(data_absen!$C$2:$C$2000)))-1)","v":"16:29:00"},null,{"$f":"INDEX(data_absen!$G$2:$G$2000,SUMPRODUCT((data_absen!$B$2:$B$2000=$A16)*(data_absen!$C$2:$C$2000=L$3)*(ROW(data_absen!$C$2:$C$2000)))-1)","v":"06:45:00"},null,"-",{"$f":"INDEX(data_absen!$H$2:$H$2000,SUMPRODUCT((data_absen!$B$2:$B$2000=$A16)*(data_absen!$C$2:$C$2000=L$3)*(ROW(data_absen!$C$2:$C$2000)))-1)","v":""},null,{"$f":"INDEX(data_absen!$G$2:$G$2000,SUMPRODUCT((data_absen!$B$2:$B$2000=$A16)*(data_absen!$C$2:$C$2000=Q$3)*(ROW(data_absen!$C$2:$C$2000)))-1)","v":{"$error":"#VALUE!"}},null,"-",{"$f":"INDEX(data_absen!$H$2:$H$2000,SUMPRODUCT((data_absen!$B$2:$B$2000=$A16)*(data_absen!$C$2:$C$2000=Q$3)*(ROW(data_absen!$C$2:$C$2000)))-1)","v":{"$error":"#VALUE!"}},null,{"$f":"INDEX(data_absen!$G$2:$G$2000,SUMPRODUCT((data_absen!$B$2:$B$2000=$A16)*(data_absen!$C$2:$C$2000=V$3)*(ROW(data_absen!$C$2:$C$2000)))-1)","v":{"$error":"#VALUE!"}},null,"-",{"$f":"INDEX(data_absen!$H$2:$H$2000,SUMPRODUCT((data_absen!$B$2:$B$2000=$A16)*(data_absen!$C$2:$C$2000=V$3)*(ROW(data_absen!$C$2:$C$2000)))-1)","v":{"$error":"#VALUE!"}},null,{"$f":"INDEX(data_absen!$G$2:$G$2000,SUMPRODUCT((data_absen!$B$2:$B$2000=$A16)*(data_absen!$C$2:$C$2000=AA$3)*(ROW(data_absen!$C$2:$C$2000)))-1)","v":{"$error":"#VALUE!"}},null,"-",{"$f":"INDEX(data_absen!$H$2:$H$2000,SUMPRODUCT((data_absen!$B$2:$B$2000=$A16)*(data_absen!$C$2:$C$2000=AA$3)*(ROW(data_absen!$C$2:$C$2000)))-1)","v":{"$error":"#VALUE!"}},null,{"$f":"INDEX(data_absen!$G$2:$G$2000,SUMPRODUCT((data_absen!$B$2:$B$2000=$A16)*(data_absen!$C$2:$C$2000=AF$3)*(ROW(data_absen!$C$2:$C$2000)))-1)","v":{"$error":"#VALUE!"}},null,"-",{"$f":"INDEX(data_absen!$H$2:$H$2000,SUMPRODUCT((data_absen!$B$2:$B$2000=$A16)*(data_absen!$C$2:$C$2000=AF$3)*(ROW(data_absen!$C$2:$C$2000)))-1)","v":{"$error":"#VALUE!"}},null,{"$f":"INDEX(data_absen!$G$2:$G$2000,SUMPRODUCT((data_absen!$B$2:$B$2000=$A16)*(data_absen!$C$2:$C$2000=AK$3)*(ROW(data_absen!$C$2:$C$2000)))-1)","v":{"$error":"#VALUE!"}},null,"-",{"$f":"INDEX(data_absen!$H$2:$H$2000,SUMPRODUCT((data_absen!$B$2:$B$2000=$A16)*(data_absen!$C$2:$C$2000=AK$3)*(ROW(data_absen!$C$2:$C$2000)))-1)","v":{"$error":"#VALUE!"}},null,{"$f":"INDEX(data_absen!$G$2:$G$2000,SUMPRODUCT((data_absen!$B$2:$B$2000=$A16)*(data_absen!$C$2:$C$2000=AP$3)*(ROW(data_absen!$C$2:$C$2000)))-1)","v":{"$error":"#VALUE!"}},null,"-",{"$f":"INDEX(data_absen!$H$2:$H$2000,SUMPRODUCT((data_absen!$B$2:$B$2000=$A16)*(data_absen!$C$2:$C$2000=AP$3)*(ROW(data_absen!$C$2:$C$2000)))-1)","v":{"$error":"#VALUE!"}},null,{"$f":"INDEX(data_absen!$G$2:$G$2000,SUMPRODUCT((data_absen!$B$2:$B$2000=$A16)*(data_absen!$C$2:$C$2000=AU$3)*(ROW(data_absen!$C$2:$C$2000)))-1)","v":{"$error":"#VALUE!"}},null,"-",{"$f":"INDEX(data_absen!$H$2:$H$2000,SUMPRODUCT((data_absen!$B$2:$B$2000=$A16)*(data_absen!$C$2:$C$2000=AU$3)*(ROW(data_absen!$C$2:$C$2000)))-1)","v":{"$error":"#VALUE!"}},null,{"$f":"INDEX(data_absen!$G$2:$G$2000,SUMPRODUCT((data_absen!$B$2:$B$2000=$A16)*(data_absen!$C$2:$C$2000=AZ$3)*(ROW(data_absen!$C$2:$C$2000)))-1)","v":{"$error":"#VALUE!"}},null,"-",{"$f":"INDEX(data_absen!$H$2:$H$2000,SUMPRODUCT((data_absen!$B$2:$B$2000=$A16)*(data_absen!$C$2:$C$2000=AZ$3)*(ROW(data_absen!$C$2:$C$2000)))-1)","v":{"$error":"#VALUE!"}},null,{"$f":"INDEX(data_absen!$G$2:$G$2000,SUMPRODUCT((data_absen!$B$2:$B$2000=$A16)*(data_absen!$C$2:$C$2000=BE$3)*(ROW(data_absen!$C$2:$C$2000)))-1)","v":{"$error":"#VALUE!"}},null,"-",{"$f":"INDEX(data_absen!$H$2:$H$2000,SUMPRODUCT((data_absen!$B$2:$B$2000=$A16)*(data_absen!$C$2:$C$2000=BE$3)*(ROW(data_absen!$C$2:$C$2000)))-1)","v":{"$error":"#VALUE!"}},null,{"$f":"INDEX(data_absen!$G$2:$G$2000,SUMPRODUCT((data_absen!$B$2:$B$2000=$A16)*(data_absen!$C$2:$C$2000=BJ$3)*(ROW(data_absen!$C$2:$C$2000)))-1)","v":{"$error":"#VALUE!"}},null,"-",{"$f":"INDEX(data_absen!$H$2:$H$2000,SUMPRODUCT((data_absen!$B$2:$B$2000=$A16)*(data_absen!$C$2:$C$2000=BJ$3)*(ROW(data_absen!$C$2:$C$2000)))-1)","v":{"$error":"#VALUE!"}},null,{"$f":"INDEX(data_absen!$G$2:$G$2000,SUMPRODUCT((data_absen!$B$2:$B$2000=$A16)*(data_absen!$C$2:$C$2000=BO$3)*(ROW(data_absen!$C$2:$C$2000)))-1)","v":{"$error":"#VALUE!"}},null,"-",{"$f":"INDEX(data_absen!$H$2:$H$2000,SUMPRODUCT((data_absen!$B$2:$B$2000=$A16)*(data_absen!$C$2:$C$2000=BO$3)*(ROW(data_absen!$C$2:$C$2000)))-1)","v":{"$error":"#VALUE!"}}]
[105,null,null,"-",null,null,null,null,"-",null,null,null,null,"-",null,null,null,null,"-",null,null,null,null,"-",null,null,null,null,"-",null,null,null,null,"-",null,null,null,null,"-",null,null,null,null,"-",null,null,null,null,"-",null,null,null,null,"-",null,null,null,null,"-",null,null,null,null,"-",null,null,null,null,"-"]
[null,{"$f":"IFERROR(INDEX(data_absen!$K$2:$K$2000,SUMPRODUCT((data_absen!$B$2:$B$2000=$A16)*(data_absen!$C$2:$C$2000=B$3)*(ROW(data_absen!$C$2:$C$2000)))-1)*1440,\"\")","v":""},{"$f":"IFERROR(INDEX(data_absen!$I$2:$I$2000,SUMPRODUCT((data_absen!$B$2:$B$2000=$A16)*(data_absen!$C$2:$C$2000=B$3)*(ROW(data_absen!$C$2:$C$2000)))-1)*1440,\"\")","v":""},null,null,{"$f":"IFERROR(INDEX(data_absen!$J$2:$J$2000,SUMPRODUCT((data_absen!$B$2:$B$2000=$A16)*(data_absen!$C$2:$C$2000=B$3)*(ROW(data_absen!$C$2:$C$2000)))-1)*1440,\"\")","v":120},{"$f":"IFERROR(INDEX(data_absen!$K$2:$K$2000,SUMPRODUCT((data_absen!$B$2:$B$2000=$A16)*(data_absen!$C$2:$C$2000=G$3)*(ROW(data_absen!$C$2:$C$2000)))-1)*1440,\"\")","v":89},{"$f":"IFERROR(INDEX(data_absen!$I$2:$I$2000,SUMPRODUCT((data_absen!$B$2:$B$2000=$A16)*(data_absen!$C$2:$C$2000=G$3)*(ROW(data_absen!$C$2:$C$2000)))-1)*1440,\"\")","v":""},null,null,{"$f":"IFERROR(INDEX(data_absen!$J$2:$J$2000,SUMPRODUCT((data_absen!$B$2:$B$2000=$A16)*(data_absen!$C$2:$C$2000=G$3)*(ROW(data_absen!$C$2:$C$2000)))-1)*1440,\"\")","v":""},{"$f":"IFERROR(INDEX(data_absen!$K$2:$K$2000,SUMPRODUCT((data_absen!$B$2:$B$2000=$A16)*(data_absen!$C$2:$C$2000=L$3)*(ROW(data_absen!$C$2:$C$2000)))-1)*1440,\"\")","v":""},{"$f":"IFERROR(INDEX(data_absen!$I$2:$I$2000,SUMPRODUCT((data_absen!$B$2:$B$2000=$A16)*(data_absen!$C$2:$C$2000=L$3)*(ROW(data_absen!$C$2:$C$2000)))-1)*1440,\"\")","v":""},null,null,{"$f":"IFERROR(INDEX(data_absen!$J$2:$J$2000,SUMPRODUCT((data_absen!$B$2:$B$2000=$A16)*(data_absen!$C$2:$C$2000=L$3)*(ROW(data_absen!$C$2:$C$2000)))-1)*1440,\"\")","v":120},{"$f":"IFERROR(INDEX(data_absen!$K$2:$K$2000,SUMPRODUCT((data_absen!$B$2:$B$2000=$A16)*(data_absen!$C$2:$C$2000=Q$3)*(ROW(data_absen!$C$2:$C$2000)))-1)*1440,\"\")","v":""},{"$f":"IFERROR(INDEX(data_absen!$I$2:$I$2000,SUMPRODUCT((data_absen!$B$2:$B$2000=$A16)*(data_absen!$C$2:$C$2000=Q$3)*(ROW(data_absen!$C$2:$C$2000)))-1)*1440,\"\")","v":""},null,null,{"$f":"IFERROR(INDEX(data_absen!$J$2:$J$2000,SUMPRODUCT((data_absen!$B$2:$B$2000=$A16)*(data_absen!$C$2:$C$2000=Q$3)*(ROW(data_absen!$C$2:$C$2000)))-1)*1440,\"\")","v":""},{"$f":"IFERROR(INDEX(data_absen!$K$2:$K$2000,SUMPRODUCT((data_absen!$B$2:$B$2000=$A16)*(data_absen!$C$2:$C$2000=V$3)*(ROW(data_absen!$C$2:$C$2000)))-1)*1440,\"\")","v":""},{"$f":"IFERROR(INDEX(data_absen!$I$2:$I$2000,SUMPRODUCT((data_absen!$B$2:$B$2000=$A16)*(data_absen!$C$2:$C$2000=V$3)*(ROW(data_absen!$C$2:$C$2000)))-1)*1440,\"\")","v":""},null,null,{"$f":"IFERROR(INDEX(data_absen!$J$2:$J$2000,SUMPRODUCT((data_absen!$B$2:$B$2000=$A16)*(data_absen!$C$2:$C$2000=V$3)*(ROW(data_absen!$C$2:$C$2000)))-1)*1440,\"\")","v":""},{"$f":"IFERROR(INDEX(data_absen!$K$2:$K$2000,SUMPRODUCT((data_absen!$B$2:$B$2000=$A16)*(data_absen!$C$2:$C$2000=AA$3)*(ROW(data_absen!$C$2:$C$2000)))-1)*1440,\"\")","v":""},{"$f":"IFERROR(INDEX(data_absen!$I$2:$I$2000,SUMPRODUCT((data_absen!$B$2:$B$2000=$A16)*(data_absen!$C$2:$C$2000=AA$3)*(ROW(data_absen!$C$2:$C$2000)))-1)*1440,\"\")","v":""},null,null,{"$f":"IFERROR(INDEX(data_absen!$J$2:$J$2000,SUMPRODUCT((data_absen!$B$2:$B$2000=$A16)*(data_absen!$C$2:$C$2000=AA$3)*(ROW(data_absen!$C$2:$C$2000)))-1)*1440,\"\")","v":""},{"$f":"IFERROR(INDEX(data_absen!$K$2:$K$2000,SUMPRODUCT((data_absen!$B$2:$B$2000=$A16)*(data_absen!$C$2:$C$2000=AF$3)*(ROW(data_absen!$C$2:$C$2000)))-1)*1440,\"\")","v":""},{"$f":"IFERROR(INDEX(data_absen!$I$2:$I$2000,SUMPRODUCT((data_absen!$B$2:$B$2000=$A16)*(data_absen!$C$2:$C$2000=AF$3)*(ROW(data_absen!$C$2:$C$2000)))-1)*1440,\"\")","v":""},null,null,{"$f":"IFERROR(INDEX(data_absen!$J$2:$J$2000,SUMPRODUCT((data_absen!$B$2:$B$2000=$A16)*(data_absen!$C$2:$C$2000=AF$3)*(ROW(data_absen!$C$2:$C$2000)))-1)*1440,\"\")","v":""},{"$f":"IFERROR(INDEX(data_absen!$K$2:$K$2000,SUMPRODUCT((data_absen!$B$2:$B$2000=$A16)*(data_absen!$C$2:$C$2000=AK$3)*(ROW(data_absen!$C$2:$C$2000)))-1)*1440,\"\")","v":""},{"$f":"IFERROR(INDEX(data_absen!$I$2:$I$2000,SUMPRODUCT((data_absen!$B$2:$B$2000=$A16)*(data_absen!$C$2:$C$2000=AK$3)*(ROW(data_absen!$C$2:$C$2000)))-1)*1440,\"\")","v":""},null,null,{"$f":"IFERROR(INDEX(data_absen!$J$2:$J$2000,SUMPRODUCT((data_absen!$B$2:$B$2000=$A16)*(data_absen!$C$2:$C$2000=AK$3)*(ROW(data_absen!$C$2:$C$2000)))-1)*1440,\"\")","v":""},{"$f":"IFERROR(INDEX(data_absen!$K$2:$K$2000,SUMPRODUCT((data_absen!$B$2:$B$2000=$A16)*(data_absen!$C$2:$C$2000=AP$3)*(ROW(data_absen!$C$2:$C$2000)))-1)*1440,\"\")","v":""},{"$f":"IFERROR(INDEX(data_absen!$I$2:$I$2000,SUMPRODUCT((data_absen!$B$2:$B$2000=$A16)*(data_absen!$C$2:$C$2000=AP$3)*(ROW(data_absen!$C$2:$C$2000)))-1)*1440,\"\")","v":""},null,null,{"$f":"IFERROR(INDEX(data_absen!$J$2:$J$2000,SUMPRODUCT((data_absen!$B$2:$B$2000=$A16)*(data_absen!$C$2:$C$2000=AP$3)*(ROW(data_absen!$C$2:$C$2000)))-1)*1440,\"\")","v":""},{"$f":"IFERROR(INDEX(data_absen!$K$2:$K$2000,SUMPRODUCT((data_absen!$B$2:$B$2000=$A16)*(data_absen!$C$2:$C$2000=AU$3)*(ROW(data_absen!$C$2:$C$2000)))-1)*1440,\"\")","v":""},{"$f":"IFERROR(INDEX(data_absen!$I$2:$I$2000,SUMPRODUCT((data_absen!$B$2:$B$2000=$A16)*(data_absen!$C$2:$C$2000=AU$3)*(ROW(data_absen!$C$2:$C$2000)))-1)*1440,\"\")","v":""},null,null,{"$f":"IFERROR(INDEX(data_absen!$J$2:$J$2000,SUMPRODUCT((data_absen!$B$2:$B$2000=$A16)*(data_absen!$C$2:$C$2000=AU$3)*(ROW(data_absen!$C$2:$C$2000)))-1)*1440,\"\")","v":""},{"$f":"IFERROR(INDEX(data_absen!$K$2:$K$2000,SUMPRODUCT((data_absen!$B$2:$B$2000=$A16)*(data_absen!$C$2:$C$2000=AZ$3)*(ROW(data_absen!$C$2:$C$2000)))-1)*1440,\"\")","v":""},{"$f":"IFERROR(INDEX(data_absen!$I$2:$I$2000,SUMPRODUCT((data_absen!$B$2:$B$2000=$A16)*(data_absen!$C$2:$C$2000=AZ$3)*(ROW(data_absen!$C$2:$C$2000)))-1)*1440,\"\")","v":""},null,null,{"$f":"IFERROR(INDEX(data_absen!$J$2:$J$2000,SUMPRODUCT((data_absen!$B$2:$B$2000=$A16)*(data_absen!$C$2:$C$2000=AZ$3)*(ROW(data_absen!$C$2:$C$2000)))-1)*1440,\"\")","v":""},{"$f":"IFERROR(INDEX(data_absen!$K$2:$K$2000,SUMPRODUCT((data_absen!$B$2:$B$2000=$A16)*(data_absen!$C$2:$C$2000=BE$3)*(ROW(data_absen!$C$2:$C$2000)))-1)*1440,\"\")","v":""},{"$f":"IFERROR(INDEX(data_absen!$I$2:$I$2000,SUMPRODUCT((data_absen!$B$2:$B$2000=$A16)*(data_absen!$C$2:$C$2000=BE$3)*(ROW(data_absen!$C$2:$C$2000)))-1)*1440,\"\")","v":""},null,null,{"$f":"IFERROR(INDEX(data_absen!$J$2:$J$2000,SUMPRODUCT((data_absen!$B$2:$B$2000=$A16)*(data_absen!$C$2:$C$2000=BE$3)*(ROW(data_absen!$C$2:$C$2000)))-1)*1440,\"\")","v":""},{"$f":"IFERROR(INDEX(data_absen!$K$2:$K$2000,SUMPRODUCT((data_absen!$B$2:$B$2000=$A16)*(data_absen!$C$2:$C$2000=BJ$3)*(ROW(data_absen!$C$2:$C$2000)))-1)*1440,\"\")","v":""},{"$f":"IFERROR(INDEX(data_absen!$I$2:$I$2000,SUMPRODUCT((data_absen!$B$2:$B$2000=$A16)*(data_absen!$C$2:$C$2000=BJ$3)*(ROW(data_absen!$C$2:$C$2000)))-1)*1440,\"\")","v":""},null,null,{"$f":"IFERROR(INDEX(data_absen!$J$2:$J$2000,SUMPRODUCT((data_absen!$B$2:$B$2000=$A16)*(data_absen!$C$2:$C$2000=BJ$3)*(ROW(data_absen!$C$2:$C$2000)))-1)*1440,\"\")","v":""},{"$f":"IFERROR(INDEX(data_absen!$K$2:$K$2000,SUMPRODUCT((data_absen!$B$2:$B$2000=$A16)*(data_absen!$C$2:$C$2000=BO$3)*(ROW(data_absen!$C$2:$C$2000)))-1)*1440,\"\")","v":""},{"$f":"IFERROR(INDEX(data_absen!$I$2:$I$2000,SUMPRODUCT((data_absen!$B$2:$B$2000=$A16)*(data_absen!$C$2:$C$2000=BO$3)*(ROW(data_absen!$C$2:$C$2000)))-1)*1440,\"\")","v":""},null,null,{"$f":"IFERROR(INDEX(data_absen!$J$2:$J$2000,SUMPRODUCT((data_absen!$B$2:$B$2000=$A16)*(data_absen!$C$2:$C$2000=BO$3)*(ROW(data_absen!$C$2:$C$2000)))-1)*1440,\"\")","v":""},{"$f":"COUNTIFS(data_absen!$B$2:$B$2000,$A16,data_absen!$I$2:$I$2000,\">0\")","v":0}]
["Angga",{"$f":"INDEX(data_absen!$G$2:$G$2000,SUMPRODUCT((data_absen!$B$2:$B$2000=$A19)*(data_absen!$C$2:$C$2000=B$3)*(ROW(data_absen!$C$2:$C$2000)))-1)","v":"06:56:00"},null,"-",{"$f":"INDEX(data_absen!$H$2:$H$2000,SUMPRODUCT((data_absen!$B$2:$B$2000=$A19)*(data_absen!$C$2:$C$2000=B$3)*(ROW(data_absen!$C$2:$C$2000)))-1)","v":"16:01:00"},null,{"$f":"INDEX(data_absen!$G$2:$G$2000,SUMPRODUCT((data_absen!$B$2:$B$2000=$A19)*(data_absen!$C$2:$C$2000=G$3)*(ROW(data_absen!$C$2:$C$2000)))-1)","v":"06:44:00"},null,"-",{"$f":"INDEX(data_absen!$H$2:$H$2000,SUMPRODUCT((data_absen!$B$2:$B$2000=$A19)*(data_absen!$C$2:$C$2000=G$3)*(ROW(data_absen!$C$2:$C$2000)))-1)","v":""},null,{"$f":"INDEX(data_absen!$G$2:$G$2000,SUMPRODUCT((data_absen!$B$2:$B$2000=$A19)*(data_absen!$C$2:$C$2000=L$3)*(ROW(data_absen!$C$2:$C$2000)))-1)","v":"06:43:00"},null,"-",{"$f":"INDEX(data_absen!$H$2:$H$2000,SUMPRODUCT((data_absen!$B$2:$B$2000=$A19)*(data_absen!$C$2:$C$2000=L$3)*(ROW(data_absen!$C$2:$C$2000)))-1)","v":"15:01:00"},null,{"$f":"INDEX(data_absen!$G$2:$G$2000,SUMPRODUCT((data_absen!$B$2:$B$2000=$A19)*(data_absen!$C$2:$C$2000=Q$3)*(ROW(data_absen!$C$2:$C$2000)))-1)","v":{"$error":"#VALUE!"}},null,"-",{"$f":"INDEX(data_absen!$H$2:$H$2000,SUMPRODUCT((data_absen!$B$2:$B$2000=$A19)*(data_absen!$C$2:$C$2000=Q$3)*(ROW(data_absen!$C$2:$C$2000)))-1)","v":{"$error":"#VALUE!"}},null,{"$f":"INDEX(data_absen!$G$2:$G$2000,SUMPRODUCT((data_absen!$B$2:$B$2000=$A19)*(data_absen!$C$2:$C$2000=V$3)*(ROW(data_absen!$C$2:$C$2000)))-1)","v":{"$error":"#VALUE!"}},null,"-",{"$f":"INDEX(data_absen!$H$2:$H$2000,SUMPRODUCT((data_absen!$B$2:$B$2000=$A19)*(data_absen!$C$2:$C$2000=V$3)*(ROW(data_absen!$C$2:$C$2000)))-1)","v":{"$error":"#VALUE!"}},null,{"$f":"INDEX(data_absen!$G$2:$G$2000,SUMPRODUCT((data_absen!$B$2:$B$2000=$A19)*(data_absen!$C$2:$C$2000=AA$3)*(ROW(data_absen!$C$2:$C$2000)))-1)","v":{"$error":"#VALUE!"}},null,"-",{"$f":"INDEX(data_absen!$H$2:$H$2000,SUMPRODUCT((data_absen!$B$2:$B$2000=$A19)*(data_absen!$C$2:$C$2000=AA$3)*(ROW(data_absen!$C$2:$C$2000)))-1)","v":{"$error":"#VALUE!"}},null,{"$f":"INDEX(data_absen!$G$2:$G$2000,SUMPRODUCT((data_absen!$B$2:$B$2000=$A19)*(data_absen!$C$2:$C$2000=AF$3)*(ROW(data_absen!$C$2:$C$2000)))-1)","v":{"$error":"#VALUE!"}},null,"-",{"$f":"INDEX(data_absen!$H$2:$H$2000,SUMPRODUCT((data_absen!$B$2:$B$2000=$A19)*(data_absen!$C$2:$C$2000=AF$3)*(ROW(data_absen!$C$2:$C$2000)))-1)","v":{"$error":"#VALUE!"}},null,{"$f":"INDEX(data_absen!$G$2:$G$2000,SUMPRODUCT((data_absen!$B$2:$B$2000=$A19)*(data_absen!$C$2:$C$2000=AK$3)*(ROW(data_absen!$C$2:$C$2000)))-1)","v":{"$error":"#VALUE!"}},null,"-",{"$f":"INDEX(data_absen!$H$2:$H$2000,SUMPRODUCT((data_absen!$B$2:$B$2000=$A19)*(data_absen!$C$2:$C$2000=AK$3)*(ROW(data_absen!$C$2:$C$2000)))-1)","v":{"$error":"#VALUE!"}},null,{"$f":"INDEX(data_absen!$G$2:$G$2000,SUMPRODUCT((data_absen!$B$2:$B$2000=$A19)*(data_absen!$C$2:$C$2000=AP$3)*(ROW(data_absen!$C$2:$C$2000)))-1)","v":{"$error":"#VALUE!"}},null,"-",{"$f":"INDEX(data_absen!$H$2:$H$2000,SUMPRODUCT((data_absen!$B$2:$B$2000=$A19)*(data_absen!$C$2:$C$2000=AP$3)*(ROW(data_absen!$C$2:$C$2000)))-1)","v":{"$error":"#VALUE!"}},null,{"$f":"INDEX(data_absen!$G$2:$G$2000,SUMPRODUCT((data_absen!$B$2:$B$2000=$A19)*(data_absen!$C$2:$C$2000=AU$3)*(ROW(data_absen!$C$2:$C$2000)))-1)","v":{"$error":"#VALUE!"}},null,"-",{"$f":"INDEX(data_absen!$H$2:$H$2000,SUMPRODUCT((data_absen!$B$2:$B$2000=$A19)*(data_absen!$C$2:$C$2000=AU$3)*(ROW(data_absen!$C$2:$C$2000)))-1)","v":{"$error":"#VALUE!"}},null,{"$f":"INDEX(data_absen!$G$2:$G$2000,SUMPRODUCT((data_absen!$B$2:$B$2000=$A19)*(data_absen!$C$2:$C$2000=AZ$3)*(ROW(data_absen!$C$2:$C$2000)))-1)","v":{"$error":"#VALUE!"}},null,"-",{"$f":"INDEX(data_absen!$H$2:$H$2000,SUMPRODUCT((data_absen!$B$2:$B$2000=$A19)*(data_absen!$C$2:$C$2000=AZ$3)*(ROW(data_absen!$C$2:$C$2000)))-1)","v":{"$error":"#VALUE!"}},null,{"$f":"INDEX(data_absen!$G$2:$G$2000,SUMPRODUCT((data_absen!$B$2:$B$2000=$A19)*(data_absen!$C$2:$C$2000=BE$3)*(ROW(data_absen!$C$2:$C$2000)))-1)","v":{"$error":"#VALUE!"}},null,"-",{"$f":"INDEX(data_absen!$H$2:$H$2000,SUMPRODUCT((data_absen!$B$2:$B$2000=$A19)*(data_absen!$C$2:$C$2000=BE$3)*(ROW(data_absen!$C$2:$C$2000)))-1)","v":{"$error":"#VALUE!"}},null,{"$f":"INDEX(data_absen!$G$2:$G$2000,SUMPRODUCT((data_absen!$B$2:$B$2000=$A19)*(data_absen!$C$2:$C$2000=BJ$3)*(ROW(data_absen!$C$2:$C$2000)))-1)","v":{"$error":"#VALUE!"}},null,"-",{"$f":"INDEX(data_absen!$H$2:$H$2000,SUMPRODUCT((data_absen!$B$2:$B$2000=$A19)*(data_absen!$C$2:$C$2000=BJ$3)*(ROW(data_absen!$C$2:$C$2000)))-1)","v":{"$error":"#VALUE!"}},null,{"$f":"INDEX(data_absen!$G$2:$G$2000,SUMPRODUCT((data_absen!$B$2:$B$2000=$A19)*(data_absen!$C$2:$C$2000=BO$3)*(ROW(data_absen!$C$2:$C$2000)))-1)","v":{"$error":"#VALUE!"}},null,"-",{"$f":"INDEX(data_absen!$H$2:$H$2000,SUMPRODUCT((data_absen!$B$2:$B$2000=$A19)*(data_absen!$C$2:$C$2000=BO$3)*(ROW(data_absen!$C$2:$C$2000)))-1)","v":{"$error":"#VALUE!"}}]
[107,null,null,"-",null,null,null,null,"-",null,null,null,null,"-",null,null,null,null,"-",null,null,null,null,"-",null,null,null,null,"-",null,null,null,null,"-",null,null,null,null,"-",null,null,null,null,"-",null,null,null,null,"-",null,null,null,null,"-",null,null,null,null,"-",null,null,null,null,"-",null,null,null,null,"-"]
[null,{"$f":"IFERROR(INDEX(data_absen!$K$2:$K$2000,SUMPRODUCT((data_absen!$B$2:$B$2000=$A19)*(data_absen!$C$2:$C$2000=B$3)*(ROW(data_absen!$C$2:$C$2000)))-1)*1440,\"\")","v":60.999999999999993},{"$f":"IFERROR(INDEX(data_absen!$I$2:$I$2000,SUMPRODUCT((data_absen!$B$2:$B$2000=$A19)*(data_absen!$C$2:$C$2000=B$3)*(ROW(data_absen!$C$2:$C$2000)))-1)*1440,\"\")","v":6},null,null,{"$f":"IFERROR(INDEX(data_absen!$J$2:$J$2000,SUMPRODUCT((data_absen!$B$2:$B$2000=$A19)*(data_absen!$C$2:$C$2000=B$3)*(ROW(data_absen!$C$2:$C$2000)))-1)*1440,\"\")","v":""},{"$f":"IFERROR(INDEX(data_absen!$K$2:$K$2000,SUMPRODUCT((data_absen!$B$2:$B$2000=$A19)*(data_absen!$C$2:$C$2000=G$3)*(ROW(data_absen!$C$2:$C$2000)))-1)*1440,\"\")","v":""},{"$f":"IFERROR(INDEX(data_absen!$I$2:$I$2000,SUMPRODUCT((data_absen!$B$2:$B$2000=$A19)*(data_absen!$C$2:$C$2000=G$3)*(ROW(data_absen!$C$2:$C$2000)))-1)*1440,\"\")","v":""},null,null,{"$f":"IFERROR(INDEX(data_absen!$J$2:$J$2000,SUMPRODUCT((data_absen!$B$2:$B$2000=$A19)*(data_absen!$C$2:$C$2000=G$3)*(ROW(data_absen!$C$2:$C$2000)))-1)*1440,\"\")","v":120},{"$f":"IFERROR(INDEX(data_absen!$K$2:$K$2000,SUMPRODUCT((data_absen!$B$2:$B$2000=$A19)*(data_absen!$C$2:$C$2000=L$3)*(ROW(data_absen!$C$2:$C$2000)))-1)*1440,\"\")","v":1},{"$f":"IFERROR(INDEX(data_absen!$I$2:$I$2000,SUMPRODUCT((data_absen!$B$2:$B$2000=$A19)*(data_absen!$C$2:$C$2000=L$3)*(ROW(data_absen!$C$2:$C$2000)))-1)*1440,\"\")","v":""},null,null,{"$f":"IFERROR(INDEX(data_absen!$J$2:$J$2000,SUMPRODUCT((data_absen!$B$2:$B$2000=$A19)*(data_absen!$C$2:$C$2000=L$3)*(ROW(data_absen!$C$2:$C$2000)))-1)*1440,\"\")","v":""},{"$f":"IFERROR(INDEX(data_absen!$K$2:$K$2000,SUMPRODUCT((data_absen!$B$2:$B$2000=$A19)*(data_absen!$C$2:$C$2000=Q$3)*(ROW(data_absen!$C$2:$C$2000)))-1)*1440,\"\")","v":""},{"$f":"IFERROR(INDEX(data_absen!$I$2:$I$2000,SUMPRODUCT((data_absen!$B$2:$B$2000=$A19)*(data_absen!$C$2:$C$2000=Q$3)*(ROW(data_absen!$C$2:$C$2000)))-1)*1440,\"\")","v":""},null,null,{"$f":"IFERROR(INDEX(data_absen!$J$2:$J$2000,SUMPRODUCT((data_absen!$B$2:$B$2000=$A19)*(data_absen!$C$2:$C$2000=Q$3)*(ROW(data_absen!$C$2:$C$2000)))-1)*1440,\"\")","v":""},{"$f":"IFERROR(INDEX(data_absen!$K$2:$K$2000,SUMPRODUCT((data_absen!$B$2:$B$2000=$A19)*(data_absen!$C$2:$C$2000=V$3)*(ROW(data_absen!$C$2:$C$2000)))-1)*1440,\"\")","v":""},{"$f":"IFERROR(INDEX(data_absen!$I$2:$I$2000,SUMPRODUCT((data_absen!$B$2:$B$2000=$A19)*(data_absen!$C$2:$C$2000=V$3)*(ROW(data_absen!$C$2:$C$2000)))-1)*1440,\"\")","v":""},null,null,{"$f":"IFERROR(INDEX(data_absen!$J$2:$J$2000,SUMPRODUCT((data_absen!$B$2:$B$2000=$A19)*(data_absen!$C$2:$C$2000=V$3)*(ROW(data_absen!$C$2:$C$2000)))-1)*1440,\"\")","v":""},{"$f":"IFERROR(INDEX(data_absen!$K$2:$K$2000,SUMPRODUCT((data_absen!$B$2:$B$2000=$A19)*(data_absen!$C$2:$C$2000=AA$3)*(ROW(data_absen!$C$2:$C$2000)))-1)*1440,\"\")","v":""},{"$f":"IFERROR(INDEX(data_absen!$I$2:$I$2000,SUMPRODUCT((data_absen!$B$2:$B$2000=$A19)*(data_absen!$C$2:$C$2000=AA$3)*(ROW(data_absen!$C$2:$C$2000)))-1)*1440,\"\")","v":""},null,null,{"$f":"IFERROR(INDEX(data_absen!$J$2:$J$2000,SUMPRODUCT((data_absen!$B$2:$B$2000=$A19)*(data_absen!$C$2:$C$2000=AA$3)*(ROW(data_absen!$C$2:$C$2000)))-1)*1440,\"\")","v":""},{"$f":"IFERROR(INDEX(data_absen!$K$2:$K$2000,SUMPRODUCT((data_absen!$B$2:$B$2000=$A19)*(data_absen!$C$2:$C$2000=AF$3)*(ROW(data_absen!$C$2:$C$2000)))-1)*1440,\"\")","v":""},{"$f":"IFERROR(INDEX(data_absen!$I$2:$I$2000,SUMPRODUCT((data_absen!$B$2:$B$2000=$A19)*(data_absen!$C$2:$C$2000=AF$3)*(ROW(data_absen!$C$2:$C$2000)))-1)*1440,\"\")","v":""},null,null,{"$f":"IFERROR(INDEX(data_absen!$J$2:$J$2000,SUMPRODUCT((data_absen!$B$2:$B$2000=$A19)*(data_absen!$C$2:$C$2000=AF$3)*(ROW(data_absen!$C$2:$C$2000)))-1)*1440,\"\")","v":""},{"$f":"IFERROR(INDEX(data_absen!$K$2:$K$2000,SUMPRODUCT((data_absen!$B$2:$B$2000=$A19)*(data_absen!$C$2:$C$2000=AK$3)*(ROW(data_absen!$C$2:$C$2000)))-1)*1440,\"\")","v":""},{"$f":"IFERROR(INDEX(data_absen!$I$2:$I$2000,SUMPRODUCT((data_absen!$B$2:$B$2000=$A19)*(data_absen!$C$2:$C$2000=AK$3)*(ROW(data_absen!$C$2:$C$2000)))-1)*1440,\"\")","v":""},null,null,{"$f":"IFERROR(INDEX(data_absen!$J$2:$J$2000,SUMPRODUCT((data_absen!$B$2:$B$2000=$A19)*(data_absen!$C$2:$C$2000=AK$3)*(ROW(data_absen!$C$2:$C$2000)))-1)*1440,\"\")","v":""},{"$f":"IFERROR(INDEX(data_absen!$K$2:$K$2000,SUMPRODUCT((data_absen!$B$2:$B$2000=$A19)*(data_absen!$C$2:$C$2000=AP$3)*(ROW(data_absen!$C$2:$C$2000)))-1)*1440,\"\")","v":""},{"$f":"IFERROR(INDEX(data_absen!$I$2:$I$2000,SUMPRODUCT((data_absen!$B$2:$B$2000=$A19)*(data_absen!$C$2:$C$2000=AP$3)*(ROW(data_absen!$C$2:$C$2000)))-1)*1440,\"\")","v":""},null,null,{"$f":"IFERROR(INDEX(data_absen!$J$2:$J$2000,SUMPRODUCT((data_absen!$B$2:$B$2000=$A19)*(data_absen!$C$2:$C$2000=AP$3)*(ROW(data_absen!$C$2:$C$2000)))-1)*1440,\"\")","v":""},{"$f":"IFERROR(INDEX(data_absen!$K$2:$K$2000,SUMPRODUCT((data_absen!$B$2:$B$2000=$A19)*(data_absen!$C$2:$C$2000=AU$3)*(ROW(data_absen!$C$2:$C$2000)))-1)*1440,\"\")","v":""},{"$f":"IFERROR(INDEX(data_absen!$I$2:$I$2000,SUMPRODUCT((data_absen!$B$2:$B$2000=$A19)*(data_absen!$C$2:$C$2000=AU$3)*(ROW(data_absen!$C$2:$C$2000)))-1)*1440,\"\")","v":""},null,null,{"$f":"IFERROR(INDEX(data_absen!$J$2:$J$2000,SUMPRODUCT((data_absen!$B$2:$B$2000=$A19)*(data_absen!$C$2:$C$2000=AU$3)*(ROW(data_absen!$C$2:$C$2000)))-1)*1440,\"\")","v":""},{"$f":"IFERROR(INDEX(data_absen!$K$2:$K$2000,SUMPRODUCT((data_absen!$B$2:$B$2000=$A19)*(data_absen!$C$2:$C$2000=AZ$3)*(ROW(data_absen!$C$2:$C$2000)))-1)*1440,\"\")","v":""},{"$f":"IFERROR(INDEX(data_absen!$I$2:$I$2000,SUMPRODUCT((data_absen!$B$2:$B$2000=$A19)*(data_absen!$C$2:$C$2000=AZ$3)*(ROW(data_absen!$C$2:$C$2000)))-1)*1440,\"\")","v":""},null,null,{"$f":"IFERROR(INDEX(data_absen!$J$2:$J$2000,SUMPRODUCT((data_absen!$B$2:$B$2000=$A19)*(data_absen!$C$2:$C$2000=AZ$3)*(ROW(data_absen!$C$2:$C$2000)))-1)*1440,\"\")","v":""},{"$f":"IFERROR(INDEX(data_absen!$K$2:$K$2000,SUMPRODUCT((data_absen!$B$2:$B$2000=$A19)*(data_absen!$C$2:$C$2000=BE$3)*(ROW(data_absen!$C$2:$C$2000)))-1)*1440,\"\")","v":""},{"$f":"IFERROR(INDEX(data_absen!$I$2:$I$2000,SUMPRODUCT((data_absen!$B$2:$B$2000=$A19)*(data_absen!$C$2:$C$2000=BE$3)*(ROW(data_absen!$C$2:$C$2000)))-1)*1440,\"\")","v":""},null,null,{"$f":"IFERROR(INDEX(data_absen!$J$2:$J$2000,SUMPRODUCT((data_absen!$B$2:$B$2000=$A19)*(data_absen!$C$2:$C$2000=BE$3)*(ROW(data_absen!$C$2:$C$2000)))-1)*1440,\"\")","v":""},{"$f":"IFERROR(INDEX(data_absen!$K$2:$K$2000,SUMPRODUCT((data_absen!$B$2:$B$2000=$A19)*(data_absen!$C$2:$C$2000=BJ$3)*(ROW(data_absen!$C$2:$C$2000)))-1)*1440,\"\")","v":""},{"$f":"IFERROR(INDEX(data_absen!$I$2:$I$2000,SUMPRODUCT((data_absen!$B$2:$B$2000=$A19)*(data_absen!$C$2:$C$2000=BJ$3)*(ROW(data_absen!$C$2:$C$2000)))-1)*1440,\"\")","v":""},null,null,{"$f":"IFERROR(INDEX(data_absen!$J$2:$J$2000,SUMPRODUCT((data_absen!$B$2:$B$2000=$A19)*(data_absen!$C$2:$C$2000=BJ$3)*(ROW(data_absen!$C$2:$C$2000)))-1)*1440,\"\")","v":""},{"$f":"IFERROR(INDEX(data_absen!$K$2:$K$2000,SUMPRODUCT((data_absen!$B$2:$B$2000=$A19)*(data_absen!$C$2:$C$2000=BO$3)*(ROW(data_absen!$C$2:$C$2000)))-1)*1440,\"\")","v":""},{"$f":"IFERROR(INDEX(data_absen!$I$2:$I$2000,SUMPRODUCT((data_absen!$B$2:$B$2000=$A19)*(data_absen!$C$2:$C$2000=BO$3)*(ROW(data_absen!$C$2:$C$2000)))-1)*1440,\"\")","v":""},null,null,{"$f":"IFERROR(INDEX(data_absen!$J$2:$J$2000,SUMPRODUCT((data_absen!$B$2:$B$2000=$A19)*(data_absen!$C$2:$C$2000=BO$3)*(ROW(data_absen!$C$2:$C$2000)))-1)*1440,\"\")","v":""},{"$f":"COUNTIFS(data_absen!$B$2:$B$2000,$A19,data_absen!$I$2:$I$2000,\">0\")","v":1}]
["Rohman A",{"$f":"INDEX(data_absen!$G$2:$G$2000,SUMPRODUCT((data_absen!$B$2:$B$2000=$A22)*(data_absen!$C$2:$C$2000=B$3)*(ROW(data_absen!$C$2:$C$2000)))-1)","v":"06:48:00"},null,"-",{"$f":"INDEX(data_absen!$H$2:$H$2000,SUMPRODUCT((data_absen!$B$2:$B$2000=$A22)*(data_absen!$C$2:$C$2000=B$3)*(ROW(data_absen!$C$2:$C$2000)))-1)","v":""},null,{"$f":"INDEX(data_absen!$G$2:$G$2000,SUMPRODUCT((data_absen!$B$2:$B$2000=$A22)*(data_absen!$C$2:$C$2000=G$3)*(ROW(data_absen!$C$2:$C$2000)))-1)","v":"06:45:00"},null,"-",{"$f":"INDEX(data_absen!$H$2:$H$2000,SUMPRODUCT((data_absen!$B$2:$B$2000=$A22)*(data_absen!$C$2:$C$2000=G$3)*(ROW(data_absen!$C$2:$C$2000)))-1)","v":"14:56:00"},null,{"$f":"INDEX(data_absen!$G$2:$G$2000,SUMPRODUCT((data_absen!$B$2:$B$2000=$A22)*(data_absen!$C$2:$C$2000=L$3)*(ROW(data_absen!$C$2:$C$2000)))-1)","v":"06:45:00"},null,"-",{"$f":"INDEX(data_absen!$H$2:$H$2000,SUMPRODUCT((data_absen!$B$2:$B$2000=$A22)*(data_absen!$C$2:$C$2000=L$3)*(ROW(data_absen!$C$2:$C$2000)))-1)","v":"15:01:00"},null,{"$f":"INDEX(data_absen!$G$2:$G$2000,SUMPRODUCT((data_absen!$B$2:$B$2000=$A22)*(data_absen!$C$2:$C$2000=Q$3)*(ROW(data_absen!$C$2:$C$2000)))-1)","v":{"$error":"#VALUE!"}},null,"-",{"$f":"INDEX(data_absen!$H$2:$H$2000,SUMPRODUCT((data_absen!$B$2:$B$2000=$A22)*(data_absen!$C$2:$C$2000=Q$3)*(ROW(data_absen!$C$2:$C$2000)))-1)","v":{"$error":"#VALUE!"}},null,{"$f":"INDEX(data_absen!$G$2:$G$2000,SUMPRODUCT((data_absen!$B$2:$B$2000=$A22)*(data_absen!$C$2:$C$2000=V$3)*(ROW(data_absen!$C$2:$C$2000)))-1)","v":{"$error":"#VALUE!"}},null,"-",{"$f":"INDEX(data_absen!$H$2:$H$2000,SUMPRODUCT((data_absen!$B$2:$B$2000=$A22)*(data_absen!$C$2:$C$2000=V$3)*(ROW(data_absen!$C$2:$C$2000)))-1)","v":{"$error":"#VALUE!"}},null,{"$f":"INDEX(data_absen!$G$2:$G$2000,SUMPRODUCT((data_absen!$B$2:$B$2000=$A22)*(data_absen!$C$2:$C$2000=AA$3)*(ROW(data_absen!$C$2:$C$2000)))-1)","v":{"$error":"#VALUE!"}},null,"-",{"$f":"INDEX(data_absen!$H$2:$H$2000,SUMPRODUCT((data_absen!$B$2:$B$2000=$A22)*(data_absen!$C$2:$C$2000=AA$3)*(ROW(data_absen!$C$2:$C$2000)))-1)","v":{"$error":"#VALUE!"}},null,{"$f":"INDEX(data_absen!$G$2:$G$2000,SUMPRODUCT((data_absen!$B$2:$B$2000=$A22)*(data_absen!$C$2:$C$2000=AF$3)*(ROW(data_absen!$C$2:$C$2000)))-1)","v":{"$error":"#VALUE!"}},null,"-",{"$f":"INDEX(data_absen!$H$2:$H$2000,SUMPRODUCT((data_absen!$B$2:$B$2000=$A22)*(data_absen!$C$2:$C$2000=AF$3)*(ROW(data_absen!$C$2:$C$2000)))-1)","v":{"$error":"#VALUE!"}},null,{"$f":"INDEX(data_absen!$G$2:$G$2000,SUMPRODUCT((data_absen!$B$2:$B$2000=$A22)*(data_absen!$C$2:$C$2000=AK$3)*(ROW(data_absen!$C$2:$C$2000)))-1)","v":{"$error":"#VALUE!"}},null,"-",{"$f":"INDEX(data_absen!$H$2:$H$2000,SUMPRODUCT((data_absen!$B$2:$B$2000=$A22)*(data_absen!$C$2:$C$2000=AK$3)*(ROW(data_absen!$C$2:$C$2000)))-1)","v":{"$error":"#VALUE!"}},null,{"$f":"INDEX(data_absen!$G$2:$G$2000,SUMPRODUCT((data_absen!$B$2:$B$2000=$A22)*(data_absen!$C$2:$C$2000=AP$3)*(ROW(data_absen!$C$2:$C$2000)))-1)","v":{"$error":"#VALUE!"}},null,"-",{"$f":"INDEX(data_absen!$H$2:$H$2000,SUMPRODUCT((data_absen!$B$2:$B$2000=$A22)*(data_absen!$C$2:$C$2000=AP$3)*(ROW(data_absen!$C$2:$C$2000)))-1)","v":{"$error":"#VALUE!"}},null,{"$f":"INDEX(data_absen!$G$2:$G$2000,SUMPRODUCT((data_absen!$B$2:$B$2000=$A22)*(data_absen!$C$2:$C$2000=AU$3)*(ROW(data_absen!$C$2:$C$2000)))-1)","v":{"$error":"#VALUE!"}},null,"-",{"$f":"INDEX(data_absen!$H$2:$H$2000,SUMPRODUCT((data_absen!$B$2:$B$2000=$A22)*(data_absen!$C$2:$C$2000=AU$3)*(ROW(data_absen!$C$2:$C$2000)))-1)","v":{"$error":"#VALUE!"}},null,{"$f":"INDEX(data_absen!$G$2:$G$2000,SUMPRODUCT((data_absen!$B$2:$B$2000=$A22)*(data_absen!$C$2:$C$2000=AZ$3)*(ROW(data_absen!$C$2:$C$2000)))-1)","v":{"$error":"#VALUE!"}},null,"-",{"$f":"INDEX(data_absen!$H$2:$H$2000,SUMPRODUCT((data_absen!$B$2:$B$2000=$A22)*(data_absen!$C$2:$C$2000=AZ$3)*(ROW(data_absen!$C$2:$C$2000)))-1)","v":{"$error":"#VALUE!"}},null,{"$f":"INDEX(data_absen!$G$2:$G$2000,SUMPRODUCT((data_absen!$B$2:$B$2000=$A22)*(data_absen!$C$2:$C$2000=BE$3)*(ROW(data_absen!$C$2:$C$2000)))-1)","v":{"$error":"#VALUE!"}},null,"-",{"$f":"INDEX(data_absen!$H$2:$H$2000,SUMPRODUCT((data_absen!$B$2:$B$2000=$A22)*(data_absen!$C$2:$C$2000=BE$3)*(ROW(data_absen!$C$2:$C$2000)))-1)","v":{"$error":"#VALUE!"}},null,{"$f":"INDEX(data_absen!$G$2:$G$2000,SUMPRODUCT((data_absen!$B$2:$B$2000=$A22)*(data_absen!$C$2:$C$2000=BJ$3)*(ROW(data_absen!$C$2:$C$2000)))-1)","v":{"$error":"#VALUE!"}},null,"-",{"$f":"INDEX(data_absen!$H$2:$H$2000,SUMPRODUCT((data_absen!$B$2:$B$2000=$A22)*(data_absen!$C$2:$C$2000=BJ$3)*(ROW(data_absen!$C$2:$C$2000)))-1)","v":{"$error":"#VALUE!"}},null,{"$f":"INDEX(data_absen!$G$2:$G$2000,SUMPRODUCT((data_absen!$B$2:$B$2000=$A22)*(data_absen!$C$2:$C$2000=BO$3)*(ROW(data_absen!$C$2:$C$2000)))-1)","v":{"$error":"#VALUE!"}},null,"-",{"$f":"INDEX(data_absen!$H$2:$H$2000,SUMPRODUCT((data_absen!$B$2:$B$2000=$A22)*(data_absen!$C$2:$C$2000=BO$3)*(ROW(data_absen!$C$2:$C$2000)))-1)","v":{"$error":"#VALUE!"}}]
[108,null,null,"-",null,null,null,null,"-",null,null,null,null,"-",null,null,null,null,"-",null,null,null,null,"-",null,null,null,null,"-",null,null,null,null,"-",null,null,null,null,"-",null,null,null,null,"-",null,null,null,null,"-",null,null,null,null,"-",null,null,null,null,"-",null,null,null,null,"-",null,null,null,null,"-"]
[null,{"$f":"IFERROR(INDEX(data_absen!$K$2:$K$2000,SUMPRODUCT((data_absen!$B$2:$B$2000=$A22)*(data_absen!$C$2:$C$2000=B$3)*(ROW(data_absen!$C$2:$C$2000)))-1)*1440,\"\")","v":""},{"$f":"IFERROR(INDEX(data_absen!$I$2:$I$2000,SUMPRODUCT((data_absen!$B$2:$B$2000=$A22)*(data_absen!$C$2:$C$2000=B$3)*(ROW(data_absen!$C$2:$C$2000)))-1)*1440,\"\")","v":""},null,null,{"$f":"IFERROR(INDEX(data_absen!$J$2:$J$2000,SUMPRODUCT((data_absen!$B$2:$B$2000=$A22)*(data_absen!$C$2:$C$2000=B$3)*(ROW(data_absen!$C$2:$C$2000)))-1)*1440,\"\")","v":120},{"$f":"IFERROR(INDEX(data_absen!$K$2:$K$2000,SUMPRODUCT((data_absen!$B$2:$B$2000=$A22)*(data_absen!$C$2:$C$2000=G$3)*(ROW(data_absen!$C$2:$C$2000)))-1)*1440,\"\")","v":""},{"$f":"IFERROR(INDEX(data_absen!$I$2:$I$2000,SUMPRODUCT((data_absen!$B$2:$B$2000=$A22)*(data_absen!$C$2:$C$2000=G$3)*(ROW(data_absen!$C$2:$C$2000)))-1)*1440,\"\")","v":""},null,null,{"$f":"IFERROR(INDEX(data_absen!$J$2:$J$2000,SUMPRODUCT((data_absen!$B$2:$B$2000=$A22)*(data_absen!$C$2:$C$2000=G$3)*(ROW(data_absen!$C$2:$C$2000)))-1)*1440,\"\")","v":""},{"$f":"IFERROR(INDEX(data_absen!$K$2:$K$2000,SUMPRODUCT((data_absen!$B$2:$B$2000=$A22)*(data_absen!$C$2:$C$2000=L$3)*(ROW(data_absen!$C$2:$C$2000)))-1)*1440,\"\")","v":1},{"$f":"IFERROR(INDEX(data_absen!$I$2:$I$2000,SUMPRODUCT((data_absen!$B$2:$B$2000=$A22)*(data_absen!$C$2:$C$2000=L$3)*(ROW(data_absen!$C$2:$C$2000)))-1)*1440,\"\")","v":""},null,null,{"$f":"IFERROR(INDEX(data_absen!$J$2:$J$2000,SUMPRODUCT((data_absen!$B$2:$B$2000=$A22)*(data_absen!$C$2:$C$2000=L$3)*(ROW(data_absen!$C$2:$C$2000)))-1)*1440,\"\")","v":""},{"$f":"IFERROR(INDEX(data_absen!$K$2:$K$2000,SUMPRODUCT((data_absen!$B$2:$B$2000=$A22)*(data_absen!$C$2:$C$2000=Q$3)*(ROW(data_absen!$C$2:$C$2000)))-1)*1440,\"\")","v":""},{"$f":"IFERROR(INDEX(data_absen!$I$2:$I$2000,SUMPRODUCT((data_absen!$B$2:$B$2000=$A22)*(data_absen!$C$2:$C$2000=Q$3)*(ROW(data_absen!$C$2:$C$2000)))-1)*1440,\"\")","v":""},null,null,{"$f":"IFERROR(INDEX(data_absen!$J$2:$J$2000,SUMPRODUCT((data_absen!$B$2:$B$2000=$A22)*(data_absen!$C$2:$C$2000=Q$3)*(ROW(data_absen!$C$2:$C$2000)))-1)*1440,\"\")","v":""},{"$f":"IFERROR(INDEX(data_absen!$K$2:$K$2000,SUMPRODUCT((data_absen!$B$2:$B$2000=$A22)*(data_absen!$C$2:$C$2000=V$3)*(ROW(data_absen!$C$2:$C$2000)))-1)*1440,\"\")","v":""},{"$f":"IFERROR(INDEX(data_absen!$I$2:$I$2000,SUMPRODUCT((data_absen!$B$2:$B$2000=$A22)*(data_absen!$C$2:$C$2000=V$3)*(ROW(data_absen!$C$2:$C$2000)))-1)*1440,\"\")","v":""},null,null,{"$f":"IFERROR(INDEX(data_absen!$J$2:$J$2000,SUMPRODUCT((data_absen!$B$2:$B$2000=$A22)*(data_absen!$C$2:$C$2000=V$3)*(ROW(data_absen!$C$2:$C$2000)))-1)*1440,\"\")","v":""},{"$f":"IFERROR(INDEX(data_absen!$K$2:$K$2000,SUMPRODUCT((data_absen!$B$2:$B$2000=$A22)*(data_absen!$C$2:$C$2000=AA$3)*(ROW(data_absen!$C$2:$C$2000)))-1)*1440,\"\")","v":""},{"$f":"IFERROR(INDEX(data_absen!$I$2:$I$2000,SUMPRODUCT((data_absen!$B$2:$B$2000=$A22)*(data_absen!$C$2:$C$2000=AA$3)*(ROW(data_absen!$C$2:$C$2000)))-1)*1440,\"\")","v":""},null,null,{"$f":"IFERROR(INDEX(data_absen!$J$2:$J$2000,SUMPRODUCT((data_absen!$B$2:$B$2000=$A22)*(data_absen!$C$2:$C$2000=AA$3)*(ROW(data_absen!$C$2:$C$2000)))-1)*1440,\"\")","v":""},{"$f":"IFERROR(INDEX(data_absen!$K$2:$K$2000,SUMPRODUCT((data_absen!$B$2:$B$2000=$A22)*(data_absen!$C$2:$C$2000=AF$3)*(ROW(data_absen!$C$2:$C$2000)))-1)*1440,\"\")","v":""},{"$f":"IFERROR(INDEX(data_absen!$I$2:$I$2000,SUMPRODUCT((data_absen!$B$2:$B$2000=$A22)*(data_absen!$C$2:$C$2000=AF$3)*(ROW(data_absen!$C$2:$C$2000)))-1)*1440,\"\")","v":""},null,null,{"$f":"IFERROR(INDEX(data_absen!$J$2:$J$2000,SUMPRODUCT((data_absen!$B$2:$B$2000=$A22)*(data_absen!$C$2:$C$2000=AF$3)*(ROW(data_absen!$C$2:$C$2000)))-1)*1440,\"\")","v":""},{"$f":"IFERROR(INDEX(data_absen!$K$2:$K$2000,SUMPRODUCT((data_absen!$B$2:$B$2000=$A22)*(data_absen!$C$2:$C$2000=AK$3)*(ROW(data_absen!$C$2:$C$2000)))-1)*1440,\"\")","v":""},{"$f":"IFERROR(INDEX(data_absen!$I$2:$I$2000,SUMPRODUCT((data_absen!$B$2:$B$2000=$A22)*(data_absen!$C$2:$C$2000=AK$3)*(ROW(data_absen!$C$2:$C$2000)))-1)*1440,\"\")","v":""},null,null,{"$f":"IFERROR(INDEX(data_absen!$J$2:$J$2000,SUMPRODUCT((data_absen!$B$2:$B$2000=$A22)*(data_absen!$C$2:$C$2000=AK$3)*(ROW(data_absen!$C$2:$C$2000)))-1)*1440,\"\")","v":""},{"$f":"IFERROR(INDEX(data_absen!$K$2:$K$2000,SUMPRODUCT((data_absen!$B$2:$B$2000=$A22)*(data_absen!$C$2:$C$2000=AP$3)*(ROW(data_absen!$C$2:$C$2000)))-1)*1440,\"\")","v":""},{"$f":"IFERROR(INDEX(data_absen!$I$2:$I$2000,SUMPRODUCT((data_absen!$B$2:$B$2000=$A22)*(data_absen!$C$2:$C$2000=AP$3)*(ROW(data_absen!$C$2:$C$2000)))-1)*1440,\"\")","v":""},null,null,{"$f":"IFERROR(INDEX(data_absen!$J$2:$J$2000,SUMPRODUCT((data_absen!$B$2:$B$2000=$A22)*(data_absen!$C$2:$C$2000=AP$3)*(ROW(data_absen!$C$2:$C$2000)))-1)*1440,\"\")","v":""},{"$f":"IFERROR(INDEX(data_absen!$K$2:$K$2000,SUMPRODUCT((data_absen!$B$2:$B$2000=$A22)*(data_absen!$C$2:$C$2000=AU$3)*(ROW(data_absen!$C$2:$C$2000)))-1)*1440,\"\")","v":""},{"$f":"IFERROR(INDEX(data_absen!$I$2:$I$2000,SUMPRODUCT((data_absen!$B$2:$B$2000=$A22)*(data_absen!$C$2:$C$2000=AU$3)*(ROW(data_absen!$C$2:$C$2000)))-1)*1440,\"\")","v":""},null,null,{"$f":"IFERROR(INDEX(data_absen!$J$2:$J$2000,SUMPRODUCT((data_absen!$B$2:$B$2000=$A22)*(data_absen!$C$2:$C$2000=AU$3)*(ROW(data_absen!$C$2:$C$2000)))-1)*1440,\"\")","v":""},{"$f":"IFERROR(INDEX(data_absen!$K$2:$K$2000,SUMPRODUCT((data_absen!$B$2:$B$2000=$A22)*(data_absen!$C$2:$C$2000=AZ$3)*(ROW(data_absen!$C$2:$C$2000)))-1)*1440,\"\")","v":""},{"$f":"IFERROR(INDEX(data_absen!$I$2:$I$2000,SUMPRODUCT((data_absen!$B$2:$B$2000=$A22)*(data_absen!$C$2:$C$2000=AZ$3)*(ROW(data_absen!$C$2:$C$2000)))-1)*1440,\"\")","v":""},null,null,{"$f":"IFERROR(INDEX(data_absen!$J$2:$J$2000,SUMPRODUCT((data_absen!$B$2:$B$2000=$A22)*(data_absen!$C$2:$C$2000=AZ$3)*(ROW(data_absen!$C$2:$C$2000)))-1)*1440,\"\")","v":""},{"$f":"IFERROR(INDEX(data_absen!$K$2:$K$2000,SUMPRODUCT((data_absen!$B$2:$B$2000=$A22)*(data_absen!$C$2:$C$2000=BE$3)*(ROW(data_absen!$C$2:$C$2000)))-1)*1440,\"\")","v":""},{"$f":"IFERROR(INDEX(data_absen!$I$2:$I$2000,SUMPRODUCT((data_absen!$B$2:$B$2000=$A22)*(data_absen!$C$2:$C$2000=BE$3)*(ROW(data_absen!$C$2:$C$2000)))-1)*1440,\"\")","v":""},null,null,{"$f":"IFERROR(INDEX(data_absen!$J$2:$J$2000,SUMPRODUCT((data_absen!$B$2:$B$2000=$A22)*(data_absen!$C$2:$C$2000=BE$3)*(ROW(data_absen!$C$2:$C$2000)))-1)*1440,\"\")","v":""},{"$f":"IFERROR(INDEX(data_absen!$K$2:$K$2000,SUMPRODUCT((data_absen!$B$2:$B$2000=$A22)*(data_absen!$C$2:$C$2000=BJ$3)*(ROW(data_absen!$C$2:$C$2000)))-1)*1440,\"\")","v":""},{"$f":"IFERROR(INDEX(data_absen!$I$2:$I$2000,SUMPRODUCT((data_absen!$B$2:$B$2000=$A22)*(data_absen!$C$2:$C$2000=BJ$3)*(ROW(data_absen!$C$2:$C$2000)))-1)*1440,\"\")","v":""},null,null,{"$f":"IFERROR(INDEX(data_absen!$J$2:$J$2000,SUMPRODUCT((data_absen!$B$2:$B$2000=$A22)*(data_absen!$C$2:$C$2000=BJ$3)*(ROW(data_absen!$C$2:$C$2000)))-1)*1440,\"\")","v":""},{"$f":"IFERROR(INDEX(data_absen!$K$2:$K$2000,SUMPRODUCT((data_absen!$B$2:$B$2000=$A22)*(data_absen!$C$2:$C$2000=BO$3)*(ROW(data_absen!$C$2:$C$2000)))-1)*1440,\"\")","v":""},{"$f":"IFERROR(INDEX(data_absen!$I$2:$I$2000,SUMPRODUCT((data_absen!$B$2:$B$2000=$A22)*(data_absen!$C$2:$C$2000=BO$3)*(ROW(data_absen!$C$2:$C$2000)))-1)*1440,\"\")","v":""},null,null,{"$f":"IFERROR(INDEX(data_absen!$J$2:$J$2000,SUMPRODUCT((data_absen!$B$2:$B$2000=$A22)*(data_absen!$C$2:$C$2000=BO$3)*(ROW(data_absen!$C$2:$C$2000)))-1)*1440,\"\")","v":""},{"$f":"COUNTIFS(data_absen!$B$2:$B$2000,$A22,data_absen!$I$2:$I$2000,\">0\")","v":0}]
["Tuki",{"$f":"INDEX(data_absen!$G$2:$G$2000,SUMPRODUCT((data_absen!$B$2:$B$2000=$A25)*(data_absen!$C$2:$C$2000=B$3)*(ROW(data_absen!$C$2:$C$2000)))-1)","v":"06:47:00"},null,"-",{"$f":"INDEX(data_absen!$H$2:$H$2000,SUMPRODUCT((data_absen!$B$2:$B$2000=$A25)*(data_absen!$C$2:$C$2000=B$3)*(ROW(data_absen!$C$2:$C$2000)))-1)","v":"14:56:00"},null,{"$f":"INDEX(data_absen!$G$2:$G$2000,SUMPRODUCT((data_absen!$B$2:$B$2000=$A25)*(data_absen!$C$2:$C$2000=G$3)*(ROW(data_absen!$C$2:$C$2000)))-1)","v":"06:46:00"},null,"-",{"$f":"INDEX(data_absen!$H$2:$H$2000,SUMPRODUCT((data_absen!$B$2:$B$2000=$A25)*(data_absen!$C$2:$C$2000=G$3)*(ROW(data_absen!$C$2:$C$2000)))-1)","v":"14:56:00"},null,{"$f":"INDEX(data_absen!$G$2:$G$2000,SUMPRODUCT((data_absen!$B$2:$B$2000=$A25)*(data_absen!$C$2:$C$2000=L$3)*(ROW(data_absen!$C$2:$C$2000)))-1)","v":"06:45:00"},null,"-",{"$f":"INDEX(data_absen!$H$2:$H$2000,SUMPRODUCT((data_absen!$B$2:$B$2000=$A25)*(data_absen!$C$2:$C$2000=L$3)*(ROW(data_absen!$C$2:$C$2000)))-1)","v":""},null,{"$f":"INDEX(data_absen!$G$2:$G$2000,SUMPRODUCT((data_absen!$B$2:$B$2000=$A25)*(data_absen!$C$2:$C$2000=Q$3)*(ROW(data_absen!$C$2:$C$2000)))-1)","v":{"$error":"#VALUE!"}},null,"-",{"$f":"INDEX(data_absen!$H$2:$H$2000,SUMPRODUCT((data_absen!$B$2:$B$2000=$A25)*(data_absen!$C$2:$C$2000=Q$3)*(ROW(data_absen!$C$2:$C$2000)))-1)","v":{"$error":"#VALUE!"}},null,{"$f":"INDEX(data_absen!$G$2:$G$2000,SUMPRODUCT((data_absen!$B$2:$B$2000=$A25)*(data_absen!$C$2:$C$2000=V$3)*(ROW(data_absen!$C$2:$C$2000)))-1)","v":{"$error":"#VALUE!"}},null,"-",{"$f":"INDEX(data_absen!$H$2:$H$2000,SUMPRODUCT((data_absen!$B$2:$B$2000=$A25)*(data_absen!$C$2:$C$2000=V$3)*(ROW(data_absen!$C$2:$C$2000)))-1)","v":{"$error":"#VALUE!"}},null,{"$f":"INDEX(data_absen!$G$2:$G$2000,SUMPRODUCT((data_absen!$B$2:$B$2000=$A25)*(data_absen!$C$2:$C$2000=AA$3)*(ROW(data_absen!$C$2:$C$2000)))-1)","v":{"$error":"#VALUE!"}},null,"-",{"$f":"INDEX(data_absen!$H$2:$H$2000,SUMPRODUCT((data_absen!$B$2:$B$2000=$A25)*(data_absen!$C$2:$C$2000=AA$3)*(ROW(data_absen!$C$2:$C$2000)))-1)","v":{"$error":"#VALUE!"}},null,{"$f":"INDEX(data_absen!$G$2:$G$2000,SUMPRODUCT((data_absen!$B$2:$B$2000=$A25)*(data_absen!$C$2:$C$2000=AF$3)*(ROW(data_absen!$C$2:$C$2000)))-1)","v":{"$error":"#VALUE!"}},null,"-",{"$f":"INDEX(data_absen!$H$2:$H$2000,SUMPRODUCT((data_absen!$B$2:$B$2000=$A25)*(data_absen!$C$2:$C$2000=AF$3)*(ROW(data_absen!$C$2:$C$2000)))-1)","v":{"$error":"#VALUE!"}},null,{"$f":"INDEX(data_absen!$G$2:$G$2000,SUMPRODUCT((data_absen!$B$2:$B$2000=$A25)*(data_absen!$C$2:$C$2000=AK$3)*(ROW(data_absen!$C$2:$C$2000)))-1)","v":{"$error":"#VALUE!"}},null,"-",{"$f":"INDEX(data_absen!$H$2:$H$2000,SUMPRODUCT((data_absen!$B$2:$B$2000=$A25)*(data_absen!$C$2:$C$2000=AK$3)*(ROW(data_absen!$C$2:$C$2000)))-1)","v":{"$error":"#VALUE!"}},null,{"$f":"INDEX(data_absen!$G$2:$G$2000,SUMPRODUCT((data_absen!$B$2:$B$2000=$A25)*(data_absen!$C$2:$C$2000=AP$3)*(ROW(data_absen!$C$2:$C$2000)))-1)","v":{"$error":"#VALUE!"}},null,"-",{"$f":"INDEX(data_absen!$H$2:$H$2000,SUMPRODUCT((data_absen!$B$2:$B$2000=$A25)*(data_absen!$C$2:$C$2000=AP$3)*(ROW(data_absen!$C$2:$C$2000)))-1)","v":{"$error":"#VALUE!"}},null,{"$f":"INDEX(data_absen!$G$2:$G$2000,SUMPRODUCT((data_absen!$B$2:$B$2000=$A25)*(data_absen!$C$2:$C$2000=AU$3)*(ROW(data_absen!$C$2:$C$2000)))-1)","v":{"$error":"#VALUE!"}},null,"-",{"$f":"INDEX(data_absen!$H$2:$H$2000,SUMPRODUCT((data_absen!$B$2:$B$2000=$A25)*(data_absen!$C$2:$C$2000=AU$3)*(ROW(data_absen!$C$2:$C$2000)))-1)","v":{"$error":"#VALUE!"}},null,{"$f":"INDEX(data_absen!$G$2:$G$2000,SUMPRODUCT((data_absen!$B$2:$B$2000=$A25)*(data_absen!$C$2:$C$2000=AZ$3)*(ROW(data_absen!$C$2:$C$2000)))-1)","v":{"$error":"#VALUE!"}},null,"-",{"$f":"INDEX(data_absen!$H$2:$H$2000,SUMPRODUCT((data_absen!$B$2:$B$2000=$A25)*(data_absen!$C$2:$C$2000=AZ$3)*(ROW(data_absen!$C$2:$C$2000)))-1)","v":{"$error":"#VALUE!"}},null,{"$f":"INDEX(data_absen!$G$2:$G$2000,SUMPRODUCT((data_absen!$B$2:$B$2000=$A25)*(data_absen!$C$2:$C$2000=BE$3)*(ROW(data_absen!$C$2:$C$2000)))-1)","v":{"$error":"#VALUE!"}},null,"-",{"$f":"INDEX(data_absen!$H$2:$H$2000,SUMPRODUCT((data_absen!$B$2:$B$2000=$A25)*(data_absen!$C$2:$C$2000=BE$3)*(ROW(data_absen!$C$2:$C$2000)))-1)","v":{"$error":"#VALUE!"}},null,{"$f":"INDEX(data_absen!$G$2:$G$2000,SUMPRODUCT((data_absen!$B$2:$B$2000=$A25)*(data_absen!$C$2:$C$2000=BJ$3)*(ROW(data_absen!$C$2:$C$2000)))-1)","v":{"$error":"#VALUE!"}},null,"-",{"$f":"INDEX(data_absen!$H$2:$H$2000,SUMPRODUCT((data_absen!$B$2:$B$2000=$A25)*(data_absen!$C$2:$C$2000=BJ$3)*(ROW(data_absen!$C$2:$C$2000)))-1)","v":{"$error":"#VALUE!"}},null,{"$f":"INDEX(data_absen!$G$2:$G$2000,SUMPRODUCT((data_absen!$B$2:$B$2000=$A25)*(data_absen!$C$2:$C$2000=BO$3)*(ROW(data_absen!$C$2:$C$2000)))-1)","v":{"$error":"#VALUE!"}},null,"-",{"$f":"INDEX(data_absen!$H$2:$H$2000,SUMPRODUCT((data_absen!$B$2:$B$2000=$A25)*(data_absen!$C$2:$C$2000=BO$3)*(ROW(data_absen!$C$2:$C$2000)))-1)","v":{"$error":"#VALUE!"}}]
[109,null,null,"-",null,null,null,null,"-",null,null,null,null,"-",null,null,null,null,"-",null,null,null,null,"-",null,null,null,null,"-",null,null,null,null,"-",null,null,null,null,"-",null,null,null,null,"-",null,null,null,null,"-",null,null,null,null,"-",null,null,null,null,"-",null,null,null,null,"-",null,null,null,null,"-"]
[null,{"$f":"IFERROR(INDEX(data_absen!$K$2:$K$2000,SUMPRODUCT((data_absen!$B$2:$B$2000=$A25)*(data_absen!$C$2:$C$2000=B$3)*(ROW(data_absen!$C$2:$C$2000)))-1)*1440,\"\")","v":""},{"$f":"IFERROR(INDEX(data_absen!$I$2:$I$2000,SUMPRODUCT((data_absen!$B$2:$B$2000=$A25)*(data_absen!$C$2:$C$2000=B$3)*(ROW(data_absen!$C$2:$C$2000)))-1)*1440,\"\")","v":""},null,null,{"$f":"IFERROR(INDEX(data_absen!$J$2:$J$2000,SUMPRODUCT((data_absen!$B$2:$B$2000=$A25)*(data_absen!$C$2:$C$2000=B$3)*(ROW(data_absen!$C$2:$C$2000)))-1)*1440,\"\")","v":""},{"$f":"IFERROR(INDEX(data_absen!$K$2:$K$2000,SUMPRODUCT((data_absen!$B$2:$B$2000=$A25)*(data_absen!$C$2:$C$2000=G$3)*(ROW(data_absen!$C$2:$C$2000)))-1)*1440,\"\")","v":""},{"$f":"IFERROR(INDEX(data_absen!$I$2:$I$2000,SUMPRODUCT((data_absen!$B$2:$B$2000=$A25)*(data_absen!$C$2:$C$2000=G$3)*(ROW(data_absen!$C$2:$C$2000)))-1)*1440,\"\")","v":""},null,null,{"$f":"IFERROR(INDEX(data_absen!$J$2:$J$2000,SUMPRODUCT((data_absen!$B$2:$B$2000=$A25)*(data_absen!$C$2:$C$2000=G$3)*(ROW(data_absen!$C$2:$C$2000)))-1)*1440,\"\")","v":""},{"$f":"IFERROR(INDEX(data_absen!$K$2:$K$2000,SUMPRODUCT((data_absen!$B$2:$B$2000=$A25)*(data_absen!$C$2:$C$2000=L$3)*(ROW(data_absen!$C$2:$C$2000)))-1)*1440,\"\")","v":""},{"$f":"IFERROR(INDEX(data_absen!$I$2:$I$2000,SUMPRODUCT((data_absen!$B$2:$B$2000=$A25)*(data_absen!$C$2:$C$2000=L$3)*(ROW(data_absen!$C$2:$C$2000)))-1)*1440,\"\")","v":""},null,null,{"$f":"IFERROR(INDEX(data_absen!$J$2:$J$2000,SUMPRODUCT((data_absen!$B$2:$B$2000=$A25)*(data_absen!$C$2:$C$2000=L$3)*(ROW(data_absen!$C$2:$C$2000)))-1)*1440,\"\")","v":120},{"$f":"IFERROR(INDEX(data_absen!$K$2:$K$2000,SUMPRODUCT((data_absen!$B$2:$B$2000=$A25)*(data_absen!$C$2:$C$2000=Q$3)*(ROW(data_absen!$C$2:$C$2000)))-1)*1440,\"\")","v":""},{"$f":"IFERROR(INDEX(data_absen!$I$2:$I$2000,SUMPRODUCT((data_absen!$B$2:$B$2000=$A25)*(data_absen!$C$2:$C$2000=Q$3)*(ROW(data_absen!$C$2:$C$2000)))-1)*1440,\"\")","v":""},null,null,{"$f":"IFERROR(INDEX(data_absen!$J$2:$J$2000,SUMPRODUCT((data_absen!$B$2:$B$2000=$A25)*(data_absen!$C$2:$C$2000=Q$3)*(ROW(data_absen!$C$2:$C$2000)))-1)*1440,\"\")","v":""},{"$f":"IFERROR(INDEX(data_absen!$K$2:$K$2000,SUMPRODUCT((data_absen!$B$2:$B$2000=$A25)*(data_absen!$C$2:$C$2000=V$3)*(ROW(data_absen!$C$2:$C$2000)))-1)*1440,\"\")","v":""},{"$f":"IFERROR(INDEX(data_absen!$I$2:$I$2000,SUMPRODUCT((data_absen!$B$2:$B$2000=$A25)*(data_absen!$C$2:$C$2000=V$3)*(ROW(data_absen!$C$2:$C$2000)))-1)*1440,\"\")","v":""},null,null,{"$f":"IFERROR(INDEX(data_absen!$J$2:$J$2000,SUMPRODUCT((data_absen!$B$2:$B$2000=$A25)*(data_absen!$C$2:$C$2000=V$3)*(ROW(data_absen!$C$2:$C$2000)))-1)*1440,\"\")","v":""},{"$f":"IFERROR(INDEX(data_absen!$K$2:$K$2000,SUMPRODUCT((data_absen!$B$2:$B$2000=$A25)*(data_absen!$C$2:$C$2000=AA$3)*(ROW(data_absen!$C$2:$C$2000)))-1)*1440,\"\")","v":""},{"$f":"IFERROR(INDEX(data_absen!$I$2:$I$2000,SUMPRODUCT((data_absen!$B$2:$B$2000=$A25)*(data_absen!$C$2:$C$2000=AA$3)*(ROW(data_absen!$C$2:$C$2000)))-1)*1440,\"\")","v":""},null,null,{"$f":"IFERROR(INDEX(data_absen!$J$2:$J$2000,SUMPRODUCT((data_absen!$B$2:$B$2000=$A25)*(data_absen!$C$2:$C$2000=AA$3)*(ROW(data_absen!$C$2:$C$2000)))-1)*1440,\"\")","v":""},{"$f":"IFERROR(INDEX(data_absen!$K$2:$K$2000,SUMPRODUCT((data_absen!$B$2:$B$2000=$A25)*(data_absen!$C$2:$C$2000=AF$3)*(ROW(data_absen!$C$2:$C$2000)))-1)*1440,\"\")","v":""},{"$f":"IFERROR(INDEX(data_absen!$I$2:$I$2000,SUMPRODUCT((data_absen!$B$2:$B$2000=$A25)*(data_absen!$C$2:$C$2000=AF$3)*(ROW(data_absen!$C$2:$C$2000)))-1)*1440,\"\")","v":""},null,null,{"$f":"IFERROR(INDEX(data_absen!$J$2:$J$2000,SUMPRODUCT((data_absen!$B$2:$B$2000=$A25)*(data_absen!$C$2:$C$2000=AF$3)*(ROW(data_absen!$C$2:$C$2000)))-1)*1440,\"\")","v":""},{"$f":"IFERROR(INDEX(data_absen!$K$2:$K$2000,SUMPRODUCT((data_absen!$B$2:$B$2000=$A25)*(data_absen!$C$2:$C$2000=AK$3)*(ROW(data_absen!$C$2:$C$2000)))-1)*1440,\"\")","v":""},{"$f":"IFERROR(INDEX(data_absen!$I$2:$I$2000,SUMPRODUCT((data_absen!$B$2:$B$2000=$A25)*(data_absen!$C$2:$C$2000=AK$3)*(ROW(data_absen!$C$2:$C$2000)))-1)*1440,\"\")","v":""},null,null,{"$f":"IFERROR(INDEX(data_absen!$J$2:$J$2000,SUMPRODUCT((data_absen!$B$2:$B$2000=$A25)*(data_absen!$C$2:$C$2000=AK$3)*(ROW(data_absen!$C$2:$C$2000)))-1)*1440,\"\")","v":""},{"$f":"IFERROR(INDEX(data_absen!$K$2:$K$2000,SUMPRODUCT((data_absen!$B$2:$B$2000=$A25)*(data_absen!$C$2:$C$2000=AP$3)*(ROW(data_absen!$C$2:$C$2000)))-1)*1440,\"\")","v":""},{"$f":"IFERROR(INDEX(data_absen!$I$2:$I$2000,SUMPRODUCT((data_absen!$B$2:$B$2000=$A25)*(data_absen!$C$2:$C$2000=AP$3)*(ROW(data_absen!$C$2:$C$2000)))-1)*1440,\"\")","v":""},null,null,{"$f":"IFERROR(INDEX(data_absen!$J$2:$J$2000,SUMPRODUCT((data_absen!$B$2:$B$2000=$A25)*(data_absen!$C$2:$C$2000=AP$3)*(ROW(data_absen!$C$2:$C$2000)))-1)*1440,\"\")","v":""},{"$f":"IFERROR(INDEX(data_absen!$K$2:$K$2000,SUMPRODUCT((data_absen!$B$2:$B$2000=$A25)*(data_absen!$C$2:$C$2000=AU$3)*(ROW(data_absen!$C$2:$C$2000)))-1)*1440,\"\")","v":""},{"$f":"IFERROR(INDEX(data_absen!$I$2:$I$2000,SUMPRODUCT((data_absen!$B$2:$B$2000=$A25)*(data_absen!$C$2:$C$2000=AU$3)*(ROW(data_absen!$C$2:$C$2000)))-1)*1440,\"\")","v":""},null,null,{"$f":"IFERROR(INDEX(data_absen!$J$2:$J$2000,SUMPRODUCT((data_absen!$B$2:$B$2000=$A25)*(data_absen!$C$2:$C$2000=AU$3)*(ROW(data_absen!$C$2:$C$2000)))-1)*1440,\"\")","v":""},{"$f":"IFERROR(INDEX(data_absen!$K$2:$K$2000,SUMPRODUCT((data_absen!$B$2:$B$2000=$A25)*(data_absen!$C$2:$C$2000=AZ$3)*(ROW(data_absen!$C$2:$C$2000)))-1)*1440,\"\")","v":""},{"$f":"IFERROR(INDEX(data_absen!$I$2:$I$2000,SUMPRODUCT((data_absen!$B$2:$B$2000=$A25)*(data_absen!$C$2:$C$2000=AZ$3)*(ROW(data_absen!$C$2:$C$2000)))-1)*1440,\"\")","v":""},null,null,{"$f":"IFERROR(INDEX(data_absen!$J$2:$J$2000,SUMPRODUCT((data_absen!$B$2:$B$2000=$A25)*(data_absen!$C$2:$C$2000=AZ$3)*(ROW(data_absen!$C$2:$C$2000)))-1)*1440,\"\")","v":""},{"$f":"IFERROR(INDEX(data_absen!$K$2:$K$2000,SUMPRODUCT((data_absen!$B$2:$B$2000=$A25)*(data_absen!$C$2:$C$2000=BE$3)*(ROW(data_absen!$C$2:$C$2000)))-1)*1440,\"\")","v":""},{"$f":"IFERROR(INDEX(data_absen!$I$2:$I$2000,SUMPRODUCT((data_absen!$B$2:$B$2000=$A25)*(data_absen!$C$2:$C$2000=BE$3)*(ROW(data_absen!$C$2:$C$2000)))-1)*1440,\"\")","v":""},null,null,{"$f":"IFERROR(INDEX(data_absen!$J$2:$J$2000,SUMPRODUCT((data_absen!$B$2:$B$2000=$A25)*(data_absen!$C$2:$C$2000=BE$3)*(ROW(data_absen!$C$2:$C$2000)))-1)*1440,\"\")","v":""},{"$f":"IFERROR(INDEX(data_absen!$K$2:$K$2000,SUMPRODUCT((data_absen!$B$2:$B$2000=$A25)*(data_absen!$C$2:$C$2000=BJ$3)*(ROW(data_absen!$C$2:$C$2000)))-1)*1440,\"\")","v":""},{"$f":"IFERROR(INDEX(data_absen!$I$2:$I$2000,SUMPRODUCT((data_absen!$B$2:$B$2000=$A25)*(data_absen!$C$2:$C$2000=BJ$3)*(ROW(data_absen!$C$2:$C$2000)))-1)*1440,\"\")","v":""},null,null,{"$f":"IFERROR(INDEX(data_absen!$J$2:$J$2000,SUMPRODUCT((data_absen!$B$2:$B$2000=$A25)*(data_absen!$C$2:$C$2000=BJ$3)*(ROW(data_absen!$C$2:$C$2000)))-1)*1440,\"\")","v":""},{"$f":"IFERROR(INDEX(data_absen!$K$2:$K$2000,SUMPRODUCT((data_absen!$B$2:$B$2000=$A25)*(data_absen!$C$2:$C$2000=BO$3)*(ROW(data_absen!$C$2:$C$2000)))-1)*1440,\"\")","v":""},{"$f":"IFERROR(INDEX(data_absen!$I$2:$I$2000,SUMPRODUCT((data_absen!$B$2:$B$2000=$A25)*(data_absen!$C$2:$C$2000=BO$3)*(ROW(data_absen!$C$2:$C$2000)))-1)*1440,\"\")","v":""},null,null,{"$f":"IFERROR(INDEX(data_absen!$J$2:$J$2000,SUMPRODUCT((data_absen!$B$2:$B$2000=$A25)*(data_absen!$C$2:$C$2000=BO$3)*(ROW(data_absen!$C$2:$C$2000)))-1)*1440,\"\")","v":""},{"$f":"COUNTIFS(data_absen!$B$2:$B$2000,$A25,data_absen!$I$2:$I$2000,\">0\")","v":0}]
["Zainul A",{"$f":"INDEX(data_absen!$G$2:$G$2000,SUMPRODUCT((data_absen!$B$2:$B$2000=$A28)*(data_absen!$C$2:$C$2000=B$3)*(ROW(data_absen!$C$2:$C$2000)))-1)","v":"06:48:00"},null,"-",{"$f":"INDEX(data_absen!$H$2:$H$2000,SUMPRODUCT((data_absen!$B$2:$B$2000=$A28)*(data_absen!$C$2:$C$2000=B$3)*(ROW(data_absen!$C$2:$C$2000)))-1)","v":"16:04:00"},null,{"$f":"INDEX(data_absen!$G$2:$G$2000,SUMPRODUCT((data_absen!$B$2:$B$2000=$A28)*(data_absen!$C$2:$C$2000=G$3)*(ROW(data_absen!$C$2:$C$2000)))-1)","v":"06:45:00"},null,"-",{"$f":"INDEX(data_absen!$H$2:$H$2000,SUMPRODUCT((data_absen!$B$2:$B$2000=$A28)*(data_absen!$C$2:$C$2000=G$3)*(ROW(data_absen!$C$2:$C$2000)))-1)","v":"14:56:00"},null,{"$f":"INDEX(data_absen!$G$2:$G$2000,SUMPRODUCT((data_absen!$B$2:$B$2000=$A28)*(data_absen!$C$2:$C$2000=L$3)*(ROW(data_absen!$C$2:$C$2000)))-1)","v":"06:45:00"},null,"-",{"$f":"INDEX(data_absen!$H$2:$H$2000,SUMPRODUCT((data_absen!$B$2:$B$2000=$A28)*(data_absen!$C$2:$C$2000=L$3)*(ROW(data_absen!$C$2:$C$2000)))-1)","v":"14:59:00"},null,{"$f":"INDEX(data_absen!$G$2:$G$2000,SUMPRODUCT((data_absen!$B$2:$B$2000=$A28)*(data_absen!$C$2:$C$2000=Q$3)*(ROW(data_absen!$C$2:$C$2000)))-1)","v":{"$error":"#VALUE!"}},null,"-",{"$f":"INDEX(data_absen!$H$2:$H$2000,SUMPRODUCT((data_absen!$B$2:$B$2000=$A28)*(data_absen!$C$2:$C$2000=Q$3)*(ROW(data_absen!$C$2:$C$2000)))-1)","v":{"$error":"#VALUE!"}},null,{"$f":"INDEX(data_absen!$G$2:$G$2000,SUMPRODUCT((data_absen!$B$2:$B$2000=$A28)*(data_absen!$C$2:$C$2000=V$3)*(ROW(data_absen!$C$2:$C$2000)))-1)","v":{"$error":"#VALUE!"}},null,"-",{"$f":"INDEX(data_absen!$H$2:$H$2000,SUMPRODUCT((data_absen!$B$2:$B$2000=$A28)*(data_absen!$C$2:$C$2000=V$3)*(ROW(data_absen!$C$2:$C$2000)))-1)","v":{"$error":"#VALUE!"}},null,{"$f":"INDEX(data_absen!$G$2:$G$2000,SUMPRODUCT((data_absen!$B$2:$B$2000=$A28)*(data_absen!$C$2:$C$2000=AA$3)*(ROW(data_absen!$C$2:$C$2000)))-1)","v":{"$error":"#VALUE!"}},null,"-",{"$f":"INDEX(data_absen!$H$2:$H$2000,SUMPRODUCT((data_absen!$B$2:$B$2000=$A28)*(data_absen!$C$2:$C$2000=AA$3)*(ROW(data_absen!$C$2:$C$2000)))-1)","v":{"$error":"#VALUE!"}},null,{"$f":"INDEX(data_absen!$G$2:$G$2000,SUMPRODUCT((data_absen!$B$2:$B$2000=$A28)*(data_absen!$C$2:$C$2000=AF$3)*(ROW(data_absen!$C$2:$C$2000)))-1)","v":{"$error":"#VALUE!"}},null,"-",{"$f":"INDEX(data_absen!$H$2:$H$2000,SUMPRODUCT((data_absen!$B$2:$B$2000=$A28)*(data_absen!$C$2:$C$2000=AF$3)*(ROW(data_absen!$C$2:$C$2000)))-1)","v":{"$error":"#VALUE!"}},null,{"$f":"INDEX(data_absen!$G$2:$G$2000,SUMPRODUCT((data_absen!$B$2:$B$2000=$A28)*(data_absen!$C$2:$C$2000=AK$3)*(ROW(data_absen!$C$2:$C$2000)))-1)","v":{"$error":"#VALUE!"}},null,"-",{"$f":"INDEX(data_absen!$H$2:$H$2000,SUMPRODUCT((data_absen!$B$2:$B$2000=$A28)*(data_absen!$C$2:$C$2000=AK$3)*(ROW(data_absen!$C$2:$C$2000)))-1)","v":{"$error":"#VALUE!"}},null,{"$f":"INDEX(data_absen!$G$2:$G$2000,SUMPRODUCT((data_absen!$B$2:$B$2000=$A28)*(data_absen!$C$2:$C$2000=AP$3)*(ROW(data_absen!$C$2:$C$2000)))-1)","v":{"$error":"#VALUE!"}},null,"-",{"$f":"INDEX(data_absen!$H$2:$H$2000,SUMPRODUCT((data_absen!$B$2:$B$2000=$A28)*(data_absen!$C$2:$C$2000=AP$3)*(ROW(data_absen!$C$2:$C$2000)))-1)","v":{"$error":"#VALUE!"}},null,{"$f":"INDEX(data_absen!$G$2:$G$2000,SUMPRODUCT((data_absen!$B$2:$B$2000=$A28)*(data_absen!$C$2:$C$2000=AU$3)*(ROW(data_absen!$C$2:$C$2000)))-1)","v":{"$error":"#VALUE!"}},null,"-",{"$f":"INDEX(data_absen!$H$2:$H$2000,SUMPRODUCT((data_absen!$B$2:$B$2000=$A28)*(data_absen!$C$2:$C$2000=AU$3)*(ROW(data_absen!$C$2:$C$2000)))-1)","v":{"$error":"#VALUE!"}},null,{"$f":"INDEX(data_absen!$G$2:$G$2000,SUMPRODUCT((data_absen!$B$2:$B$2000=$A28)*(data_absen!$C$2:$C$2000=AZ$3)*(ROW(data_absen!$C$2:$C$2000)))-1)","v":{"$error":"#VALUE!"}},null,"-",{"$f":"INDEX(data_absen!$H$2:$H$2000,SUMPRODUCT((data_absen!$B$2:$B$2000=$A28)*(data_absen!$C$2:$C$2000=AZ$3)*(ROW(data_absen!$C$2:$C$2000)))-1)","v":{"$error":"#VALUE!"}},null,{"$f":"INDEX(data_absen!$G$2:$G$2000,SUMPRODUCT((data_absen!$B$2:$B$2000=$A28)*(data_absen!$C$2:$C$2000=BE$3)*(ROW(data_absen!$C$2:$C$2000)))-1)","v":{"$error":"#VALUE!"}},null,"-",{"$f":"INDEX(data_absen!$H$2:$H$2000,SUMPRODUCT((data_absen!$B$2:$B$2000=$A28)*(data_absen!$C$2:$C$2000=BE$3)*(ROW(data_absen!$C$2:$C$2000)))-1)","v":{"$error":"#VALUE!"}},null,{"$f":"INDEX(data_absen!$G$2:$G$2000,SUMPRODUCT((data_absen!$B$2:$B$2000=$A28)*(data_absen!$C$2:$C$2000=BJ$3)*(ROW(data_absen!$C$2:$C$2000)))-1)","v":{"$error":"#VALUE!"}},null,"-",{"$f":"INDEX(data_absen!$H$2:$H$2000,SUMPRODUCT((data_absen!$B$2:$B$2000=$A28)*(data_absen!$C$2:$C$2000=BJ$3)*(ROW(data_absen!$C$2:$C$2000)))-1)","v":{"$error":"#VALUE!"}},null,{"$f":"INDEX(data_absen!$G$2:$G$2000,SUMPRODUCT((data_absen!$B$2:$B$2000=$A28)*(data_absen!$C$2:$C$2000=BO$3)*(ROW(data_absen!$C$2:$C$2000)))-1)","v":{"$error":"#VALUE!"}},null,"-",{"$f":"INDEX(data_absen!$H$2:$H$2000,SUMPRODUCT((data_absen!$B$2:$B$2000=$A28)*(data_absen!$C$2:$C$2000=BO$3)*(ROW(data_absen!$C$2:$C$2000)))-1)","v":{"$error":"#VALUE!"}}]
[110,null,null,"-",null,null,null,null,"-",null,null,null,null,"-",null,null,null,null,"-",null,null,null,null,"-",null,null,null,null,"-",null,null,null,null,"-",null,null,null,null,"-",null,null,null,null,"-",null,null,null,null,"-",null,null,null,null,"-",null,null,null,null,"-",null,null,null,null,"-",null,null,null,null,"-"]
[null,{"$f":"IFERROR(INDEX(data_absen!$K$2:$K$2000,SUMPRODUCT((data_absen!$B$2:$B$2000=$A28)*(data_absen!$C$2:$C$2000=B$3)*(ROW(data_absen!$C$2:$C$2000)))-1)*1440,\"\")","v":64},{"$f":"IFERROR(INDEX(data_absen!$I$2:$I$2000,SUMPRODUCT((data_absen!$B$2:$B$2000=$A28)*(data_absen!$C$2:$C$2000=B$3)*(ROW(data_absen!$C$2:$C$2000)))-1)*1440,\"\")","v":""},null,null,{"$f":"IFERROR(INDEX(data_absen!$J$2:$J$2000,SUMPRODUCT((data_absen!$B$2:$B$2000=$A28)*(data_absen!$C$2:$C$2000=B$3)*(ROW(data_absen!$C$2:$C$2000)))-1)*1440,\"\")","v":""},{"$f":"IFERROR(INDEX(data_absen!$K$2:$K$2000,SUMPRODUCT((data_absen!$B$2:$B$2000=$A28)*(data_absen!$C$2:$C$2000=G$3)*(ROW(data_absen!$C$2:$C$2000)))-1)*1440,\"\")","v":""},{"$f":"IFERROR(INDEX(data_absen!$I$2:$I$2000,SUMPRODUCT((data_absen!$B$2:$B$2000=$A28)*(data_absen!$C$2:$C$2000=G$3)*(ROW(data_absen!$C$2:$C$2000)))-1)*1440,\"\")","v":""},null,null,{"$f":"IFERROR(INDEX(data_absen!$J$2:$J$2000,SUMPRODUCT((data_absen!$B$2:$B$2000=$A28)*(data_absen!$C$2:$C$2000=G$3)*(ROW(data_absen!$C$2:$C$2000)))-1)*1440,\"\")","v":""},{"$f":"IFERROR(INDEX(data_absen!$K$2:$K$2000,SUMPRODUCT((data_absen!$B$2:$B$2000=$A28)*(data_absen!$C$2:$C$2000=L$3)*(ROW(data_absen!$C$2:$C$2000)))-1)*1440,\"\")","v":""},{"$f":"IFERROR(INDEX(data_absen!$I$2:$I$2000,SUMPRODUCT((data_absen!$B$2:$B$2000=$A28)*(data_absen!$C$2:$C$2000=L$3)*(ROW(data_absen!$C$2:$C$2000)))-1)*1440,\"\")","v":""},null,null,{"$f":"IFERROR(INDEX(data_absen!$J$2:$J$2000,SUMPRODUCT((data_absen!$B$2:$B$2000=$A28)*(data_absen!$C$2:$C$2000=L$3)*(ROW(data_absen!$C$2:$C$2000)))-1)*1440,\"\")","v":""},{"$f":"IFERROR(INDEX(data_absen!$K$2:$K$2000,SUMPRODUCT((data_absen!$B$2:$B$2000=$A28)*(data_absen!$C$2:$C$2000=Q$3)*(ROW(data_absen!$C$2:$C$2000)))-1)*1440,\"\")","v":""},{"$f":"IFERROR(INDEX(data_absen!$I$2:$I$2000,SUMPRODUCT((data_absen!$B$2:$B$2000=$A28)*(data_absen!$C$2:$C$2000=Q$3)*(ROW(data_absen!$C$2:$C$2000)))-1)*1440,\"\")","v":""},null,null,{"$f":"IFERROR(INDEX(data_absen!$J$2:$J$2000,SUMPRODUCT((data_absen!$B$2:$B$2000=$A28)*(data_absen!$C$2:$C$2000=Q$3)*(ROW(data_absen!$C$2:$C$2000)))-1)*1440,\"\")","v":""},{"$f":"IFERROR(INDEX(data_absen!$K$2:$K$2000,SUMPRODUCT((data_absen!$B$2:$B$2000=$A28)*(data_absen!$C$2:$C$2000=V$3)*(ROW(data_absen!$C$2:$C$2000)))-1)*1440,\"\")","v":""},{"$f":"IFERROR(INDEX(data_absen!$I$2:$I$2000,SUMPRODUCT((data_absen!$B$2:$B$2000=$A28)*(data_absen!$C$2:$C$2000=V$3)*(ROW(data_absen!$C$2:$C$2000)))-1)*1440,\"\")","v":""},null,null,{"$f":"IFERROR(INDEX(data_absen!$J$2:$J$2000,SUMPRODUCT((data_absen!$B$2:$B$2000=$A28)*(data_absen!$C$2:$C$2000=V$3)*(ROW(data_absen!$C$2:$C$2000)))-1)*1440,\"\")","v":""},{"$f":"IFERROR(INDEX(data_absen!$K$2:$K$2000,SUMPRODUCT((data_absen!$B$2:$B$2000=$A28)*(data_absen!$C$2:$C$2000=AA$3)*(ROW(data_absen!$C$2:$C$2000)))-1)*1440,\"\")","v":""},{"$f":"IFERROR(INDEX(data_absen!$I$2:$I$2000,SUMPRODUCT((data_absen!$B$2:$B$2000=$A28)*(data_absen!$C$2:$C$2000=AA$3)*(ROW(data_absen!$C$2:$C$2000)))-1)*1440,\"\")","v":""},null,null,{"$f":"IFERROR(INDEX(data_absen!$J$2:$J$2000,SUMPRODUCT((data_absen!$B$2:$B$2000=$A28)*(data_absen!$C$2:$C$2000=AA$3)*(ROW(data_absen!$C$2:$C$2000)))-1)*1440,\"\")","v":""},{"$f":"IFERROR(INDEX(data_absen!$K$2:$K$2000,SUMPRODUCT((data_absen!$B$2:$B$2000=$A28)*(data_absen!$C$2:$C$2000=AF$3)*(ROW(data_absen!$C$2:$C$2000)))-1)*1440,\"\")","v":""},{"$f":"IFERROR(INDEX(data_absen!$I$2:$I$2000,SUMPRODUCT((data_absen!$B$2:$B$2000=$A28)*(data_absen!$C$2:$C$2000=AF$3)*(ROW(data_absen!$C$2:$C$2000)))-1)*1440,\"\")","v":""},null,null,{"$f":"IFERROR(INDEX(data_absen!$J$2:$J$2000,SUMPRODUCT((data_absen!$B$2:$B$2000=$A28)*(data_absen!$C$2:$C$2000=AF$3)*(ROW(data_absen!$C$2:$C$2000)))-1)*1440,\"\")","v":""},{"$f":"IFERROR(INDEX(data_absen!$K$2:$K$2000,SUMPRODUCT((data_absen!$B$2:$B$2000=$A28)*(data_absen!$C$2:$C$2000=AK$3)*(ROW(data_absen!$C$2:$C$2000)))-1)*1440,\"\")","v":""},{"$f":"IFERROR(INDEX(data_absen!$I$2:$I$2000,SUMPRODUCT((data_absen!$B$2:$B$2000=$A28)*(data_absen!$C$2:$C$2000=AK$3)*(ROW(data_absen!$C$2:$C$2000)))-1)*1440,\"\")","v":""},null,null,{"$f":"IFERROR(INDEX(data_absen!$J$2:$J$2000,SUMPRODUCT((data_absen!$B$2:$B$2000=$A28)*(data_absen!$C$2:$C$2000=AK$3)*(ROW(data_absen!$C$2:$C$2000)))-1)*1440,\"\")","v":""},{"$f":"IFERROR(INDEX(data_absen!$K$2:$K$2000,SUMPRODUCT((data_absen!$B$2:$B$2000=$A28)*(data_absen!$C$2:$C$2000=AP$3)*(ROW(data_absen!$C$2:$C$2000)))-1)*1440,\"\")","v":""},{"$f":"IFERROR(INDEX(data_absen!$I$2:$I$2000,SUMPRODUCT((data_absen!$B$2:$B$2000=$A28)*(data_absen!$C$2:$C$2000=AP$3)*(ROW(data_absen!$C$2:$C$2000)))-1)*1440,\"\")","v":""},null,null,{"$f":"IFERROR(INDEX(data_absen!$J$2:$J$2000,SUMPRODUCT((data_absen!$B$2:$B$2000=$A28)*(data_absen!$C$2:$C$2000=AP$3)*(ROW(data_absen!$C$2:$C$2000)))-1)*1440,\"\")","v":""},{"$f":"IFERROR(INDEX(data_absen!$K$2:$K$2000,SUMPRODUCT((data_absen!$B$2:$B$2000=$A28)*(data_absen!$C$2:$C$2000=AU$3)*(ROW(data_absen!$C$2:$C$2000)))-1)*1440,\"\")","v":""},{"$f":"IFERROR(INDEX(data_absen!$I$2:$I$2000,SUMPRODUCT((data_absen!$B$2:$B$2000=$A28)*(data_absen!$C$2:$C$2000=AU$3)*(ROW(data_absen!$C$2:$C$2000)))-1)*1440,\"\")","v":""},null,null,{"$f":"IFERROR(INDEX(data_absen!$J$2:$J$2000,SUMPRODUCT((data_absen!$B$2:$B$2000=$A28)*(data_absen!$C$2:$C$2000=AU$3)*(ROW(data_absen!$C$2:$C$2000)))-1)*1440,\"\")","v":""},{"$f":"IFERROR(INDEX(data_absen!$K$2:$K$2000,SUMPRODUCT((data_absen!$B$2:$B$2000=$A28)*(data_absen!$C$2:$C$2000=AZ$3)*(ROW(data_absen!$C$2:$C$2000)))-1)*1440,\"\")","v":""},{"$f":"IFERROR(INDEX(data_absen!$I$2:$I$2000,SUMPRODUCT((data_absen!$B$2:$B$2000=$A28)*(data_absen!$C$2:$C$2000=AZ$3)*(ROW(data_absen!$C$2:$C$2000)))-1)*1440,\"\")","v":""},null,null,{"$f":"IFERROR(INDEX(data_absen!$J$2:$J$2000,SUMPRODUCT((data_absen!$B$2:$B$2000=$A28)*(data_absen!$C$2:$C$2000=AZ$3)*(ROW(data_absen!$C$2:$C$2000)))-1)*1440,\"\")","v":""},{"$f":"IFERROR(INDEX(data_absen!$K$2:$K$2000,SUMPRODUCT((data_absen!$B$2:$B$2000=$A28)*(data_absen!$C$2:$C$2000=BE$3)*(ROW(data_absen!$C$2:$C$2000)))-1)*1440,\"\")","v":""},{"$f":"IFERROR(INDEX(data_absen!$I$2:$I$2000,SUMPRODUCT((data_absen!$B$2:$B$2000=$A28)*(data_absen!$C$2:$C$2000=BE$3)*(ROW(data_absen!$C$2:$C$2000)))-1)*1440,\"\")","v":""},null,null,{"$f":"IFERROR(INDEX(data_absen!$J$2:$J$2000,SUMPRODUCT((data_absen!$B$2:$B$2000=$A28)*(data_absen!$C$2:$C$2000=BE$3)*(ROW(data_absen!$C$2:$C$2000)))-1)*1440,\"\")","v":""},{"$f":"IFERROR(INDEX(data_absen!$K$2:$K$2000,SUMPRODUCT((data_absen!$B$2:$B$2000=$A28)*(data_absen!$C$2:$C$2000=BJ$3)*(ROW(data_absen!$C$2:$C$2000)))-1)*1440,\"\")","v":""},{"$f":"IFERROR(INDEX(data_absen!$I$2:$I$2000,SUMPRODUCT((data_absen!$B$2:$B$2000=$A28)*(data_absen!$C$2:$C$2000=BJ$3)*(ROW(data_absen!$C$2:$C$2000)))-1)*1440,\"\")","v":""},null,null,{"$f":"IFERROR(INDEX(data_absen!$J$2:$J$2000,SUMPRODUCT((data_absen!$B$2:$B$2000=$A28)*(data_absen!$C$2:$C$2000=BJ$3)*(ROW(data_absen!$C$2:$C$2000)))-1)*1440,\"\")","v":""},{"$f":"IFERROR(INDEX(data_absen!$K$2:$K$2000,SUMPRODUCT((data_absen!$B$2:$B$2000=$A28)*(data_absen!$C$2:$C$2000=BO$3)*(ROW(data_absen!$C$2:$C$2000)))-1)*1440,\"\")","v":""},{"$f":"IFERROR(INDEX(data_absen!$I$2:$I$2000,SUMPRODUCT((data_absen!$B$2:$B$2000=$A28)*(data_absen!$C$2:$C$2000=BO$3)*(ROW(data_absen!$C$2:$C$2000)))-1)*1440,\"\")","v":""},null,null,{"$f":"IFERROR(INDEX(data_absen!$J$2:$J$2000,SUMPRODUCT((data_absen!$B$2:$B$2000=$A28)*(data_absen!$C$2:$C$2000=BO$3)*(ROW(data_absen!$C$2:$C$2000)))-1)*1440,\"\")","v":""}]
["Rofiq",{"$f":"INDEX(data_absen!$G$2:$G$2000,SUMPRODUCT((data_absen!$B$2:$B$2000=$A31)*(data_absen!$C$2:$C$2000=B$3)*(ROW(data_absen!$C$2:$C$2000)))-1)","v":"06:59:00"},null,"-",{"$f":"INDEX(data_absen!$H$2:$H$2000,SUMPRODUCT((data_absen!$B$2:$B$2000=$A31)*(data_absen!$C$2:$C$2000=B$3)*(ROW(data_absen!$C$2:$C$2000)))-1)","v":"14:59:00"},null,{"$f":"INDEX(data_absen!$G$2:$G$2000,SUMPRODUCT((data_absen!$B$2:$B$2000=$A31)*(data_absen!$C$2:$C$2000=G$3)*(ROW(data_absen!$C$2:$C$2000)))-1)","v":"06:44:00"},null,"-",{"$f":"INDEX(data_absen!$H$2:$H$2000,SUMPRODUCT((data_absen!$B$2:$B$2000=$A31)*(data_absen!$C$2:$C$2000=G$3)*(ROW(data_absen!$C$2:$C$2000)))-1)","v":"14:52:00"},null,{"$f":"INDEX(data_absen!$G$2:$G$2000,SUMPRODUCT((data_absen!$B$2:$B$2000=$A31)*(data_absen!$C$2:$C$2000=L$3)*(ROW(data_absen!$C$2:$C$2000)))-1)","v":"06:55:00"},null,"-",{"$f":"INDEX(data_absen!$H$2:$H$2000,SUMPRODUCT((data_absen!$B$2:$B$2000=$A31)*(data_absen!$C$2:$C$2000=L$3)*(ROW(data_absen!$C$2:$C$2000)))-1)","v":"15:22:00"},null,{"$f":"INDEX(data_absen!$G$2:$G$2000,SUMPRODUCT((data_absen!$B$2:$B$2000=$A31)*(data_absen!$C$2:$C$2000=Q$3)*(ROW(data_absen!$C$2:$C$2000)))-1)","v":{"$error":"#VALUE!"}},null,"-",{"$f":"INDEX(data_absen!$H$2:$H$2000,SUMPRODUCT((data_absen!$B$2:$B$2000=$A31)*(data_absen!$C$2:$C$2000=Q$3)*(ROW(data_absen!$C$2:$C$2000)))-1)","v":{"$error":"#VALUE!"}},null,{"$f":"INDEX(data_absen!$G$2:$G$2000,SUMPRODUCT((data_absen!$B$2:$B$2000=$A31)*(data_absen!$C$2:$C$2000=V$3)*(ROW(data_absen!$C$2:$C$2000)))-1)","v":{"$error":"#VALUE!"}},null,"-",{"$f":"INDEX(data_absen!$H$2:$H$2000,SUMPRODUCT((data_absen!$B$2:$B$2000=$A31)*(data_absen!$C$2:$C$2000=V$3)*(ROW(data_absen!$C$2:$C$2000)))-1)","v":{"$error":"#VALUE!"}},null,{"$f":"INDEX(data_absen!$G$2:$G$2000,SUMPRODUCT((data_absen!$B$2:$B$2000=$A31)*(data_absen!$C$2:$C$2000=AA$3)*(ROW(data_absen!$C$2:$C$2000)))-1)","v":{"$error":"#VALUE!"}},null,"-",{"$f":"INDEX(data_absen!$H$2:$H$2000,SUMPRODUCT((data_absen!$B$2:$B$2000=$A31)*(data_absen!$C$2:$C$2000=AA$3)*(ROW(data_absen!$C$2:$C$2000)))-1)","v":{"$error":"#VALUE!"}},null,{"$f":"INDEX(data_absen!$G$2:$G$2000,SUMPRODUCT((data_absen!$B$2:$B$2000=$A31)*(data_absen!$C$2:$C$2000=AF$3)*(ROW(data_absen!$C$2:$C$2000)))-1)","v":{"$error":"#VALUE!"}},null,"-",{"$f":"INDEX(data_absen!$H$2:$H$2000,SUMPRODUCT((data_absen!$B$2:$B$2000=$A31)*(data_absen!$C$2:$C$2000=AF$3)*(ROW(data_absen!$C$2:$C$2000)))-1)","v":{"$error":"#VALUE!"}},null,{"$f":"INDEX(data_absen!$G$2:$G$2000,SUMPRODUCT((data_absen!$B$2:$B$2000=$A31)*(data_absen!$C$2:$C$2000=AK$3)*(ROW(data_absen!$C$2:$C$2000)))-1)","v":{"$error":"#VALUE!"}},null,"-",{"$f":"INDEX(data_absen!$H$2:$H$2000,SUMPRODUCT((data_absen!$B$2:$B$2000=$A31)*(data_absen!$C$2:$C$2000=AK$3)*(ROW(data_absen!$C$2:$C$2000)))-1)","v":{"$error":"#VALUE!"}},null,{"$f":"INDEX(data_absen!$G$2:$G$2000,SUMPRODUCT((data_absen!$B$2:$B$2000=$A31)*(data_absen!$C$2:$C$2000=AP$3)*(ROW(data_absen!$C$2:$C$2000)))-1)","v":{"$error":"#VALUE!"}},null,"-",{"$f":"INDEX(data_absen!$H$2:$H$2000,SUMPRODUCT((data_absen!$B$2:$B$2000=$A31)*(data_absen!$C$2:$C$2000=AP$3)*(ROW(data_absen!$C$2:$C$2000)))-1)","v":{"$error":"#VALUE!"}},null,{"$f":"INDEX(data_absen!$G$2:$G$2000,SUMPRODUCT((data_absen!$B$2:$B$2000=$A31)*(data_absen!$C$2:$C$2000=AU$3)*(ROW(data_absen!$C$2:$C$2000)))-1)","v":{"$error":"#VALUE!"}},null,"-",{"$f":"INDEX(data_absen!$H$2:$H$2000,SUMPRODUCT((data_absen!$B$2:$B$2000=$A31)*(data_absen!$C$2:$C$2000=AU$3)*(ROW(data_absen!$C$2:$C$2000)))-1)","v":{"$error":"#VALUE!"}},null,{"$f":"INDEX(data_absen!$G$2:$G$2000,SUMPRODUCT((data_absen!$B$2:$B$2000=$A31)*(data_absen!$C$2:$C$2000=AZ$3)*(ROW(data_absen!$C$2:$C$2000)))-1)","v":{"$error":"#VALUE!"}},null,"-",{"$f":"INDEX(data_absen!$H$2:$H$2000,SUMPRODUCT((data_absen!$B$2:$B$2000=$A31)*(data_absen!$C$2:$C$2000=AZ$3)*(ROW(data_absen!$C$2:$C$2000)))-1)","v":{"$error":"#VALUE!"}},null,{"$f":"INDEX(data_absen!$G$2:$G$2000,SUMPRODUCT((data_absen!$B$2:$B$2000=$A31)*(data_absen!$C$2:$C$2000=BE$3)*(ROW(data_absen!$C$2:$C$2000)))-1)","v":{"$error":"#VALUE!"}},null,"-",{"$f":"INDEX(data_absen!$H$2:$H$2000,SUMPRODUCT((data_absen!$B$2:$B$2000=$A31)*(data_absen!$C$2:$C$2000=BE$3)*(ROW(data_absen!$C$2:$C$2000)))-1)","v":{"$error":"#VALUE!"}},null,{"$f":"INDEX(data_absen!$G$2:$G$2000,SUMPRODUCT((data_absen!$B$2:$B$2000=$A31)*(data_absen!$C$2:$C$2000=BJ$3)*(ROW(data_absen!$C$2:$C$2000)))-1)","v":{"$error":"#VALUE!"}},null,"-",{"$f":"INDEX(data_absen!$H$2:$H$2000,SUMPRODUCT((data_absen!$B$2:$B$2000=$A31)*(data_absen!$C$2:$C$2000=BJ$3)*(ROW(data_absen!$C$2:$C$2000)))-1)","v":{"$error":"#VALUE!"}},null,{"$f":"INDEX(data_absen!$G$2:$G$2000,SUMPRODUCT((data_absen!$B$2:$B$2000=$A31)*(data_absen!$C$2:$C$2000=BO$3)*(ROW(data_absen!$C$2:$C$2000)))-1)","v":{"$error":"#VALUE!"}},null,"-",{"$f":"INDEX(data_absen!$H$2:$H$2000,SUMPRODUCT((data_absen!$B$2:$B$2000=$A31)*(data_absen!$C$2:$C$2000=BO$3)*(ROW(data_absen!$C$2:$C$2000)))-1)","v":{"$error":"#VALUE!"}}]
[111,null,null,"-",null,null,null,null,"-",null,null,null,null,"-",null,null,null,null,"-",null,null,null,null,"-",null,null,null,null,"-",null,null,null,null,"-",null,null,null,null,"-",null,null,null,null,"-",null,null,null,null,"-",null,null,null,null,"-",null,null,null,null,"-",null,null,null,null,"-",null,null,null,null,"-"]
[null,{"$f":"IFERROR(INDEX(data_absen!$K$2:$K$2000,SUMPRODUCT((data_absen!$B$2:$B$2000=$A31)*(data_absen!$C$2:$C$2000=B$3)*(ROW(data_absen!$C$2:$C$2000)))-1)*1440,\"\")","v":""},{"$f":"IFERROR(INDEX(data_absen!$I$2:$I$2000,SUMPRODUCT((data_absen!$B$2:$B$2000=$A31)*(data_absen!$C$2:$C$2000=B$3)*(ROW(data_absen!$C$2:$C$2000)))-1)*1440,\"\")","v":9},null,null,{"$f":"IFERROR(INDEX(data_absen!$J$2:$J$2000,SUMPRODUCT((data_absen!$B$2:$B$2000=$A31)*(data_absen!$C$2:$C$2000=B$3)*(ROW(data_absen!$C$2:$C$2000)))-1)*1440,\"\")","v":""},{"$f":"IFERROR(INDEX(data_absen!$K$2:$K$2000,SUMPRODUCT((data_absen!$B$2:$B$2000=$A31)*(data_absen!$C$2:$C$2000=G$3)*(ROW(data_absen!$C$2:$C$2000)))-1)*1440,\"\")","v":""},{"$f":"IFERROR(INDEX(data_absen!$I$2:$I$2000,SUMPRODUCT((data_absen!$B$2:$B$2000=$A31)*(data_absen!$C$2:$C$2000=G$3)*(ROW(data_absen!$C$2:$C$2000)))-1)*1440,\"\")","v":""},null,null,{"$f":"IFERROR(INDEX(data_absen!$J$2:$J$2000,SUMPRODUCT((data_absen!$B$2:$B$2000=$A31)*(data_absen!$C$2:$C$2000=G$3)*(ROW(data_absen!$C$2:$C$2000)))-1)*1440,\"\")","v":8},{"$f":"IFERROR(INDEX(data_absen!$K$2:$K$2000,SUMPRODUCT((data_absen!$B$2:$B$2000=$A31)*(data_absen!$C$2:$C$2000=L$3)*(ROW(data_absen!$C$2:$C$2000)))-1)*1440,\"\")","v":22},{"$f":"IFERROR(INDEX(data_absen!$I$2:$I$2000,SUMPRODUCT((data_absen!$B$2:$B$2000=$A31)*(data_absen!$C$2:$C$2000=L$3)*(ROW(data_absen!$C$2:$C$2000)))-1)*1440,\"\")","v":5},null,null,{"$f":"IFERROR(INDEX(data_absen!$J$2:$J$2000,SUMPRODUCT((data_absen!$B$2:$B$2000=$A31)*(data_absen!$C$2:$C$2000=L$3)*(ROW(data_absen!$C$2:$C$2000)))-1)*1440,\"\")","v":""},{"$f":"IFERROR(INDEX(data_absen!$K$2:$K$2000,SUMPRODUCT((data_absen!$B$2:$B$2000=$A31)*(data_absen!$C$2:$C$2000=Q$3)*(ROW(data_absen!$C$2:$C$2000)))-1)*1440,\"\")","v":""},{"$f":"IFERROR(INDEX(data_absen!$I$2:$I$2000,SUMPRODUCT((data_absen!$B$2:$B$2000=$A31)*(data_absen!$C$2:$C$2000=Q$3)*(ROW(data_absen!$C$2:$C$2000)))-1)*1440,\"\")","v":""},null,null,{"$f":"IFERROR(INDEX(data_absen!$J$2:$J$2000,SUMPRODUCT((data_absen!$B$2:$B$2000=$A31)*(data_absen!$C$2:$C$2000=Q$3)*(ROW(data_absen!$C$2:$C$2000)))-1)*1440,\"\")","v":""},{"$f":"IFERROR(INDEX(data_absen!$K$2:$K$2000,SUMPRODUCT((data_absen!$B$2:$B$2000=$A31)*(data_absen!$C$2:$C$2000=V$3)*(ROW(data_absen!$C$2:$C$2000)))-1)*1440,\"\")","v":""},{"$f":"IFERROR(INDEX(data_absen!$I$2:$I$2000,SUMPRODUCT((data_absen!$B$2:$B$2000=$A31)*(data_absen!$C$2:$C$2000=V$3)*(ROW(data_absen!$C$2:$C$2000)))-1)*1440,\"\")","v":""},null,null,{"$f":"IFERROR(INDEX(data_absen!$J$2:$J$2000,SUMPRODUCT((data_absen!$B$2:$B$2000=$A31)*(data_absen!$C$2:$C$2000=V$3)*(ROW(data_absen!$C$2:$C$2000)))-1)*1440,\"\")","v":""},{"$f":"IFERROR(INDEX(data_absen!$K$2:$K$2000,SUMPRODUCT((data_absen!$B$2:$B$2000=$A31)*(data_absen!$C$2:$C$2000=AA$3)*(ROW(data_absen!$C$2:$C$2000)))-1)*1440,\"\")","v":""},{"$f":"IFERROR(INDEX(data_absen!$I$2:$I$2000,SUMPRODUCT((data_absen!$B$2:$B$2000=$A31)*(data_absen!$C$2:$C$2000=AA$3)*(ROW(data_absen!$C$2:$C$2000)))-1)*1440,\"\")","v":""},null,null,{"$f":"IFERROR(INDEX(data_absen!$J$2:$J$2000,SUMPRODUCT((data_absen!$B$2:$B$2000=$A31)*(data_absen!$C$2:$C$2000=AA$3)*(ROW(data_absen!$C$2:$C$2000)))-1)*1440,\"\")","v":""},{"$f":"IFERROR(INDEX(data_absen!$K$2:$K$2000,SUMPRODUCT((data_absen!$B$2:$B$2000=$A31)*(data_absen!$C$2:$C$2000=AF$3)*(ROW(data_absen!$C$2:$C$2000)))-1)*1440,\"\")","v":""},{"$f":"IFERROR(INDEX(data_absen!$I$2:$I$2000,SUMPRODUCT((data_absen!$B$2:$B$2000=$A31)*(data_absen!$C$2:$C$2000=AF$3)*(ROW(data_absen!$C$2:$C$2000)))-1)*1440,\"\")","v":""},null,null,{"$f":"IFERROR(INDEX(data_absen!$J$2:$J$2000,SUMPRODUCT((data_absen!$B$2:$B$2000=$A31)*(data_absen!$C$2:$C$2000=AF$3)*(ROW(data_absen!$C$2:$C$2000)))-1)*1440,\"\")","v":""},{"$f":"IFERROR(INDEX(data_absen!$K$2:$K$2000,SUMPRODUCT((data_absen!$B$2:$B$2000=$A31)*(data_absen!$C$2:$C$2000=AK$3)*(ROW(data_absen!$C$2:$C$2000)))-1)*1440,\"\")","v":""},{"$f":"IFERROR(INDEX(data_absen!$I$2:$I$2000,SUMPRODUCT((data_absen!$B$2:$B$2000=$A31)*(data_absen!$C$2:$C$2000=AK$3)*(ROW(data_absen!$C$2:$C$2000)))-1)*1440,\"\")","v":""},null,null,{"$f":"IFERROR(INDEX(data_absen!$J$2:$J$2000,SUMPRODUCT((data_absen!$B$2:$B$2000=$A31)*(data_absen!$C$2:$C$2000=AK$3)*(ROW(data_absen!$C$2:$C$2000)))-1)*1440,\"\")","v":""},{"$f":"IFERROR(INDEX(data_absen!$K$2:$K$2000,SUMPRODUCT((data_absen!$B$2:$B$2000=$A31)*(data_absen!$C$2:$C$2000=AP$3)*(ROW(data_absen!$C$2:$C$2000)))-1)*1440,\"\")","v":""},{"$f":"IFERROR(INDEX(data_absen!$I$2:$I$2000,SUMPRODUCT((data_absen!$B$2:$B$2000=$A31)*(data_absen!$C$2:$C$2000=AP$3)*(ROW(data_absen!$C$2:$C$2000)))-1)*1440,\"\")","v":""},null,null,{"$f":"IFERROR(INDEX(data_absen!$J$2:$J$2000,SUMPRODUCT((data_absen!$B$2:$B$2000=$A31)*(data_absen!$C$2:$C$2000=AP$3)*(ROW(data_absen!$C$2:$C$2000)))-1)*1440,\"\")","v":""},{"$f":"IFERROR(INDEX(data_absen!$K$2:$K$2000,SUMPRODUCT((data_absen!$B$2:$B$2000=$A31)*(data_absen!$C$2:$C$2000=AU$3)*(ROW(data_absen!$C$2:$C$2000)))-1)*1440,\"\")","v":""},{"$f":"IFERROR(INDEX(data_absen!$I$2:$I$2000,SUMPRODUCT((data_absen!$B$2:$B$2000=$A31)*(data_absen!$C$2:$C$2000=AU$3)*(ROW(data_absen!$C$2:$C$2000)))-1)*1440,\"\")","v":""},null,null,{"$f":"IFERROR(INDEX(data_absen!$J$2:$J$2000,SUMPRODUCT((data_absen!$B$2:$B$2000=$A31)*(data_absen!$C$2:$C$2000=AU$3)*(ROW(data_absen!$C$2:$C$2000)))-1)*1440,\"\")","v":""},{"$f":"IFERROR(INDEX(data_absen!$K$2:$K$2000,SUMPRODUCT((data_absen!$B$2:$B$2000=$A31)*(data_absen!$C$2:$C$2000=AZ$3)*(ROW(data_absen!$C$2:$C$2000)))-1)*1440,\"\")","v":""},{"$f":"IFERROR(INDEX(data_absen!$I$2:$I$2000,SUMPRODUCT((data_absen!$B$2:$B$2000=$A31)*(data_absen!$C$2:$C$2000=AZ$3)*(ROW(data_absen!$C$2:$C$2000)))-1)*1440,\"\")","v":""},null,null,{"$f":"IFERROR(INDEX(data_absen!$J$2:$J$2000,SUMPRODUCT((data_absen!$B$2:$B$2000=$A31)*(data_absen!$C$2:$C$2000=AZ$3)*(ROW(data_absen!$C$2:$C$2000)))-1)*1440,\"\")","v":""},{"$f":"IFERROR(INDEX(data_absen!$K$2:$K$2000,SUMPRODUCT((data_absen!$B$2:$B$2000=$A31)*(data_absen!$C$2:$C$2000=BE$3)*(ROW(data_absen!$C$2:$C$2000)))-1)*1440,\"\")","v":""},{"$f":"IFERROR(INDEX(data_absen!$I$2:$I$2000,SUMPRODUCT((data_absen!$B$2:$B$2000=$A31)*(data_absen!$C$2:$C$2000=BE$3)*(ROW(data_absen!$C$2:$C$2000)))-1)*1440,\"\")","v":""},null,null,{"$f":"IFERROR(INDEX(data_absen!$J$2:$J$2000,SUMPRODUCT((data_absen!$B$2:$B$2000=$A31)*(data_absen!$C$2:$C$2000=BE$3)*(ROW(data_absen!$C$2:$C$2000)))-1)*1440,\"\")","v":""},{"$f":"IFERROR(INDEX(data_absen!$K$2:$K$2000,SUMPRODUCT((data_absen!$B$2:$B$2000=$A31)*(data_absen!$C$2:$C$2000=BJ$3)*(ROW(data_absen!$C$2:$C$2000)))-1)*1440,\"\")","v":""},{"$f":"IFERROR(INDEX(data_absen!$I$2:$I$2000,SUMPRODUCT((data_absen!$B$2:$B$2000=$A31)*(data_absen!$C$2:$C$2000=BJ$3)*(ROW(data_absen!$C$2:$C$2000)))-1)*1440,\"\")","v":""},null,null,{"$f":"IFERROR(INDEX(data_absen!$J$2:$J$2000,SUMPRODUCT((data_absen!$B$2:$B$2000=$A31)*(data_absen!$C$2:$C$2000=BJ$3)*(ROW(data_absen!$C$2:$C$2000)))-1)*1440,\"\")","v":""},{"$f":"IFERROR(INDEX(data_absen!$K$2:$K$2000,SUMPRODUCT((data_absen!$B$2:$B$2000=$A31)*(data_absen!$C$2:$C$2000=BO$3)*(ROW(data_absen!$C$2:$C$2000)))-1)*1440,\"\")","v":""},{"$f":"IFERROR(INDEX(data_absen!$I$2:$I$2000,SUMPRODUCT((data_absen!$B$2:$B$2000=$A31)*(data_absen!$C$2:$C$2000=BO$3)*(ROW(data_absen!$C$2:$C$2000)))-1)*1440,\"\")","v":""},null,null,{"$f":"IFERROR(INDEX(data_absen!$J$2:$J$2000,SUMPRODUCT((data_absen!$B$2:$B$2000=$A31)*(data_absen!$C$2:$C$2000=BO$3)*(ROW(data_absen!$C$2:$C$2000)))-1)*1440,\"\")","v":""},{"$f":"COUNTIFS(data_absen!$B$2:$B$2000,$A31,data_absen!$I$2:$I$2000,\">0\")","v":2}]
["Udin",{"$f":"INDEX(data_absen!$G$2:$G$2000,SUMPRODUCT((data_absen!$B$2:$B$2000=$A34)*(data_absen!$C$2:$C$2000=B$3)*(ROW(data_absen!$C$2:$C$2000)))-1)","v":"06:48:00"},null,"-",{"$f":"INDEX(data_absen!$H$2:$H$2000,SUMPRODUCT((data_absen!$B$2:$B$2000=$A34)*(data_absen!$C$2:$C$2000=B$3)*(ROW(data_absen!$C$2:$C$2000)))-1)","v":"16:00:00"},null,{"$f":"INDEX(data_absen!$G$2:$G$2000,SUMPRODUCT((data_absen!$B$2:$B$2000=$A34)*(data_absen!$C$2:$C$2000=G$3)*(ROW(data_absen!$C$2:$C$2000)))-1)","v":"06:46:00"},null,"-",{"$f":"INDEX(data_absen!$H$2:$H$2000,SUMPRODUCT((data_absen!$B$2:$B$2000=$A34)*(data_absen!$C$2:$C$2000=G$3)*(ROW(data_absen!$C$2:$C$2000)))-1)","v":"14:57:00"},null,{"$f":"INDEX(data_absen!$G$2:$G$2000,SUMPRODUCT((data_absen!$B$2:$B$2000=$A34)*(data_absen!$C$2:$C$2000=L$3)*(ROW(data_absen!$C$2:$C$2000)))-1)","v":"06:46:00"},null,"-",{"$f":"INDEX(data_absen!$H$2:$H$2000,SUMPRODUCT((data_absen!$B$2:$B$2000=$A34)*(data_absen!$C$2:$C$2000=L$3)*(ROW(data_absen!$C$2:$C$2000)))-1)","v":"15:00:00"},null,{"$f":"INDEX(data_absen!$G$2:$G$2000,SUMPRODUCT((data_absen!$B$2:$B$2000=$A34)*(data_absen!$C$2:$C$2000=Q$3)*(ROW(data_absen!$C$2:$C$2000)))-1)","v":{"$error":"#VALUE!"}},null,"-",{"$f":"INDEX(data_absen!$H$2:$H$2000,SUMPRODUCT((data_absen!$B$2:$B$2000=$A34)*(data_absen!$C$2:$C$2000=Q$3)*(ROW(data_absen!$C$2:$C$2000)))-1)","v":{"$error":"#VALUE!"}},null,{"$f":"INDEX(data_absen!$G$2:$G$2000,SUMPRODUCT((data_absen!$B$2:$B$2000=$A34)*(data_absen!$C$2:$C$2000=V$3)*(ROW(data_absen!$C$2:$C$2000)))-1)","v":{"$error":"#VALUE!"}},null,"-",{"$f":"INDEX(data_absen!$H$2:$H$2000,SUMPRODUCT((data_absen!$B$2:$B$2000=$A34)*(data_absen!$C$2:$C$2000=V$3)*(ROW(data_absen!$C$2:$C$2000)))-1)","v":{"$error":"#VALUE!"}},null,{"$f":"INDEX(data_absen!$G$2:$G$2000,SUMPRODUCT((data_absen!$B$2:$B$2000=$A34)*(data_absen!$C$2:$C$2000=AA$3)*(ROW(data_absen!$C$2:$C$2000)))-1)","v":{"$error":"#VALUE!"}},null,"-",{"$f":"INDEX(data_absen!$H$2:$H$2000,SUMPRODUCT((data_absen!$B$2:$B$2000=$A34)*(data_absen!$C$2:$C$2000=AA$3)*(ROW(data_absen!$C$2:$C$2000)))-1)","v":{"$error":"#VALUE!"}},null,{"$f":"INDEX(data_absen!$G$2:$G$2000,SUMPRODUCT((data_absen!$B$2:$B$2000=$A34)*(data_absen!$C$2:$C$2000=AF$3)*(ROW(data_absen!$C$2:$C$2000)))-1)","v":{"$error":"#VALUE!"}},null,"-",{"$f":"INDEX(data_absen!$H$2:$H$2000,SUMPRODUCT((data_absen!$B$2:$B$2000=$A34)*(data_absen!$C$2:$C$2000=AF$3)*(ROW(data_absen!$C$2:$C$2000)))-1)","v":{"$error":"#VALUE!"}},null,{"$f":"INDEX(data_absen!$G$2:$G$2000,SUMPRODUCT((data_absen!$B$2:$B$2000=$A34)*(data_absen!$C$2:$C$2000=AK$3)*(ROW(data_absen!$C$2:$C$2000)))-1)","v":{"$error":"#VALUE!"}},null,"-",{"$f":"INDEX(data_absen!$H$2:$H$2000,SUMPRODUCT((data_absen!$B$2:$B$2000=$A34)*(data_absen!$C$2:$C$2000=AK$3)*(ROW(data_absen!$C$2:$C$2000)))-1)","v":{"$error":"#VALUE!"}},null,{"$f":"INDEX(data_absen!$G$2:$G$2000,SUMPRODUCT((data_absen!$B$2:$B$2000=$A34)*(data_absen!$C$2:$C$2000=AP$3)*(ROW(data_absen!$C$2:$C$2000)))-1)","v":{"$error":"#VALUE!"}},null,"-",{"$f":"INDEX(data_absen!$H$2:$H$2000,SUMPRODUCT((data_absen!$B$2:$B$2000=$A34)*(data_absen!$C$2:$C$2000=AP$3)*(ROW(data_absen!$C$2:$C$2000)))-1)","v":{"$error":"#VALUE!"}},null,{"$f":"INDEX(data_absen!$G$2:$G$2000,SUMPRODUCT((data_absen!$B$2:$B$2000=$A34)*(data_absen!$C$2:$C$2000=AU$3)*(ROW(data_absen!$C$2:$C$2000)))-1)","v":{"$error":"#VALUE!"}},null,"-",{"$f":"INDEX(data_absen!$H$2:$H$2000,SUMPRODUCT((data_absen!$B$2:$B$2000=$A34)*(data_absen!$C$2:$C$2000=AU$3)*(ROW(data_absen!$C$2:$C$2000)))-1)","v":{"$error":"#VALUE!"}},null,{"$f":"INDEX(data_absen!$G$2:$G$2000,SUMPRODUCT((data_absen!$B$2:$B$2000=$A34)*(data_absen!$C$2:$C$2000=AZ$3)*(ROW(data_absen!$C$2:$C$2000)))-1)","v":{"$error":"#VALUE!"}},null,"-",{"$f":"INDEX(data_absen!$H$2:$H$2000,SUMPRODUCT((data_absen!$B$2:$B$2000=$A34)*(data_absen!$C$2:$C$2000=AZ$3)*(ROW(data_absen!$C$2:$C$2000)))-1)","v":{"$error":"#VALUE!"}},null,{"$f":"INDEX(data_absen!$G$2:$G$2000,SUMPRODUCT((data_absen!$B$2:$B$2000=$A34)*(data_absen!$C$2:$C$2000=BE$3)*(ROW(data_absen!$C$2:$C$2000)))-1)","v":{"$error":"#VALUE!"}},null,"-",{"$f":"INDEX(data_absen!$H$2:$H$2000,SUMPRODUCT((data_absen!$B$2:$B$2000=$A34)*(data_absen!$C$2:$C$2000=BE$3)*(ROW(data_absen!$C$2:$C$2000)))-1)","v":{"$error":"#VALUE!"}},null,{"$f":"INDEX(data_absen!$G$2:$G$2000,SUMPRODUCT((data_absen!$B$2:$B$2000=$A34)*(data_absen!$C$2:$C$2000=BJ$3)*(ROW(data_absen!$C$2:$C$2000)))-1)","v":{"$error":"#VALUE!"}},null,"-",{"$f":"INDEX(data_absen!$H$2:$H$2000,SUMPRODUCT((data_absen!$B$2:$B$2000=$A34)*(data_absen!$C$2:$C$2000=BJ$3)*(ROW(data_absen!$C$2:$C$2000)))-1)","v":{"$error":"#VALUE!"}},null,{"$f":"INDEX(data_absen!$G$2:$G$2000,SUMPRODUCT((data_absen!$B$2:$B$2000=$A34)*(data_absen!$C$2:$C$2000=BO$3)*(ROW(data_absen!$C$2:$C$2000)))-1)","v":{"$error":"#VALUE!"}},null,"-",{"$f":"INDEX(data_absen!$H$2:$H$2000,SUMPRODUCT((data_absen!$B$2:$B$2000=$A34)*(data_absen!$C$2:$C$2000=BO$3)*(ROW(data_absen!$C$2:$C$2000)))-1)","v":{"$error":"#VALUE!"}}]
[112,null,null,"-",null,null,null,null,"-",null,null,null,null,"-",null,null,null,null,"-",null,null,null,null,"-",null,null,null,null,"-",null,null,null,null,"-",null,null,null,null,"-",null,null,null,null,"-",null,null,null,null,"-",null,null,null,null,"-",null,null,null,null,"-",null,null,null,null,"-",null,null,null,null,"-"]
[null,{"$f":"IFERROR(INDEX(data_absen!$K$2:$K$2000,SUMPRODUCT((data_absen!$B$2:$B$2000=$A34)*(data_absen!$C$2:$C$2000=B$3)*(ROW(data_absen!$C$2:$C$2000)))-1)*1440,\"\")","v":60},{"$f":"IFERROR(INDEX(data_absen!$I$2:$I$2000,SUMPRODUCT((data_absen!$B$2:$B$2000=$A34)*(data_absen!$C$2:$C$2000=B$3)*(ROW(data_absen!$C$2:$C$2000)))-1)*1440,\"\")","v":""},null,null,{"$f":"IFERROR(INDEX(data_absen!$J$2:$J$2000,SUMPRODUCT((data_absen!$B$2:$B$2000=$A34)*(data_absen!$C$2:$C$2000=B$3)*(ROW(data_absen!$C$2:$C$2000)))-1)*1440,\"\")","v":""},{"$f":"IFERROR(INDEX(data_absen!$K$2:$K$2000,SUMPRODUCT((data_absen!$B$2:$B$2000=$A34)*(data_absen!$C$2:$C$2000=G$3)*(ROW(data_absen!$C$2:$C$2000)))-1)*1440,\"\")","v":""},{"$f":"IFERROR(INDEX(data_absen!$I$2:$I$2000,SUMPRODUCT((data_absen!$B$2:$B$2000=$A34)*(data_absen!$C$2:$C$2000=G$3)*(ROW(data_absen!$C$2:$C$2000)))-1)*1440,\"\")","v":""},null,null,{"$f":"IFERROR(INDEX(data_absen!$J$2:$J$2000,SUMPRODUCT((data_absen!$B$2:$B$2000=$A34)*(data_absen!$C$2:$C$2000=G$3)*(ROW(data_absen!$C$2:$C$2000)))-1)*1440,\"\")","v":""},{"$f":"IFERROR(INDEX(data_absen!$K$2:$K$2000,SUMPRODUCT((data_absen!$B$2:$B$2000=$A34)*(data_absen!$C$2:$C$2000=L$3)*(ROW(data_absen!$C$2:$C$2000)))-1)*1440,\"\")","v":0},{"$f":"IFERROR(INDEX(data_absen!$I$2:$I$2000,SUMPRODUCT((data_absen!$B$2:$B$2000=$A34)*(data_absen!$C$2:$C$2000=L$3)*(ROW(data_absen!$C$2:$C$2000)))-1)*1440,\"\")","v":""},null,null,{"$f":"IFERROR(INDEX(data_absen!$J$2:$J$2000,SUMPRODUCT((data_absen!$B$2:$B$2000=$A34)*(data_absen!$C$2:$C$2000=L$3)*(ROW(data_absen!$C$2:$C$2000)))-1)*1440,\"\")","v":""},{"$f":"IFERROR(INDEX(data_absen!$K$2:$K$2000,SUMPRODUCT((data_absen!$B$2:$B$2000=$A34)*(data_absen!$C$2:$C$2000=Q$3)*(ROW(data_absen!$C$2:$C$2000)))-1)*1440,\"\")","v":""},{"$f":"IFERROR(INDEX(data_absen!$I$2:$I$2000,SUMPRODUCT((data_absen!$B$2:$B$2000=$A34)*(data_absen!$C$2:$C$2000=Q$3)*(ROW(data_absen!$C$2:$C$2000)))-1)*1440,\"\")","v":""},null,null,{"$f":"IFERROR(INDEX(data_absen!$J$2:$J$2000,SUMPRODUCT((data_absen!$B$2:$B$2000=$A34)*(data_absen!$C$2:$C$2000=Q$3)*(ROW(data_absen!$C$2:$C$2000)))-1)*1440,\"\")","v":""},{"$f":"IFERROR(INDEX(data_absen!$K$2:$K$2000,SUMPRODUCT((data_absen!$B$2:$B$2000=$A34)*(data_absen!$C$2:$C$2000=V$3)*(ROW(data_absen!$C$2:$C$2000)))-1)*1440,\"\")","v":""},{"$f":"IFERROR(INDEX(data_absen!$I$2:$I$2000,SUMPRODUCT((data_absen!$B$2:$B$2000=$A34)*(data_absen!$C$2:$C$2000=V$3)*(ROW(data_absen!$C$2:$C$2000)))-1)*1440,\"\")","v":""},null,null,{"$f":"IFERROR(INDEX(data_absen!$J$2:$J$2000,SUMPRODUCT((data_absen!$B$2:$B$2000=$A34)*(data_absen!$C$2:$C$2000=V$3)*(ROW(data_absen!$C$2:$C$2000)))-1)*1440,\"\")","v":""},{"$f":"IFERROR(INDEX(data_absen!$K$2:$K$2000,SUMPRODUCT((data_absen!$B$2:$B$2000=$A34)*(data_absen!$C$2:$C$2000=AA$3)*(ROW(data_absen!$C$2:$C$2000)))-1)*1440,\"\")","v":""},{"$f":"IFERROR(INDEX(data_absen!$I$2:$I$2000,SUMPRODUCT((data_absen!$B$2:$B$2000=$A34)*(data_absen!$C$2:$C$2000=AA$3)*(ROW(data_absen!$C$2:$C$2000)))-1)*1440,\"\")","v":""},null,null,{"$f":"IFERROR(INDEX(data_absen!$J$2:$J$2000,SUMPRODUCT((data_absen!$B$2:$B$2000=$A34)*(data_absen!$C$2:$C$2000=AA$3)*(ROW(data_absen!$C$2:$C$2000)))-1)*1440,\"\")","v":""},{"$f":"IFERROR(INDEX(data_absen!$K$2:$K$2000,SUMPRODUCT((data_absen!$B$2:$B$2000=$A34)*(data_absen!$C$2:$C$2000=AF$3)*(ROW(data_absen!$C$2:$C$2000)))-1)*1440,\"\")","v":""},{"$f":"IFERROR(INDEX(data_absen!$I$2:$I$2000,SUMPRODUCT((data_absen!$B$2:$B$2000=$A34)*(data_absen!$C$2:$C$2000=AF$3)*(ROW(data_absen!$C$2:$C$2000)))-1)*1440,\"\")","v":""},null,null,{"$f":"IFERROR(INDEX(data_absen!$J$2:$J$2000,SUMPRODUCT((data_absen!$B$2:$B$2000=$A34)*(data_absen!$C$2:$C$2000=AF$3)*(ROW(data_absen!$C$2:$C$2000)))-1)*1440,\"\")","v":""},{"$f":"IFERROR(INDEX(data_absen!$K$2:$K$2000,SUMPRODUCT((data_absen!$B$2:$B$2000=$A34)*(data_absen!$C$2:$C$2000=AK$3)*(ROW(data_absen!$C$2:$C$2000)))-1)*1440,\"\")","v":""},{"$f":"IFERROR(INDEX(data_absen!$I$2:$I$2000,SUMPRODUCT((data_absen!$B$2:$B$2000=$A34)*(data_absen!$C$2:$C$2000=AK$3)*(ROW(data_absen!$C$2:$C$2000)))-1)*1440,\"\")","v":""},null,null,{"$f":"IFERROR(INDEX(data_absen!$J$2:$J$2000,SUMPRODUCT((data_absen!$B$2:$B$2000=$A34)*(data_absen!$C$2:$C$2000=AK$3)*(ROW(data_absen!$C$2:$C$2000)))-1)*1440,\"\")","v":""},{"$f":"IFERROR(INDEX(data_absen!$K$2:$K$2000,SUMPRODUCT((data_absen!$B$2:$B$2000=$A34)*(data_absen!$C$2:$C$2000=AP$3)*(ROW(data_absen!$C$2:$C$2000)))-1)*1440,\"\")","v":""},{"$f":"IFERROR(INDEX(data_absen!$I$2:$I$2000,SUMPRODUCT((data_absen!$B$2:$B$2000=$A34)*(data_absen!$C$2:$C$2000=AP$3)*(ROW(data_absen!$C$2:$C$2000)))-1)*1440,\"\")","v":""},null,null,{"$f":"IFERROR(INDEX(data_absen!$J$2:$J$2000,SUMPRODUCT((data_absen!$B$2:$B$2000=$A34)*(data_absen!$C$2:$C$2000=AP$3)*(ROW(data_absen!$C$2:$C$2000)))-1)*1440,\"\")","v":""},{"$f":"IFERROR(INDEX(data_absen!$K$2:$K$2000,SUMPRODUCT((data_absen!$B$2:$B$2000=$A34)*(data_absen!$C$2:$C$2000=AU$3)*(ROW(data_absen!$C$2:$C$2000)))-1)*1440,\"\")","v":""},{"$f":"IFERROR(INDEX(data_absen!$I$2:$I$2000,SUMPRODUCT((data_absen!$B$2:$B$2000=$A34)*(data_absen!$C$2:$C$2000=AU$3)*(ROW(data_absen!$C$2:$C$2000)))-1)*1440,\"\")","v":""},null,null,{"$f":"IFERROR(INDEX(data_absen!$J$2:$J$2000,SUMPRODUCT((data_absen!$B$2:$B$2000=$A34)*(data_absen!$C$2:$C$2000=AU$3)*(ROW(data_absen!$C$2:$C$2000)))-1)*1440,\"\")","v":""},{"$f":"IFERROR(INDEX(data_absen!$K$2:$K$2000,SUMPRODUCT((data_absen!$B$2:$B$2000=$A34)*(data_absen!$C$2:$C$2000=AZ$3)*(ROW(data_absen!$C$2:$C$2000)))-1)*1440,\"\")","v":""},{"$f":"IFERROR(INDEX(data_absen!$I$2:$I$2000,SUMPRODUCT((data_absen!$B$2:$B$2000=$A34)*(data_absen!$C$2:$C$2000=AZ$3)*(ROW(data_absen!$C$2:$C$2000)))-1)*1440,\"\")","v":""},null,null,{"$f":"IFERROR(INDEX(data_absen!$J$2:$J$2000,SUMPRODUCT((data_absen!$B$2:$B$2000=$A34)*(data_absen!$C$2:$C$2000=AZ$3)*(ROW(data_absen!$C$2:$C$2000)))-1)*1440,\"\")","v":""},{"$f":"IFERROR(INDEX(data_absen!$K$2:$K$2000,SUMPRODUCT((data_absen!$B$2:$B$2000=$A34)*(data_absen!$C$2:$C$2000=BE$3)*(ROW(data_absen!$C$2:$C$2000)))-1)*1440,\"\")","v":""},{"$f":"IFERROR(INDEX(data_absen!$I$2:$I$2000,SUMPRODUCT((data_absen!$B$2:$B$2000=$A34)*(data_absen!$C$2:$C$2000=BE$3)*(ROW(data_absen!$C$2:$C$2000)))-1)*1440,\"\")","v":""},null,null,{"$f":"IFERROR(INDEX(data_absen!$J$2:$J$2000,SUMPRODUCT((data_absen!$B$2:$B$2000=$A34)*(data_absen!$C$2:$C$2000=BE$3)*(ROW(data_absen!$C$2:$C$2000)))-1)*1440,\"\")","v":""},{"$f":"IFERROR(INDEX(data_absen!$K$2:$K$2000,SUMPRODUCT((data_absen!$B$2:$B$2000=$A34)*(data_absen!$C$2:$C$2000=BJ$3)*(ROW(data_absen!$C$2:$C$2000)))-1)*1440,\"\")","v":""},{"$f":"IFERROR(INDEX(data_absen!$I$2:$I$2000,SUMPRODUCT((data_absen!$B$2:$B$2000=$A34)*(data_absen!$C$2:$C$2000=BJ$3)*(ROW(data_absen!$C$2:$C$2000)))-1)*1440,\"\")","v":""},null,null,{"$f":"IFERROR(INDEX(data_absen!$J$2:$J$2000,SUMPRODUCT((data_absen!$B$2:$B$2000=$A34)*(data_absen!$C$2:$C$2000=BJ$3)*(ROW(data_absen!$C$2:$C$2000)))-1)*1440,\"\")","v":""},{"$f":"IFERROR(INDEX(data_absen!$K$2:$K$2000,SUMPRODUCT((data_absen!$B$2:$B$2000=$A34)*(data_absen!$C$2:$C$2000=BO$3)*(ROW(data_absen!$C$2:$C$2000)))-1)*1440,\"\")","v":""},{"$f":"IFERROR(INDEX(data_absen!$I$2:$I$2000,SUMPRODUCT((data_absen!$B$2:$B$2000=$A34)*(data_absen!$C$2:$C$2000=BO$3)*(ROW(data_absen!$C$2:$C$2000)))-1)*1440,\"\")","v":""},null,null,{"$f":"IFERROR(INDEX(data_absen!$J$2:$J$2000,SUMPRODUCT((data_absen!$B$2:$B$2000=$A34)*(data_absen!$C$2:$C$2000=BO$3)*(ROW(data_absen!$C$2:$C$2000)))-1)*1440,\"\")","v":""},{"$f":"COUNTIFS(data_absen!$B$2:$B$2000,$A34,data_absen!$I$2:$I$2000,\">0\")","v":0}]
["Nurullah",{"$f":"INDEX(data_absen!$G$2:$G$2000,SUMPRODUCT((data_absen!$B$2:$B$2000=$A37)*(data_absen!$C$2:$C$2000=B$3)*(ROW(data_absen!$C$2:$C$2000)))-1)","v":"06:49:00"},null,"-",{"$f":"INDEX(data_absen!$H$2:$H$2000,SUMPRODUCT((data_absen!$B$2:$B$2000=$A37)*(data_absen!$C$2:$C$2000=B$3)*(ROW(data_absen!$C$2:$C$2000)))-1)","v":"16:00:00"},null,{"$f":"INDEX(data_absen!$G$2:$G$2000,SUMPRODUCT((data_absen!$B$2:$B$2000=$A37)*(data_absen!$C$2:$C$2000=G$3)*(ROW(data_absen!$C$2:$C$2000)))-1)","v":"06:46:00"},null,"-",{"$f":"INDEX(data_absen!$H$2:$H$2000,SUMPRODUCT((data_absen!$B$2:$B$2000=$A37)*(data_absen!$C$2:$C$2000=G$3)*(ROW(data_absen!$C$2:$C$2000)))-1)","v":"14:58:00"},null,{"$f":"INDEX(data_absen!$G$2:$G$2000,SUMPRODUCT((data_absen!$B$2:$B$2000=$A37)*(data_absen!$C$2:$C$2000=L$3)*(ROW(data_absen!$C$2:$C$2000)))-1)","v":"06:46:00"},null,"-",{"$f":"INDEX(data_absen!$H$2:$H$2000,SUMPRODUCT((data_absen!$B$2:$B$2000=$A37)*(data_absen!$C$2:$C$2000=L$3)*(ROW(data_absen!$C$2:$C$2000)))-1)","v":"15:00:00"},null,{"$f":"INDEX(data_absen!$G$2:$G$2000,SUMPRODUCT((data_absen!$B$2:$B$2000=$A37)*(data_absen!$C$2:$C$2000=Q$3)*(ROW(data_absen!$C$2:$C$2000)))-1)","v":{"$error":"#VALUE!"}},null,"-",{"$f":"INDEX(data_absen!$H$2:$H$2000,SUMPRODUCT((data_absen!$B$2:$B$2000=$A37)*(data_absen!$C$2:$C$2000=Q$3)*(ROW(data_absen!$C$2:$C$2000)))-1)","v":{"$error":"#VALUE!"}},null,{"$f":"INDEX(data_absen!$G$2:$G$2000,SUMPRODUCT((data_absen!$B$2:$B$2000=$A37)*(data_absen!$C$2:$C$2000=V$3)*(ROW(data_absen!$C$2:$C$2000)))-1)","v":{"$error":"#VALUE!"}},null,"-",{"$f":"INDEX(data_absen!$H$2:$H$2000,SUMPRODUCT((data_absen!$B$2:$B$2000=$A37)*(data_absen!$C$2:$C$2000=V$3)*(ROW(data_absen!$C$2:$C$2000)))-1)","v":{"$error":"#VALUE!"}},null,{"$f":"INDEX(data_absen!$G$2:$G$2000,SUMPRODUCT((data_absen!$B$2:$B$2000=$A37)*(data_absen!$C$2:$C$2000=AA$3)*(ROW(data_absen!$C$2:$C$2000)))-1)","v":{"$error":"#VALUE!"}},null,"-",{"$f":"INDEX(data_absen!$H$2:$H$2000,SUMPRODUCT((data_absen!$B$2:$B$2000=$A37)*(data_absen!$C$2:$C$2000=AA$3)*(ROW(data_absen!$C$2:$C$2000)))-1)","v":{"$error":"#VALUE!"}},null,{"$f":"INDEX(data_absen!$G$2:$G$2000,SUMPRODUCT((data_absen!$B$2:$B$2000=$A37)*(data_absen!$C$2:$C$2000=AF$3)*(ROW(data_absen!$C$2:$C$2000)))-1)","v":{"$error":"#VALUE!"}},null,"-",{"$f":"INDEX(data_absen!$H$2:$H$2000,SUMPRODUCT((data_absen!$B$2:$B$2000=$A37)*(data_absen!$C$2:$C$2000=AF$3)*(ROW(data_absen!$C$2:$C$2000)))-1)","v":{"$error":"#VALUE!"}},null,{"$f":"INDEX(data_absen!$G$2:$G$2000,SUMPRODUCT((data_absen!$B$2:$B$2000=$A37)*(data_absen!$C$2:$C$2000=AK$3)*(ROW(data_absen!$C$2:$C$2000)))-1)","v":{"$error":"#VALUE!"}},null,"-",{"$f":"INDEX(data_absen!$H$2:$H$2000,SUMPRODUCT((data_absen!$B$2:$B$2000=$A37)*(data_absen!$C$2:$C$2000=AK$3)*(ROW(data_absen!$C$2:$C$2000)))-1)","v":{"$error":"#VALUE!"}},null,{"$f":"INDEX(data_absen!$G$2:$G$2000,SUMPRODUCT((data_absen!$B$2:$B$2000=$A37)*(data_absen!$C$2:$C$2000=AP$3)*(ROW(data_absen!$C$2:$C$2000)))-1)","v":{"$error":"#VALUE!"}},null,"-",{"$f":"INDEX(data_absen!$H$2:$H$2000,SUMPRODUCT((data_absen!$B$2:$B$2000=$A37)*(data_absen!$C$2:$C$2000=AP$3)*(ROW(data_absen!$C$2:$C$2000)))-1)","v":{"$error":"#VALUE!"}},null,{"$f":"INDEX(data_absen!$G$2:$G$2000,SUMPRODUCT((data_absen!$B$2:$B$2000=$A37)*(data_absen!$C$2:$C$2000=AU$3)*(ROW(data_absen!$C$2:$C$2000)))-1)","v":{"$error":"#VALUE!"}},null,"-",{"$f":"INDEX(data_absen!$H$2:$H$2000,SUMPRODUCT((data_absen!$B$2:$B$2000=$A37)*(data_absen!$C$2:$C$2000=AU$3)*(ROW(data_absen!$C$2:$C$2000)))-1)","v":{"$error":"#VALUE!"}},null,{"$f":"INDEX(data_absen!$G$2:$G$2000,SUMPRODUCT((data_absen!$B$2:$B$2000=$A37)*(data_absen!$C$2:$C$2000=AZ$3)*(ROW(data_absen!$C$2:$C$2000)))-1)","v":{"$error":"#VALUE!"}},null,"-",{"$f":"INDEX(data_absen!$H$2:$H$2000,SUMPRODUCT((data_absen!$B$2:$B$2000=$A37)*(data_absen!$C$2:$C$2000=AZ$3)*(ROW(data_absen!$C$2:$C$2000)))-1)","v":{"$error":"#VALUE!"}},null,{"$f":"INDEX(data_absen!$G$2:$G$2000,SUMPRODUCT((data_absen!$B$2:$B$2000=$A37)*(data_absen!$C$2:$C$2000=BE$3)*(ROW(data_absen!$C$2:$C$2000)))-1)","v":{"$error":"#VALUE!"}},null,"-",{"$f":"INDEX(data_absen!$H$2:$H$2000,SUMPRODUCT((data_absen!$B$2:$B$2000=$A37)*(data_absen!$C$2:$C$2000=BE$3)*(ROW(data_absen!$C$2:$C$2000)))-1)","v":{"$error":"#VALUE!"}},null,{"$f":"INDEX(data_absen!$G$2:$G$2000,SUMPRODUCT((data_absen!$B$2:$B$2000=$A37)*(data_absen!$C$2:$C$2000=BJ$3)*(ROW(data_absen!$C$2:$C$2000)))-1)","v":{"$error":"#VALUE!"}},null,"-",{"$f":"INDEX(data_absen!$H$2:$H$2000,SUMPRODUCT((data_absen!$B$2:$B$2000=$A37)*(data_absen!$C$2:$C$2000=BJ$3)*(ROW(data_absen!$C$2:$C$2000)))-1)","v":{"$error":"#VALUE!"}},null,{"$f":"INDEX(data_absen!$G$2:$G$2000,SUMPRODUCT((data_absen!$B$2:$B$2000=$A37)*(data_absen!$C$2:$C$2000=BO$3)*(ROW(data_absen!$C$2:$C$2000)))-1)","v":{"$error":"#VALUE!"}},null,"-",{"$f":"INDEX(data_absen!$H$2:$H$2000,SUMPRODUCT((data_absen!$B$2:$B$2000=$A37)*(data_absen!$C$2:$C$2000=BO$3)*(ROW(data_absen!$C$2:$C$2000)))-1)","v":{"$error":"#VALUE!"}}]
[113,null,null,"-",null,null,null,null,"-",null,null,null,null,"-",null,null,null,null,"-",null,null,null,null,"-",null,null,null,null,"-",null,null,null,null,"-",null,null,null,null,"-",null,null,null,null,"-",null,null,null,null,"-",null,null,null,null,"-",null,null,null,null,"-",null,null,null,null,"-",null,null,null,null,"-"]
[null,{"$f":"IFERROR(INDEX(data_absen!$K$2:$K$2000,SUMPRODUCT((data_absen!$B$2:$B$2000=$A37)*(data_absen!$C$2:$C$2000=B$3)*(ROW(data_absen!$C$2:$C$2000)))-1)*1440,\"\")","v":60},{"$f":"IFERROR(INDEX(data_absen!$I$2:$I$2000,SUMPRODUCT((data_absen!$B$2:$B$2000=$A37)*(data_absen!$C$2:$C$2000=B$3)*(ROW(data_absen!$C$2:$C$2000)))-1)*1440,\"\")","v":""},null,null,{"$f":"IFERROR(INDEX(data_absen!$J$2:$J$2000,SUMPRODUCT((data_absen!$B$2:$B$2000=$A37)*(data_absen!$C$2:$C$2000=B$3)*(ROW(data_absen!$C$2:$C$2000)))-1)*1440,\"\")","v":""},{"$f":"IFERROR(INDEX(data_absen!$K$2:$K$2000,SUMPRODUCT((data_absen!$B$2:$B$2000=$A37)*(data_absen!$C$2:$C$2000=G$3)*(ROW(data_absen!$C$2:$C$2000)))-1)*1440,\"\")","v":""},{"$f":"IFERROR(INDEX(data_absen!$I$2:$I$2000,SUMPRODUCT((data_absen!$B$2:$B$2000=$A37)*(data_absen!$C$2:$C$2000=G$3)*(ROW(data_absen!$C$2:$C$2000)))-1)*1440,\"\")","v":""},null,null,{"$f":"IFERROR(INDEX(data_absen!$J$2:$J$2000,SUMPRODUCT((data_absen!$B$2:$B$2000=$A37)*(data_absen!$C$2:$C$2000=G$3)*(ROW(data_absen!$C$2:$C$2000)))-1)*1440,\"\")","v":""},{"$f":"IFERROR(INDEX(data_absen!$K$2:$K$2000,SUMPRODUCT((data_absen!$B$2:$B$2000=$A37)*(data_absen!$C$2:$C$2000=L$3)*(ROW(data_absen!$C$2:$C$2000)))-1)*1440,\"\")","v":0},{"$f":"IFERROR(INDEX(data_absen!$I$2:$I$2000,SUMPRODUCT((data_absen!$B$2:$B$2000=$A37)*(data_absen!$C$2:$C$2000=L$3)*(ROW(data_absen!$C$2:$C$2000)))-1)*1440,\"\")","v":""},null,null,{"$f":"IFERROR(INDEX(data_absen!$J$2:$J$2000,SUMPRODUCT((data_absen!$B$2:$B$2000=$A37)*(data_absen!$C$2:$C$2000=L$3)*(ROW(data_absen!$C$2:$C$2000)))-1)*1440,\"\")","v":""},{"$f":"IFERROR(INDEX(data_absen!$K$2:$K$2000,SUMPRODUCT((data_absen!$B$2:$B$2000=$A37)*(data_absen!$C$2:$C$2000=Q$3)*(ROW(data_absen!$C$2:$C$2000)))-1)*1440,\"\")","v":""},{"$f":"IFERROR(INDEX(data_absen!$I$2:$I$2000,SUMPRODUCT((data_absen!$B$2:$B$2000=$A37)*(data_absen!$C$2:$C$2000=Q$3)*(ROW(data_absen!$C$2:$C$2000)))-1)*1440,\"\")","v":""},null,null,{"$f":"IFERROR(INDEX(data_absen!$J$2:$J$2000,SUMPRODUCT((data_absen!$B$2:$B$2000=$A37)*(data_absen!$C$2:$C$2000=Q$3)*(ROW(data_absen!$C$2:$C$2000)))-1)*1440,\"\")","v":""},{"$f":"IFERROR(INDEX(data_absen!$K$2:$K$2000,SUMPRODUCT((data_absen!$B$2:$B$2000=$A37)*(data_absen!$C$2:$C$2000=V$3)*(ROW(data_absen!$C$2:$C$2000)))-1)*1440,\"\")","v":""},{"$f":"IFERROR(INDEX(data_absen!$I$2:$I$2000,SUMPRODUCT((data_absen!$B$2:$B$2000=$A37)*(data_absen!$C$2:$C$2000=V$3)*(ROW(data_absen!$C$2:$C$2000)))-1)*1440,\"\")","v":""},null,null,{"$f":"IFERROR(INDEX(data_absen!$J$2:$J$2000,SUMPRODUCT((data_absen!$B$2:$B$2000=$A37)*(data_absen!$C$2:$C$2000=V$3)*(ROW(data_absen!$C$2:$C$2000)))-1)*1440,\"\")","v":""},{"$f":"IFERROR(INDEX(data_absen!$K$2:$K$2000,SUMPRODUCT((data_absen!$B$2:$B$2000=$A37)*(data_absen!$C$2:$C$2000=AA$3)*(ROW(data_absen!$C$2:$C$2000)))-1)*1440,\"\")","v":""},{"$f":"IFERROR(INDEX(data_absen!$I$2:$I$2000,SUMPRODUCT((data_absen!$B$2:$B$2000=$A37)*(data_absen!$C$2:$C$2000=AA$3)*(ROW(data_absen!$C$2:$C$2000)))-1)*1440,\"\")","v":""},null,null,{"$f":"IFERROR(INDEX(data_absen!$J$2:$J$2000,SUMPRODUCT((data_absen!$B$2:$B$2000=$A37)*(data_absen!$C$2:$C$2000=AA$3)*(ROW(data_absen!$C$2:$C$2000)))-1)*1440,\"\")","v":""},{"$f":"IFERROR(INDEX(data_absen!$K$2:$K$2000,SUMPRODUCT((data_absen!$B$2:$B$2000=$A37)*(data_absen!$C$2:$C$2000=AF$3)*(ROW(data_absen!$C$2:$C$2000)))-1)*1440,\"\")","v":""},{"$f":"IFERROR(INDEX(data_absen!$I$2:$I$2000,SUMPRODUCT((data_absen!$B$2:$B$2000=$A37)*(data_absen!$C$2:$C$2000=AF$3)*(ROW(data_absen!$C$2:$C$2000)))-1)*1440,\"\")","v":""},null,null,{"$f":"IFERROR(INDEX(data_absen!$J$2:$J$2000,SUMPRODUCT((data_absen!$B$2:$B$2000=$A37)*(data_absen!$C$2:$C$2000=AF$3)*(ROW(data_absen!$C$2:$C$2000)))-1)*1440,\"\")","v":""},{"$f":"IFERROR(INDEX(data_absen!$K$2:$K$2000,SUMPRODUCT((data_absen!$B$2:$B$2000=$A37)*(data_absen!$C$2:$C$2000=AK$3)*(ROW(data_absen!$C$2:$C$2000)))-1)*1440,\"\")","v":""},{"$f":"IFERROR(INDEX(data_absen!$I$2:$I$2000,SUMPRODUCT((data_absen!$B$2:$B$2000=$A37)*(data_absen!$C$2:$C$2000=AK$3)*(ROW(data_absen!$C$2:$C$2000)))-1)*1440,\"\")","v":""},null,null,{"$f":"IFERROR(INDEX(data_absen!$J$2:$J$2000,SUMPRODUCT((data_absen!$B$2:$B$2000=$A37)*(data_absen!$C$2:$C$2000=AK$3)*(ROW(data_absen!$C$2:$C$2000)))-1)*1440,\"\")","v":""},{"$f":"IFERROR(INDEX(data_absen!$K$2:$K$2000,SUMPRODUCT((data_absen!$B$2:$B$2000=$A37)*(data_absen!$C$2:$C$2000=AP$3)*(ROW(data_absen!$C$2:$C$2000)))-1)*1440,\"\")","v":""},{"$f":"IFERROR(INDEX(data_absen!$I$2:$I$2000,SUMPRODUCT((data_absen!$B$2:$B$2000=$A37)*(data_absen!$C$2:$C$2000=AP$3)*(ROW(data_absen!$C$2:$C$2000)))-1)*1440,\"\")","v":""},null,null,{"$f":"IFERROR(INDEX(data_absen!$J$2:$J$2000,SUMPRODUCT((data_absen!$B$2:$B$2000=$A37)*(data_absen!$C$2:$C$2000=AP$3)*(ROW(data_absen!$C$2:$C$2000)))-1)*1440,\"\")","v":""},{"$f":"IFERROR(INDEX(data_absen!$K$2:$K$2000,SUMPRODUCT((data_absen!$B$2:$B$2000=$A37)*(data_absen!$C$2:$C$2000=AU$3)*(ROW(data_absen!$C$2:$C$2000)))-1)*1440,\"\")","v":""},{"$f":"IFERROR(INDEX(data_absen!$I$2:$I$2000,SUMPRODUCT((data_absen!$B$2:$B$2000=$A37)*(data_absen!$C$2:$C$2000=AU$3)*(ROW(data_absen!$C$2:$C$2000)))-1)*1440,\"\")","v":""},null,null,{"$f":"IFERROR(INDEX(data_absen!$J$2:$J$2000,SUMPRODUCT((data_absen!$B$2:$B$2000=$A37)*(data_absen!$C$2:$C$2000=AU$3)*(ROW(data_absen!$C$2:$C$2000)))-1)*1440,\"\")","v":""},{"$f":"IFERROR(INDEX(data_absen!$K$2:$K$2000,SUMPRODUCT((data_absen!$B$2:$B$2000=$A37)*(data_absen!$C$2:$C$2000=AZ$3)*(ROW(data_absen!$C$2:$C$2000)))-1)*1440,\"\")","v":""},{"$f":"IFERROR(INDEX(data_absen!$I$2:$I$2000,SUMPRODUCT((data_absen!$B$2:$B$2000=$A37)*(data_absen!$C$2:$C$2000=AZ$3)*(ROW(data_absen!$C$2:$C$2000)))-1)*1440,\"\")","v":""},null,null,{"$f":"IFERROR(INDEX(data_absen!$J$2:$J$2000,SUMPRODUCT((data_absen!$B$2:$B$2000=$A37)*(data_absen!$C$2:$C$2000=AZ$3)*(ROW(data_absen!$C$2:$C$2000)))-1)*1440,\"\")","v":""},{"$f":"IFERROR(INDEX(data_absen!$K$2:$K$2000,SUMPRODUCT((data_absen!$B$2:$B$2000=$A37)*(data_absen!$C$2:$C$2000=BE$3)*(ROW(data_absen!$C$2:$C$2000)))-1)*1440,\"\")","v":""},{"$f":"IFERROR(INDEX(data_absen!$I$2:$I$2000,SUMPRODUCT((data_absen!$B$2:$B$2000=$A37)*(data_absen!$C$2:$C$2000=BE$3)*(ROW(data_absen!$C$2:$C$2000)))-1)*1440,\"\")","v":""},null,null,{"$f":"IFERROR(INDEX(data_absen!$J$2:$J$2000,SUMPRODUCT((data_absen!$B$2:$B$2000=$A37)*(data_absen!$C$2:$C$2000=BE$3)*(ROW(data_absen!$C$2:$C$2000)))-1)*1440,\"\")","v":""},{"$f":"IFERROR(INDEX(data_absen!$K$2:$K$2000,SUMPRODUCT((data_absen!$B$2:$B$2000=$A37)*(data_absen!$C$2:$C$2000=BJ$3)*(ROW(data_absen!$C$2:$C$2000)))-1)*1440,\"\")","v":""},{"$f":"IFERROR(INDEX(data_absen!$I$2:$I$2000,SUMPRODUCT((data_absen!$B$2:$B$2000=$A37)*(data_absen!$C$2:$C$2000=BJ$3)*(ROW(data_absen!$C$2:$C$2000)))-1)*1440,\"\")","v":""},null,null,{"$f":"IFERROR(INDEX(data_absen!$J$2:$J$2000,SUMPRODUCT((data_absen!$B$2:$B$2000=$A37)*(data_absen!$C$2:$C$2000=BJ$3)*(ROW(data_absen!$C$2:$C$2000)))-1)*1440,\"\")","v":""},{"$f":"IFERROR(INDEX(data_absen!$K$2:$K$2000,SUMPRODUCT((data_absen!$B$2:$B$2000=$A37)*(data_absen!$C$2:$C$2000=BO$3)*(ROW(data_absen!$C$2:$C$2000)))-1)*1440,\"\")","v":""},{"$f":"IFERROR(INDEX(data_absen!$I$2:$I$2000,SUMPRODUCT((data_absen!$B$2:$B$2000=$A37)*(data_absen!$C$2:$C$2000=BO$3)*(ROW(data_absen!$C$2:$C$2000)))-1)*1440,\"\")","v":""},null,null,{"$f":"IFERROR(INDEX(data_absen!$J$2:$J$2000,SUMPRODUCT((data_absen!$B$2:$B$2000=$A37)*(data_absen!$C$2:$C$2000=BO$3)*(ROW(data_absen!$C$2:$C$2000)))-1)*1440,\"\")","v":""},{"$f":"COUNTIFS(data_absen!$B$2:$B$2000,$A37,data_absen!$I$2:$I$2000,\">0\")","v":0}]
["Adi",{"$f":"INDEX(data_absen!$G$2:$G$2000,SUMPRODUCT((data_absen!$B$2:$B$2000=$A40)*(data_absen!$C$2:$C$2000=B$3)*(ROW(data_absen!$C$2:$C$2000)))-1)","v":"06:47:00"},null,"-",{"$f":"INDEX(data_absen!$H$2:$H$2000,SUMPRODUCT((data_absen!$B$2:$B$2000=$A40)*(data_absen!$C$2:$C$2000=B$3)*(ROW(data_absen!$C$2:$C$2000)))-1)","v":"14:56:00"},null,{"$f":"INDEX(data_absen!$G$2:$G$2000,SUMPRODUCT((data_absen!$B$2:$B$2000=$A40)*(data_absen!$C$2:$C$2000=G$3)*(ROW(data_absen!$C$2:$C$2000)))-1)","v":"06:45:00"},null,"-",{"$f":"INDEX(data_absen!$H$2:$H$2000,SUMPRODUCT((data_absen!$B$2:$B$2000=$A40)*(data_absen!$C$2:$C$2000=G$3)*(ROW(data_absen!$C$2:$C$2000)))-1)","v":"14:55:00"},null,{"$f":"INDEX(data_absen!$G$2:$G$2000,SUMPRODUCT((data_absen!$B$2:$B$2000=$A40)*(data_absen!$C$2:$C$2000=L$3)*(ROW(data_absen!$C$2:$C$2000)))-1)","v":"06:44:00"},null,"-",{"$f":"INDEX(data_absen!$H$2:$H$2000,SUMPRODUCT((data_absen!$B$2:$B$2000=$A40)*(data_absen!$C$2:$C$2000=L$3)*(ROW(data_absen!$C$2:$C$2000)))-1)","v":"14:57:00"},null,{"$f":"INDEX(data_absen!$G$2:$G$2000,SUMPRODUCT((data_absen!$B$2:$B$2000=$A40)*(data_absen!$C$2:$C$2000=Q$3)*(ROW(data_absen!$C$2:$C$2000)))-1)","v":{"$error":"#VALUE!"}},null,"-",{"$f":"INDEX(data_absen!$H$2:$H$2000,SUMPRODUCT((data_absen!$B$2:$B$2000=$A40)*(data_absen!$C$2:$C$2000=Q$3)*(ROW(data_absen!$C$2:$C$2000)))-1)","v":{"$error":"#VALUE!"}},null,{"$f":"INDEX(data_absen!$G$2:$G$2000,SUMPRODUCT((data_absen!$B$2:$B$2000=$A40)*(data_absen!$C$2:$C$2000=V$3)*(ROW(data_absen!$C$2:$C$2000)))-1)","v":{"$error":"#VALUE!"}},null,"-",{"$f":"INDEX(data_absen!$H$2:$H$2000,SUMPRODUCT((data_absen!$B$2:$B$2000=$A40)*(data_absen!$C$2:$C$2000=V$3)*(ROW(data_absen!$C$2:$C$2000)))-1)","v":{"$error":"#VALUE!"}},null,{"$f":"INDEX(data_absen!$G$2:$G$2000,SUMPRODUCT((data_absen!$B$2:$B$2000=$A40)*(data_absen!$C$2:$C$2000=AA$3)*(ROW(data_absen!$C$2:$C$2000)))-1)","v":{"$error":"#VALUE!"}},null,"-",{"$f":"INDEX(data_absen!$H$2:$H$2000,SUMPRODUCT((data_absen!$B$2:$B$2000=$A40)*(data_absen!$C$2:$C$2000=AA$3)*(ROW(data_absen!$C$2:$C$2000)))-1)","v":{"$error":"#VALUE!"}},null,{"$f":"INDEX(data_absen!$G$2:$G$2000,SUMPRODUCT((data_absen!$B$2:$B$2000=$A40)*(data_absen!$C$2:$C$2000=AF$3)*(ROW(data_absen!$C$2:$C$2000)))-1)","v":{"$error":"#VALUE!"}},null,"-",{"$f":"INDEX(data_absen!$H$2:$H$2000,SUMPRODUCT((data_absen!$B$2:$B$2000=$A40)*(data_absen!$C$2:$C$2000=AF$3)*(ROW(data_absen!$C$2:$C$2000)))-1)","v":{"$error":"#VALUE!"}},null,{"$f":"INDEX(data_absen!$G$2:$G$2000,SUMPRODUCT((data_absen!$B$2:$B$2000=$A40)*(data_absen!$C$2:$C$2000=AK$3)*(ROW(data_absen!$C$2:$C$2000)))-1)","v":{"$error":"#VALUE!"}},null,"-",{"$f":"INDEX(data_absen!$H$2:$H$2000,SUMPRODUCT((data_absen!$B$2:$B$2000=$A40)*(data_absen!$C$2:$C$2000=AK$3)*(ROW(data_absen!$C$2:$C$2000)))-1)","v":{"$error":"#VALUE!"}},null,{"$f":"INDEX(data_absen!$G$2:$G$2000,SUMPRODUCT((data_absen!$B$2:$B$2000=$A40)*(data_absen!$C$2:$C$2000=AP$3)*(ROW(data_absen!$C$2:$C$2000)))-1)","v":{"$error":"#VALUE!"}},null,"-",{"$f":"INDEX(data_absen!$H$2:$H$2000,SUMPRODUCT((data_absen!$B$2:$B$2000=$A40)*(data_absen!$C$2:$C$2000=AP$3)*(ROW(data_absen!$C$2:$C$2000)))-1)","v":{"$error":"#VALUE!"}},null,{"$f":"INDEX(data_absen!$G$2:$G$2000,SUMPRODUCT((data_absen!$B$2:$B$2000=$A40)*(data_absen!$C$2:$C$2000=AU$3)*(ROW(data_absen!$C$2:$C$2000)))-1)","v":{"$error":"#VALUE!"}},null,"-",{"$f":"INDEX(data_absen!$H$2:$H$2000,SUMPRODUCT((data_absen!$B$2:$B$2000=$A40)*(data_absen!$C$2:$C$2000=AU$3)*(ROW(data_absen!$C$2:$C$2000)))-1)","v":{"$error":"#VALUE!"}},null,{"$f":"INDEX(data_absen!$G$2:$G$2000,SUMPRODUCT((data_absen!$B$2:$B$2000=$A40)*(data_absen!$C$2:$C$2000=AZ$3)*(ROW(data_absen!$C$2:$C$2000)))-1)","v":{"$error":"#VALUE!"}},null,"-",{"$f":"INDEX(data_absen!$H$2:$H$2000,SUMPRODUCT((data_absen!$B$2:$B$2000=$A40)*(data_absen!$C$2:$C$2000=AZ$3)*(ROW(data_absen!$C$2:$C$2000)))-1)","v":{"$error":"#VALUE!"}},null,{"$f":"INDEX(data_absen!$G$2:$G$2000,SUMPRODUCT((data_absen!$B$2:$B$2000=$A40)*(data_absen!$C$2:$C$2000=BE$3)*(ROW(data_absen!$C$2:$C$2000)))-1)","v":{"$error":"#VALUE!"}},null,"-",{"$f":"INDEX(data_absen!$H$2:$H$2000,SUMPRODUCT((data_absen!$B$2:$B$2000=$A40)*(data_absen!$C$2:$C$2000=BE$3)*(ROW(data_absen!$C$2:$C$2000)))-1)","v":{"$error":"#VALUE!"}},null,{"$f":"INDEX(data_absen!$G$2:$G$2000,SUMPRODUCT((data_absen!$B$2:$B$2000=$A40)*(data_absen!$C$2:$C$2000=BJ$3)*(ROW(data_absen!$C$2:$C$2000)))-1)","v":{"$error":"#VALUE!"}},null,"-",{"$f":"INDEX(data_absen!$H$2:$H$2000,SUMPRODUCT((data_absen!$B$2:$B$2000=$A40)*(data_absen!$C$2:$C$2000=BJ$3)*(ROW(data_absen!$C$2:$C$2000)))-1)","v":{"$error":"#VALUE!"}},null,{"$f":"INDEX(data_absen!$G$2:$G$2000,SUMPRODUCT((data_absen!$B$2:$B$2000=$A40)*(data_absen!$C$2:$C$2000=BO$3)*(ROW(data_absen!$C$2:$C$2000)))-1)","v":{"$error":"#VALUE!"}},null,"-",{"$f":"INDEX(data_absen!$H$2:$H$2000,SUMPRODUCT((data_absen!$B$2:$B$2000=$A40)*(data_absen!$C$2:$C$2000=BO$3)*(ROW(data_absen!$C$2:$C$2000)))-1)","v":{"$error":"#VALUE!"}}]
[114,null,null,"-",null,null,null,null,"-",null,null,null,null,"-",null,null,null,null,"-",null,null,null,null,"-",null,null,null,null,"-",null,null,null,null,"-",null,null,null,null,"-",null,null,null,null,"-",null,null,null,null,"-",null,null,null,null,"-",null,null,null,null,"-",null,null,null,null,"-",null,null,null,null,"-"]
[null,{"$f":"IFERROR(INDEX(data_absen!$K$2:$K$2000,SUMPRODUCT((data_absen!$B$2:$B$2000=$A40)*(data_absen!$C$2:$C$2000=B$3)*(ROW(data_absen!$C$2:$C$2000)))-1)*1440,\"\")","v":""},{"$f":"IFERROR(INDEX(data_absen!$I$2:$I$2000,SUMPRODUCT((data_absen!$B$2:$B$2000=$A40)*(data_absen!$C$2:$C$2000=B$3)*(ROW(data_absen!$C$2:$C$2000)))-1)*1440,\"\")","v":""},null,null,{"$f":"IFERROR(INDEX(data_absen!$J$2:$J$2000,SUMPRODUCT((data_absen!$B$2:$B$2000=$A40)*(data_absen!$C$2:$C$2000=B$3)*(ROW(data_absen!$C$2:$C$2000)))-1)*1440,\"\")","v":""},{"$f":"IFERROR(INDEX(data_absen!$K$2:$K$2000,SUMPRODUCT((data_absen!$B$2:$B$2000=$A40)*(data_absen!$C$2:$C$2000=G$3)*(ROW(data_absen!$C$2:$C$2000)))-1)*1440,\"\")","v":""},{"$f":"IFERROR(INDEX(data_absen!$I$2:$I$2000,SUMPRODUCT((data_absen!$B$2:$B$2000=$A40)*(data_absen!$C$2:$C$2000=G$3)*(ROW(data_absen!$C$2:$C$2000)))-1)*1440,\"\")","v":""},null,null,{"$f":"IFERROR(INDEX(data_absen!$J$2:$J$2000,SUMPRODUCT((data_absen!$B$2:$B$2000=$A40)*(data_absen!$C$2:$C$2000=G$3)*(ROW(data_absen!$C$2:$C$2000)))-1)*1440,\"\")","v":""},{"$f":"IFERROR(INDEX(data_absen!$K$2:$K$2000,SUMPRODUCT((data_absen!$B$2:$B$2000=$A40)*(data_absen!$C$2:$C$2000=L$3)*(ROW(data_absen!$C$2:$C$2000)))-1)*1440,\"\")","v":""},{"$f":"IFERROR(INDEX(data_absen!$I$2:$I$2000,SUMPRODUCT((data_absen!$B$2:$B$2000=$A40)*(data_absen!$C$2:$C$2000=L$3)*(ROW(data_absen!$C$2:$C$2000)))-1)*1440,\"\")","v":""},null,null,{"$f":"IFERROR(INDEX(data_absen!$J$2:$J$2000,SUMPRODUCT((data_absen!$B$2:$B$2000=$A40)*(data_absen!$C$2:$C$2000=L$3)*(ROW(data_absen!$C$2:$C$2000)))-1)*1440,\"\")","v":""},{"$f":"IFERROR(INDEX(data_absen!$K$2:$K$2000,SUMPRODUCT((data_absen!$B$2:$B$2000=$A40)*(data_absen!$C$2:$C$2000=Q$3)*(ROW(data_absen!$C$2:$C$2000)))-1)*1440,\"\")","v":""},{"$f":"IFERROR(INDEX(data_absen!$I$2:$I$2000,SUMPRODUCT((data_absen!$B$2:$B$2000=$A40)*(data_absen!$C$2:$C$2000=Q$3)*(ROW(data_absen!$C$2:$C$2000)))-1)*1440,\"\")","v":""},null,null,{"$f":"IFERROR(INDEX(data_absen!$J$2:$J$2000,SUMPRODUCT((data_absen!$B$2:$B$2000=$A40)*(data_absen!$C$2:$C$2000=Q$3)*(ROW(data_absen!$C$2:$C$2000)))-1)*1440,\"\")","v":""},{"$f":"IFERROR(INDEX(data_absen!$K$2:$K$2000,SUMPRODUCT((data_absen!$B$2:$B$2000=$A40)*(data_absen!$C$2:$C$2000=V$3)*(ROW(data_absen!$C$2:$C$2000)))-1)*1440,\"\")","v":""},{"$f":"IFERROR(INDEX(data_absen!$I$2:$I$2000,SUMPRODUCT((data_absen!$B$2:$B$2000=$A40)*(data_absen!$C$2:$C$2000=V$3)*(ROW(data_absen!$C$2:$C$2000)))-1)*1440,\"\")","v":""},null,null,{"$f":"IFERROR(INDEX(data_absen!$J$2:$J$2000,SUMPRODUCT((data_absen!$B$2:$B$2000=$A40)*(data_absen!$C$2:$C$2000=V$3)*(ROW(data_absen!$C$2:$C$2000)))-1)*1440,\"\")","v":""},{"$f":"IFERROR(INDEX(data_absen!$K$2:$K$2000,SUMPRODUCT((data_absen!$B$2:$B$2000=$A40)*(data_absen!$C$2:$C$2000=AA$3)*(ROW(data_absen!$C$2:$C$2000)))-1)*1440,\"\")","v":""},{"$f":"IFERROR(INDEX(data_absen!$I$2:$I$2000,SUMPRODUCT((data_absen!$B$2:$B$2000=$A40)*(data_absen!$C$2:$C$2000=AA$3)*(ROW(data_absen!$C$2:$C$2000)))-1)*1440,\"\")","v":""},null,null,{"$f":"IFERROR(INDEX(data_absen!$J$2:$J$2000,SUMPRODUCT((data_absen!$B$2:$B$2000=$A40)*(data_absen!$C$2:$C$2000=AA$3)*(ROW(data_absen!$C$2:$C$2000)))-1)*1440,\"\")","v":""},{"$f":"IFERROR(INDEX(data_absen!$K$2:$K$2000,SUMPRODUCT((data_absen!$B$2:$B$2000=$A40)*(data_absen!$C$2:$C$2000=AF$3)*(ROW(data_absen!$C$2:$C$2000)))-1)*1440,\"\")","v":""},{"$f":"IFERROR(INDEX(data_absen!$I$2:$I$2000,SUMPRODUCT((data_absen!$B$2:$B$2000=$A40)*(data_absen!$C$2:$C$2000=AF$3)*(ROW(data_absen!$C$2:$C$2000)))-1)*1440,\"\")","v":""},null,null,{"$f":"IFERROR(INDEX(data_absen!$J$2:$J$2000,SUMPRODUCT((data_absen!$B$2:$B$2000=$A40)*(data_absen!$C$2:$C$2000=AF$3)*(ROW(data_absen!$C$2:$C$2000)))-1)*1440,\"\")","v":""},{"$f":"IFERROR(INDEX(data_absen!$K$2:$K$2000,SUMPRODUCT((data_absen!$B$2:$B$2000=$A40)*(data_absen!$C$2:$C$2000=AK$3)*(ROW(data_absen!$C$2:$C$2000)))-1)*1440,\"\")","v":""},{"$f":"IFERROR(INDEX(data_absen!$I$2:$I$2000,SUMPRODUCT((data_absen!$B$2:$B$2000=$A40)*(data_absen!$C$2:$C$2000=AK$3)*(ROW(data_absen!$C$2:$C$2000)))-1)*1440,\"\")","v":""},null,null,{"$f":"IFERROR(INDEX(data_absen!$J$2:$J$2000,SUMPRODUCT((data_absen!$B$2:$B$2000=$A40)*(data_absen!$C$2:$C$2000=AK$3)*(ROW(data_absen!$C$2:$C$2000)))-1)*1440,\"\")","v":""},{"$f":"IFERROR(INDEX(data_absen!$K$2:$K$2000,SUMPRODUCT((data_absen!$B$2:$B$2000=$A40)*(data_absen!$C$2:$C$2000=AP$3)*(ROW(data_absen!$C$2:$C$2000)))-1)*1440,\"\")","v":""},{"$f":"IFERROR(INDEX(data_absen!$I$2:$I$2000,SUMPRODUCT((data_absen!$B$2:$B$2000=$A40)*(data_absen!$C$2:$C$2000=AP$3)*(ROW(data_absen!$C$2:$C$2000)))-1)*1440,\"\")","v":""},null,null,{"$f":"IFERROR(INDEX(data_absen!$J$2:$J$2000,SUMPRODUCT((data_absen!$B$2:$B$2000=$A40)*(data_absen!$C$2:$C$2000=AP$3)*(ROW(data_absen!$C$2:$C$2000)))-1)*1440,\"\")","v":""},{"$f":"IFERROR(INDEX(data_absen!$K$2:$K$2000,SUMPRODUCT((data_absen!$B$2:$B$2000=$A40)*(data_absen!$C$2:$C$2000=AU$3)*(ROW(data_absen!$C$2:$C$2000)))-1)*1440,\"\")","v":""},{"$f":"IFERROR(INDEX(data_absen!$I$2:$I$2000,SUMPRODUCT((data_absen!$B$2:$B$2000=$A40)*(data_absen!$C$2:$C$2000=AU$3)*(ROW(data_absen!$C$2:$C$2000)))-1)*1440,\"\")","v":""},null,null,{"$f":"IFERROR(INDEX(data_absen!$J$2:$J$2000,SUMPRODUCT((data_absen!$B$2:$B$2000=$A40)*(data_absen!$C$2:$C$2000=AU$3)*(ROW(data_absen!$C$2:$C$2000)))-1)*1440,\"\")","v":""},{"$f":"IFERROR(INDEX(data_absen!$K$2:$K$2000,SUMPRODUCT((data_absen!$B$2:$B$2000=$A40)*(data_absen!$C$2:$C$2000=AZ$3)*(ROW(data_absen!$C$2:$C$2000)))-1)*1440,\"\")","v":""},{"$f":"IFERROR(INDEX(data_absen!$I$2:$I$2000,SUMPRODUCT((data_absen!$B$2:$B$2000=$A40)*(data_absen!$C$2:$C$2000=AZ$3)*(ROW(data_absen!$C$2:$C$2000)))-1)*1440,\"\")","v":""},null,null,{"$f":"IFERROR(INDEX(data_absen!$J$2:$J$2000,SUMPRODUCT((data_absen!$B$2:$B$2000=$A40)*(data_absen!$C$2:$C$2000=AZ$3)*(ROW(data_absen!$C$2:$C$2000)))-1)*1440,\"\")","v":""},{"$f":"IFERROR(INDEX(data_absen!$K$2:$K$2000,SUMPRODUCT((data_absen!$B$2:$B$2000=$A40)*(data_absen!$C$2:$C$2000=BE$3)*(ROW(data_absen!$C$2:$C$2000)))-1)*1440,\"\")","v":""},{"$f":"IFERROR(INDEX(data_absen!$I$2:$I$2000,SUMPRODUCT((data_absen!$B$2:$B$2000=$A40)*(data_absen!$C$2:$C$2000=BE$3)*(ROW(data_absen!$C$2:$C$2000)))-1)*1440,\"\")","v":""},null,null,{"$f":"IFERROR(INDEX(data_absen!$J$2:$J$2000,SUMPRODUCT((data_absen!$B$2:$B$2000=$A40)*(data_absen!$C$2:$C$2000=BE$3)*(ROW(data_absen!$C$2:$C$2000)))-1)*1440,\"\")","v":""},{"$f":"IFERROR(INDEX(data_absen!$K$2:$K$2000,SUMPRODUCT((data_absen!$B$2:$B$2000=$A40)*(data_absen!$C$2:$C$2000=BJ$3)*(ROW(data_absen!$C$2:$C$2000)))-1)*1440,\"\")","v":""},{"$f":"IFERROR(INDEX(data_absen!$I$2:$I$2000,SUMPRODUCT((data_absen!$B$2:$B$2000=$A40)*(data_absen!$C$2:$C$2000=BJ$3)*(ROW(data_absen!$C$2:$C$2000)))-1)*1440,\"\")","v":""},null,null,{"$f":"IFERROR(INDEX(data_absen!$J$2:$J$2000,SUMPRODUCT((data_absen!$B$2:$B$2000=$A40)*(data_absen!$C$2:$C$2000=BJ$3)*(ROW(data_absen!$C$2:$C$2000)))-1)*1440,\"\")","v":""},{"$f":"IFERROR(INDEX(data_absen!$K$2:$K$2000,SUMPRODUCT((data_absen!$B$2:$B$2000=$A40)*(data_absen!$C$2:$C$2000=BO$3)*(ROW(data_absen!$C$2:$C$2000)))-1)*1440,\"\")","v":""},{"$f":"IFERROR(INDEX(data_absen!$I$2:$I$2000,SUMPRODUCT((data_absen!$B$2:$B$2000=$A40)*(data_absen!$C$2:$C$2000=BO$3)*(ROW(data_absen!$C$2:$C$2000)))-1)*1440,\"\")","v":""},null,null,{"$f":"IFERROR(INDEX(data_absen!$J$2:$J$2000,SUMPRODUCT((data_absen!$B$2:$B$2000=$A40)*(data_absen!$C$2:$C$2000=BO$3)*(ROW(data_absen!$C$2:$C$2000)))-1)*1440,\"\")","v":""},{"$f":"COUNTIFS(data_absen!$B$2:$B$2000,$A40,data_absen!$I$2:$I$2000,\">0\")","v":0}]
["Keterangan : ",null,null,null,null,"Lembur",null,null,null,null,"Datang Telat atau Tdk/ Lupa Absen Masuk",null,null,null,null,null,null,null,null,null,null,null,null,null,null,"Pulang Cepat atau Tdk/Lupa Absen Pulang"]
[]
["NAMA","2019-01-16",null,null,null,null,"2019-01-17",null,null,null,null,"2019-01-18",null,null,null,null,"2019-01-19",null,null,null,null,"2019-01-21",null,null,null,null,"2019-01-22",null,null,null,null,"2019-01-23",null,null,null,null,"2019-01-24",null,null,null,null,"2019-01-25",null,null,null,null,"2019-01-26",null,null,null,null,"2019-01-28",null,null,null,null,"2019-01-29",null,null,null,null,"2019-01-30",null,null,null,null,"2019-01-31",null,null,null,null,"Telat Kali (X)","Lembur Menit"]
["Budi",{"$f":"INDEX(data_absen!$G$2:$G$2000,SUMPRODUCT((data_absen!$B$2:$B$2000=$A46)*(data_absen!$C$2:$C$2000=B$3)*(ROW(data_absen!$C$2:$C$2000)))-1)","v":"06:47:00"},null,"-",{"$f":"INDEX(data_absen!$H$2:$H$2000,SUMPRODUCT((data_absen!$B$2:$B$2000=$A46)*(data_absen!$C$2:$C$2000=B$3)*(ROW(data_absen!$C$2:$C$2000)))-1)","v":"14:54:00"},null,{"$f":"INDEX(data_absen!$G$2:$G$2000,SUMPRODUCT((data_absen!$B$2:$B$2000=$A46)*(data_absen!$C$2:$C$2000=G$3)*(ROW(data_absen!$C$2:$C$2000)))-1)","v":"06:49:00"},null,"-",{"$f":"INDEX(data_absen!$H$2:$H$2000,SUMPRODUCT((data_absen!$B$2:$B$2000=$A46)*(data_absen!$C$2:$C$2000=G$3)*(ROW(data_absen!$C$2:$C$2000)))-1)","v":"14:51:00"},null,{"$f":"INDEX(data_absen!$G$2:$G$2000,SUMPRODUCT((data_absen!$B$2:$B$2000=$A46)*(data_absen!$C$2:$C$2000=L$3)*(ROW(data_absen!$C$2:$C$2000)))-1)","v":"06:58:00"},null,"-",{"$f":"INDEX(data_absen!$H$2:$H$2000,SUMPRODUCT((data_absen!$B$2:$B$2000=$A46)*(data_absen!$C$2:$C$2000=L$3)*(ROW(data_absen!$C$2:$C$2000)))-1)","v":"15:24:00"},null,{"$f":"INDEX(data_absen!$G$2:$G$2000,SUMPRODUCT((data_absen!$B$2:$B$2000=$A46)*(data_absen!$C$2:$C$2000=Q$3)*(ROW(data_absen!$C$2:$C$2000)))-1)","v":{"$error":"#VALUE!"}},null,"-",{"$f":"INDEX(data_absen!$H$2:$H$2000,SUMPRODUCT((data_absen!$B$2:$B$2000=$A46)*(data_absen!$C$2:$C$2000=Q$3)*(ROW(data_absen!$C$2:$C$2000)))-1)","v":{"$error":"#VALUE!"}},null,{"$f":"INDEX(data_absen!$G$2:$G$2000,SUMPRODUCT((data_absen!$B$2:$B$2000=$A46)*(data_absen!$C$2:$C$2000=V$3)*(ROW(data_absen!$C$2:$C$2000)))-1)","v":{"$error":"#VALUE!"}},null,"-",{"$f":"INDEX(data_absen!$H$2:$H$2000,SUMPRODUCT((data_absen!$B$2:$B$2000=$A46)*(data_absen!$C$2:$C$2000=V$3)*(ROW(data_absen!$C$2:$C$2000)))-1)","v":{"$error":"#VALUE!"}},null,{"$f":"INDEX(data_absen!$G$2:$G$2000,SUMPRODUCT((data_absen!$B$2:$B$2000=$A46)*(data_absen!$C$2:$C$2000=AA$3)*(ROW(data_absen!$C$2:$C$2000)))-1)","v":{"$error":"#VALUE!"}},null,"-",{"$f":"INDEX(data_absen!$H$2:$H$2000,SUMPRODUCT((data_absen!$B$2:$B$2000=$A46)*(data_absen!$C$2:$C$2000=AA$3)*(ROW(data_absen!$C$2:$C$2000)))-1)","v":{"$error":"#VALUE!"}},null,{"$f":"INDEX(data_absen!$G$2:$G$2000,SUMPRODUCT((data_absen!$B$2:$B$2000=$A46)*(data_absen!$C$2:$C$2000=AF$3)*(ROW(data_absen!$C$2:$C$2000)))-1)","v":{"$error":"#VALUE!"}},null,"-",{"$f":"INDEX(data_absen!$H$2:$H$2000,SUMPRODUCT((data_absen!$B$2:$B$2000=$A46)*(data_absen!$C$2:$C$2000=AF$3)*(ROW(data_absen!$C$2:$C$2000)))-1)","v":{"$error":"#VALUE!"}},null,{"$f":"INDEX(data_absen!$G$2:$G$2000,SUMPRODUCT((data_absen!$B$2:$B$2000=$A46)*(data_absen!$C$2:$C$2000=AK$3)*(ROW(data_absen!$C$2:$C$2000)))-1)","v":{"$error":"#VALUE!"}},null,"-",{"$f":"INDEX(data_absen!$H$2:$H$2000,SUMPRODUCT((data_absen!$B$2:$B$2000=$A46)*(data_absen!$C$2:$C$2000=AK$3)*(ROW(data_absen!$C$2:$C$2000)))-1)","v":{"$error":"#VALUE!"}},null,{"$f":"INDEX(data_absen!$G$2:$G$2000,SUMPRODUCT((data_absen!$B$2:$B$2000=$A46)*(data_absen!$C$2:$C$2000=AP$3)*(ROW(data_absen!$C$2:$C$2000)))-1)","v":{"$error":"#VALUE!"}},null,"-",{"$f":"INDEX(data_absen!$H$2:$H$2000,SUMPRODUCT((data_absen!$B$2:$B$2000=$A46)*(data_absen!$C$2:$C$2000=AP$3)*(ROW(data_absen!$C$2:$C$2000)))-1)","v":{"$error":"#VALUE!"}},null,{"$f":"INDEX(data_absen!$G$2:$G$2000,SUMPRODUCT((data_absen!$B$2:$B$2000=$A46)*(data_absen!$C$2:$C$2000=AU$3)*(ROW(data_absen!$C$2:$C$2000)))-1)","v":{"$error":"#VALUE!"}},null,"-",{"$f":"INDEX(data_absen!$H$2:$H$2000,SUMPRODUCT((data_absen!$B$2:$B$2000=$A46)*(data_absen!$C$2:$C$2000=AU$3)*(ROW(data_absen!$C$2:$C$2000)))-1)","v":{"$error":"#VALUE!"}},null,{"$f":"INDEX(data_absen!$G$2:$G$2000,SUMPRODUCT((data_absen!$B$2:$B$2000=$A46)*(data_absen!$C$2:$C$2000=AZ$3)*(ROW(data_absen!$C$2:$C$2000)))-1)","v":{"$error":"#VALUE!"}},null,"-",{"$f":"INDEX(data_absen!$H$2:$H$2000,SUMPRODUCT((data_absen!$B$2:$B$2000=$A46)*(data_absen!$C$2:$C$2000=AZ$3)*(ROW(data_absen!$C$2:$C$2000)))-1)","v":{"$error":"#VALUE!"}},null,{"$f":"INDEX(data_absen!$G$2:$G$2000,SUMPRODUCT((data_absen!$B$2:$B$2000=$A46)*(data_absen!$C$2:$C$2000=BE$3)*(ROW(data_absen!$C$2:$C$2000)))-1)","v":{"$error":"#VALUE!"}},null,"-",{"$f":"INDEX(data_absen!$H$2:$H$2000,SUMPRODUCT((data_absen!$B$2:$B$2000=$A46)*(data_absen!$C$2:$C$2000=BE$3)*(ROW(data_absen!$C$2:$C$2000)))-1)","v":{"$error":"#VALUE!"}},null,{"$f":"INDEX(data_absen!$G$2:$G$2000,SUMPRODUCT((data_absen!$B$2:$B$2000=$A46)*(data_absen!$C$2:$C$2000=BJ$3)*(ROW(data_absen!$C$2:$C$2000)))-1)","v":{"$error":"#VALUE!"}},null,"-",{"$f":"INDEX(data_absen!$H$2:$H$2000,SUMPRODUCT((data_absen!$B$2:$B$2000=$A46)*(data_absen!$C$2:$C$2000=BJ$3)*(ROW(data_absen!$C$2:$C$2000)))-1)","v":{"$error":"#VALUE!"}},null,{"$f":"INDEX(data_absen!$G$2:$G$2000,SUMPRODUCT((data_absen!$B$2:$B$2000=$A46)*(data_absen!$C$2:$C$2000=BO$3)*(ROW(data_absen!$C$2:$C$2000)))-1)","v":{"$error":"#VALUE!"}},null,"-",{"$f":"INDEX(data_absen!$H$2:$H$2000,SUMPRODUCT((data_absen!$B$2:$B$2000=$A46)*(data_absen!$C$2:$C$2000=BO$3)*(ROW(data_absen!$C$2:$C$2000)))-1)","v":{"$error":"#VALUE!"}}]
[115,null,null,"-",null,null,null,null,"-",null,null,null,null,"-",null,null,null,null,"-",null,null,null,null,"-",null,null,null,null,"-",null,null,null,null,"-",null,null,null,null,"-",null,null,null,null,"-",null,null,null,null,"-",null,null,null,null,"-",null,null,null,null,"-",null,null,null,null,"-",null,null,null,null,"-"]
[null,{"$f":"IFERROR(INDEX(data_absen!$K$2:$K$2000,SUMPRODUCT((data_absen!$B$2:$B$2000=$A46)*(data_absen!$C$2:$C$2000=B$3)*(ROW(data_absen!$C$2:$C$2000)))-1)*1440,\"\")","v":""},{"$f":"IFERROR(INDEX(data_absen!$I$2:$I$2000,SUMPRODUCT((data_absen!$B$2:$B$2000=$A46)*(data_absen!$C$2:$C$2000=B$3)*(ROW(data_absen!$C$2:$C$2000)))-1)*1440,\"\")","v":""},null,null,{"$f":"IFERROR(INDEX(data_absen!$J$2:$J$2000,SUMPRODUCT((data_absen!$B$2:$B$2000=$A46)*(data_absen!$C$2:$C$2000=B$3)*(ROW(data_absen!$C$2:$C$2000)))-1)*1440,\"\")","v":6},{"$f":"IFERROR(INDEX(data_absen!$K$2:$K$2000,SUMPRODUCT((data_absen!$B$2:$B$2000=$A46)*(data_absen!$C$2:$C$2000=G$3)*(ROW(data_absen!$C$2:$C$2000)))-1)*1440,\"\")","v":""},{"$f":"IFERROR(INDEX(data_absen!$I$2:$I$2000,SUMPRODUCT((data_absen!$B$2:$B$2000=$A46)*(data_absen!$C$2:$C$2000=G$3)*(ROW(data_absen!$C$2:$C$2000)))-1)*1440,\"\")","v":""},null,null,{"$f":"IFERROR(INDEX(data_absen!$J$2:$J$2000,SUMPRODUCT((data_absen!$B$2:$B$2000=$A46)*(data_absen!$C$2:$C$2000=G$3)*(ROW(data_absen!$C$2:$C$2000)))-1)*1440,\"\")","v":9},{"$f":"IFERROR(INDEX(data_absen!$K$2:$K$2000,SUMPRODUCT((data_absen!$B$2:$B$2000=$A46)*(data_absen!$C$2:$C$2000=L$3)*(ROW(data_absen!$C$2:$C$2000)))-1)*1440,\"\")","v":24},{"$f":"IFERROR(INDEX(data_absen!$I$2:$I$2000,SUMPRODUCT((data_absen!$B$2:$B$2000=$A46)*(data_absen!$C$2:$C$2000=L$3)*(ROW(data_absen!$C$2:$C$2000)))-1)*1440,\"\")","v":8},null,null,{"$f":"IFERROR(INDEX(data_absen!$J$2:$J$2000,SUMPRODUCT((data_absen!$B$2:$B$2000=$A46)*(data_absen!$C$2:$C$2000=L$3)*(ROW(data_absen!$C$2:$C$2000)))-1)*1440,\"\")","v":""},{"$f":"IFERROR(INDEX(data_absen!$K$2:$K$2000,SUMPRODUCT((data_absen!$B$2:$B$2000=$A46)*(data_absen!$C$2:$C$2000=Q$3)*(ROW(data_absen!$C$2:$C$2000)))-1)*1440,\"\")","v":""},{"$f":"IFERROR(INDEX(data_absen!$I$2:$I$2000,SUMPRODUCT((data_absen!$B$2:$B$2000=$A46)*(data_absen!$C$2:$C$2000=Q$3)*(ROW(data_absen!$C$2:$C$2000)))-1)*1440,\"\")","v":""},null,null,{"$f":"IFERROR(INDEX(data_absen!$J$2:$J$2000,SUMPRODUCT((data_absen!$B$2:$B$2000=$A46)*(data_absen!$C$2:$C$2000=Q$3)*(ROW(data_absen!$C$2:$C$2000)))-1)*1440,\"\")","v":""},{"$f":"IFERROR(INDEX(data_absen!$K$2:$K$2000,SUMPRODUCT((data_absen!$B$2:$B$2000=$A46)*(data_absen!$C$2:$C$2000=V$3)*(ROW(data_absen!$C$2:$C$2000)))-1)*1440,\"\")","v":""},{"$f":"IFERROR(INDEX(data_absen!$I$2:$I$2000,SUMPRODUCT((data_absen!$B$2:$B$2000=$A46)*(data_absen!$C$2:$C$2000=V$3)*(ROW(data_absen!$C$2:$C$2000)))-1)*1440,\"\")","v":""},null,null,{"$f":"IFERROR(INDEX(data_absen!$J$2:$J$2000,SUMPRODUCT((data_absen!$B$2:$B$2000=$A46)*(data_absen!$C$2:$C$2000=V$3)*(ROW(data_absen!$C$2:$C$2000)))-1)*1440,\"\")","v":""},{"$f":"IFERROR(INDEX(data_absen!$K$2:$K$2000,SUMPRODUCT((data_absen!$B$2:$B$2000=$A46)*(data_absen!$C$2:$C$2000=AA$3)*(ROW(data_absen!$C$2:$C$2000)))-1)*1440,\"\")","v":""},{"$f":"IFERROR(INDEX(data_absen!$I$2:$I$2000,SUMPRODUCT((data_absen!$B$2:$B$2000=$A46)*(data_absen!$C$2:$C$2000=AA$3)*(ROW(data_absen!$C$2:$C$2000)))-1)*1440,\"\")","v":""},null,null,{"$f":"IFERROR(INDEX(data_absen!$J$2:$J$2000,SUMPRODUCT((data_absen!$B$2:$B$2000=$A46)*(data_absen!$C$2:$C$2000=AA$3)*(ROW(data_absen!$C$2:$C$2000)))-1)*1440,\"\")","v":""},{"$f":"IFERROR(INDEX(data_absen!$K$2:$K$2000,SUMPRODUCT((data_absen!$B$2:$B$2000=$A46)*(data_absen!$C$2:$C$2000=AF$3)*(ROW(data_absen!$C$2:$C$2000)))-1)*1440,\"\")","v":""},{"$f":"IFERROR(INDEX(data_absen!$I$2:$I$2000,SUMPRODUCT((data_absen!$B$2:$B$2000=$A46)*(data_absen!$C$2:$C$2000=AF$3)*(ROW(data_absen!$C$2:$C$2000)))-1)*1440,\"\")","v":""},null,null,{"$f":"IFERROR(INDEX(data_absen!$J$2:$J$2000,SUMPRODUCT((data_absen!$B$2:$B$2000=$A46)*(data_absen!$C$2:$C$2000=AF$3)*(ROW(data_absen!$C$2:$C$2000)))-1)*1440,\"\")","v":""},{"$f":"IFERROR(INDEX(data_absen!$K$2:$K$2000,SUMPRODUCT((data_absen!$B$2:$B$2000=$A46)*(data_absen!$C$2:$C$2000=AK$3)*(ROW(data_absen!$C$2:$C$2000)))-1)*1440,\"\")","v":""},{"$f":"IFERROR(INDEX(data_absen!$I$2:$I$2000,SUMPRODUCT((data_absen!$B$2:$B$2000=$A46)*(data_absen!$C$2:$C$2000=AK$3)*(ROW(data_absen!$C$2:$C$2000)))-1)*1440,\"\")","v":""},null,null,{"$f":"IFERROR(INDEX(data_absen!$J$2:$J$2000,SUMPRODUCT((data_absen!$B$2:$B$2000=$A46)*(data_absen!$C$2:$C$2000=AK$3)*(ROW(data_absen!$C$2:$C$2000)))-1)*1440,\"\")","v":""},{"$f":"IFERROR(INDEX(data_absen!$K$2:$K$2000,SUMPRODUCT((data_absen!$B$2:$B$2000=$A46)*(data_absen!$C$2:$C$2000=AP$3)*(ROW(data_absen!$C$2:$C$2000)))-1)*1440,\"\")","v":""},{"$f":"IFERROR(INDEX(data_absen!$I$2:$I$2000,SUMPRODUCT((data_absen!$B$2:$B$2000=$A46)*(data_absen!$C$2:$C$2000=AP$3)*(ROW(data_absen!$C$2:$C$2000)))-1)*1440,\"\")","v":""},null,null,{"$f":"IFERROR(INDEX(data_absen!$J$2:$J$2000,SUMPRODUCT((data_absen!$B$2:$B$2000=$A46)*(data_absen!$C$2:$C$2000=AP$3)*(ROW(data_absen!$C$2:$C$2000)))-1)*1440,\"\")","v":""},{"$f":"IFERROR(INDEX(data_absen!$K$2:$K$2000,SUMPRODUCT((data_absen!$B$2:$B$2000=$A46)*(data_absen!$C$2:$C$2000=AU$3)*(ROW(data_absen!$C$2:$C$2000)))-1)*1440,\"\")","v":""},{"$f":"IFERROR(INDEX(data_absen!$I$2:$I$2000,SUMPRODUCT((data_absen!$B$2:$B$2000=$A46)*(data_absen!$C$2:$C$2000=AU$3)*(ROW(data_absen!$C$2:$C$2000)))-1)*1440,\"\")","v":""},null,null,{"$f":"IFERROR(INDEX(data_absen!$J$2:$J$2000,SUMPRODUCT((data_absen!$B$2:$B$2000=$A46)*(data_absen!$C$2:$C$2000=AU$3)*(ROW(data_absen!$C$2:$C$2000)))-1)*1440,\"\")","v":""},{"$f":"IFERROR(INDEX(data_absen!$K$2:$K$2000,SUMPRODUCT((data_absen!$B$2:$B$2000=$A46)*(data_absen!$C$2:$C$2000=AZ$3)*(ROW(data_absen!$C$2:$C$2000)))-1)*1440,\"\")","v":""},{"$f":"IFERROR(INDEX(data_absen!$I$2:$I$2000,SUMPRODUCT((data_absen!$B$2:$B$2000=$A46)*(data_absen!$C$2:$C$2000=AZ$3)*(ROW(data_absen!$C$2:$C$2000)))-1)*1440,\"\")","v":""},null,null,{"$f":"IFERROR(INDEX(data_absen!$J$2:$J$2000,SUMPRODUCT((data_absen!$B$2:$B$2000=$A46)*(data_absen!$C$2:$C$2000=AZ$3)*(ROW(data_absen!$C$2:$C$2000)))-1)*1440,\"\")","v":""},{"$f":"IFERROR(INDEX(data_absen!$K$2:$K$2000,SUMPRODUCT((data_absen!$B$2:$B$2000=$A46)*(data_absen!$C$2:$C$2000=BE$3)*(ROW(data_absen!$C$2:$C$2000)))-1)*1440,\"\")","v":""},{"$f":"IFERROR(INDEX(data_absen!$I$2:$I$2000,SUMPRODUCT((data_absen!$B$2:$B$2000=$A46)*(data_absen!$C$2:$C$2000=BE$3)*(ROW(data_absen!$C$2:$C$2000)))-1)*1440,\"\")","v":""},null,null,{"$f":"IFERROR(INDEX(data_absen!$J$2:$J$2000,SUMPRODUCT((data_absen!$B$2:$B$2000=$A46)*(data_absen!$C$2:$C$2000=BE$3)*(ROW(data_absen!$C$2:$C$2000)))-1)*1440,\"\")","v":""},{"$f":"IFERROR(INDEX(data_absen!$K$2:$K$2000,SUMPRODUCT((data_absen!$B$2:$B$2000=$A46)*(data_absen!$C$2:$C$2000=BJ$3)*(ROW(data_absen!$C$2:$C$2000)))-1)*1440,\"\")","v":""},{"$f":"IFERROR(INDEX(data_absen!$I$2:$I$2000,SUMPRODUCT((data_absen!$B$2:$B$2000=$A46)*(data_absen!$C$2:$C$2000=BJ$3)*(ROW(data_absen!$C$2:$C$2000)))-1)*1440,\"\")","v":""},null,null,{"$f":"IFERROR(INDEX(data_absen!$J$2:$J$2000,SUMPRODUCT((data_absen!$B$2:$B$2000=$A46)*(data_absen!$C$2:$C$2000=BJ$3)*(ROW(data_absen!$C$2:$C$2000)))-1)*1440,\"\")","v":""},{"$f":"IFERROR(INDEX(data_absen!$K$2:$K$2000,SUMPRODUCT((data_absen!$B$2:$B$2000=$A46)*(data_absen!$C$2:$C$2000=BO$3)*(ROW(data_absen!$C$2:$C$2000)))-1)*1440,\"\")","v":""},{"$f":"IFERROR(INDEX(data_absen!$I$2:$I$2000,SUMPRODUCT((data_absen!$B$2:$B$2000=$A46)*(data_absen!$C$2:$C$2000=BO$3)*(ROW(data_absen!$C$2:$C$2000)))-1)*1440,\"\")","v":""},null,null,{"$f":"IFERROR(INDEX(data_absen!$J$2:$J$2000,SUMPRODUCT((data_absen!$B$2:$B$2000=$A46)*(data_absen!$C$2:$C$2000=BO$3)*(ROW(data_absen!$C$2:$C$2000)))-1)*1440,\"\")","v":""},{"$f":"COUNTIFS(data_absen!$B$2:$B$2000,$A46,data_absen!$I$2:$I$2000,\">0\")","v":1}]
["Indra S",{"$f":"INDEX(data_absen!$G$2:$G$2000,SUMPRODUCT((data_absen!$B$2:$B$2000=$A49)*(data_absen!$C$2:$C$2000=B$3)*(ROW(data_absen!$C$2:$C$2000)))-1)","v":"06:48:00"},null,"-",{"$f":"INDEX(data_absen!$H$2:$H$2000,SUMPRODUCT((data_absen!$B$2:$B$2000=$A49)*(data_absen!$C$2:$C$2000=B$3)*(ROW(data_absen!$C$2:$C$2000)))-1)","v":"16:00:00"},null,{"$f":"INDEX(data_absen!$G$2:$G$2000,SUMPRODUCT((data_absen!$B$2:$B$2000=$A49)*(data_absen!$C$2:$C$2000=G$3)*(ROW(data_absen!$C$2:$C$2000)))-1)","v":"06:46:00"},null,"-",{"$f":"INDEX(data_absen!$H$2:$H$2000,SUMPRODUCT((data_absen!$B$2:$B$2000=$A49)*(data_absen!$C$2:$C$2000=G$3)*(ROW(data_absen!$C$2:$C$2000)))-1)","v":"14:59:00"},null,{"$f":"INDEX(data_absen!$G$2:$G$2000,SUMPRODUCT((data_absen!$B$2:$B$2000=$A49)*(data_absen!$C$2:$C$2000=L$3)*(ROW(data_absen!$C$2:$C$2000)))-1)","v":"06:46:00"},null,"-",{"$f":"INDEX(data_absen!$H$2:$H$2000,SUMPRODUCT((data_absen!$B$2:$B$2000=$A49)*(data_absen!$C$2:$C$2000=L$3)*(ROW(data_absen!$C$2:$C$2000)))-1)","v":"15:01:00"},null,{"$f":"INDEX(data_absen!$G$2:$G$2000,SUMPRODUCT((data_absen!$B$2:$B$2000=$A49)*(data_absen!$C$2:$C$2000=Q$3)*(ROW(data_absen!$C$2:$C$2000)))-1)","v":{"$error":"#VALUE!"}},null,"-",{"$f":"INDEX(data_absen!$H$2:$H$2000,SUMPRODUCT((data_absen!$B$2:$B$2000=$A49)*(data_absen!$C$2:$C$2000=Q$3)*(ROW(data_absen!$C$2:$C$2000)))-1)","v":{"$error":"#VALUE!"}},null,{"$f":"INDEX(data_absen!$G$2:$G$2000,SUMPRODUCT((data_absen!$B$2:$B$2000=$A49)*(data_absen!$C$2:$C$2000=V$3)*(ROW(data_absen!$C$2:$C$2000)))-1)","v":{"$error":"#VALUE!"}},null,"-",{"$f":"INDEX(data_absen!$H$2:$H$2000,SUMPRODUCT((data_absen!$B$2:$B$2000=$A49)*(data_absen!$C$2:$C$2000=V$3)*(ROW(data_absen!$C$2:$C$2000)))-1)","v":{"$error":"#VALUE!"}},null,{"$f":"INDEX(data_absen!$G$2:$G$2000,SUMPRODUCT((data_absen!$B$2:$B$2000=$A49)*(data_absen!$C$2:$C$2000=AA$3)*(ROW(data_absen!$C$2:$C$2000)))-1)","v":{"$error":"#VALUE!"}},null,"-",{"$f":"INDEX(data_absen!$H$2:$H$2000,SUMPRODUCT((data_absen!$B$2:$B$2000=$A49)*(data_absen!$C$2:$C$2000=AA$3)*(ROW(data_absen!$C$2:$C$2000)))-1)","v":{"$error":"#VALUE!"}},null,{"$f":"INDEX(data_absen!$G$2:$G$2000,SUMPRODUCT((data_absen!$B$2:$B$2000=$A49)*(data_absen!$C$2:$C$2000=AF$3)*(ROW(data_absen!$C$2:$C$2000)))-1)","v":{"$error":"#VALUE!"}},null,"-",{"$f":"INDEX(data_absen!$H$2:$H$2000,SUMPRODUCT((data_absen!$B$2:$B$2000=$A49)*(data_absen!$C$2:$C$2000=AF$3)*(ROW(data_absen!$C$2:$C$2000)))-1)","v":{"$error":"#VALUE!"}},null,{"$f":"INDEX(data_absen!$G$2:$G$2000,SUMPRODUCT((data_absen!$B$2:$B$2000=$A49)*(data_absen!$C$2:$C$2000=AK$3)*(ROW(data_absen!$C$2:$C$2000)))-1)","v":{"$error":"#VALUE!"}},null,"-",{"$f":"INDEX(data_absen!$H$2:$H$2000,SUMPRODUCT((data_absen!$B$2:$B$2000=$A49)*(data_absen!$C$2:$C$2000=AK$3)*(ROW(data_absen!$C$2:$C$2000)))-1)","v":{"$error":"#VALUE!"}},null,{"$f":"INDEX(data_absen!$G$2:$G$2000,SUMPRODUCT((data_absen!$B$2:$B$2000=$A49)*(data_absen!$C$2:$C$2000=AP$3)*(ROW(data_absen!$C$2:$C$2000)))-1)","v":{"$error":"#VALUE!"}},null,"-",{"$f":"INDEX(data_absen!$H$2:$H$2000,SUMPRODUCT((data_absen!$B$2:$B$2000=$A49)*(data_absen!$C$2:$C$2000=AP$3)*(ROW(data_absen!$C$2:$C$2000)))-1)","v":{"$error":"#VALUE!"}},null,{"$f":"INDEX(data_absen!$G$2:$G$2000,SUMPRODUCT((data_absen!$B$2:$B$2000=$A49)*(data_absen!$C$2:$C$2000=AU$3)*(ROW(data_absen!$C$2:$C$2000)))-1)","v":{"$error":"#VALUE!"}},null,"-",{"$f":"INDEX(data_absen!$H$2:$H$2000,SUMPRODUCT((data_absen!$B$2:$B$2000=$A49)*(data_absen!$C$2:$C$2000=AU$3)*(ROW(data_absen!$C$2:$C$2000)))-1)","v":{"$error":"#VALUE!"}},null,{"$f":"INDEX(data_absen!$G$2:$G$2000,SUMPRODUCT((data_absen!$B$2:$B$2000=$A49)*(data_absen!$C$2:$C$2000=AZ$3)*(ROW(data_absen!$C$2:$C$2000)))-1)","v":{"$error":"#VALUE!"}},null,"-",{"$f":"INDEX(data_absen!$H$2:$H$2000,SUMPRODUCT((data_absen!$B$2:$B$2000=$A49)*(data_absen!$C$2:$C$2000=AZ$3)*(ROW(data_absen!$C$2:$C$2000)))-1)","v":{"$error":"#VALUE!"}},null,{"$f":"INDEX(data_absen!$G$2:$G$2000,SUMPRODUCT((data_absen!$B$2:$B$2000=$A49)*(data_absen!$C$2:$C$2000=BE$3)*(ROW(data_absen!$C$2:$C$2000)))-1)","v":{"$error":"#VALUE!"}},null,"-",{"$f":"INDEX(data_absen!$H$2:$H$2000,SUMPRODUCT((data_absen!$B$2:$B$2000=$A49)*(data_absen!$C$2:$C$2000=BE$3)*(ROW(data_absen!$C$2:$C$2000)))-1)","v":{"$error":"#VALUE!"}},null,{"$f":"INDEX(data_absen!$G$2:$G$2000,SUMPRODUCT((data_absen!$B$2:$B$2000=$A49)*(data_absen!$C$2:$C$2000=BJ$3)*(ROW(data_absen!$C$2:$C$2000)))-1)","v":{"$error":"#VALUE!"}},null,"-",{"$f":"INDEX(data_absen!$H$2:$H$2000,SUMPRODUCT((data_absen!$B$2:$B$2000=$A49)*(data_absen!$C$2:$C$2000=BJ$3)*(ROW(data_absen!$C$2:$C$2000)))-1)","v":{"$error":"#VALUE!"}},null,{"$f":"INDEX(data_absen!$G$2:$G$2000,SUMPRODUCT((data_absen!$B$2:$B$2000=$A49)*(data_absen!$C$2:$C$2000=BO$3)*(ROW(data_absen!$C$2:$C$2000)))-1)","v":{"$error":"#VALUE!"}},null,"-",{"$f":"INDEX(data_absen!$H$2:$H$2000,SUMPRODUCT((data_absen!$B$2:$B$2000=$A49)*(data_absen!$C$2:$C$2000=BO$3)*(ROW(data_absen!$C$2:$C$2000)))-1)","v":{"$error":"#VALUE!"}}]
[116,null,null,"-",null,null,null,null,"-",null,null,null,null,"-",null,null,null,null,"-",null,null,null,null,"-",null,null,null,null,"-",null,null,null,null,"-",null,null,null,null,"-",null,null,null,null,"-",null,null,null,null,"-",null,null,null,null,"-",null,null,null,null,"-",null,null,null,null,"-",null,null,null,null,"-"]
[null,{"$f":"IFERROR(INDEX(data_absen!$K$2:$K$2000,SUMPRODUCT((data_absen!$B$2:$B$2000=$A49)*(data_absen!$C$2:$C$2000=B$3)*(ROW(data_absen!$C$2:$C$2000)))-1)*1440,\"\")","v":60},{"$f":"IFERROR(INDEX(data_absen!$I$2:$I$2000,SUMPRODUCT((data_absen!$B$2:$B$2000=$A49)*(data_absen!$C$2:$C$2000=B$3)*(ROW(data_absen!$C$2:$C$2000)))-1)*1440,\"\")","v":""},null,null,{"$f":"IFERROR(INDEX(data_absen!$J$2:$J$2000,SUMPRODUCT((data_absen!$B$2:$B$2000=$A49)*(data_absen!$C$2:$C$2000=B$3)*(ROW(data_absen!$C$2:$C$2000)))-1)*1440,\"\")","v":""},{"$f":"IFERROR(INDEX(data_absen!$K$2:$K$2000,SUMPRODUCT((data_absen!$B$2:$B$2000=$A49)*(data_absen!$C$2:$C$2000=G$3)*(ROW(data_absen!$C$2:$C$2000)))-1)*1440,\"\")","v":""},{"$f":"IFERROR(INDEX(data_absen!$I$2:$I$2000,SUMPRODUCT((data_absen!$B$2:$B$2000=$A49)*(data_absen!$C$2:$C$2000=G$3)*(ROW(data_absen!$C$2:$C$2000)))-1)*1440,\"\")","v":""},null,null,{"$f":"IFERROR(INDEX(data_absen!$J$2:$J$2000,SUMPRODUCT((data_absen!$B$2:$B$2000=$A49)*(data_absen!$C$2:$C$2000=G$3)*(ROW(data_absen!$C$2:$C$2000)))-1)*1440,\"\")","v":""},{"$f":"IFERROR(INDEX(data_absen!$K$2:$K$2000,SUMPRODUCT((data_absen!$B$2:$B$2000=$A49)*(data_absen!$C$2:$C$2000=L$3)*(ROW(data_absen!$C$2:$C$2000)))-1)*1440,\"\")","v":1},{"$f":"IFERROR(INDEX(data_absen!$I$2:$I$2000,SUMPRODUCT((data_absen!$B$2:$B$2000=$A49)*(data_absen!$C$2:$C$2000=L$3)*(ROW(data_absen!$C$2:$C$2000)))-1)*1440,\"\")","v":""},null,null,{"$f":"IFERROR(INDEX(data_absen!$J$2:$J$2000,SUMPRODUCT((data_absen!$B$2:$B$2000=$A49)*(data_absen!$C$2:$C$2000=L$3)*(ROW(data_absen!$C$2:$C$2000)))-1)*1440,\"\")","v":""},{"$f":"IFERROR(INDEX(data_absen!$K$2:$K$2000,SUMPRODUCT((data_absen!$B$2:$B$2000=$A49)*(data_absen!$C$2:$C$2000=Q$3)*(ROW(data_absen!$C$2:$C$2000)))-1)*1440,\"\")","v":""},{"$f":"IFERROR(INDEX(data_absen!$I$2:$I$2000,SUMPRODUCT((data_absen!$B$2:$B$2000=$A49)*(data_absen!$C$2:$C$2000=Q$3)*(ROW(data_absen!$C$2:$C$2000)))-1)*1440,\"\")","v":""},null,null,{"$f":"IFERROR(INDEX(data_absen!$J$2:$J$2000,SUMPRODUCT((data_absen!$B$2:$B$2000=$A49)*(data_absen!$C$2:$C$2000=Q$3)*(ROW(data_absen!$C$2:$C$2000)))-1)*1440,\"\")","v":""},{"$f":"IFERROR(INDEX(data_absen!$K$2:$K$2000,SUMPRODUCT((data_absen!$B$2:$B$2000=$A49)*(data_absen!$C$2:$C$2000=V$3)*(ROW(data_absen!$C$2:$C$2000)))-1)*1440,\"\")","v":""},{"$f":"IFERROR(INDEX(data_absen!$I$2:$I$2000,SUMPRODUCT((data_absen!$B$2:$B$2000=$A49)*(data_absen!$C$2:$C$2000=V$3)*(ROW(data_absen!$C$2:$C$2000)))-1)*1440,\"\")","v":""},null,null,{"$f":"IFERROR(INDEX(data_absen!$J$2:$J$2000,SUMPRODUCT((data_absen!$B$2:$B$2000=$A49)*(data_absen!$C$2:$C$2000=V$3)*(ROW(data_absen!$C$2:$C$2000)))-1)*1440,\"\")","v":""},{"$f":"IFERROR(INDEX(data_absen!$K$2:$K$2000,SUMPRODUCT((data_absen!$B$2:$B$2000=$A49)*(data_absen!$C$2:$C$2000=AA$3)*(ROW(data_absen!$C$2:$C$2000)))-1)*1440,\"\")","v":""},{"$f":"IFERROR(INDEX(data_absen!$I$2:$I$2000,SUMPRODUCT((data_absen!$B$2:$B$2000=$A49)*(data_absen!$C$2:$C$2000=AA$3)*(ROW(data_absen!$C$2:$C$2000)))-1)*1440,\"\")","v":""},null,null,{"$f":"IFERROR(INDEX(data_absen!$J$2:$J$2000,SUMPRODUCT((data_absen!$B$2:$B$2000=$A49)*(data_absen!$C$2:$C$2000=AA$3)*(ROW(data_absen!$C$2:$C$2000)))-1)*1440,\"\")","v":""},{"$f":"IFERROR(INDEX(data_absen!$K$2:$K$2000,SUMPRODUCT((data_absen!$B$2:$B$2000=$A49)*(data_absen!$C$2:$C$2000=AF$3)*(ROW(data_absen!$C$2:$C$2000)))-1)*1440,\"\")","v":""},{"$f":"IFERROR(INDEX(data_absen!$I$2:$I$2000,SUMPRODUCT((data_absen!$B$2:$B$2000=$A49)*(data_absen!$C$2:$C$2000=AF$3)*(ROW(data_absen!$C$2:$C$2000)))-1)*1440,\"\")","v":""},null,null,{"$f":"IFERROR(INDEX(data_absen!$J$2:$J$2000,SUMPRODUCT((data_absen!$B$2:$B$2000=$A49)*(data_absen!$C$2:$C$2000=AF$3)*(ROW(data_absen!$C$2:$C$2000)))-1)*1440,\"\")","v":""},{"$f":"IFERROR(INDEX(data_absen!$K$2:$K$2000,SUMPRODUCT((data_absen!$B$2:$B$2000=$A49)*(data_absen!$C$2:$C$2000=AK$3)*(ROW(data_absen!$C$2:$C$2000)))-1)*1440,\"\")","v":""},{"$f":"IFERROR(INDEX(data_absen!$I$2:$I$2000,SUMPRODUCT((data_absen!$B$2:$B$2000=$A49)*(data_absen!$C$2:$C$2000=AK$3)*(ROW(data_absen!$C$2:$C$2000)))-1)*1440,\"\")","v":""},null,null,{"$f":"IFERROR(INDEX(data_absen!$J$2:$J$2000,SUMPRODUCT((data_absen!$B$2:$B$2000=$A49)*(data_absen!$C$2:$C$2000=AK$3)*(ROW(data_absen!$C$2:$C$2000)))-1)*1440,\"\")","v":""},{"$f":"IFERROR(INDEX(data_absen!$K$2:$K$2000,SUMPRODUCT((data_absen!$B$2:$B$2000=$A49)*(data_absen!$C$2:$C$2000=AP$3)*(ROW(data_absen!$C$2:$C$2000)))-1)*1440,\"\")","v":""},{"$f":"IFERROR(INDEX(data_absen!$I$2:$I$2000,SUMPRODUCT((data_absen!$B$2:$B$2000=$A49)*(data_absen!$C$2:$C$2000=AP$3)*(ROW(data_absen!$C$2:$C$2000)))-1)*1440,\"\")","v":""},null,null,{"$f":"IFERROR(INDEX(data_absen!$J$2:$J$2000,SUMPRODUCT((data_absen!$B$2:$B$2000=$A49)*(data_absen!$C$2:$C$2000=AP$3)*(ROW(data_absen!$C$2:$C$2000)))-1)*1440,\"\")","v":""},{"$f":"IFERROR(INDEX(data_absen!$K$2:$K$2000,SUMPRODUCT((data_absen!$B$2:$B$2000=$A49)*(data_absen!$C$2:$C$2000=AU$3)*(ROW(data_absen!$C$2:$C$2000)))-1)*1440,\"\")","v":""},{"$f":"IFERROR(INDEX(data_absen!$I$2:$I$2000,SUMPRODUCT((data_absen!$B$2:$B$2000=$A49)*(data_absen!$C$2:$C$2000=AU$3)*(ROW(data_absen!$C$2:$C$2000)))-1)*1440,\"\")","v":""},null,null,{"$f":"IFERROR(INDEX(data_absen!$J$2:$J$2000,SUMPRODUCT((data_absen!$B$2:$B$2000=$A49)*(data_absen!$C$2:$C$2000=AU$3)*(ROW(data_absen!$C$2:$C$2000)))-1)*1440,\"\")","v":""},{"$f":"IFERROR(INDEX(data_absen!$K$2:$K$2000,SUMPRODUCT((data_absen!$B$2:$B$2000=$A49)*(data_absen!$C$2:$C$2000=AZ$3)*(ROW(data_absen!$C$2:$C$2000)))-1)*1440,\"\")","v":""},{"$f":"IFERROR(INDEX(data_absen!$I$2:$I$2000,SUMPRODUCT((data_absen!$B$2:$B$2000=$A49)*(data_absen!$C$2:$C$2000=AZ$3)*(ROW(data_absen!$C$2:$C$2000)))-1)*1440,\"\")","v":""},null,null,{"$f":"IFERROR(INDEX(data_absen!$J$2:$J$2000,SUMPRODUCT((data_absen!$B$2:$B$2000=$A49)*(data_absen!$C$2:$C$2000=AZ$3)*(ROW(data_absen!$C$2:$C$2000)))-1)*1440,\"\")","v":""},{"$f":"IFERROR(INDEX(data_absen!$K$2:$K$2000,SUMPRODUCT((data_absen!$B$2:$B$2000=$A49)*(data_absen!$C$2:$C$2000=BE$3)*(ROW(data_absen!$C$2:$C$2000)))-1)*1440,\"\")","v":""},{"$f":"IFERROR(INDEX(data_absen!$I$2:$I$2000,SUMPRODUCT((data_absen!$B$2:$B$2000=$A49)*(data_absen!$C$2:$C$2000=BE$3)*(ROW(data_absen!$C$2:$C$2000)))-1)*1440,\"\")","v":""},null,null,{"$f":"IFERROR(INDEX(data_absen!$J$2:$J$2000,SUMPRODUCT((data_absen!$B$2:$B$2000=$A49)*(data_absen!$C$2:$C$2000=BE$3)*(ROW(data_absen!$C$2:$C$2000)))-1)*1440,\"\")","v":""},{"$f":"IFERROR(INDEX(data_absen!$K$2:$K$2000,SUMPRODUCT((data_absen!$B$2:$B$2000=$A49)*(data_absen!$C$2:$C$2000=BJ$3)*(ROW(data_absen!$C$2:$C$2000)))-1)*1440,\"\")","v":""},{"$f":"IFERROR(INDEX(data_absen!$I$2:$I$2000,SUMPRODUCT((data_absen!$B$2:$B$2000=$A49)*(data_absen!$C$2:$C$2000=BJ$3)*(ROW(data_absen!$C$2:$C$2000)))-1)*1440,\"\")","v":""},null,null,{"$f":"IFERROR(INDEX(data_absen!$J$2:$J$2000,SUMPRODUCT((data_absen!$B$2:$B$2000=$A49)*(data_absen!$C$2:$C$2000=BJ$3)*(ROW(data_absen!$C$2:$C$2000)))-1)*1440,\"\")","v":""},{"$f":"IFERROR(INDEX(data_absen!$K$2:$K$2000,SUMPRODUCT((data_absen!$B$2:$B$2000=$A49)*(data_absen!$C$2:$C$2000=BO$3)*(ROW(data_absen!$C$2:$C$2000)))-1)*1440,\"\")","v":""},{"$f":"IFERROR(INDEX(data_absen!$I$2:$I$2000,SUMPRODUCT((data_absen!$B$2:$B$2000=$A49)*(data_absen!$C$2:$C$2000=BO$3)*(ROW(data_absen!$C$2:$C$2000)))-1)*1440,\"\")","v":""},null,null,{"$f":"IFERROR(INDEX(data_absen!$J$2:$J$2000,SUMPRODUCT((data_absen!$B$2:$B$2000=$A49)*(data_absen!$C$2:$C$2000=BO$3)*(ROW(data_absen!$C$2:$C$2000)))-1)*1440,\"\")","v":""},{"$f":"COUNTIFS(data_absen!$B$2:$B$2000,$A49,data_absen!$I$2:$I$2000,\">0\")","v":0}]
["Babun",{"$f":"INDEX(data_absen!$G$2:$G$2000,SUMPRODUCT((data_absen!$B$2:$B$2000=$A52)*(data_absen!$C$2:$C$2000=B$3)*(ROW(data_absen!$C$2:$C$2000)))-1)","v":"06:48:00"},null,"-",{"$f":"INDEX(data_absen!$H$2:$H$2000,SUMPRODUCT((data_absen!$B$2:$B$2000=$A52)*(data_absen!$C$2:$C$2000=B$3)*(ROW(data_absen!$C$2:$C$2000)))-1)","v":"16:01:00"},null,{"$f":"INDEX(data_absen!$G$2:$G$2000,SUMPRODUCT((data_absen!$B$2:$B$2000=$A52)*(data_absen!$C$2:$C$2000=G$3)*(ROW(data_absen!$C$2:$C$2000)))-1)","v":"06:46:00"},null,"-",{"$f":"INDEX(data_absen!$H$2:$H$2000,SUMPRODUCT((data_absen!$B$2:$B$2000=$A52)*(data_absen!$C$2:$C$2000=G$3)*(ROW(data_absen!$C$2:$C$2000)))-1)","v":"14:59:00"},null,{"$f":"INDEX(data_absen!$G$2:$G$2000,SUMPRODUCT((data_absen!$B$2:$B$2000=$A52)*(data_absen!$C$2:$C$2000=L$3)*(ROW(data_absen!$C$2:$C$2000)))-1)","v":"06:45:00"},null,"-",{"$f":"INDEX(data_absen!$H$2:$H$2000,SUMPRODUCT((data_absen!$B$2:$B$2000=$A52)*(data_absen!$C$2:$C$2000=L$3)*(ROW(data_absen!$C$2:$C$2000)))-1)","v":"15:00:00"},null,{"$f":"INDEX(data_absen!$G$2:$G$2000,SUMPRODUCT((data_absen!$B$2:$B$2000=$A52)*(data_absen!$C$2:$C$2000=Q$3)*(ROW(data_absen!$C$2:$C$2000)))-1)","v":{"$error":"#VALUE!"}},null,"-",{"$f":"INDEX(data_absen!$H$2:$H$2000,SUMPRODUCT((data_absen!$B$2:$B$2000=$A52)*(data_absen!$C$2:$C$2000=Q$3)*(ROW(data_absen!$C$2:$C$2000)))-1)","v":{"$error":"#VALUE!"}},null,{"$f":"INDEX(data_absen!$G$2:$G$2000,SUMPRODUCT((data_absen!$B$2:$B$2000=$A52)*(data_absen!$C$2:$C$2000=V$3)*(ROW(data_absen!$C$2:$C$2000)))-1)","v":{"$error":"#VALUE!"}},null,"-",{"$f":"INDEX(data_absen!$H$2:$H$2000,SUMPRODUCT((data_absen!$B$2:$B$2000=$A52)*(data_absen!$C$2:$C$2000=V$3)*(ROW(data_absen!$C$2:$C$2000)))-1)","v":{"$error":"#VALUE!"}},null,{"$f":"INDEX(data_absen!$G$2:$G$2000,SUMPRODUCT((data_absen!$B$2:$B$2000=$A52)*(data_absen!$C$2:$C$2000=AA$3)*(ROW(data_absen!$C$2:$C$2000)))-1)","v":{"$error":"#VALUE!"}},null,"-",{"$f":"INDEX(data_absen!$H$2:$H$2000,SUMPRODUCT((data_absen!$B$2:$B$2000=$A52)*(data_absen!$C$2:$C$2000=AA$3)*(ROW(data_absen!$C$2:$C$2000)))-1)","v":{"$error":"#VALUE!"}},null,{"$f":"INDEX(data_absen!$G$2:$G$2000,SUMPRODUCT((data_absen!$B$2:$B$2000=$A52)*(data_absen!$C$2:$C$2000=AF$3)*(ROW(data_absen!$C$2:$C$2000)))-1)","v":{"$error":"#VALUE!"}},null,"-",{"$f":"INDEX(data_absen!$H$2:$H$2000,SUMPRODUCT((data_absen!$B$2:$B$2000=$A52)*(data_absen!$C$2:$C$2000=AF$3)*(ROW(data_absen!$C$2:$C$2000)))-1)","v":{"$error":"#VALUE!"}},null,{"$f":"INDEX(data_absen!$G$2:$G$2000,SUMPRODUCT((data_absen!$B$2:$B$2000=$A52)*(data_absen!$C$2:$C$2000=AK$3)*(ROW(data_absen!$C$2:$C$2000)))-1)","v":{"$error":"#VALUE!"}},null,"-",{"$f":"INDEX(data_absen!$H$2:$H$2000,SUMPRODUCT((data_absen!$B$2:$B$2000=$A52)*(data_absen!$C$2:$C$2000=AK$3)*(ROW(data_absen!$C$2:$C$2000)))-1)","v":{"$error":"#VALUE!"}},null,{"$f":"INDEX(data_absen!$G$2:$G$2000,SUMPRODUCT((data_absen!$B$2:$B$2000=$A52)*(data_absen!$C$2:$C$2000=AP$3)*(ROW(data_absen!$C$2:$C$2000)))-1)","v":{"$error":"#VALUE!"}},null,"-",{"$f":"INDEX(data_absen!$H$2:$H$2000,SUMPRODUCT((data_absen!$B$2:$B$2000=$A52)*(data_absen!$C$2:$C$2000=AP$3)*(ROW(data_absen!$C$2:$C$2000)))-1)","v":{"$error":"#VALUE!"}},null,{"$f":"INDEX(data_absen!$G$2:$G$2000,SUMPRODUCT((data_absen!$B$2:$B$2000=$A52)*(data_absen!$C$2:$C$2000=AU$3)*(ROW(data_absen!$C$2:$C$2000)))-1)","v":{"$error":"#VALUE!"}},null,"-",{"$f":"INDEX(data_absen!$H$2:$H$2000,SUMPRODUCT((data_absen!$B$2:$B$2000=$A52)*(data_absen!$C$2:$C$2000=AU$3)*(ROW(data_absen!$C$2:$C$2000)))-1)","v":{"$error":"#VALUE!"}},null,{"$f":"INDEX(data_absen!$G$2:$G$2000,SUMPRODUCT((data_absen!$B$2:$B$2000=$A52)*(data_absen!$C$2:$C$2000=AZ$3)*(ROW(data_absen!$C$2:$C$2000)))-1)","v":{"$error":"#VALUE!"}},null,"-",{"$f":"INDEX(data_absen!$H$2:$H$2000,SUMPRODUCT((data_absen!$B$2:$B$2000=$A52)*(data_absen!$C$2:$C$2000=AZ$3)*(ROW(data_absen!$C$2:$C$2000)))-1)","v":{"$error":"#VALUE!"}},null,{"$f":"INDEX(data_absen!$G$2:$G$2000,SUMPRODUCT((data_absen!$B$2:$B$2000=$A52)*(data_absen!$C$2:$C$2000=BE$3)*(ROW(data_absen!$C$2:$C$2000)))-1)","v":{"$error":"#VALUE!"}},null,"-",{"$f":"INDEX(data_absen!$H$2:$H$2000,SUMPRODUCT((data_absen!$B$2:$B$2000=$A52)*(data_absen!$C$2:$C$2000=BE$3)*(ROW(data_absen!$C$2:$C$2000)))-1)","v":{"$error":"#VALUE!"}},null,{"$f":"INDEX(data_absen!$G$2:$G$2000,SUMPRODUCT((data_absen!$B$2:$B$2000=$A52)*(data_absen!$C$2:$C$2000=BJ$3)*(ROW(data_absen!$C$2:$C$2000)))-1)","v":{"$error":"#VALUE!"}},null,"-",{"$f":"INDEX(data_absen!$H$2:$H$2000,SUMPRODUCT((data_absen!$B$2:$B$2000=$A52)*(data_absen!$C$2:$C$2000=BJ$3)*(ROW(data_absen!$C$2:$C$2000)))-1)","v":{"$error":"#VALUE!"}},null,{"$f":"INDEX(data_absen!$G$2:$G$2000,SUMPRODUCT((data_absen!$B$2:$B$2000=$A52)*(data_absen!$C$2:$C$2000=BO$3)*(ROW(data_absen!$C$2:$C$2000)))-1)","v":{"$error":"#VALUE!"}},null,"-",{"$f":"INDEX(data_absen!$H$2:$H$2000,SUMPRODUCT((data_absen!$B$2:$B$2000=$A52)*(data_absen!$C$2:$C$2000=BO$3)*(ROW(data_absen!$C$2:$C$2000)))-1)","v":{"$error":"#VALUE!"}}]
[117,null,null,"-",null,null,null,null,"-",null,null,null,null,"-",null,null,null,null,"-",null,null,null,null,"-",null,null,null,null,"-",null,null,null,null,"-",null,null,null,null,"-",null,null,null,null,"-",null,null,null,null,"-",null,null,null,null,"-",null,null,null,null,"-",null,null,null,null,"-",null,null,null,null,"-"]
[null,{"$f":"IFERROR(INDEX(data_absen!$K$2:$K$2000,SUMPRODUCT((data_absen!$B$2:$B$2000=$A52)*(data_absen!$C$2:$C$2000=B$3)*(ROW(data_absen!$C$2:$C$2000)))-1)*1440,\"\")","v":60.999999999999993},{"$f":"IFERROR(INDEX(data_absen!$I$2:$I$2000,SUMPRODUCT((data_absen!$B$2:$B$2000=$A52)*(data_absen!$C$2:$C$2000=B$3)*(ROW(data_absen!$C$2:$C$2000)))-1)*1440,\"\")","v":""},null,null,{"$f":"IFERROR(INDEX(data_absen!$J$2:$J$2000,SUMPRODUCT((data_absen!$B$2:$B$2000=$A52)*(data_absen!$C$2:$C$2000=B$3)*(ROW(data_absen!$C$2:$C$2000)))-1)*1440,\"\")","v":""},{"$f":"IFERROR(INDEX(data_absen!$K$2:$K$2000,SUMPRODUCT((data_absen!$B$2:$B$2000=$A52)*(data_absen!$C$2:$C$2000=G$3)*(ROW(data_absen!$C$2:$C$2000)))-1)*1440,\"\")","v":""},{"$f":"IFERROR(INDEX(data_absen!$I$2:$I$2000,SUMPRODUCT((data_absen!$B$2:$B$2000=$A52)*(data_absen!$C$2:$C$2000=G$3)*(ROW(data_absen!$C$2:$C$2000)))-1)*1440,\"\")","v":""},null,null,{"$f":"IFERROR(INDEX(data_absen!$J$2:$J$2000,SUMPRODUCT((data_absen!$B$2:$B$2000=$A52)*(data_absen!$C$2:$C$2000=G$3)*(ROW(data_absen!$C$2:$C$2000)))-1)*1440,\"\")","v":""},{"$f":"IFERROR(INDEX(data_absen!$K$2:$K$2000,SUMPRODUCT((data_absen!$B$2:$B$2000=$A52)*(data_absen!$C$2:$C$2000=L$3)*(ROW(data_absen!$C$2:$C$2000)))-1)*1440,\"\")","v":0},{"$f":"IFERROR(INDEX(data_absen!$I$2:$I$2000,SUMPRODUCT((data_absen!$B$2:$B$2000=$A52)*(data_absen!$C$2:$C$2000=L$3)*(ROW(data_absen!$C$2:$C$2000)))-1)*1440,\"\")","v":""},null,null,{"$f":"IFERROR(INDEX(data_absen!$J$2:$J$2000,SUMPRODUCT((data_absen!$B$2:$B$2000=$A52)*(data_absen!$C$2:$C$2000=L$3)*(ROW(data_absen!$C$2:$C$2000)))-1)*1440,\"\")","v":""},{"$f":"IFERROR(INDEX(data_absen!$K$2:$K$2000,SUMPRODUCT((data_absen!$B$2:$B$2000=$A52)*(data_absen!$C$2:$C$2000=Q$3)*(ROW(data_absen!$C$2:$C$2000)))-1)*1440,\"\")","v":""},{"$f":"IFERROR(INDEX(data_absen!$I$2:$I$2000,SUMPRODUCT((data_absen!$B$2:$B$2000=$A52)*(data_absen!$C$2:$C$2000=Q$3)*(ROW(data_absen!$C$2:$C$2000)))-1)*1440,\"\")","v":""},null,null,{"$f":"IFERROR(INDEX(data_absen!$J$2:$J$2000,SUMPRODUCT((data_absen!$B$2:$B$2000=$A52)*(data_absen!$C$2:$C$2000=Q$3)*(ROW(data_absen!$C$2:$C$2000)))-1)*1440,\"\")","v":""},{"$f":"IFERROR(INDEX(data_absen!$K$2:$K$2000,SUMPRODUCT((data_absen!$B$2:$B$2000=$A52)*(data_absen!$C$2:$C$2000=V$3)*(ROW(data_absen!$C$2:$C$2000)))-1)*1440,\"\")","v":""},{"$f":"IFERROR(INDEX(data_absen!$I$2:$I$2000,SUMPRODUCT((data_absen!$B$2:$B$2000=$A52)*(data_absen!$C$2:$C$2000=V$3)*(ROW(data_absen!$C$2:$C$2000)))-1)*1440,\"\")","v":""},null,null,{"$f":"IFERROR(INDEX(data_absen!$J$2:$J$2000,SUMPRODUCT((data_absen!$B$2:$B$2000=$A52)*(data_absen!$C$2:$C$2000=V$3)*(ROW(data_absen!$C$2:$C$2000)))-1)*1440,\"\")","v":""},{"$f":"IFERROR(INDEX(data_absen!$K$2:$K$2000,SUMPRODUCT((data_absen!$B$2:$B$2000=$A52)*(data_absen!$C$2:$C$2000=AA$3)*(ROW(data_absen!$C$2:$C$2000)))-1)*1440,\"\")","v":""},{"$f":"IFERROR(INDEX(data_absen!$I$2:$I$2000,SUMPRODUCT((data_absen!$B$2:$B$2000=$A52)*(data_absen!$C$2:$C$2000=AA$3)*(ROW(data_absen!$C$2:$C$2000)))-1)*1440,\"\")","v":""},null,null,{"$f":"IFERROR(INDEX(data_absen!$J$2:$J$2000,SUMPRODUCT((data_absen!$B$2:$B$2000=$A52)*(data_absen!$C$2:$C$2000=AA$3)*(ROW(data_absen!$C$2:$C$2000)))-1)*1440,\"\")","v":""},{"$f":"IFERROR(INDEX(data_absen!$K$2:$K$2000,SUMPRODUCT((data_absen!$B$2:$B$2000=$A52)*(data_absen!$C$2:$C$2000=AF$3)*(ROW(data_absen!$C$2:$C$2000)))-1)*1440,\"\")","v":""},{"$f":"IFERROR(INDEX(data_absen!$I$2:$I$2000,SUMPRODUCT((data_absen!$B$2:$B$2000=$A52)*(data_absen!$C$2:$C$2000=AF$3)*(ROW(data_absen!$C$2:$C$2000)))-1)*1440,\"\")","v":""},null,null,{"$f":"IFERROR(INDEX(data_absen!$J$2:$J$2000,SUMPRODUCT((data_absen!$B$2:$B$2000=$A52)*(data_absen!$C$2:$C$2000=AF$3)*(ROW(data_absen!$C$2:$C$2000)))-1)*1440,\"\")","v":""},{"$f":"IFERROR(INDEX(data_absen!$K$2:$K$2000,SUMPRODUCT((data_absen!$B$2:$B$2000=$A52)*(data_absen!$C$2:$C$2000=AK$3)*(ROW(data_absen!$C$2:$C$2000)))-1)*1440,\"\")","v":""},{"$f":"IFERROR(INDEX(data_absen!$I$2:$I$2000,SUMPRODUCT((data_absen!$B$2:$B$2000=$A52)*(data_absen!$C$2:$C$2000=AK$3)*(ROW(data_absen!$C$2:$C$2000)))-1)*1440,\"\")","v":""},null,null,{"$f":"IFERROR(INDEX(data_absen!$J$2:$J$2000,SUMPRODUCT((data_absen!$B$2:$B$2000=$A52)*(data_absen!$C$2:$C$2000=AK$3)*(ROW(data_absen!$C$2:$C$2000)))-1)*1440,\"\")","v":""},{"$f":"IFERROR(INDEX(data_absen!$K$2:$K$2000,SUMPRODUCT((data_absen!$B$2:$B$2000=$A52)*(data_absen!$C$2:$C$2000=AP$3)*(ROW(data_absen!$C$2:$C$2000)))-1)*1440,\"\")","v":""},{"$f":"IFERROR(INDEX(data_absen!$I$2:$I$2000,SUMPRODUCT((data_absen!$B$2:$B$2000=$A52)*(data_absen!$C$2:$C$2000=AP$3)*(ROW(data_absen!$C$2:$C$2000)))-1)*1440,\"\")","v":""},null,null,{"$f":"IFERROR(INDEX(data_absen!$J$2:$J$2000,SUMPRODUCT((data_absen!$B$2:$B$2000=$A52)*(data_absen!$C$2:$C$2000=AP$3)*(ROW(data_absen!$C$2:$C$2000)))-1)*1440,\"\")","v":""},{"$f":"IFERROR(INDEX(data_absen!$K$2:$K$2000,SUMPRODUCT((data_absen!$B$2:$B$2000=$A52)*(data_absen!$C$2:$C$2000=AU$3)*(ROW(data_absen!$C$2:$C$2000)))-1)*1440,\"\")","v":""},{"$f":"IFERROR(INDEX(data_absen!$I$2:$I$2000,SUMPRODUCT((data_absen!$B$2:$B$2000=$A52)*(data_absen!$C$2:$C$2000=AU$3)*(ROW(data_absen!$C$2:$C$2000)))-1)*1440,\"\")","v":""},null,null,{"$f":"IFERROR(INDEX(data_absen!$J$2:$J$2000,SUMPRODUCT((data_absen!$B$2:$B$2000=$A52)*(data_absen!$C$2:$C$2000=AU$3)*(ROW(data_absen!$C$2:$C$2000)))-1)*1440,\"\")","v":""},{"$f":"IFERROR(INDEX(data_absen!$K$2:$K$2000,SUMPRODUCT((data_absen!$B$2:$B$2000=$A52)*(data_absen!$C$2:$C$2000=AZ$3)*(ROW(data_absen!$C$2:$C$2000)))-1)*1440,\"\")","v":""},{"$f":"IFERROR(INDEX(data_absen!$I$2:$I$2000,SUMPRODUCT((data_absen!$B$2:$B$2000=$A52)*(data_absen!$C$2:$C$2000=AZ$3)*(ROW(data_absen!$C$2:$C$2000)))-1)*1440,\"\")","v":""},null,null,{"$f":"IFERROR(INDEX(data_absen!$J$2:$J$2000,SUMPRODUCT((data_absen!$B$2:$B$2000=$A52)*(data_absen!$C$2:$C$2000=AZ$3)*(ROW(data_absen!$C$2:$C$2000)))-1)*1440,\"\")","v":""},{"$f":"IFERROR(INDEX(data_absen!$K$2:$K$2000,SUMPRODUCT((data_absen!$B$2:$B$2000=$A52)*(data_absen!$C$2:$C$2000=BE$3)*(ROW(data_absen!$C$2:$C$2000)))-1)*1440,\"\")","v":""},{"$f":"IFERROR(INDEX(data_absen!$I$2:$I$2000,SUMPRODUCT((data_absen!$B$2:$B$2000=$A52)*(data_absen!$C$2:$C$2000=BE$3)*(ROW(data_absen!$C$2:$C$2000)))-1)*1440,\"\")","v":""},null,null,{"$f":"IFERROR(INDEX(data_absen!$J$2:$J$2000,SUMPRODUCT((data_absen!$B$2:$B$2000=$A52)*(data_absen!$C$2:$C$2000=BE$3)*(ROW(data_absen!$C$2:$C$2000)))-1)*1440,\"\")","v":""},{"$f":"IFERROR(INDEX(data_absen!$K$2:$K$2000,SUMPRODUCT((data_absen!$B$2:$B$2000=$A52)*(data_absen!$C$2:$C$2000=BJ$3)*(ROW(data_absen!$C$2:$C$2000)))-1)*1440,\"\")","v":""},{"$f":"IFERROR(INDEX(data_absen!$I$2:$I$2000,SUMPRODUCT((data_absen!$B$2:$B$2000=$A52)*(data_absen!$C$2:$C$2000=BJ$3)*(ROW(data_absen!$C$2:$C$2000)))-1)*1440,\"\")","v":""},null,null,{"$f":"IFERROR(INDEX(data_absen!$J$2:$J$2000,SUMPRODUCT((data_absen!$B$2:$B$2000=$A52)*(data_absen!$C$2:$C$2000=BJ$3)*(ROW(data_absen!$C$2:$C$2000)))-1)*1440,\"\")","v":""},{"$f":"IFERROR(INDEX(data_absen!$K$2:$K$2000,SUMPRODUCT((data_absen!$B$2:$B$2000=$A52)*(data_absen!$C$2:$C$2000=BO$3)*(ROW(data_absen!$C$2:$C$2000)))-1)*1440,\"\")","v":""},{"$f":"IFERROR(INDEX(data_absen!$I$2:$I$2000,SUMPRODUCT((data_absen!$B$2:$B$2000=$A52)*(data_absen!$C$2:$C$2000=BO$3)*(ROW(data_absen!$C$2:$C$2000)))-1)*1440,\"\")","v":""},null,null,{"$f":"IFERROR(INDEX(data_absen!$J$2:$J$2000,SUMPRODUCT((data_absen!$B$2:$B$2000=$A52)*(data_absen!$C$2:$C$2000=BO$3)*(ROW(data_absen!$C$2:$C$2000)))-1)*1440,\"\")","v":""},{"$f":"COUNTIFS(data_absen!$B$2:$B$2000,$A52,data_absen!$I$2:$I$2000,\">0\")","v":0}]
["Farida",{"$f":"INDEX(data_absen!$G$2:$G$2000,SUMPRODUCT((data_absen!$B$2:$B$2000=$A55)*(data_absen!$C$2:$C$2000=B$3)*(ROW(data_absen!$C$2:$C$2000)))-1)","v":"06:47:00"},null,"-",{"$f":"INDEX(data_absen!$H$2:$H$2000,SUMPRODUCT((data_absen!$B$2:$B$2000=$A55)*(data_absen!$C$2:$C$2000=B$3)*(ROW(data_absen!$C$2:$C$2000)))-1)","v":""},null,{"$f":"INDEX(data_absen!$G$2:$G$2000,SUMPRODUCT((data_absen!$B$2:$B$2000=$A55)*(data_absen!$C$2:$C$2000=G$3)*(ROW(data_absen!$C$2:$C$2000)))-1)","v":"06:46:00"},null,"-",{"$f":"INDEX(data_absen!$H$2:$H$2000,SUMPRODUCT((data_absen!$B$2:$B$2000=$A55)*(data_absen!$C$2:$C$2000=G$3)*(ROW(data_absen!$C$2:$C$2000)))-1)","v":"14:58:00"},null,{"$f":"INDEX(data_absen!$G$2:$G$2000,SUMPRODUCT((data_absen!$B$2:$B$2000=$A55)*(data_absen!$C$2:$C$2000=L$3)*(ROW(data_absen!$C$2:$C$2000)))-1)","v":"06:44:00"},null,"-",{"$f":"INDEX(data_absen!$H$2:$H$2000,SUMPRODUCT((data_absen!$B$2:$B$2000=$A55)*(data_absen!$C$2:$C$2000=L$3)*(ROW(data_absen!$C$2:$C$2000)))-1)","v":"15:04:00"},null,{"$f":"INDEX(data_absen!$G$2:$G$2000,SUMPRODUCT((data_absen!$B$2:$B$2000=$A55)*(data_absen!$C$2:$C$2000=Q$3)*(ROW(data_absen!$C$2:$C$2000)))-1)","v":{"$error":"#VALUE!"}},null,"-",{"$f":"INDEX(data_absen!$H$2:$H$2000,SUMPRODUCT((data_absen!$B$2:$B$2000=$A55)*(data_absen!$C$2:$C$2000=Q$3)*(ROW(data_absen!$C$2:$C$2000)))-1)","v":{"$error":"#VALUE!"}},null,{"$f":"INDEX(data_absen!$G$2:$G$2000,SUMPRODUCT((data_absen!$B$2:$B$2000=$A55)*(data_absen!$C$2:$C$2000=V$3)*(ROW(data_absen!$C$2:$C$2000)))-1)","v":{"$error":"#VALUE!"}},null,"-",{"$f":"INDEX(data_absen!$H$2:$H$2000,SUMPRODUCT((data_absen!$B$2:$B$2000=$A55)*(data_absen!$C$2:$C$2000=V$3)*(ROW(data_absen!$C$2:$C$2000)))-1)","v":{"$error":"#VALUE!"}},null,{"$f":"INDEX(data_absen!$G$2:$G$2000,SUMPRODUCT((data_absen!$B$2:$B$2000=$A55)*(data_absen!$C$2:$C$2000=AA$3)*(ROW(data_absen!$C$2:$C$2000)))-1)","v":{"$error":"#VALUE!"}},null,"-",{"$f":"INDEX(data_absen!$H$2:$H$2000,SUMPRODUCT((data_absen!$B$2:$B$2000=$A55)*(data_absen!$C$2:$C$2000=AA$3)*(ROW(data_absen!$C$2:$C$2000)))-1)","v":{"$error":"#VALUE!"}},null,{"$f":"INDEX(data_absen!$G$2:$G$2000,SUMPRODUCT((data_absen!$B$2:$B$2000=$A55)*(data_absen!$C$2:$C$2000=AF$3)*(ROW(data_absen!$C$2:$C$2000)))-1)","v":{"$error":"#VALUE!"}},null,"-",{"$f":"INDEX(data_absen!$H$2:$H$2000,SUMPRODUCT((data_absen!$B$2:$B$2000=$A55)*(data_absen!$C$2:$C$2000=AF$3)*(ROW(data_absen!$C$2:$C$2000)))-1)","v":{"$error":"#VALUE!"}},null,{"$f":"INDEX(data_absen!$G$2:$G$2000,SUMPRODUCT((data_absen!$B$2:$B$2000=$A55)*(data_absen!$C$2:$C$2000=AK$3)*(ROW(data_absen!$C$2:$C$2000)))-1)","v":{"$error":"#VALUE!"}},null,"-",{"$f":"INDEX(data_absen!$H$2:$H$2000,SUMPRODUCT((data_absen!$B$2:$B$2000=$A55)*(data_absen!$C$2:$C$2000=AK$3)*(ROW(data_absen!$C$2:$C$2000)))-1)","v":{"$error":"#VALUE!"}},null,{"$f":"INDEX(data_absen!$G$2:$G$2000,SUMPRODUCT((data_absen!$B$2:$B$2000=$A55)*(data_absen!$C$2:$C$2000=AP$3)*(ROW(data_absen!$C$2:$C$2000)))-1)","v":{"$error":"#VALUE!"}},null,"-",{"$f":"INDEX(data_absen!$H$2:$H$2000,SUMPRODUCT((data_absen!$B$2:$B$2000=$A55)*(data_absen!$C$2:$C$2000=AP$3)*(ROW(data_absen!$C$2:$C$2000)))-1)","v":{"$error":"#VALUE!"}},null,{"$f":"INDEX(data_absen!$G$2:$G$2000,SUMPRODUCT((data_absen!$B$2:$B$2000=$A55)*(data_absen!$C$2:$C$2000=AU$3)*(ROW(data_absen!$C$2:$C$2000)))-1)","v":{"$error":"#VALUE!"}},null,"-",{"$f":"INDEX(data_absen!$H$2:$H$2000,SUMPRODUCT((data_absen!$B$2:$B$2000=$A55)*(data_absen!$C$2:$C$2000=AU$3)*(ROW(data_absen!$C$2:$C$2000)))-1)","v":{"$error":"#VALUE!"}},null,{"$f":"INDEX(data_absen!$G$2:$G$2000,SUMPRODUCT((data_absen!$B$2:$B$2000=$A55)*(data_absen!$C$2:$C$2000=AZ$3)*(ROW(data_absen!$C$2:$C$2000)))-1)","v":""},null,"-",{"$f":"INDEX(data_absen!$H$2:$H$2000,SUMPRODUCT((data_absen!$B$2:$B$2000=$A55)*(data_absen!$C$2:$C$2000=AZ$3)*(ROW(data_absen!$C$2:$C$2000)))-1)","v":""},null,{"$f":"INDEX(data_absen!$G$2:$G$2000,SUMPRODUCT((data_absen!$B$2:$B$2000=$A55)*(data_absen!$C$2:$C$2000=BE$3)*(ROW(data_absen!$C$2:$C$2000)))-1)","v":""},null,"-",{"$f":"INDEX(data_absen!$H$2:$H$2000,SUMPRODUCT((data_absen!$B$2:$B$2000=$A55)*(data_absen!$C$2:$C$2000=BE$3)*(ROW(data_absen!$C$2:$C$2000)))-1)","v":""},null,{"$f":"INDEX(data_absen!$G$2:$G$2000,SUMPRODUCT((data_absen!$B$2:$B$2000=$A55)*(data_absen!$C$2:$C$2000=BJ$3)*(ROW(data_absen!$C$2:$C$2000)))-1)","v":""},null,"-",{"$f":"INDEX(data_absen!$H$2:$H$2000,SUMPRODUCT((data_absen!$B$2:$B$2000=$A55)*(data_absen!$C$2:$C$2000=BJ$3)*(ROW(data_absen!$C$2:$C$2000)))-1)","v":""},null,{"$f":"INDEX(data_absen!$G$2:$G$2000,SUMPRODUCT((data_absen!$B$2:$B$2000=$A55)*(data_absen!$C$2:$C$2000=BO$3)*(ROW(data_absen!$C$2:$C$2000)))-1)","v":""},null,"-",{"$f":"INDEX(data_absen!$H$2:$H$2000,SUMPRODUCT((data_absen!$B$2:$B$2000=$A55)*(data_absen!$C$2:$C$2000=BO$3)*(ROW(data_absen!$C$2:$C$2000)))-1)","v":""}]
[118,null,null,"-",null,null,null,null,"-",null,null,null,null,"-",null,null,null,null,"-",null,null,null,null,"-",null,null,null,null,"-",null,null,null,null,"-",null,null,null,null,"-",null,null,null,null,"-",null,null,null,null,"-",null,null,null,null,"-",null,null,null,null,"-",null,null,null,null,"-",null,null,null,null,"-"]
[null,{"$f":"IFERROR(INDEX(data_absen!$K$2:$K$2000,SUMPRODUCT((data_absen!$B$2:$B$2000=$A55)*(data_absen!$C$2:$C$2000=B$3)*(ROW(data_absen!$C$2:$C$2000)))-1)*1440,\"\")","v":""},{"$f":"IFERROR(INDEX(data_absen!$I$2:$I$2000,SUMPRODUCT((data_absen!$B$2:$B$2000=$A55)*(data_absen!$C$2:$C$2000=B$3)*(ROW(data_absen!$C$2:$C$2000)))-1)*1440,\"\")","v":""},null,null,{"$f":"IFERROR(INDEX(data_absen!$J$2:$J$2000,SUMPRODUCT((data_absen!$B$2:$B$2000=$A55)*(data_absen!$C$2:$C$2000=B$3)*(ROW(data_absen!$C$2:$C$2000)))-1)*1440,\"\")","v":120},{"$f":"IFERROR(INDEX(data_absen!$K$2:$K$2000,SUMPRODUCT((data_absen!$B$2:$B$2000=$A55)*(data_absen!$C$2:$C$2000=G$3)*(ROW(data_absen!$C$2:$C$2000)))-1)*1440,\"\")","v":""},{"$f":"IFERROR(INDEX(data_absen!$I$2:$I$2000,SUMPRODUCT((data_absen!$B$2:$B$2000=$A55)*(data_absen!$C$2:$C$2000=G$3)*(ROW(data_absen!$C$2:$C$2000)))-1)*1440,\"\")","v":""},null,null,{"$f":"IFERROR(INDEX(data_absen!$J$2:$J$2000,SUMPRODUCT((data_absen!$B$2:$B$2000=$A55)*(data_absen!$C$2:$C$2000=G$3)*(ROW(data_absen!$C$2:$C$2000)))-1)*1440,\"\")","v":""},{"$f":"IFERROR(INDEX(data_absen!$K$2:$K$2000,SUMPRODUCT((data_absen!$B$2:$B$2000=$A55)*(data_absen!$C$2:$C$2000=L$3)*(ROW(data_absen!$C$2:$C$2000)))-1)*1440,\"\")","v":4},{"$f":"IFERROR(INDEX(data_absen!$I$2:$I$2000,SUMPRODUCT((data_absen!$B$2:$B$2000=$A55)*(data_absen!$C$2:$C$2000=L$3)*(ROW(data_absen!$C$2:$C$2000)))-1)*1440,\"\")","v":""},null,null,{"$f":"IFERROR(INDEX(data_absen!$J$2:$J$2000,SUMPRODUCT((data_absen!$B$2:$B$2000=$A55)*(data_absen!$C$2:$C$2000=L$3)*(ROW(data_absen!$C$2:$C$2000)))-1)*1440,\"\")","v":""},{"$f":"IFERROR(INDEX(data_absen!$K$2:$K$2000,SUMPRODUCT((data_absen!$B$2:$B$2000=$A55)*(data_absen!$C$2:$C$2000=Q$3)*(ROW(data_absen!$C$2:$C$2000)))-1)*1440,\"\")","v":""},{"$f":"IFERROR(INDEX(data_absen!$I$2:$I$2000,SUMPRODUCT((data_absen!$B$2:$B$2000=$A55)*(data_absen!$C$2:$C$2000=Q$3)*(ROW(data_absen!$C$2:$C$2000)))-1)*1440,\"\")","v":""},null,null,{"$f":"IFERROR(INDEX(data_absen!$J$2:$J$2000,SUMPRODUCT((data_absen!$B$2:$B$2000=$A55)*(data_absen!$C$2:$C$2000=Q$3)*(ROW(data_absen!$C$2:$C$2000)))-1)*1440,\"\")","v":""},{"$f":"IFERROR(INDEX(data_absen!$K$2:$K$2000,SUMPRODUCT((data_absen!$B$2:$B$2000=$A55)*(data_absen!$C$2:$C$2000=V$3)*(ROW(data_absen!$C$2:$C$2000)))-1)*1440,\"\")","v":""},{"$f":"IFERROR(INDEX(data_absen!$I$2:$I$2000,SUMPRODUCT((data_absen!$B$2:$B$2000=$A55)*(data_absen!$C$2:$C$2000=V$3)*(ROW(data_absen!$C$2:$C$2000)))-1)*1440,\"\")","v":""},null,null,{"$f":"IFERROR(INDEX(data_absen!$J$2:$J$2000,SUMPRODUCT((data_absen!$B$2:$B$2000=$A55)*(data_absen!$C$2:$C$2000=V$3)*(ROW(data_absen!$C$2:$C$2000)))-1)*1440,\"\")","v":""},{"$f":"IFERROR(INDEX(data_absen!$K$2:$K$2000,SUMPRODUCT((data_absen!$B$2:$B$2000=$A55)*(data_absen!$C$2:$C$2000=AA$3)*(ROW(data_absen!$C$2:$C$2000)))-1)*1440,\"\")","v":""},{"$f":"IFERROR(INDEX(data_absen!$I$2:$I$2000,SUMPRODUCT((data_absen!$B$2:$B$2000=$A55)*(data_absen!$C$2:$C$2000=AA$3)*(ROW(data_absen!$C$2:$C$2000)))-1)*1440,\"\")","v":""},null,null,{"$f":"IFERROR(INDEX(data_absen!$J$2:$J$2000,SUMPRODUCT((data_absen!$B$2:$B$2000=$A55)*(data_absen!$C$2:$C$2000=AA$3)*(ROW(data_absen!$C$2:$C$2000)))-1)*1440,\"\")","v":""},{"$f":"IFERROR(INDEX(data_absen!$K$2:$K$2000,SUMPRODUCT((data_absen!$B$2:$B$2000=$A55)*(data_absen!$C$2:$C$2000=AF$3)*(ROW(data_absen!$C$2:$C$2000)))-1)*1440,\"\")","v":""},{"$f":"IFERROR(INDEX(data_absen!$I$2:$I$2000,SUMPRODUCT((data_absen!$B$2:$B$2000=$A55)*(data_absen!$C$2:$C$2000=AF$3)*(ROW(data_absen!$C$2:$C$2000)))-1)*1440,\"\")","v":""},null,null,{"$f":"IFERROR(INDEX(data_absen!$J$2:$J$2000,SUMPRODUCT((data_absen!$B$2:$B$2000=$A55)*(data_absen!$C$2:$C$2000=AF$3)*(ROW(data_absen!$C$2:$C$2000)))-1)*1440,\"\")","v":""},{"$f":"IFERROR(INDEX(data_absen!$K$2:$K$2000,SUMPRODUCT((data_absen!$B$2:$B$2000=$A55)*(data_absen!$C$2:$C$2000=AK$3)*(ROW(data_absen!$C$2:$C$2000)))-1)*1440,\"\")","v":""},{"$f":"IFERROR(INDEX(data_absen!$I$2:$I$2000,SUMPRODUCT((data_absen!$B$2:$B$2000=$A55)*(data_absen!$C$2:$C$2000=AK$3)*(ROW(data_absen!$C$2:$C$2000)))-1)*1440,\"\")","v":""},null,null,{"$f":"IFERROR(INDEX(data_absen!$J$2:$J$2000,SUMPRODUCT((data_absen!$B$2:$B$2000=$A55)*(data_absen!$C$2:$C$2000=AK$3)*(ROW(data_absen!$C$2:$C$2000)))-1)*1440,\"\")","v":""},{"$f":"IFERROR(INDEX(data_absen!$K$2:$K$2000,SUMPRODUCT((data_absen!$B$2:$B$2000=$A55)*(data_absen!$C$2:$C$2000=AP$3)*(ROW(data_absen!$C$2:$C$2000)))-1)*1440,\"\")","v":""},{"$f":"IFERROR(INDEX(data_absen!$I$2:$I$2000,SUMPRODUCT((data_absen!$B$2:$B$2000=$A55)*(data_absen!$C$2:$C$2000=AP$3)*(ROW(data_absen!$C$2:$C$2000)))-1)*1440,\"\")","v":""},null,null,{"$f":"IFERROR(INDEX(data_absen!$J$2:$J$2000,SUMPRODUCT((data_absen!$B$2:$B$2000=$A55)*(data_absen!$C$2:$C$2000=AP$3)*(ROW(data_absen!$C$2:$C$2000)))-1)*1440,\"\")","v":""},{"$f":"IFERROR(INDEX(data_absen!$K$2:$K$2000,SUMPRODUCT((data_absen!$B$2:$B$2000=$A55)*(data_absen!$C$2:$C$2000=AU$3)*(ROW(data_absen!$C$2:$C$2000)))-1)*1440,\"\")","v":""},{"$f":"IFERROR(INDEX(data_absen!$I$2:$I$2000,SUMPRODUCT((data_absen!$B$2:$B$2000=$A55)*(data_absen!$C$2:$C$2000=AU$3)*(ROW(data_absen!$C$2:$C$2000)))-1)*1440,\"\")","v":""},null,null,{"$f":"IFERROR(INDEX(data_absen!$J$2:$J$2000,SUMPRODUCT((data_absen!$B$2:$B$2000=$A55)*(data_absen!$C$2:$C$2000=AU$3)*(ROW(data_absen!$C$2:$C$2000)))-1)*1440,\"\")","v":""},{"$f":"IFERROR(INDEX(data_absen!$K$2:$K$2000,SUMPRODUCT((data_absen!$B$2:$B$2000=$A55)*(data_absen!$C$2:$C$2000=AZ$3)*(ROW(data_absen!$C$2:$C$2000)))-1)*1440,\"\")","v":""},{"$f":"IFERROR(INDEX(data_absen!$I$2:$I$2000,SUMPRODUCT((data_absen!$B$2:$B$2000=$A55)*(data_absen!$C$2:$C$2000=AZ$3)*(ROW(data_absen!$C$2:$C$2000)))-1)*1440,\"\")","v":""},null,null,{"$f":"IFERROR(INDEX(data_absen!$J$2:$J$2000,SUMPRODUCT((data_absen!$B$2:$B$2000=$A55)*(data_absen!$C$2:$C$2000=AZ$3)*(ROW(data_absen!$C$2:$C$2000)))-1)*1440,\"\")","v":""},{"$f":"IFERROR(INDEX(data_absen!$K$2:$K$2000,SUMPRODUCT((data_absen!$B$2:$B$2000=$A55)*(data_absen!$C$2:$C$2000=BE$3)*(ROW(data_absen!$C$2:$C$2000)))-1)*1440,\"\")","v":""},{"$f":"IFERROR(INDEX(data_absen!$I$2:$I$2000,SUMPRODUCT((data_absen!$B$2:$B$2000=$A55)*(data_absen!$C$2:$C$2000=BE$3)*(ROW(data_absen!$C$2:$C$2000)))-1)*1440,\"\")","v":""},null,null,{"$f":"IFERROR(INDEX(data_absen!$J$2:$J$2000,SUMPRODUCT((data_absen!$B$2:$B$2000=$A55)*(data_absen!$C$2:$C$2000=BE$3)*(ROW(data_absen!$C$2:$C$2000)))-1)*1440,\"\")","v":""},{"$f":"IFERROR(INDEX(data_absen!$K$2:$K$2000,SUMPRODUCT((data_absen!$B$2:$B$2000=$A55)*(data_absen!$C$2:$C$2000=BJ$3)*(ROW(data_absen!$C$2:$C$2000)))-1)*1440,\"\")","v":""},{"$f":"IFERROR(INDEX(data_absen!$I$2:$I$2000,SUMPRODUCT((data_absen!$B$2:$B$2000=$A55)*(data_absen!$C$2:$C$2000=BJ$3)*(ROW(data_absen!$C$2:$C$2000)))-1)*1440,\"\")","v":""},null,null,{"$f":"IFERROR(INDEX(data_absen!$J$2:$J$2000,SUMPRODUCT((data_absen!$B$2:$B$2000=$A55)*(data_absen!$C$2:$C$2000=BJ$3)*(ROW(data_absen!$C$2:$C$2000)))-1)*1440,\"\")","v":""},{"$f":"IFERROR(INDEX(data_absen!$K$2:$K$2000,SUMPRODUCT((data_absen!$B$2:$B$2000=$A55)*(data_absen!$C$2:$C$2000=BO$3)*(ROW(data_absen!$C$2:$C$2000)))-1)*1440,\"\")","v":""},{"$f":"IFERROR(INDEX(data_absen!$I$2:$I$2000,SUMPRODUCT((data_absen!$B$2:$B$2000=$A55)*(data_absen!$C$2:$C$2000=BO$3)*(ROW(data_absen!$C$2:$C$2000)))-1)*1440,\"\")","v":""},null,null,{"$f":"IFERROR(INDEX(data_absen!$J$2:$J$2000,SUMPRODUCT((data_absen!$B$2:$B$2000=$A55)*(data_absen!$C$2:$C$2000=BO$3)*(ROW(data_absen!$C$2:$C$2000)))-1)*1440,\"\")","v":""},{"$f":"COUNTIFS(data_absen!$B$2:$B$2000,$A55,data_absen!$I$2:$I$2000,\">0\")","v":0}]
["Zainul B",{"$f":"INDEX(data_absen!$G$2:$G$2000,SUMPRODUCT((data_absen!$B$2:$B$2000=$A58)*(data_absen!$C$2:$C$2000=B$3)*(ROW(data_absen!$C$2:$C$2000)))-1)","v":""},null,"-",{"$f":"INDEX(data_absen!$H$2:$H$2000,SUMPRODUCT((data_absen!$B$2:$B$2000=$A58)*(data_absen!$C$2:$C$2000=B$3)*(ROW(data_absen!$C$2:$C$2000)))-1)","v":""},null,{"$f":"INDEX(data_absen!$G$2:$G$2000,SUMPRODUCT((data_absen!$B$2:$B$2000=$A58)*(data_absen!$C$2:$C$2000=G$3)*(ROW(data_absen!$C$2:$C$2000)))-1)","v":""},null,"-",{"$f":"INDEX(data_absen!$H$2:$H$2000,SUMPRODUCT((data_absen!$B$2:$B$2000=$A58)*(data_absen!$C$2:$C$2000=G$3)*(ROW(data_absen!$C$2:$C$2000)))-1)","v":""},null,{"$f":"INDEX(data_absen!$G$2:$G$2000,SUMPRODUCT((data_absen!$B$2:$B$2000=$A58)*(data_absen!$C$2:$C$2000=L$3)*(ROW(data_absen!$C$2:$C$2000)))-1)","v":"06:59:00"},null,"-",{"$f":"INDEX(data_absen!$H$2:$H$2000,SUMPRODUCT((data_absen!$B$2:$B$2000=$A58)*(data_absen!$C$2:$C$2000=L$3)*(ROW(data_absen!$C$2:$C$2000)))-1)","v":"14:56:00"},null,{"$f":"INDEX(data_absen!$G$2:$G$2000,SUMPRODUCT((data_absen!$B$2:$B$2000=$A58)*(data_absen!$C$2:$C$2000=Q$3)*(ROW(data_absen!$C$2:$C$2000)))-1)","v":""},null,"-",{"$f":"INDEX(data_absen!$H$2:$H$2000,SUMPRODUCT((data_absen!$B$2:$B$2000=$A58)*(data_absen!$C$2:$C$2000=Q$3)*(ROW(data_absen!$C$2:$C$2000)))-1)","v":""},null,{"$f":"INDEX(data_absen!$G$2:$G$2000,SUMPRODUCT((data_absen!$B$2:$B$2000=$A58)*(data_absen!$C$2:$C$2000=V$3)*(ROW(data_absen!$C$2:$C$2000)))-1)","v":""},null,"-",{"$f":"INDEX(data_absen!$H$2:$H$2000,SUMPRODUCT((data_absen!$B$2:$B$2000=$A58)*(data_absen!$C$2:$C$2000=V$3)*(ROW(data_absen!$C$2:$C$2000)))-1)","v":""},null,{"$f":"INDEX(data_absen!$G$2:$G$2000,SUMPRODUCT((data_absen!$B$2:$B$2000=$A58)*(data_absen!$C$2:$C$2000=AA$3)*(ROW(data_absen!$C$2:$C$2000)))-1)","v":""},null,"-",{"$f":"INDEX(data_absen!$H$2:$H$2000,SUMPRODUCT((data_absen!$B$2:$B$2000=$A58)*(data_absen!$C$2:$C$2000=AA$3)*(ROW(data_absen!$C$2:$C$2000)))-1)","v":""},null,{"$f":"INDEX(data_absen!$G$2:$G$2000,SUMPRODUCT((data_absen!$B$2:$B$2000=$A58)*(data_absen!$C$2:$C$2000=AF$3)*(ROW(data_absen!$C$2:$C$2000)))-1)","v":""},null,"-",{"$f":"INDEX(data_absen!$H$2:$H$2000,SUMPRODUCT((data_absen!$B$2:$B$2000=$A58)*(data_absen!$C$2:$C$2000=AF$3)*(ROW(data_absen!$C$2:$C$2000)))-1)","v":""},null,{"$f":"INDEX(data_absen!$G$2:$G$2000,SUMPRODUCT((data_absen!$B$2:$B$2000=$A58)*(data_absen!$C$2:$C$2000=AK$3)*(ROW(data_absen!$C$2:$C$2000)))-1)","v":""},null,"-",{"$f":"INDEX(data_absen!$H$2:$H$2000,SUMPRODUCT((data_absen!$B$2:$B$2000=$A58)*(data_absen!$C$2:$C$2000=AK$3)*(ROW(data_absen!$C$2:$C$2000)))-1)","v":""},null,{"$f":"INDEX(data_absen!$G$2:$G$2000,SUMPRODUCT((data_absen!$B$2:$B$2000=$A58)*(data_absen!$C$2:$C$2000=AP$3)*(ROW(data_absen!$C$2:$C$2000)))-1)","v":""},null,"-",{"$f":"INDEX(data_absen!$H$2:$H$2000,SUMPRODUCT((data_absen!$B$2:$B$2000=$A58)*(data_absen!$C$2:$C$2000=AP$3)*(ROW(data_absen!$C$2:$C$2000)))-1)","v":""},null,{"$f":"INDEX(data_absen!$G$2:$G$2000,SUMPRODUCT((data_absen!$B$2:$B$2000=$A58)*(data_absen!$C$2:$C$2000=AU$3)*(ROW(data_absen!$C$2:$C$2000)))-1)","v":""},null,"-",{"$f":"INDEX(data_absen!$H$2:$H$2000,SUMPRODUCT((data_absen!$B$2:$B$2000=$A58)*(data_absen!$C$2:$C$2000=AU$3)*(ROW(data_absen!$C$2:$C$2000)))-1)","v":""},null,{"$f":"INDEX(data_absen!$G$2:$G$2000,SUMPRODUCT((data_absen!$B$2:$B$2000=$A58)*(data_absen!$C$2:$C$2000=AZ$3)*(ROW(data_absen!$C$2:$C$2000)))-1)","v":""},null,"-",{"$f":"INDEX(data_absen!$H$2:$H$2000,SUMPRODUCT((data_absen!$B$2:$B$2000=$A58)*(data_absen!$C$2:$C$2000=AZ$3)*(ROW(data_absen!$C$2:$C$2000)))-1)","v":""},null,{"$f":"INDEX(data_absen!$G$2:$G$2000,SUMPRODUCT((data_absen!$B$2:$B$2000=$A58)*(data_absen!$C$2:$C$2000=BE$3)*(ROW(data_absen!$C$2:$C$2000)))-1)","v":""},null,"-",{"$f":"INDEX(data_absen!$H$2:$H$2000,SUMPRODUCT((data_absen!$B$2:$B$2000=$A58)*(data_absen!$C$2:$C$2000=BE$3)*(ROW(data_absen!$C$2:$C$2000)))-1)","v":""},null,{"$f":"INDEX(data_absen!$G$2:$G$2000,SUMPRODUCT((data_absen!$B$2:$B$2000=$A58)*(data_absen!$C$2:$C$2000=BJ$3)*(ROW(data_absen!$C$2:$C$2000)))-1)","v":""},null,"-",{"$f":"INDEX(data_absen!$H$2:$H$2000,SUMPRODUCT((data_absen!$B$2:$B$2000=$A58)*(data_absen!$C$2:$C$2000=BJ$3)*(ROW(data_absen!$C$2:$C$2000)))-1)","v":""},null,{"$f":"INDEX(data_absen!$G$2:$G$2000,SUMPRODUCT((data_absen!$B$2:$B$2000=$A58)*(data_absen!$C$2:$C$2000=BO$3)*(ROW(data_absen!$C$2:$C$2000)))-1)","v":""},null,"-",{"$f":"INDEX(data_absen!$H$2:$H$2000,SUMPRODUCT((data_absen!$B$2:$B$2000=$A58)*(data_absen!$C$2:$C$2000=BO$3)*(ROW(data_absen!$C$2:$C$2000)))-1)","v":""}]
[119,null,null,"-",null,null,null,null,"-",null,null,null,null,"-",null,null,null,null,"-",null,null,null,null,"-",null,null,null,null,"-",null,null,null,null,"-",null,null,null,null,"-",null,null,null,null,"-",null,null,null,null,"-",null,null,null,null,"-",null,null,null,null,"-",null,null,null,null,"-",null,null,null,null,"-"]
[null,{"$f":"IFERROR(INDEX(data_absen!$K$2:$K$2000,SUMPRODUCT((data_absen!$B$2:$B$2000=$A58)*(data_absen!$C$2:$C$2000=B$3)*(ROW(data_absen!$C$2:$C$2000)))-1)*1440,\"\")","v":""},{"$f":"IFERROR(INDEX(data_absen!$I$2:$I$2000,SUMPRODUCT((data_absen!$B$2:$B$2000=$A58)*(data_absen!$C$2:$C$2000=B$3)*(ROW(data_absen!$C$2:$C$2000)))-1)*1440,\"\")","v":""},null,null,{"$f":"IFERROR(INDEX(data_absen!$J$2:$J$2000,SUMPRODUCT((data_absen!$B$2:$B$2000=$A58)*(data_absen!$C$2:$C$2000=B$3)*(ROW(data_absen!$C$2:$C$2000)))-1)*1440,\"\")","v":""},{"$f":"IFERROR(INDEX(data_absen!$K$2:$K$2000,SUMPRODUCT((data_absen!$B$2:$B$2000=$A58)*(data_absen!$C$2:$C$2000=G$3)*(ROW(data_absen!$C$2:$C$2000)))-1)*1440,\"\")","v":""},{"$f":"IFERROR(INDEX(data_absen!$I$2:$I$2000,SUMPRODUCT((data_absen!$B$2:$B$2000=$A58)*(data_absen!$C$2:$C$2000=G$3)*(ROW(data_absen!$C$2:$C$2000)))-1)*1440,\"\")","v":""},null,null,{"$f":"IFERROR(INDEX(data_absen!$J$2:$J$2000,SUMPRODUCT((data_absen!$B$2:$B$2000=$A58)*(data_absen!$C$2:$C$2000=G$3)*(ROW(data_absen!$C$2:$C$2000)))-1)*1440,\"\")","v":""},{"$f":"IFERROR(INDEX(data_absen!$K$2:$K$2000,SUMPRODUCT((data_absen!$B$2:$B$2000=$A58)*(data_absen!$C$2:$C$2000=L$3)*(ROW(data_absen!$C$2:$C$2000)))-1)*1440,\"\")","v":""},{"$f":"IFERROR(INDEX(data_absen!$I$2:$I$2000,SUMPRODUCT((data_absen!$B$2:$B$2000=$A58)*(data_absen!$C$2:$C$2000=L$3)*(ROW(data_absen!$C$2:$C$2000)))-1)*1440,\"\")","v":9},null,null,{"$f":"IFERROR(INDEX(data_absen!$J$2:$J$2000,SUMPRODUCT((data_absen!$B$2:$B$2000=$A58)*(data_absen!$C$2:$C$2000=L$3)*(ROW(data_absen!$C$2:$C$2000)))-1)*1440,\"\")","v":""},{"$f":"IFERROR(INDEX(data_absen!$K$2:$K$2000,SUMPRODUCT((data_absen!$B$2:$B$2000=$A58)*(data_absen!$C$2:$C$2000=Q$3)*(ROW(data_absen!$C$2:$C$2000)))-1)*1440,\"\")","v":""},{"$f":"IFERROR(INDEX(data_absen!$I$2:$I$2000,SUMPRODUCT((data_absen!$B$2:$B$2000=$A58)*(data_absen!$C$2:$C$2000=Q$3)*(ROW(data_absen!$C$2:$C$2000)))-1)*1440,\"\")","v":""},null,null,{"$f":"IFERROR(INDEX(data_absen!$J$2:$J$2000,SUMPRODUCT((data_absen!$B$2:$B$2000=$A58)*(data_absen!$C$2:$C$2000=Q$3)*(ROW(data_absen!$C$2:$C$2000)))-1)*1440,\"\")","v":""},{"$f":"IFERROR(INDEX(data_absen!$K$2:$K$2000,SUMPRODUCT((data_absen!$B$2:$B$2000=$A58)*(data_absen!$C$2:$C$2000=V$3)*(ROW(data_absen!$C$2:$C$2000)))-1)*1440,\"\")","v":""},{"$f":"IFERROR(INDEX(data_absen!$I$2:$I$2000,SUMPRODUCT((data_absen!$B$2:$B$2000=$A58)*(data_absen!$C$2:$C$2000=V$3)*(ROW(data_absen!$C$2:$C$2000)))-1)*1440,\"\")","v":""},null,null,{"$f":"IFERROR(INDEX(data_absen!$J$2:$J$2000,SUMPRODUCT((data_absen!$B$2:$B$2000=$A58)*(data_absen!$C$2:$C$2000=V$3)*(ROW(data_absen!$C$2:$C$2000)))-1)*1440,\"\")","v":""},{"$f":"IFERROR(INDEX(data_absen!$K$2:$K$2000,SUMPRODUCT((data_absen!$B$2:$B$2000=$A58)*(data_absen!$C$2:$C$2000=AA$3)*(ROW(data_absen!$C$2:$C$2000)))-1)*1440,\"\")","v":""},{"$f":"IFERROR(INDEX(data_absen!$I$2:$I$2000,SUMPRODUCT((data_absen!$B$2:$B$2000=$A58)*(data_absen!$C$2:$C$2000=AA$3)*(ROW(data_absen!$C$2:$C$2000)))-1)*1440,\"\")","v":""},null,null,{"$f":"IFERROR(INDEX(data_absen!$J$2:$J$2000,SUMPRODUCT((data_absen!$B$2:$B$2000=$A58)*(data_absen!$C$2:$C$2000=AA$3)*(ROW(data_absen!$C$2:$C$2000)))-1)*1440,\"\")","v":""},{"$f":"IFERROR(INDEX(data_absen!$K$2:$K$2000,SUMPRODUCT((data_absen!$B$2:$B$2000=$A58)*(data_absen!$C$2:$C$2000=AF$3)*(ROW(data_absen!$C$2:$C$2000)))-1)*1440,\"\")","v":""},{"$f":"IFERROR(INDEX(data_absen!$I$2:$I$2000,SUMPRODUCT((data_absen!$B$2:$B$2000=$A58)*(data_absen!$C$2:$C$2000=AF$3)*(ROW(data_absen!$C$2:$C$2000)))-1)*1440,\"\")","v":""},null,null,{"$f":"IFERROR(INDEX(data_absen!$J$2:$J$2000,SUMPRODUCT((data_absen!$B$2:$B$2000=$A58)*(data_absen!$C$2:$C$2000=AF$3)*(ROW(data_absen!$C$2:$C$2000)))-1)*1440,\"\")","v":""},{"$f":"IFERROR(INDEX(data_absen!$K$2:$K$2000,SUMPRODUCT((data_absen!$B$2:$B$2000=$A58)*(data_absen!$C$2:$C$2000=AK$3)*(ROW(data_absen!$C$2:$C$2000)))-1)*1440,\"\")","v":""},{"$f":"IFERROR(INDEX(data_absen!$I$2:$I$2000,SUMPRODUCT((data_absen!$B$2:$B$2000=$A58)*(data_absen!$C$2:$C$2000=AK$3)*(ROW(data_absen!$C$2:$C$2000)))-1)*1440,\"\")","v":""},null,null,{"$f":"IFERROR(INDEX(data_absen!$J$2:$J$2000,SUMPRODUCT((data_absen!$B$2:$B$2000=$A58)*(data_absen!$C$2:$C$2000=AK$3)*(ROW(data_absen!$C$2:$C$2000)))-1)*1440,\"\")","v":""},{"$f":"IFERROR(INDEX(data_absen!$K$2:$K$2000,SUMPRODUCT((data_absen!$B$2:$B$2000=$A58)*(data_absen!$C$2:$C$2000=AP$3)*(ROW(data_absen!$C$2:$C$2000)))-1)*1440,\"\")","v":""},{"$f":"IFERROR(INDEX(data_absen!$I$2:$I$2000,SUMPRODUCT((data_absen!$B$2:$B$2000=$A58)*(data_absen!$C$2:$C$2000=AP$3)*(ROW(data_absen!$C$2:$C$2000)))-1)*1440,\"\")","v":""},null,null,{"$f":"IFERROR(INDEX(data_absen!$J$2:$J$2000,SUMPRODUCT((data_absen!$B$2:$B$2000=$A58)*(data_absen!$C$2:$C$2000=AP$3)*(ROW(data_absen!$C$2:$C$2000)))-1)*1440,\"\")","v":""},{"$f":"IFERROR(INDEX(data_absen!$K$2:$K$2000,SUMPRODUCT((data_absen!$B$2:$B$2000=$A58)*(data_absen!$C$2:$C$2000=AU$3)*(ROW(data_absen!$C$2:$C$2000)))-1)*1440,\"\")","v":""},{"$f":"IFERROR(INDEX(data_absen!$I$2:$I$2000,SUMPRODUCT((data_absen!$B$2:$B$2000=$A58)*(data_absen!$C$2:$C$2000=AU$3)*(ROW(data_absen!$C$2:$C$2000)))-1)*1440,\"\")","v":""},null,null,{"$f":"IFERROR(INDEX(data_absen!$J$2:$J$2000,SUMPRODUCT((data_absen!$B$2:$B$2000=$A58)*(data_absen!$C$2:$C$2000=AU$3)*(ROW(data_absen!$C$2:$C$2000)))-1)*1440,\"\")","v":""},{"$f":"IFERROR(INDEX(data_absen!$K$2:$K$2000,SUMPRODUCT((data_absen!$B$2:$B$2000=$A58)*(data_absen!$C$2:$C$2000=AZ$3)*(ROW(data_absen!$C$2:$C$2000)))-1)*1440,\"\")","v":""},{"$f":"IFERROR(INDEX(data_absen!$I$2:$I$2000,SUMPRODUCT((data_absen!$B$2:$B$2000=$A58)*(data_absen!$C$2:$C$2000=AZ$3)*(ROW(data_absen!$C$2:$C$2000)))-1)*1440,\"\")","v":""},null,null,{"$f":"IFERROR(INDEX(data_absen!$J$2:$J$2000,SUMPRODUCT((data_absen!$B$2:$B$2000=$A58)*(data_absen!$C$2:$C$2000=AZ$3)*(ROW(data_absen!$C$2:$C$2000)))-1)*1440,\"\")","v":""},{"$f":"IFERROR(INDEX(data_absen!$K$2:$K$2000,SUMPRODUCT((data_absen!$B$2:$B$2000=$A58)*(data_absen!$C$2:$C$2000=BE$3)*(ROW(data_absen!$C$2:$C$2000)))-1)*1440,\"\")","v":""},{"$f":"IFERROR(INDEX(data_absen!$I$2:$I$2000,SUMPRODUCT((data_absen!$B$2:$B$2000=$A58)*(data_absen!$C$2:$C$2000=BE$3)*(ROW(data_absen!$C$2:$C$2000)))-1)*1440,\"\")","v":""},null,null,{"$f":"IFERROR(INDEX(data_absen!$J$2:$J$2000,SUMPRODUCT((data_absen!$B$2:$B$2000=$A58)*(data_absen!$C$2:$C$2000=BE$3)*(ROW(data_absen!$C$2:$C$2000)))-1)*1440,\"\")","v":""},{"$f":"IFERROR(INDEX(data_absen!$K$2:$K$2000,SUMPRODUCT((data_absen!$B$2:$B$2000=$A58)*(data_absen!$C$2:$C$2000=BJ$3)*(ROW(data_absen!$C$2:$C$2000)))-1)*1440,\"\")","v":""},{"$f":"IFERROR(INDEX(data_absen!$I$2:$I$2000,SUMPRODUCT((data_absen!$B$2:$B$2000=$A58)*(data_absen!$C$2:$C$2000=BJ$3)*(ROW(data_absen!$C$2:$C$2000)))-1)*1440,\"\")","v":""},null,null,{"$f":"IFERROR(INDEX(data_absen!$J$2:$J$2000,SUMPRODUCT((data_absen!$B$2:$B$2000=$A58)*(data_absen!$C$2:$C$2000=BJ$3)*(ROW(data_absen!$C$2:$C$2000)))-1)*1440,\"\")","v":""},{"$f":"IFERROR(INDEX(data_absen!$K$2:$K$2000,SUMPRODUCT((data_absen!$B$2:$B$2000=$A58)*(data_absen!$C$2:$C$2000=BO$3)*(ROW(data_absen!$C$2:$C$2000)))-1)*1440,\"\")","v":""},{"$f":"IFERROR(INDEX(data_absen!$I$2:$I$2000,SUMPRODUCT((data_absen!$B$2:$B$2000=$A58)*(data_absen!$C$2:$C$2000=BO$3)*(ROW(data_absen!$C$2:$C$2000)))-1)*1440,\"\")","v":""},null,null,{"$f":"IFERROR(INDEX(data_absen!$J$2:$J$2000,SUMPRODUCT((data_absen!$B$2:$B$2000=$A58)*(data_absen!$C$2:$C$2000=BO$3)*(ROW(data_absen!$C$2:$C$2000)))-1)*1440,\"\")","v":""},{"$f":"COUNTIFS(data_absen!$B$2:$B$2000,$A58,data_absen!$I$2:$I$2000,\">0\")","v":4}]
["A. Bahrudin",{"$f":"INDEX(data_absen!$G$2:$G$2000,SUMPRODUCT((data_absen!$B$2:$B$2000=$A61)*(data_absen!$C$2:$C$2000=B$3)*(ROW(data_absen!$C$2:$C$2000)))-1)","v":"06:48:00"},null,"-",{"$f":"INDEX(data_absen!$H$2:$H$2000,SUMPRODUCT((data_absen!$B$2:$B$2000=$A61)*(data_absen!$C$2:$C$2000=B$3)*(ROW(data_absen!$C$2:$C$2000)))-1)","v":"14:55:00"},null,{"$f":"INDEX(data_absen!$G$2:$G$2000,SUMPRODUCT((data_absen!$B$2:$B$2000=$A61)*(data_absen!$C$2:$C$2000=G$3)*(ROW(data_absen!$C$2:$C$2000)))-1)","v":"06:45:00"},null,"-",{"$f":"INDEX(data_absen!$H$2:$H$2000,SUMPRODUCT((data_absen!$B$2:$B$2000=$A61)*(data_absen!$C$2:$C$2000=G$3)*(ROW(data_absen!$C$2:$C$2000)))-1)","v":""},null,{"$f":"INDEX(data_absen!$G$2:$G$2000,SUMPRODUCT((data_absen!$B$2:$B$2000=$A61)*(data_absen!$C$2:$C$2000=L$3)*(ROW(data_absen!$C$2:$C$2000)))-1)","v":""},null,"-",{"$f":"INDEX(data_absen!$H$2:$H$2000,SUMPRODUCT((data_absen!$B$2:$B$2000=$A61)*(data_absen!$C$2:$C$2000=L$3)*(ROW(data_absen!$C$2:$C$2000)))-1)","v":""},null,{"$f":"INDEX(data_absen!$G$2:$G$2000,SUMPRODUCT((data_absen!$B$2:$B$2000=$A61)*(data_absen!$C$2:$C$2000=Q$3)*(ROW(data_absen!$C$2:$C$2000)))-1)","v":""},null,"-",{"$f":"INDEX(data_absen!$H$2:$H$2000,SUMPRODUCT((data_absen!$B$2:$B$2000=$A61)*(data_absen!$C$2:$C$2000=Q$3)*(ROW(data_absen!$C$2:$C$2000)))-1)","v":""},null,{"$f":"INDEX(data_absen!$G$2:$G$2000,SUMPRODUCT((data_absen!$B$2:$B$2000=$A61)*(data_absen!$C$2:$C$2000=V$3)*(ROW(data_absen!$C$2:$C$2000)))-1)","v":""},null,"-",{"$f":"INDEX(data_absen!$H$2:$H$2000,SUMPRODUCT((data_absen!$B$2:$B$2000=$A61)*(data_absen!$C$2:$C$2000=V$3)*(ROW(data_absen!$C$2:$C$2000)))-1)","v":""},null,{"$f":"INDEX(data_absen!$G$2:$G$2000,SUMPRODUCT((data_absen!$B$2:$B$2000=$A61)*(data_absen!$C$2:$C$2000=AA$3)*(ROW(data_absen!$C$2:$C$2000)))-1)","v":""},null,"-",{"$f":"INDEX(data_absen!$H$2:$H$2000,SUMPRODUCT((data_absen!$B$2:$B$2000=$A61)*(data_absen!$C$2:$C$2000=AA$3)*(ROW(data_absen!$C$2:$C$2000)))-1)","v":""},null,{"$f":"INDEX(data_absen!$G$2:$G$2000,SUMPRODUCT((data_absen!$B$2:$B$2000=$A61)*(data_absen!$C$2:$C$2000=AF$3)*(ROW(data_absen!$C$2:$C$2000)))-1)","v":""},null,"-",{"$f":"INDEX(data_absen!$H$2:$H$2000,SUMPRODUCT((data_absen!$B$2:$B$2000=$A61)*(data_absen!$C$2:$C$2000=AF$3)*(ROW(data_absen!$C$2:$C$2000)))-1)","v":""},null,{"$f":"INDEX(data_absen!$G$2:$G$2000,SUMPRODUCT((data_absen!$B$2:$B$2000=$A61)*(data_absen!$C$2:$C$2000=AK$3)*(ROW(data_absen!$C$2:$C$2000)))-1)","v":""},null,"-",{"$f":"INDEX(data_absen!$H$2:$H$2000,SUMPRODUCT((data_absen!$B$2:$B$2000=$A61)*(data_absen!$C$2:$C$2000=AK$3)*(ROW(data_absen!$C$2:$C$2000)))-1)","v":""},null,{"$f":"INDEX(data_absen!$G$2:$G$2000,SUMPRODUCT((data_absen!$B$2:$B$2000=$A61)*(data_absen!$C$2:$C$2000=AP$3)*(ROW(data_absen!$C$2:$C$2000)))-1)","v":""},null,"-",{"$f":"INDEX(data_absen!$H$2:$H$2000,SUMPRODUCT((data_absen!$B$2:$B$2000=$A61)*(data_absen!$C$2:$C$2000=AP$3)*(ROW(data_absen!$C$2:$C$2000)))-1)","v":""},null,{"$f":"INDEX(data_absen!$G$2:$G$2000,SUMPRODUCT((data_absen!$B$2:$B$2000=$A61)*(data_absen!$C$2:$C$2000=AU$3)*(ROW(data_absen!$C$2:$C$2000)))-1)","v":""},null,"-",{"$f":"INDEX(data_absen!$H$2:$H$2000,SUMPRODUCT((data_absen!$B$2:$B$2000=$A61)*(data_absen!$C$2:$C$2000=AU$3)*(ROW(data_absen!$C$2:$C$2000)))-1)","v":""},null,{"$f":"INDEX(data_absen!$G$2:$G$2000,SUMPRODUCT((data_absen!$B$2:$B$2000=$A61)*(data_absen!$C$2:$C$2000=AZ$3)*(ROW(data_absen!$C$2:$C$2000)))-1)","v":""},null,"-",{"$f":"INDEX(data_absen!$H$2:$H$2000,SUMPRODUCT((data_absen!$B$2:$B$2000=$A61)*(data_absen!$C$2:$C$2000=AZ$3)*(ROW(data_absen!$C$2:$C$2000)))-1)","v":""},null,{"$f":"INDEX(data_absen!$G$2:$G$2000,SUMPRODUCT((data_absen!$B$2:$B$2000=$A61)*(data_absen!$C$2:$C$2000=BE$3)*(ROW(data_absen!$C$2:$C$2000)))-1)","v":""},null,"-",{"$f":"INDEX(data_absen!$H$2:$H$2000,SUMPRODUCT((data_absen!$B$2:$B$2000=$A61)*(data_absen!$C$2:$C$2000=BE$3)*(ROW(data_absen!$C$2:$C$2000)))-1)","v":""},null,{"$f":"INDEX(data_absen!$G$2:$G$2000,SUMPRODUCT((data_absen!$B$2:$B$2000=$A61)*(data_absen!$C$2:$C$2000=BJ$3)*(ROW(data_absen!$C$2:$C$2000)))-1)","v":""},null,"-",{"$f":"INDEX(data_absen!$H$2:$H$2000,SUMPRODUCT((data_absen!$B$2:$B$2000=$A61)*(data_absen!$C$2:$C$2000=BJ$3)*(ROW(data_absen!$C$2:$C$2000)))-1)","v":""},null,{"$f":"INDEX(data_absen!$G$2:$G$2000,SUMPRODUCT((data_absen!$B$2:$B$2000=$A61)*(data_absen!$C$2:$C$2000=BO$3)*(ROW(data_absen!$C$2:$C$2000)))-1)","v":""},null,"-",{"$f":"INDEX(data_absen!$H$2:$H$2000,SUMPRODUCT((data_absen!$B$2:$B$2000=$A61)*(data_absen!$C$2:$C$2000=BO$3)*(ROW(data_absen!$C$2:$C$2000)))-1)","v":""}]
[120,null,null,"-",null,null,null,null,"-",null,null,null,null,"-",null,null,null,null,"-",null,null,null,null,"-",null,null,null,null,"-",null,null,null,null,"-",null,null,null,null,"-",null,null,null,null,"-",null,null,null,null,"-",null,null,null,null,"-",null,null,null,null,"-",null,null,null,null,"-",null,null,null,null,"-"]
[null,{"$f":"IFERROR(INDEX(data_absen!$K$2:$K$2000,SUMPRODUCT((data_absen!$B$2:$B$2000=$A61)*(data_absen!$C$2:$C$2000=B$3)*(ROW(data_absen!$C$2:$C$2000)))-1)*1440,\"\")","v":""},{"$f":"IFERROR(INDEX(data_absen!$I$2:$I$2000,SUMPRODUCT((data_absen!$B$2:$B$2000=$A61)*(data_absen!$C$2:$C$2000=B$3)*(ROW(data_absen!$C$2:$C$2000)))-1)*1440,\"\")","v":""},null,null,{"$f":"IFERROR(INDEX(data_absen!$J$2:$J$2000,SUMPRODUCT((data_absen!$B$2:$B$2000=$A61)*(data_absen!$C$2:$C$2000=B$3)*(ROW(data_absen!$C$2:$C$2000)))-1)*1440,\"\")","v":""},{"$f":"IFERROR(INDEX(data_absen!$K$2:$K$2000,SUMPRODUCT((data_absen!$B$2:$B$2000=$A61)*(data_absen!$C$2:$C$2000=G$3)*(ROW(data_absen!$C$2:$C$2000)))-1)*1440,\"\")","v":""},{"$f":"IFERROR(INDEX(data_absen!$I$2:$I$2000,SUMPRODUCT((data_absen!$B$2:$B$2000=$A61)*(data_absen!$C$2:$C$2000=G$3)*(ROW(data_absen!$C$2:$C$2000)))-1)*1440,\"\")","v":""},null,null,{"$f":"IFERROR(INDEX(data_absen!$J$2:$J$2000,SUMPRODUCT((data_absen!$B$2:$B$2000=$A61)*(data_absen!$C$2:$C$2000=G$3)*(ROW(data_absen!$C$2:$C$2000)))-1)*1440,\"\")","v":120},{"$f":"IFERROR(INDEX(data_absen!$K$2:$K$2000,SUMPRODUCT((data_absen!$B$2:$B$2000=$A61)*(data_absen!$C$2:$C$2000=L$3)*(ROW(data_absen!$C$2:$C$2000)))-1)*1440,\"\")","v":""},{"$f":"IFERROR(INDEX(data_absen!$I$2:$I$2000,SUMPRODUCT((data_absen!$B$2:$B$2000=$A61)*(data_absen!$C$2:$C$2000=L$3)*(ROW(data_absen!$C$2:$C$2000)))-1)*1440,\"\")","v":""},null,null,{"$f":"IFERROR(INDEX(data_absen!$J$2:$J$2000,SUMPRODUCT((data_absen!$B$2:$B$2000=$A61)*(data_absen!$C$2:$C$2000=L$3)*(ROW(data_absen!$C$2:$C$2000)))-1)*1440,\"\")","v":""},{"$f":"IFERROR(INDEX(data_absen!$K$2:$K$2000,SUMPRODUCT((data_absen!$B$2:$B$2000=$A61)*(data_absen!$C$2:$C$2000=Q$3)*(ROW(data_absen!$C$2:$C$2000)))-1)*1440,\"\")","v":""},{"$f":"IFERROR(INDEX(data_absen!$I$2:$I$2000,SUMPRODUCT((data_absen!$B$2:$B$2000=$A61)*(data_absen!$C$2:$C$2000=Q$3)*(ROW(data_absen!$C$2:$C$2000)))-1)*1440,\"\")","v":""},null,null,{"$f":"IFERROR(INDEX(data_absen!$J$2:$J$2000,SUMPRODUCT((data_absen!$B$2:$B$2000=$A61)*(data_absen!$C$2:$C$2000=Q$3)*(ROW(data_absen!$C$2:$C$2000)))-1)*1440,\"\")","v":""},{"$f":"IFERROR(INDEX(data_absen!$K$2:$K$2000,SUMPRODUCT((data_absen!$B$2:$B$2000=$A61)*(data_absen!$C$2:$C$2000=V$3)*(ROW(data_absen!$C$2:$C$2000)))-1)*1440,\"\")","v":""},{"$f":"IFERROR(INDEX(data_absen!$I$2:$I$2000,SUMPRODUCT((data_absen!$B$2:$B$2000=$A61)*(data_absen!$C$2:$C$2000=V$3)*(ROW(data_absen!$C$2:$C$2000)))-1)*1440,\"\")","v":""},null,null,{"$f":"IFERROR(INDEX(data_absen!$J$2:$J$2000,SUMPRODUCT((data_absen!$B$2:$B$2000=$A61)*(data_absen!$C$2:$C$2000=V$3)*(ROW(data_absen!$C$2:$C$2000)))-1)*1440,\"\")","v":""},{"$f":"IFERROR(INDEX(data_absen!$K$2:$K$2000,SUMPRODUCT((data_absen!$B$2:$B$2000=$A61)*(data_absen!$C$2:$C$2000=AA$3)*(ROW(data_absen!$C$2:$C$2000)))-1)*1440,\"\")","v":""},{"$f":"IFERROR(INDEX(data_absen!$I$2:$I$2000,SUMPRODUCT((data_absen!$B$2:$B$2000=$A61)*(data_absen!$C$2:$C$2000=AA$3)*(ROW(data_absen!$C$2:$C$2000)))-1)*1440,\"\")","v":""},null,null,{"$f":"IFERROR(INDEX(data_absen!$J$2:$J$2000,SUMPRODUCT((data_absen!$B$2:$B$2000=$A61)*(data_absen!$C$2:$C$2000=AA$3)*(ROW(data_absen!$C$2:$C$2000)))-1)*1440,\"\")","v":""},{"$f":"IFERROR(INDEX(data_absen!$K$2:$K$2000,SUMPRODUCT((data_absen!$B$2:$B$2000=$A61)*(data_absen!$C$2:$C$2000=AF$3)*(ROW(data_absen!$C$2:$C$2000)))-1)*1440,\"\")","v":""},{"$f":"IFERROR(INDEX(data_absen!$I$2:$I$2000,SUMPRODUCT((data_absen!$B$2:$B$2000=$A61)*(data_absen!$C$2:$C$2000=AF$3)*(ROW(data_absen!$C$2:$C$2000)))-1)*1440,\"\")","v":""},null,null,{"$f":"IFERROR(INDEX(data_absen!$J$2:$J$2000,SUMPRODUCT((data_absen!$B$2:$B$2000=$A61)*(data_absen!$C$2:$C$2000=AF$3)*(ROW(data_absen!$C$2:$C$2000)))-1)*1440,\"\")","v":""},{"$f":"IFERROR(INDEX(data_absen!$K$2:$K$2000,SUMPRODUCT((data_absen!$B$2:$B$2000=$A61)*(data_absen!$C$2:$C$2000=AK$3)*(ROW(data_absen!$C$2:$C$2000)))-1)*1440,\"\")","v":""},{"$f":"IFERROR(INDEX(data_absen!$I$2:$I$2000,SUMPRODUCT((data_absen!$B$2:$B$2000=$A61)*(data_absen!$C$2:$C$2000=AK$3)*(ROW(data_absen!$C$2:$C$2000)))-1)*1440,\"\")","v":""},null,null,{"$f":"IFERROR(INDEX(data_absen!$J$2:$J$2000,SUMPRODUCT((data_absen!$B$2:$B$2000=$A61)*(data_absen!$C$2:$C$2000=AK$3)*(ROW(data_absen!$C$2:$C$2000)))-1)*1440,\"\")","v":""},{"$f":"IFERROR(INDEX(data_absen!$K$2:$K$2000,SUMPRODUCT((data_absen!$B$2:$B$2000=$A61)*(data_absen!$C$2:$C$2000=AP$3)*(ROW(data_absen!$C$2:$C$2000)))-1)*1440,\"\")","v":""},{"$f":"IFERROR(INDEX(data_absen!$I$2:$I$2000,SUMPRODUCT((data_absen!$B$2:$B$2000=$A61)*(data_absen!$C$2:$C$2000=AP$3)*(ROW(data_absen!$C$2:$C$2000)))-1)*1440,\"\")","v":""},null,null,{"$f":"IFERROR(INDEX(data_absen!$J$2:$J$2000,SUMPRODUCT((data_absen!$B$2:$B$2000=$A61)*(data_absen!$C$2:$C$2000=AP$3)*(ROW(data_absen!$C$2:$C$2000)))-1)*1440,\"\")","v":""},{"$f":"IFERROR(INDEX(data_absen!$K$2:$K$2000,SUMPRODUCT((data_absen!$B$2:$B$2000=$A61)*(data_absen!$C$2:$C$2000=AU$3)*(ROW(data_absen!$C$2:$C$2000)))-1)*1440,\"\")","v":""},{"$f":"IFERROR(INDEX(data_absen!$I$2:$I$2000,SUMPRODUCT((data_absen!$B$2:$B$2000=$A61)*(data_absen!$C$2:$C$2000=AU$3)*(ROW(data_absen!$C$2:$C$2000)))-1)*1440,\"\")","v":""},null,null,{"$f":"IFERROR(INDEX(data_absen!$J$2:$J$2000,SUMPRODUCT((data_absen!$B$2:$B$2000=$A61)*(data_absen!$C$2:$C$2000=AU$3)*(ROW(data_absen!$C$2:$C$2000)))-1)*1440,\"\")","v":""},{"$f":"IFERROR(INDEX(data_absen!$K$2:$K$2000,SUMPRODUCT((data_absen!$B$2:$B$2000=$A61)*(data_absen!$C$2:$C$2000=AZ$3)*(ROW(data_absen!$C$2:$C$2000)))-1)*1440,\"\")","v":""},{"$f":"IFERROR(INDEX(data_absen!$I$2:$I$2000,SUMPRODUCT((data_absen!$B$2:$B$2000=$A61)*(data_absen!$C$2:$C$2000=AZ$3)*(ROW(data_absen!$C$2:$C$2000)))-1)*1440,\"\")","v":""},null,null,{"$f":"IFERROR(INDEX(data_absen!$J$2:$J$2000,SUMPRODUCT((data_absen!$B$2:$B$2000=$A61)*(data_absen!$C$2:$C$2000=AZ$3)*(ROW(data_absen!$C$2:$C$2000)))-1)*1440,\"\")","v":""},{"$f":"IFERROR(INDEX(data_absen!$K$2:$K$2000,SUMPRODUCT((data_absen!$B$2:$B$2000=$A61)*(data_absen!$C$2:$C$2000=BE$3)*(ROW(data_absen!$C$2:$C$2000)))-1)*1440,\"\")","v":""},{"$f":"IFERROR(INDEX(data_absen!$I$2:$I$2000,SUMPRODUCT((data_absen!$B$2:$B$2000=$A61)*(data_absen!$C$2:$C$2000=BE$3)*(ROW(data_absen!$C$2:$C$2000)))-1)*1440,\"\")","v":""},null,null,{"$f":"IFERROR(INDEX(data_absen!$J$2:$J$2000,SUMPRODUCT((data_absen!$B$2:$B$2000=$A61)*(data_absen!$C$2:$C$2000=BE$3)*(ROW(data_absen!$C$2:$C$2000)))-1)*1440,\"\")","v":""},{"$f":"IFERROR(INDEX(data_absen!$K$2:$K$2000,SUMPRODUCT((data_absen!$B$2:$B$2000=$A61)*(data_absen!$C$2:$C$2000=BJ$3)*(ROW(data_absen!$C$2:$C$2000)))-1)*1440,\"\")","v":""},{"$f":"IFERROR(INDEX(data_absen!$I$2:$I$2000,SUMPRODUCT((data_absen!$B$2:$B$2000=$A61)*(data_absen!$C$2:$C$2000=BJ$3)*(ROW(data_absen!$C$2:$C$2000)))-1)*1440,\"\")","v":""},null,null,{"$f":"IFERROR(INDEX(data_absen!$J$2:$J$2000,SUMPRODUCT((data_absen!$B$2:$B$2000=$A61)*(data_absen!$C$2:$C$2000=BJ$3)*(ROW(data_absen!$C$2:$C$2000)))-1)*1440,\"\")","v":""},{"$f":"IFERROR(INDEX(data_absen!$K$2:$K$2000,SUMPRODUCT((data_absen!$B$2:$B$2000=$A61)*(data_absen!$C$2:$C$2000=BO$3)*(ROW(data_absen!$C$2:$C$2000)))-1)*1440,\"\")","v":""},{"$f":"IFERROR(INDEX(data_absen!$I$2:$I$2000,SUMPRODUCT((data_absen!$B$2:$B$2000=$A61)*(data_absen!$C$2:$C$2000=BO$3)*(ROW(data_absen!$C$2:$C$2000)))-1)*1440,\"\")","v":""},null,null,{"$f":"IFERROR(INDEX(data_absen!$J$2:$J$2000,SUMPRODUCT((data_absen!$B$2:$B$2000=$A61)*(data_absen!$C$2:$C$2000=BO$3)*(ROW(data_absen!$C$2:$C$2000)))-1)*1440,\"\")","v":""},{"$f":"COUNTIFS(data_absen!$B$2:$B$2000,$A61,data_absen!$I$2:$I$2000,\">0\")","v":0}]
["Roni",{"$f":"INDEX(data_absen!$G$2:$G$2000,SUMPRODUCT((data_absen!$B$2:$B$2000=$A64)*(data_absen!$C$2:$C$2000=B$3)*(ROW(data_absen!$C$2:$C$2000)))-1)","v":""},null,"-",{"$f":"INDEX(data_absen!$H$2:$H$2000,SUMPRODUCT((data_absen!$B$2:$B$2000=$A64)*(data_absen!$C$2:$C$2000=B$3)*(ROW(data_absen!$C$2:$C$2000)))-1)","v":""},null,{"$f":"INDEX(data_absen!$G$2:$G$2000,SUMPRODUCT((data_absen!$B$2:$B$2000=$A64)*(data_absen!$C$2:$C$2000=G$3)*(ROW(data_absen!$C$2:$C$2000)))-1)","v":""},null,"-",{"$f":"INDEX(data_absen!$H$2:$H$2000,SUMPRODUCT((data_absen!$B$2:$B$2000=$A64)*(data_absen!$C$2:$C$2000=G$3)*(ROW(data_absen!$C$2:$C$2000)))-1)","v":""},null,{"$f":"INDEX(data_absen!$G$2:$G$2000,SUMPRODUCT((data_absen!$B$2:$B$2000=$A64)*(data_absen!$C$2:$C$2000=L$3)*(ROW(data_absen!$C$2:$C$2000)))-1)","v":""},null,"-",{"$f":"INDEX(data_absen!$H$2:$H$2000,SUMPRODUCT((data_absen!$B$2:$B$2000=$A64)*(data_absen!$C$2:$C$2000=L$3)*(ROW(data_absen!$C$2:$C$2000)))-1)","v":""},null,{"$f":"INDEX(data_absen!$G$2:$G$2000,SUMPRODUCT((data_absen!$B$2:$B$2000=$A64)*(data_absen!$C$2:$C$2000=Q$3)*(ROW(data_absen!$C$2:$C$2000)))-1)","v":""},null,"-",{"$f":"INDEX(data_absen!$H$2:$H$2000,SUMPRODUCT((data_absen!$B$2:$B$2000=$A64)*(data_absen!$C$2:$C$2000=Q$3)*(ROW(data_absen!$C$2:$C$2000)))-1)","v":""},null,{"$f":"INDEX(data_absen!$G$2:$G$2000,SUMPRODUCT((data_absen!$B$2:$B$2000=$A64)*(data_absen!$C$2:$C$2000=V$3)*(ROW(data_absen!$C$2:$C$2000)))-1)","v":""},null,"-",{"$f":"INDEX(data_absen!$H$2:$H$2000,SUMPRODUCT((data_absen!$B$2:$B$2000=$A64)*(data_absen!$C$2:$C$2000=V$3)*(ROW(data_absen!$C$2:$C$2000)))-1)","v":""},null,{"$f":"INDEX(data_absen!$G$2:$G$2000,SUMPRODUCT((data_absen!$B$2:$B$2000=$A64)*(data_absen!$C$2:$C$2000=AA$3)*(ROW(data_absen!$C$2:$C$2000)))-1)","v":""},null,"-",{"$f":"INDEX(data_absen!$H$2:$H$2000,SUMPRODUCT((data_absen!$B$2:$B$2000=$A64)*(data_absen!$C$2:$C$2000=AA$3)*(ROW(data_absen!$C$2:$C$2000)))-1)","v":""},null,{"$f":"INDEX(data_absen!$G$2:$G$2000,SUMPRODUCT((data_absen!$B$2:$B$2000=$A64)*(data_absen!$C$2:$C$2000=AF$3)*(ROW(data_absen!$C$2:$C$2000)))-1)","v":""},null,"-",{"$f":"INDEX(data_absen!$H$2:$H$2000,SUMPRODUCT((data_absen!$B$2:$B$2000=$A64)*(data_absen!$C$2:$C$2000=AF$3)*(ROW(data_absen!$C$2:$C$2000)))-1)","v":""},null,{"$f":"INDEX(data_absen!$G$2:$G$2000,SUMPRODUCT((data_absen!$B$2:$B$2000=$A64)*(data_absen!$C$2:$C$2000=AK$3)*(ROW(data_absen!$C$2:$C$2000)))-1)","v":""},null,"-",{"$f":"INDEX(data_absen!$H$2:$H$2000,SUMPRODUCT((data_absen!$B$2:$B$2000=$A64)*(data_absen!$C$2:$C$2000=AK$3)*(ROW(data_absen!$C$2:$C$2000)))-1)","v":""},null,{"$f":"INDEX(data_absen!$G$2:$G$2000,SUMPRODUCT((data_absen!$B$2:$B$2000=$A64)*(data_absen!$C$2:$C$2000=AP$3)*(ROW(data_absen!$C$2:$C$2000)))-1)","v":""},null,"-",{"$f":"INDEX(data_absen!$H$2:$H$2000,SUMPRODUCT((data_absen!$B$2:$B$2000=$A64)*(data_absen!$C$2:$C$2000=AP$3)*(ROW(data_absen!$C$2:$C$2000)))-1)","v":""},null,{"$f":"INDEX(data_absen!$G$2:$G$2000,SUMPRODUCT((data_absen!$B$2:$B$2000=$A64)*(data_absen!$C$2:$C$2000=AU$3)*(ROW(data_absen!$C$2:$C$2000)))-1)","v":""},null,"-",{"$f":"INDEX(data_absen!$H$2:$H$2000,SUMPRODUCT((data_absen!$B$2:$B$2000=$A64)*(data_absen!$C$2:$C$2000=AU$3)*(ROW(data_absen!$C$2:$C$2000)))-1)","v":""},null,{"$f":"INDEX(data_absen!$G$2:$G$2000,SUMPRODUCT((data_absen!$B$2:$B$2000=$A64)*(data_absen!$C$2:$C$2000=AZ$3)*(ROW(data_absen!$C$2:$C$2000)))-1)","v":""},null,"-",{"$f":"INDEX(data_absen!$H$2:$H$2000,SUMPRODUCT((data_absen!$B$2:$B$2000=$A64)*(data_absen!$C$2:$C$2000=AZ$3)*(ROW(data_absen!$C$2:$C$2000)))-1)","v":""},null,{"$f":"INDEX(data_absen!$G$2:$G$2000,SUMPRODUCT((data_absen!$B$2:$B$2000=$A64)*(data_absen!$C$2:$C$2000=BE$3)*(ROW(data_absen!$C$2:$C$2000)))-1)","v":""},null,"-",{"$f":"INDEX(data_absen!$H$2:$H$2000,SUMPRODUCT((data_absen!$B$2:$B$2000=$A64)*(data_absen!$C$2:$C$2000=BE$3)*(ROW(data_absen!$C$2:$C$2000)))-1)","v":""},null,{"$f":"INDEX(data_absen!$G$2:$G$2000,SUMPRODUCT((data_absen!$B$2:$B$2000=$A64)*(data_absen!$C$2:$C$2000=BJ$3)*(ROW(data_absen!$C$2:$C$2000)))-1)","v":""},null,"-",{"$f":"INDEX(data_absen!$H$2:$H$2000,SUMPRODUCT((data_absen!$B$2:$B$2000=$A64)*(data_absen!$C$2:$C$2000=BJ$3)*(ROW(data_absen!$C$2:$C$2000)))-1)","v":""},null,{"$f":"INDEX(data_absen!$G$2:$G$2000,SUMPRODUCT((data_absen!$B$2:$B$2000=$A64)*(data_absen!$C$2:$C$2000=BO$3)*(ROW(data_absen!$C$2:$C$2000)))-1)","v":""},null,"-",{"$f":"INDEX(data_absen!$H$2:$H$2000,SUMPRODUCT((data_absen!$B$2:$B$2000=$A64)*(data_absen!$C$2:$C$2000=BO$3)*(ROW(data_absen!$C$2:$C$2000)))-1)","v":""}]
[121,null,null,"-",null,null,null,null,"-",null,null,null,null,"-",null,null,null,null,"-",null,null,null,null,"-",null,null,null,null,"-",null,null,null,null,"-",null,null,null,null,"-",null,null,null,null,"-",null,null,null,null,"-",null,null,null,null,"-",null,null,null,null,"-",null,null,null,null,"-",null,null,null,null,"-"]
[null,{"$f":"IFERROR(INDEX(data_absen!$K$2:$K$2000,SUMPRODUCT((data_absen!$B$2:$B$2000=$A64)*(data_absen!$C$2:$C$2000=B$3)*(ROW(data_absen!$C$2:$C$2000)))-1)*1440,\"\")","v":""},{"$f":"IFERROR(INDEX(data_absen!$I$2:$I$2000,SUMPRODUCT((data_absen!$B$2:$B$2000=$A64)*(data_absen!$C$2:$C$2000=B$3)*(ROW(data_absen!$C$2:$C$2000)))-1)*1440,\"\")","v":""},null,null,{"$f":"IFERROR(INDEX(data_absen!$J$2:$J$2000,SUMPRODUCT((data_absen!$B$2:$B$2000=$A64)*(data_absen!$C$2:$C$2000=B$3)*(ROW(data_absen!$C$2:$C$2000)))-1)*1440,\"\")","v":""},{"$f":"IFERROR(INDEX(data_absen!$K$2:$K$2000,SUMPRODUCT((data_absen!$B$2:$B$2000=$A64)*(data_absen!$C$2:$C$2000=G$3)*(ROW(data_absen!$C$2:$C$2000)))-1)*1440,\"\")","v":""},{"$f":"IFERROR(INDEX(data_absen!$I$2:$I$2000,SUMPRODUCT((data_absen!$B$2:$B$2000=$A64)*(data_absen!$C$2:$C$2000=G$3)*(ROW(data_absen!$C$2:$C$2000)))-1)*1440,\"\")","v":""},null,null,{"$f":"IFERROR(INDEX(data_absen!$J$2:$J$2000,SUMPRODUCT((data_absen!$B$2:$B$2000=$A64)*(data_absen!$C$2:$C$2000=G$3)*(ROW(data_absen!$C$2:$C$2000)))-1)*1440,\"\")","v":""},{"$f":"IFERROR(INDEX(data_absen!$K$2:$K$2000,SUMPRODUCT((data_absen!$B$2:$B$2000=$A64)*(data_absen!$C$2:$C$2000=L$3)*(ROW(data_absen!$C$2:$C$2000)))-1)*1440,\"\")","v":""},{"$f":"IFERROR(INDEX(data_absen!$I$2:$I$2000,SUMPRODUCT((data_absen!$B$2:$B$2000=$A64)*(data_absen!$C$2:$C$2000=L$3)*(ROW(data_absen!$C$2:$C$2000)))-1)*1440,\"\")","v":""},null,null,{"$f":"IFERROR(INDEX(data_absen!$J$2:$J$2000,SUMPRODUCT((data_absen!$B$2:$B$2000=$A64)*(data_absen!$C$2:$C$2000=L$3)*(ROW(data_absen!$C$2:$C$2000)))-1)*1440,\"\")","v":""},{"$f":"IFERROR(INDEX(data_absen!$K$2:$K$2000,SUMPRODUCT((data_absen!$B$2:$B$2000=$A64)*(data_absen!$C$2:$C$2000=Q$3)*(ROW(data_absen!$C$2:$C$2000)))-1)*1440,\"\")","v":""},{"$f":"IFERROR(INDEX(data_absen!$I$2:$I$2000,SUMPRODUCT((data_absen!$B$2:$B$2000=$A64)*(data_absen!$C$2:$C$2000=Q$3)*(ROW(data_absen!$C$2:$C$2000)))-1)*1440,\"\")","v":""},null,null,{"$f":"IFERROR(INDEX(data_absen!$J$2:$J$2000,SUMPRODUCT((data_absen!$B$2:$B$2000=$A64)*(data_absen!$C$2:$C$2000=Q$3)*(ROW(data_absen!$C$2:$C$2000)))-1)*1440,\"\")","v":""},{"$f":"IFERROR(INDEX(data_absen!$K$2:$K$2000,SUMPRODUCT((data_absen!$B$2:$B$2000=$A64)*(data_absen!$C$2:$C$2000=V$3)*(ROW(data_absen!$C$2:$C$2000)))-1)*1440,\"\")","v":""},{"$f":"IFERROR(INDEX(data_absen!$I$2:$I$2000,SUMPRODUCT((data_absen!$B$2:$B$2000=$A64)*(data_absen!$C$2:$C$2000=V$3)*(ROW(data_absen!$C$2:$C$2000)))-1)*1440,\"\")","v":""},null,null,{"$f":"IFERROR(INDEX(data_absen!$J$2:$J$2000,SUMPRODUCT((data_absen!$B$2:$B$2000=$A64)*(data_absen!$C$2:$C$2000=V$3)*(ROW(data_absen!$C$2:$C$2000)))-1)*1440,\"\")","v":""},{"$f":"IFERROR(INDEX(data_absen!$K$2:$K$2000,SUMPRODUCT((data_absen!$B$2:$B$2000=$A64)*(data_absen!$C$2:$C$2000=AA$3)*(ROW(data_absen!$C$2:$C$2000)))-1)*1440,\"\")","v":""},{"$f":"IFERROR(INDEX(data_absen!$I$2:$I$2000,SUMPRODUCT((data_absen!$B$2:$B$2000=$A64)*(data_absen!$C$2:$C$2000=AA$3)*(ROW(data_absen!$C$2:$C$2000)))-1)*1440,\"\")","v":""},null,null,{"$f":"IFERROR(INDEX(data_absen!$J$2:$J$2000,SUMPRODUCT((data_absen!$B$2:$B$2000=$A64)*(data_absen!$C$2:$C$2000=AA$3)*(ROW(data_absen!$C$2:$C$2000)))-1)*1440,\"\")","v":""},{"$f":"IFERROR(INDEX(data_absen!$K$2:$K$2000,SUMPRODUCT((data_absen!$B$2:$B$2000=$A64)*(data_absen!$C$2:$C$2000=AF$3)*(ROW(data_absen!$C$2:$C$2000)))-1)*1440,\"\")","v":""},{"$f":"IFERROR(INDEX(data_absen!$I$2:$I$2000,SUMPRODUCT((data_absen!$B$2:$B$2000=$A64)*(data_absen!$C$2:$C$2000=AF$3)*(ROW(data_absen!$C$2:$C$2000)))-1)*1440,\"\")","v":""},null,null,{"$f":"IFERROR(INDEX(data_absen!$J$2:$J$2000,SUMPRODUCT((data_absen!$B$2:$B$2000=$A64)*(data_absen!$C$2:$C$2000=AF$3)*(ROW(data_absen!$C$2:$C$2000)))-1)*1440,\"\")","v":""},{"$f":"IFERROR(INDEX(data_absen!$K$2:$K$2000,SUMPRODUCT((data_absen!$B$2:$B$2000=$A64)*(data_absen!$C$2:$C$2000=AK$3)*(ROW(data_absen!$C$2:$C$2000)))-1)*1440,\"\")","v":""},{"$f":"IFERROR(INDEX(data_absen!$I$2:$I$2000,SUMPRODUCT((data_absen!$B$2:$B$2000=$A64)*(data_absen!$C$2:$C$2000=AK$3)*(ROW(data_absen!$C$2:$C$2000)))-1)*1440,\"\")","v":""},null,null,{"$f":"IFERROR(INDEX(data_absen!$J$2:$J$2000,SUMPRODUCT((data_absen!$B$2:$B$2000=$A64)*(data_absen!$C$2:$C$2000=AK$3)*(ROW(data_absen!$C$2:$C$2000)))-1)*1440,\"\")","v":""},{"$f":"IFERROR(INDEX(data_absen!$K$2:$K$2000,SUMPRODUCT((data_absen!$B$2:$B$2000=$A64)*(data_absen!$C$2:$C$2000=AP$3)*(ROW(data_absen!$C$2:$C$2000)))-1)*1440,\"\")","v":""},{"$f":"IFERROR(INDEX(data_absen!$I$2:$I$2000,SUMPRODUCT((data_absen!$B$2:$B$2000=$A64)*(data_absen!$C$2:$C$2000=AP$3)*(ROW(data_absen!$C$2:$C$2000)))-1)*1440,\"\")","v":""},null,null,{"$f":"IFERROR(INDEX(data_absen!$J$2:$J$2000,SUMPRODUCT((data_absen!$B$2:$B$2000=$A64)*(data_absen!$C$2:$C$2000=AP$3)*(ROW(data_absen!$C$2:$C$2000)))-1)*1440,\"\")","v":""},{"$f":"IFERROR(INDEX(data_absen!$K$2:$K$2000,SUMPRODUCT((data_absen!$B$2:$B$2000=$A64)*(data_absen!$C$2:$C$2000=AU$3)*(ROW(data_absen!$C$2:$C$2000)))-1)*1440,\"\")","v":""},{"$f":"IFERROR(INDEX(data_absen!$I$2:$I$2000,SUMPRODUCT((data_absen!$B$2:$B$2000=$A64)*(data_absen!$C$2:$C$2000=AU$3)*(ROW(data_absen!$C$2:$C$2000)))-1)*1440,\"\")","v":""},null,null,{"$f":"IFERROR(INDEX(data_absen!$J$2:$J$2000,SUMPRODUCT((data_absen!$B$2:$B$2000=$A64)*(data_absen!$C$2:$C$2000=AU$3)*(ROW(data_absen!$C$2:$C$2000)))-1)*1440,\"\")","v":""},{"$f":"IFERROR(INDEX(data_absen!$K$2:$K$2000,SUMPRODUCT((data_absen!$B$2:$B$2000=$A64)*(data_absen!$C$2:$C$2000=AZ$3)*(ROW(data_absen!$C$2:$C$2000)))-1)*1440,\"\")","v":""},{"$f":"IFERROR(INDEX(data_absen!$I$2:$I$2000,SUMPRODUCT((data_absen!$B$2:$B$2000=$A64)*(data_absen!$C$2:$C$2000=AZ$3)*(ROW(data_absen!$C$2:$C$2000)))-1)*1440,\"\")","v":""},null,null,{"$f":"IFERROR(INDEX(data_absen!$J$2:$J$2000,SUMPRODUCT((data_absen!$B$2:$B$2000=$A64)*(data_absen!$C$2:$C$2000=AZ$3)*(ROW(data_absen!$C$2:$C$2000)))-1)*1440,\"\")","v":""},{"$f":"IFERROR(INDEX(data_absen!$K$2:$K$2000,SUMPRODUCT((data_absen!$B$2:$B$2000=$A64)*(data_absen!$C$2:$C$2000=BE$3)*(ROW(data_absen!$C$2:$C$2000)))-1)*1440,\"\")","v":""},{"$f":"IFERROR(INDEX(data_absen!$I$2:$I$2000,SUMPRODUCT((data_absen!$B$2:$B$2000=$A64)*(data_absen!$C$2:$C$2000=BE$3)*(ROW(data_absen!$C$2:$C$2000)))-1)*1440,\"\")","v":""},null,null,{"$f":"IFERROR(INDEX(data_absen!$J$2:$J$2000,SUMPRODUCT((data_absen!$B$2:$B$2000=$A64)*(data_absen!$C$2:$C$2000=BE$3)*(ROW(data_absen!$C$2:$C$2000)))-1)*1440,\"\")","v":""},{"$f":"IFERROR(INDEX(data_absen!$K$2:$K$2000,SUMPRODUCT((data_absen!$B$2:$B$2000=$A64)*(data_absen!$C$2:$C$2000=BJ$3)*(ROW(data_absen!$C$2:$C$2000)))-1)*1440,\"\")","v":""},{"$f":"IFERROR(INDEX(data_absen!$I$2:$I$2000,SUMPRODUCT((data_absen!$B$2:$B$2000=$A64)*(data_absen!$C$2:$C$2000=BJ$3)*(ROW(data_absen!$C$2:$C$2000)))-1)*1440,\"\")","v":""},null,null,{"$f":"IFERROR(INDEX(data_absen!$J$2:$J$2000,SUMPRODUCT((data_absen!$B$2:$B$2000=$A64)*(data_absen!$C$2:$C$2000=BJ$3)*(ROW(data_absen!$C$2:$C$2000)))-1)*1440,\"\")","v":""},{"$f":"IFERROR(INDEX(data_absen!$K$2:$K$2000,SUMPRODUCT((data_absen!$B$2:$B$2000=$A64)*(data_absen!$C$2:$C$2000=BO$3)*(ROW(data_absen!$C$2:$C$2000)))-1)*1440,\"\")","v":""},{"$f":"IFERROR(INDEX(data_absen!$I$2:$I$2000,SUMPRODUCT((data_absen!$B$2:$B$2000=$A64)*(data_absen!$C$2:$C$2000=BO$3)*(ROW(data_absen!$C$2:$C$2000)))-1)*1440,\"\")","v":""},null,null,{"$f":"IFERROR(INDEX(data_absen!$J$2:$J$2000,SUMPRODUCT((data_absen!$B$2:$B$2000=$A64)*(data_absen!$C$2:$C$2000=BO$3)*(ROW(data_absen!$C$2:$C$2000)))-1)*1440,\"\")","v":""},{"$f":"COUNTIFS(data_absen!$B$2:$B$2000,$A64,data_absen!$I$2:$I$2000,\">0\")","v":0}]
["Rohman B",{"$f":"INDEX(data_absen!$G$2:$G$2000,SUMPRODUCT((data_absen!$B$2:$B$2000=$A67)*(data_absen!$C$2:$C$2000=B$3)*(ROW(data_absen!$C$2:$C$2000)))-1)","v":""},null,"-",{"$f":"INDEX(data_absen!$H$2:$H$2000,SUMPRODUCT((data_absen!$B$2:$B$2000=$A67)*(data_absen!$C$2:$C$2000=B$3)*(ROW(data_absen!$C$2:$C$2000)))-1)","v":""},null,{"$f":"INDEX(data_absen!$G$2:$G$2000,SUMPRODUCT((data_absen!$B$2:$B$2000=$A67)*(data_absen!$C$2:$C$2000=G$3)*(ROW(data_absen!$C$2:$C$2000)))-1)","v":""},null,"-",{"$f":"INDEX(data_absen!$H$2:$H$2000,SUMPRODUCT((data_absen!$B$2:$B$2000=$A67)*(data_absen!$C$2:$C$2000=G$3)*(ROW(data_absen!$C$2:$C$2000)))-1)","v":""},null,{"$f":"INDEX(data_absen!$G$2:$G$2000,SUMPRODUCT((data_absen!$B$2:$B$2000=$A67)*(data_absen!$C$2:$C$2000=L$3)*(ROW(data_absen!$C$2:$C$2000)))-1)","v":""},null,"-",{"$f":"INDEX(data_absen!$H$2:$H$2000,SUMPRODUCT((data_absen!$B$2:$B$2000=$A67)*(data_absen!$C$2:$C$2000=L$3)*(ROW(data_absen!$C$2:$C$2000)))-1)","v":""},null,{"$f":"INDEX(data_absen!$G$2:$G$2000,SUMPRODUCT((data_absen!$B$2:$B$2000=$A67)*(data_absen!$C$2:$C$2000=Q$3)*(ROW(data_absen!$C$2:$C$2000)))-1)","v":""},null,"-",{"$f":"INDEX(data_absen!$H$2:$H$2000,SUMPRODUCT((data_absen!$B$2:$B$2000=$A67)*(data_absen!$C$2:$C$2000=Q$3)*(ROW(data_absen!$C$2:$C$2000)))-1)","v":""},null,{"$f":"INDEX(data_absen!$G$2:$G$2000,SUMPRODUCT((data_absen!$B$2:$B$2000=$A67)*(data_absen!$C$2:$C$2000=V$3)*(ROW(data_absen!$C$2:$C$2000)))-1)","v":""},null,"-",{"$f":"INDEX(data_absen!$H$2:$H$2000,SUMPRODUCT((data_absen!$B$2:$B$2000=$A67)*(data_absen!$C$2:$C$2000=V$3)*(ROW(data_absen!$C$2:$C$2000)))-1)","v":""},null,{"$f":"INDEX(data_absen!$G$2:$G$2000,SUMPRODUCT((data_absen!$B$2:$B$2000=$A67)*(data_absen!$C$2:$C$2000=AA$3)*(ROW(data_absen!$C$2:$C$2000)))-1)","v":""},null,"-",{"$f":"INDEX(data_absen!$H$2:$H$2000,SUMPRODUCT((data_absen!$B$2:$B$2000=$A67)*(data_absen!$C$2:$C$2000=AA$3)*(ROW(data_absen!$C$2:$C$2000)))-1)","v":""},null,{"$f":"INDEX(data_absen!$G$2:$G$2000,SUMPRODUCT((data_absen!$B$2:$B$2000=$A67)*(data_absen!$C$2:$C$2000=AF$3)*(ROW(data_absen!$C$2:$C$2000)))-1)","v":""},null,"-",{"$f":"INDEX(data_absen!$H$2:$H$2000,SUMPRODUCT((data_absen!$B$2:$B$2000=$A67)*(data_absen!$C$2:$C$2000=AF$3)*(ROW(data_absen!$C$2:$C$2000)))-1)","v":""},null,{"$f":"INDEX(data_absen!$G$2:$G$2000,SUMPRODUCT((data_absen!$B$2:$B$2000=$A67)*(data_absen!$C$2:$C$2000=AK$3)*(ROW(data_absen!$C$2:$C$2000)))-1)","v":""},null,"-",{"$f":"INDEX(data_absen!$H$2:$H$2000,SUMPRODUCT((data_absen!$B$2:$B$2000=$A67)*(data_absen!$C$2:$C$2000=AK$3)*(ROW(data_absen!$C$2:$C$2000)))-1)","v":""},null,{"$f":"INDEX(data_absen!$G$2:$G$2000,SUMPRODUCT((data_absen!$B$2:$B$2000=$A67)*(data_absen!$C$2:$C$2000=AP$3)*(ROW(data_absen!$C$2:$C$2000)))-1)","v":""},null,"-",{"$f":"INDEX(data_absen!$H$2:$H$2000,SUMPRODUCT((data_absen!$B$2:$B$2000=$A67)*(data_absen!$C$2:$C$2000=AP$3)*(ROW(data_absen!$C$2:$C$2000)))-1)","v":""},null,{"$f":"INDEX(data_absen!$G$2:$G$2000,SUMPRODUCT((data_absen!$B$2:$B$2000=$A67)*(data_absen!$C$2:$C$2000=AU$3)*(ROW(data_absen!$C$2:$C$2000)))-1)","v":""},null,"-",{"$f":"INDEX(data_absen!$H$2:$H$2000,SUMPRODUCT((data_absen!$B$2:$B$2000=$A67)*(data_absen!$C$2:$C$2000=AU$3)*(ROW(data_absen!$C$2:$C$2000)))-1)","v":""},null,{"$f":"INDEX(data_absen!$G$2:$G$2000,SUMPRODUCT((data_absen!$B$2:$B$2000=$A67)*(data_absen!$C$2:$C$2000=AZ$3)*(ROW(data_absen!$C$2:$C$2000)))-1)","v":""},null,"-",{"$f":"INDEX(data_absen!$H$2:$H$2000,SUMPRODUCT((data_absen!$B$2:$B$2000=$A67)*(data_absen!$C$2:$C$2000=AZ$3)*(ROW(data_absen!$C$2:$C$2000)))-1)","v":""},null,{"$f":"INDEX(data_absen!$G$2:$G$2000,SUMPRODUCT((data_absen!$B$2:$B$2000=$A67)*(data_absen!$C$2:$C$2000=BE$3)*(ROW(data_absen!$C$2:$C$2000)))-1)","v":""},null,"-",{"$f":"INDEX(data_absen!$H$2:$H$2000,SUMPRODUCT((data_absen!$B$2:$B$2000=$A67)*(data_absen!$C$2:$C$2000=BE$3)*(ROW(data_absen!$C$2:$C$2000)))-1)","v":""},null,{"$f":"INDEX(data_absen!$G$2:$G$2000,SUMPRODUCT((data_absen!$B$2:$B$2000=$A67)*(data_absen!$C$2:$C$2000=BJ$3)*(ROW(data_absen!$C$2:$C$2000)))-1)","v":""},null,"-",{"$f":"INDEX(data_absen!$H$2:$H$2000,SUMPRODUCT((data_absen!$B$2:$B$2000=$A67)*(data_absen!$C$2:$C$2000=BJ$3)*(ROW(data_absen!$C$2:$C$2000)))-1)","v":""},null,{"$f":"INDEX(data_absen!$G$2:$G$2000,SUMPRODUCT((data_absen!$B$2:$B$2000=$A67)*(data_absen!$C$2:$C$2000=BO$3)*(ROW(data_absen!$C$2:$C$2000)))-1)","v":""},null,"-",{"$f":"INDEX(data_absen!$H$2:$H$2000,SUMPRODUCT((data_absen!$B$2:$B$2000=$A67)*(data_absen!$C$2:$C$2000=BO$3)*(ROW(data_absen!$C$2:$C$2000)))-1)","v":""}]
[122,null,null,"-",null,null,null,null,"-",null,null,null,null,"-",null,null,null,null,"-",null,null,null,null,"-",null,null,null,null,"-",null,null,null,null,"-",null,null,null,null,"-",null,null,null,null,"-",null,null,null,null,"-",null,null,null,null,"-",null,null,null,null,"-",null,null,null,null,"-",null,null,null,null,"-"]
[null,{"$f":"IFERROR(INDEX(data_absen!$K$2:$K$2000,SUMPRODUCT((data_absen!$B$2:$B$2000=$A67)*(data_absen!$C$2:$C$2000=B$3)*(ROW(data_absen!$C$2:$C$2000)))-1)*1440,\"\")","v":""},{"$f":"IFERROR(INDEX(data_absen!$I$2:$I$2000,SUMPRODUCT((data_absen!$B$2:$B$2000=$A67)*(data_absen!$C$2:$C$2000=B$3)*(ROW(data_absen!$C$2:$C$2000)))-1)*1440,\"\")","v":""},null,null,{"$f":"IFERROR(INDEX(data_absen!$J$2:$J$2000,SUMPRODUCT((data_absen!$B$2:$B$2000=$A67)*(data_absen!$C$2:$C$2000=B$3)*(ROW(data_absen!$C$2:$C$2000)))-1)*1440,\"\")","v":""},{"$f":"IFERROR(INDEX(data_absen!$K$2:$K$2000,SUMPRODUCT((data_absen!$B$2:$B$2000=$A67)*(data_absen!$C$2:$C$2000=G$3)*(ROW(data_absen!$C$2:$C$2000)))-1)*1440,\"\")","v":""},{"$f":"IFERROR(INDEX(data_absen!$I$2:$I$2000,SUMPRODUCT((data_absen!$B$2:$B$2000=$A67)*(data_absen!$C$2:$C$2000=G$3)*(ROW(data_absen!$C$2:$C$2000)))-1)*1440,\"\")","v":""},null,null,{"$f":"IFERROR(INDEX(data_absen!$J$2:$J$2000,SUMPRODUCT((data_absen!$B$2:$B$2000=$A67)*(data_absen!$C$2:$C$2000=G$3)*(ROW(data_absen!$C$2:$C$2000)))-1)*1440,\"\")","v":""},{"$f":"IFERROR(INDEX(data_absen!$K$2:$K$2000,SUMPRODUCT((data_absen!$B$2:$B$2000=$A67)*(data_absen!$C$2:$C$2000=L$3)*(ROW(data_absen!$C$2:$C$2000)))-1)*1440,\"\")","v":""},{"$f":"IFERROR(INDEX(data_absen!$I$2:$I$2000,SUMPRODUCT((data_absen!$B$2:$B$2000=$A67)*(data_absen!$C$2:$C$2000=L$3)*(ROW(data_absen!$C$2:$C$2000)))-1)*1440,\"\")","v":""},null,null,{"$f":"IFERROR(INDEX(data_absen!$J$2:$J$2000,SUMPRODUCT((data_absen!$B$2:$B$2000=$A67)*(data_absen!$C$2:$C$2000=L$3)*(ROW(data_absen!$C$2:$C$2000)))-1)*1440,\"\")","v":""},{"$f":"IFERROR(INDEX(data_absen!$K$2:$K$2000,SUMPRODUCT((data_absen!$B$2:$B$2000=$A67)*(data_absen!$C$2:$C$2000=Q$3)*(ROW(data_absen!$C$2:$C$2000)))-1)*1440,\"\")","v":""},{"$f":"IFERROR(INDEX(data_absen!$I$2:$I$2000,SUMPRODUCT((data_absen!$B$2:$B$2000=$A67)*(data_absen!$C$2:$C$2000=Q$3)*(ROW(data_absen!$C$2:$C$2000)))-1)*1440,\"\")","v":""},null,null,{"$f":"IFERROR(INDEX(data_absen!$J$2:$J$2000,SUMPRODUCT((data_absen!$B$2:$B$2000=$A67)*(data_absen!$C$2:$C$2000=Q$3)*(ROW(data_absen!$C$2:$C$2000)))-1)*1440,\"\")","v":""},{"$f":"IFERROR(INDEX(data_absen!$K$2:$K$2000,SUMPRODUCT((data_absen!$B$2:$B$2000=$A67)*(data_absen!$C$2:$C$2000=V$3)*(ROW(data_absen!$C$2:$C$2000)))-1)*1440,\"\")","v":""},{"$f":"IFERROR(INDEX(data_absen!$I$2:$I$2000,SUMPRODUCT((data_absen!$B$2:$B$2000=$A67)*(data_absen!$C$2:$C$2000=V$3)*(ROW(data_absen!$C$2:$C$2000)))-1)*1440,\"\")","v":""},null,null,{"$f":"IFERROR(INDEX(data_absen!$J$2:$J$2000,SUMPRODUCT((data_absen!$B$2:$B$2000=$A67)*(data_absen!$C$2:$C$2000=V$3)*(ROW(data_absen!$C$2:$C$2000)))-1)*1440,\"\")","v":""},{"$f":"IFERROR(INDEX(data_absen!$K$2:$K$2000,SUMPRODUCT((data_absen!$B$2:$B$2000=$A67)*(data_absen!$C$2:$C$2000=AA$3)*(ROW(data_absen!$C$2:$C$2000)))-1)*1440,\"\")","v":""},{"$f":"IFERROR(INDEX(data_absen!$I$2:$I$2000,SUMPRODUCT((data_absen!$B$2:$B$2000=$A67)*(data_absen!$C$2:$C$2000=AA$3)*(ROW(data_absen!$C$2:$C$2000)))-1)*1440,\"\")","v":""},null,null,{"$f":"IFERROR(INDEX(data_absen!$J$2:$J$2000,SUMPRODUCT((data_absen!$B$2:$B$2000=$A67)*(data_absen!$C$2:$C$2000=AA$3)*(ROW(data_absen!$C$2:$C$2000)))-1)*1440,\"\")","v":""},{"$f":"IFERROR(INDEX(data_absen!$K$2:$K$2000,SUMPRODUCT((data_absen!$B$2:$B$2000=$A67)*(data_absen!$C$2:$C$2000=AF$3)*(ROW(data_absen!$C$2:$C$2000)))-1)*1440,\"\")","v":""},{"$f":"IFERROR(INDEX(data_absen!$I$2:$I$2000,SUMPRODUCT((data_absen!$B$2:$B$2000=$A67)*(data_absen!$C$2:$C$2000=AF$3)*(ROW(data_absen!$C$2:$C$2000)))-1)*1440,\"\")","v":""},null,null,{"$f":"IFERROR(INDEX(data_absen!$J$2:$J$2000,SUMPRODUCT((data_absen!$B$2:$B$2000=$A67)*(data_absen!$C$2:$C$2000=AF$3)*(ROW(data_absen!$C$2:$C$2000)))-1)*1440,\"\")","v":""},{"$f":"IFERROR(INDEX(data_absen!$K$2:$K$2000,SUMPRODUCT((data_absen!$B$2:$B$2000=$A67)*(data_absen!$C$2:$C$2000=AK$3)*(ROW(data_absen!$C$2:$C$2000)))-1)*1440,\"\")","v":""},{"$f":"IFERROR(INDEX(data_absen!$I$2:$I$2000,SUMPRODUCT((data_absen!$B$2:$B$2000=$A67)*(data_absen!$C$2:$C$2000=AK$3)*(ROW(data_absen!$C$2:$C$2000)))-1)*1440,\"\")","v":""},null,null,{"$f":"IFERROR(INDEX(data_absen!$J$2:$J$2000,SUMPRODUCT((data_absen!$B$2:$B$2000=$A67)*(data_absen!$C$2:$C$2000=AK$3)*(ROW(data_absen!$C$2:$C$2000)))-1)*1440,\"\")","v":""},{"$f":"IFERROR(INDEX(data_absen!$K$2:$K$2000,SUMPRODUCT((data_absen!$B$2:$B$2000=$A67)*(data_absen!$C$2:$C$2000=AP$3)*(ROW(data_absen!$C$2:$C$2000)))-1)*1440,\"\")","v":""},{"$f":"IFERROR(INDEX(data_absen!$I$2:$I$2000,SUMPRODUCT((data_absen!$B$2:$B$2000=$A67)*(data_absen!$C$2:$C$2000=AP$3)*(ROW(data_absen!$C$2:$C$2000)))-1)*1440,\"\")","v":""},null,null,{"$f":"IFERROR(INDEX(data_absen!$J$2:$J$2000,SUMPRODUCT((data_absen!$B$2:$B$2000=$A67)*(data_absen!$C$2:$C$2000=AP$3)*(ROW(data_absen!$C$2:$C$2000)))-1)*1440,\"\")","v":""},{"$f":"IFERROR(INDEX(data_absen!$K$2:$K$2000,SUMPRODUCT((data_absen!$B$2:$B$2000=$A67)*(data_absen!$C$2:$C$2000=AU$3)*(ROW(data_absen!$C$2:$C$2000)))-1)*1440,\"\")","v":""},{"$f":"IFERROR(INDEX(data_absen!$I$2:$I$2000,SUMPRODUCT((data_absen!$B$2:$B$2000=$A67)*(data_absen!$C$2:$C$2000=AU$3)*(ROW(data_absen!$C$2:$C$2000)))-1)*1440,\"\")","v":""},null,null,{"$f":"IFERROR(INDEX(data_absen!$J$2:$J$2000,SUMPRODUCT((data_absen!$B$2:$B$2000=$A67)*(data_absen!$C$2:$C$2000=AU$3)*(ROW(data_absen!$C$2:$C$2000)))-1)*1440,\"\")","v":""},{"$f":"IFERROR(INDEX(data_absen!$K$2:$K$2000,SUMPRODUCT((data_absen!$B$2:$B$2000=$A67)*(data_absen!$C$2:$C$2000=AZ$3)*(ROW(data_absen!$C$2:$C$2000)))-1)*1440,\"\")","v":""},{"$f":"IFERROR(INDEX(data_absen!$I$2:$I$2000,SUMPRODUCT((data_absen!$B$2:$B$2000=$A67)*(data_absen!$C$2:$C$2000=AZ$3)*(ROW(data_absen!$C$2:$C$2000)))-1)*1440,\"\")","v":""},null,null,{"$f":"IFERROR(INDEX(data_absen!$J$2:$J$2000,SUMPRODUCT((data_absen!$B$2:$B$2000=$A67)*(data_absen!$C$2:$C$2000=AZ$3)*(ROW(data_absen!$C$2:$C$2000)))-1)*1440,\"\")","v":""},{"$f":"IFERROR(INDEX(data_absen!$K$2:$K$2000,SUMPRODUCT((data_absen!$B$2:$B$2000=$A67)*(data_absen!$C$2:$C$2000=BE$3)*(ROW(data_absen!$C$2:$C$2000)))-1)*1440,\"\")","v":""},{"$f":"IFERROR(INDEX(data_absen!$I$2:$I$2000,SUMPRODUCT((data_absen!$B$2:$B$2000=$A67)*(data_absen!$C$2:$C$2000=BE$3)*(ROW(data_absen!$C$2:$C$2000)))-1)*1440,\"\")","v":""},null,null,{"$f":"IFERROR(INDEX(data_absen!$J$2:$J$2000,SUMPRODUCT((data_absen!$B$2:$B$2000=$A67)*(data_absen!$C$2:$C$2000=BE$3)*(ROW(data_absen!$C$2:$C$2000)))-1)*1440,\"\")","v":""},{"$f":"IFERROR(INDEX(data_absen!$K$2:$K$2000,SUMPRODUCT((data_absen!$B$2:$B$2000=$A67)*(data_absen!$C$2:$C$2000=BJ$3)*(ROW(data_absen!$C$2:$C$2000)))-1)*1440,\"\")","v":""},{"$f":"IFERROR(INDEX(data_absen!$I$2:$I$2000,SUMPRODUCT((data_absen!$B$2:$B$2000=$A67)*(data_absen!$C$2:$C$2000=BJ$3)*(ROW(data_absen!$C$2:$C$2000)))-1)*1440,\"\")","v":""},null,null,{"$f":"IFERROR(INDEX(data_absen!$J$2:$J$2000,SUMPRODUCT((data_absen!$B$2:$B$2000=$A67)*(data_absen!$C$2:$C$2000=BJ$3)*(ROW(data_absen!$C$2:$C$2000)))-1)*1440,\"\")","v":""},{"$f":"IFERROR(INDEX(data_absen!$K$2:$K$2000,SUMPRODUCT((data_absen!$B$2:$B$2000=$A67)*(data_absen!$C$2:$C$2000=BO$3)*(ROW(data_absen!$C$2:$C$2000)))-1)*1440,\"\")","v":""},{"$f":"IFERROR(INDEX(data_absen!$I$2:$I$2000,SUMPRODUCT((data_absen!$B$2:$B$2000=$A67)*(data_absen!$C$2:$C$2000=BO$3)*(ROW(data_absen!$C$2:$C$2000)))-1)*1440,\"\")","v":""},null,null,{"$f":"IFERROR(INDEX(data_absen!$J$2:$J$2000,SUMPRODUCT((data_absen!$B$2:$B$2000=$A67)*(data_absen!$C$2:$C$2000=BO$3)*(ROW(data_absen!$C$2:$C$2000)))-1)*1440,\"\")","v":""},{"$f":"COUNTIFS(data_absen!$B$2:$B$2000,$A67,data_absen!$I$2:$I$2000,\">0\")","v":2}]
["Gilang",{"$f":"INDEX(data_absen!$G$2:$G$2000,SUMPRODUCT((data_absen!$B$2:$B$2000=$A70)*(data_absen!$C$2:$C$2000=B$3)*(ROW(data_absen!$C$2:$C$2000)))-1)","v":""},null,"-",{"$f":"INDEX(data_absen!$H$2:$H$2000,SUMPRODUCT((data_absen!$B$2:$B$2000=$A70)*(data_absen!$C$2:$C$2000=B$3)*(ROW(data_absen!$C$2:$C$2000)))-1)","v":""},null,{"$f":"INDEX(data_absen!$G$2:$G$2000,SUMPRODUCT((data_absen!$B$2:$B$2000=$A70)*(data_absen!$C$2:$C$2000=G$3)*(ROW(data_absen!$C$2:$C$2000)))-1)","v":""},null,"-",{"$f":"INDEX(data_absen!$H$2:$H$2000,SUMPRODUCT((data_absen!$B$2:$B$2000=$A70)*(data_absen!$C$2:$C$2000=G$3)*(ROW(data_absen!$C$2:$C$2000)))-1)","v":""},null,{"$f":"INDEX(data_absen!$G$2:$G$2000,SUMPRODUCT((data_absen!$B$2:$B$2000=$A70)*(data_absen!$C$2:$C$2000=L$3)*(ROW(data_absen!$C$2:$C$2000)))-1)","v":""},null,"-",{"$f":"INDEX(data_absen!$H$2:$H$2000,SUMPRODUCT((data_absen!$B$2:$B$2000=$A70)*(data_absen!$C$2:$C$2000=L$3)*(ROW(data_absen!$C$2:$C$2000)))-1)","v":""},null,{"$f":"INDEX(data_absen!$G$2:$G$2000,SUMPRODUCT((data_absen!$B$2:$B$2000=$A70)*(data_absen!$C$2:$C$2000=Q$3)*(ROW(data_absen!$C$2:$C$2000)))-1)","v":""},null,"-",{"$f":"INDEX(data_absen!$H$2:$H$2000,SUMPRODUCT((data_absen!$B$2:$B$2000=$A70)*(data_absen!$C$2:$C$2000=Q$3)*(ROW(data_absen!$C$2:$C$2000)))-1)","v":""},null,{"$f":"INDEX(data_absen!$G$2:$G$2000,SUMPRODUCT((data_absen!$B$2:$B$2000=$A70)*(data_absen!$C$2:$C$2000=V$3)*(ROW(data_absen!$C$2:$C$2000)))-1)","v":""},null,"-",{"$f":"INDEX(data_absen!$H$2:$H$2000,SUMPRODUCT((data_absen!$B$2:$B$2000=$A70)*(data_absen!$C$2:$C$2000=V$3)*(ROW(data_absen!$C$2:$C$2000)))-1)","v":""},null,{"$f":"INDEX(data_absen!$G$2:$G$2000,SUMPRODUCT((data_absen!$B$2:$B$2000=$A70)*(data_absen!$C$2:$C$2000=AA$3)*(ROW(data_absen!$C$2:$C$2000)))-1)","v":""},null,"-",{"$f":"INDEX(data_absen!$H$2:$H$2000,SUMPRODUCT((data_absen!$B$2:$B$2000=$A70)*(data_absen!$C$2:$C$2000=AA$3)*(ROW(data_absen!$C$2:$C$2000)))-1)","v":""},null,{"$f":"INDEX(data_absen!$G$2:$G$2000,SUMPRODUCT((data_absen!$B$2:$B$2000=$A70)*(data_absen!$C$2:$C$2000=AF$3)*(ROW(data_absen!$C$2:$C$2000)))-1)","v":""},null,"-",{"$f":"INDEX(data_absen!$H$2:$H$2000,SUMPRODUCT((data_absen!$B$2:$B$2000=$A70)*(data_absen!$C$2:$C$2000=AF$3)*(ROW(data_absen!$C$2:$C$2000)))-1)","v":""},null,{"$f":"INDEX(data_absen!$G$2:$G$2000,SUMPRODUCT((data_absen!$B$2:$B$2000=$A70)*(data_absen!$C$2:$C$2000=AK$3)*(ROW(data_absen!$C$2:$C$2000)))-1)","v":""},null,"-",{"$f":"INDEX(data_absen!$H$2:$H$2000,SUMPRODUCT((data_absen!$B$2:$B$2000=$A70)*(data_absen!$C$2:$C$2000=AK$3)*(ROW(data_absen!$C$2:$C$2000)))-1)","v":""},null,{"$f":"INDEX(data_absen!$G$2:$G$2000,SUMPRODUCT((data_absen!$B$2:$B$2000=$A70)*(data_absen!$C$2:$C$2000=AP$3)*(ROW(data_absen!$C$2:$C$2000)))-1)","v":""},null,"-",{"$f":"INDEX(data_absen!$H$2:$H$2000,SUMPRODUCT((data_absen!$B$2:$B$2000=$A70)*(data_absen!$C$2:$C$2000=AP$3)*(ROW(data_absen!$C$2:$C$2000)))-1)","v":""},null,{"$f":"INDEX(data_absen!$G$2:$G$2000,SUMPRODUCT((data_absen!$B$2:$B$2000=$A70)*(data_absen!$C$2:$C$2000=AU$3)*(ROW(data_absen!$C$2:$C$2000)))-1)","v":""},null,"-",{"$f":"INDEX(data_absen!$H$2:$H$2000,SUMPRODUCT((data_absen!$B$2:$B$2000=$A70)*(data_absen!$C$2:$C$2000=AU$3)*(ROW(data_absen!$C$2:$C$2000)))-1)","v":""},null,{"$f":"INDEX(data_absen!$G$2:$G$2000,SUMPRODUCT((data_absen!$B$2:$B$2000=$A70)*(data_absen!$C$2:$C$2000=AZ$3)*(ROW(data_absen!$C$2:$C$2000)))-1)","v":""},null,"-",{"$f":"INDEX(data_absen!$H$2:$H$2000,SUMPRODUCT((data_absen!$B$2:$B$2000=$A70)*(data_absen!$C$2:$C$2000=AZ$3)*(ROW(data_absen!$C$2:$C$2000)))-1)","v":""},null,{"$f":"INDEX(data_absen!$G$2:$G$2000,SUMPRODUCT((data_absen!$B$2:$B$2000=$A70)*(data_absen!$C$2:$C$2000=BE$3)*(ROW(data_absen!$C$2:$C$2000)))-1)","v":""},null,"-",{"$f":"INDEX(data_absen!$H$2:$H$2000,SUMPRODUCT((data_absen!$B$2:$B$2000=$A70)*(data_absen!$C$2:$C$2000=BE$3)*(ROW(data_absen!$C$2:$C$2000)))-1)","v":""},null,{"$f":"INDEX(data_absen!$G$2:$G$2000,SUMPRODUCT((data_absen!$B$2:$B$2000=$A70)*(data_absen!$C$2:$C$2000=BJ$3)*(ROW(data_absen!$C$2:$C$2000)))-1)","v":""},null,"-",{"$f":"INDEX(data_absen!$H$2:$H$2000,SUMPRODUCT((data_absen!$B$2:$B$2000=$A70)*(data_absen!$C$2:$C$2000=BJ$3)*(ROW(data_absen!$C$2:$C$2000)))-1)","v":""},null,{"$f":"INDEX(data_absen!$G$2:$G$2000,SUMPRODUCT((data_absen!$B$2:$B$2000=$A70)*(data_absen!$C$2:$C$2000=BO$3)*(ROW(data_absen!$C$2:$C$2000)))-1)","v":""},null,"-",{"$f":"INDEX(data_absen!$H$2:$H$2000,SUMPRODUCT((data_absen!$B$2:$B$2000=$A70)*(data_absen!$C$2:$C$2000=BO$3)*(ROW(data_absen!$C$2:$C$2000)))-1)","v":""}]
[123,null,null,"-",null,null,null,null,"-",null,null,null,null,"-",null,null,null,null,"-",null,null,null,null,"-",null,null,null,null,"-",null,null,null,null,"-",null,null,null,null,"-",null,null,null,null,"-",null,null,null,null,"-",null,null,null,null,"-",null,null,null,null,"-",null,null,null,null,"-",null,null,null,null,"-"]
[null,{"$f":"IFERROR(INDEX(data_absen!$K$2:$K$2000,SUMPRODUCT((data_absen!$B$2:$B$2000=$A70)*(data_absen!$C$2:$C$2000=B$3)*(ROW(data_absen!$C$2:$C$2000)))-1)*1440,\"\")","v":""},{"$f":"IFERROR(INDEX(data_absen!$I$2:$I$2000,SUMPRODUCT((data_absen!$B$2:$B$2000=$A70)*(data_absen!$C$2:$C$2000=B$3)*(ROW(data_absen!$C$2:$C$2000)))-1)*1440,\"\")","v":""},null,null,{"$f":"IFERROR(INDEX(data_absen!$J$2:$J$2000,SUMPRODUCT((data_absen!$B$2:$B$2000=$A70)*(data_absen!$C$2:$C$2000=B$3)*(ROW(data_absen!$C$2:$C$2000)))-1)*1440,\"\")","v":""},{"$f":"IFERROR(INDEX(data_absen!$K$2:$K$2000,SUMPRODUCT((data_absen!$B$2:$B$2000=$A70)*(data_absen!$C$2:$C$2000=G$3)*(ROW(data_absen!$C$2:$C$2000)))-1)*1440,\"\")","v":""},{"$f":"IFERROR(INDEX(data_absen!$I$2:$I$2000,SUMPRODUCT((data_absen!$B$2:$B$2000=$A70)*(data_absen!$C$2:$C$2000=G$3)*(ROW(data_absen!$C$2:$C$2000)))-1)*1440,\"\")","v":""},null,null,{"$f":"IFERROR(INDEX(data_absen!$J$2:$J$2000,SUMPRODUCT((data_absen!$B$2:$B$2000=$A70)*(data_absen!$C$2:$C$2000=G$3)*(ROW(data_absen!$C$2:$C$2000)))-1)*1440,\"\")","v":""},{"$f":"IFERROR(INDEX(data_absen!$K$2:$K$2000,SUMPRODUCT((data_absen!$B$2:$B$2000=$A70)*(data_absen!$C$2:$C$2000=L$3)*(ROW(data_absen!$C$2:$C$2000)))-1)*1440,\"\")","v":""},{"$f":"IFERROR(INDEX(data_absen!$I$2:$I$2000,SUMPRODUCT((data_absen!$B$2:$B$2000=$A70)*(data_absen!$C$2:$C$2000=L$3)*(ROW(data_absen!$C$2:$C$2000)))-1)*1440,\"\")","v":""},null,null,{"$f":"IFERROR(INDEX(data_absen!$J$2:$J$2000,SUMPRODUCT((data_absen!$B$2:$B$2000=$A70)*(data_absen!$C$2:$C$2000=L$3)*(ROW(data_absen!$C$2:$C$2000)))-1)*1440,\"\")","v":""},{"$f":"IFERROR(INDEX(data_absen!$K$2:$K$2000,SUMPRODUCT((data_absen!$B$2:$B$2000=$A70)*(data_absen!$C$2:$C$2000=Q$3)*(ROW(data_absen!$C$2:$C$2000)))-1)*1440,\"\")","v":""},{"$f":"IFERROR(INDEX(data_absen!$I$2:$I$2000,SUMPRODUCT((data_absen!$B$2:$B$2000=$A70)*(data_absen!$C$2:$C$2000=Q$3)*(ROW(data_absen!$C$2:$C$2000)))-1)*1440,\"\")","v":""},null,null,{"$f":"IFERROR(INDEX(data_absen!$J$2:$J$2000,SUMPRODUCT((data_absen!$B$2:$B$2000=$A70)*(data_absen!$C$2:$C$2000=Q$3)*(ROW(data_absen!$C$2:$C$2000)))-1)*1440,\"\")","v":""},{"$f":"IFERROR(INDEX(data_absen!$K$2:$K$2000,SUMPRODUCT((data_absen!$B$2:$B$2000=$A70)*(data_absen!$C$2:$C$2000=V$3)*(ROW(data_absen!$C$2:$C$2000)))-1)*1440,\"\")","v":""},{"$f":"IFERROR(INDEX(data_absen!$I$2:$I$2000,SUMPRODUCT((data_absen!$B$2:$B$2000=$A70)*(data_absen!$C$2:$C$2000=V$3)*(ROW(data_absen!$C$2:$C$2000)))-1)*1440,\"\")","v":""},null,null,{"$f":"IFERROR(INDEX(data_absen!$J$2:$J$2000,SUMPRODUCT((data_absen!$B$2:$B$2000=$A70)*(data_absen!$C$2:$C$2000=V$3)*(ROW(data_absen!$C$2:$C$2000)))-1)*1440,\"\")","v":""},{"$f":"IFERROR(INDEX(data_absen!$K$2:$K$2000,SUMPRODUCT((data_absen!$B$2:$B$2000=$A70)*(data_absen!$C$2:$C$2000=AA$3)*(ROW(data_absen!$C$2:$C$2000)))-1)*1440,\"\")","v":""},{"$f":"IFERROR(INDEX(data_absen!$I$2:$I$2000,SUMPRODUCT((data_absen!$B$2:$B$2000=$A70)*(data_absen!$C$2:$C$2000=AA$3)*(ROW(data_absen!$C$2:$C$2000)))-1)*1440,\"\")","v":""},null,null,{"$f":"IFERROR(INDEX(data_absen!$J$2:$J$2000,SUMPRODUCT((data_absen!$B$2:$B$2000=$A70)*(data_absen!$C$2:$C$2000=AA$3)*(ROW(data_absen!$C$2:$C$2000)))-1)*1440,\"\")","v":""},{"$f":"IFERROR(INDEX(data_absen!$K$2:$K$2000,SUMPRODUCT((data_absen!$B$2:$B$2000=$A70)*(data_absen!$C$2:$C$2000=AF$3)*(ROW(data_absen!$C$2:$C$2000)))-1)*1440,\"\")","v":""},{"$f":"IFERROR(INDEX(data_absen!$I$2:$I$2000,SUMPRODUCT((data_absen!$B$2:$B$2000=$A70)*(data_absen!$C$2:$C$2000=AF$3)*(ROW(data_absen!$C$2:$C$2000)))-1)*1440,\"\")","v":""},null,null,{"$f":"IFERROR(INDEX(data_absen!$J$2:$J$2000,SUMPRODUCT((data_absen!$B$2:$B$2000=$A70)*(data_absen!$C$2:$C$2000=AF$3)*(ROW(data_absen!$C$2:$C$2000)))-1)*1440,\"\")","v":""},{"$f":"IFERROR(INDEX(data_absen!$K$2:$K$2000,SUMPRODUCT((data_absen!$B$2:$B$2000=$A70)*(data_absen!$C$2:$C$2000=AK$3)*(ROW(data_absen!$C$2:$C$2000)))-1)*1440,\"\")","v":""},{"$f":"IFERROR(INDEX(data_absen!$I$2:$I$2000,SUMPRODUCT((data_absen!$B$2:$B$2000=$A70)*(data_absen!$C$2:$C$2000=AK$3)*(ROW(data_absen!$C$2:$C$2000)))-1)*1440,\"\")","v":""},null,null,{"$f":"IFERROR(INDEX(data_absen!$J$2:$J$2000,SUMPRODUCT((data_absen!$B$2:$B$2000=$A70)*(data_absen!$C$2:$C$2000=AK$3)*(ROW(data_absen!$C$2:$C$2000)))-1)*1440,\"\")","v":""},{"$f":"IFERROR(INDEX(data_absen!$K$2:$K$2000,SUMPRODUCT((data_absen!$B$2:$B$2000=$A70)*(data_absen!$C$2:$C$2000=AP$3)*(ROW(data_absen!$C$2:$C$2000)))-1)*1440,\"\")","v":""},{"$f":"IFERROR(INDEX(data_absen!$I$2:$I$2000,SUMPRODUCT((data_absen!$B$2:$B$2000=$A70)*(data_absen!$C$2:$C$2000=AP$3)*(ROW(data_absen!$C$2:$C$2000)))-1)*1440,\"\")","v":""},null,null,{"$f":"IFERROR(INDEX(data_absen!$J$2:$J$2000,SUMPRODUCT((data_absen!$B$2:$B$2000=$A70)*(data_absen!$C$2:$C$2000=AP$3)*(ROW(data_absen!$C$2:$C$2000)))-1)*1440,\"\")","v":""},{"$f":"IFERROR(INDEX(data_absen!$K$2:$K$2000,SUMPRODUCT((data_absen!$B$2:$B$2000=$A70)*(data_absen!$C$2:$C$2000=AU$3)*(ROW(data_absen!$C$2:$C$2000)))-1)*1440,\"\")","v":""},{"$f":"IFERROR(INDEX(data_absen!$I$2:$I$2000,SUMPRODUCT((data_absen!$B$2:$B$2000=$A70)*(data_absen!$C$2:$C$2000=AU$3)*(ROW(data_absen!$C$2:$C$2000)))-1)*1440,\"\")","v":""},null,null,{"$f":"IFERROR(INDEX(data_absen!$J$2:$J$2000,SUMPRODUCT((data_absen!$B$2:$B$2000=$A70)*(data_absen!$C$2:$C$2000=AU$3)*(ROW(data_absen!$C$2:$C$2000)))-1)*1440,\"\")","v":""},{"$f":"IFERROR(INDEX(data_absen!$K$2:$K$2000,SUMPRODUCT((data_absen!$B$2:$B$2000=$A70)*(data_absen!$C$2:$C$2000=AZ$3)*(ROW(data_absen!$C$2:$C$2000)))-1)*1440,\"\")","v":""},{"$f":"IFERROR(INDEX(data_absen!$I$2:$I$2000,SUMPRODUCT((data_absen!$B$2:$B$2000=$A70)*(data_absen!$C$2:$C$2000=AZ$3)*(ROW(data_absen!$C$2:$C$2000)))-1)*1440,\"\")","v":""},null,null,{"$f":"IFERROR(INDEX(data_absen!$J$2:$J$2000,SUMPRODUCT((data_absen!$B$2:$B$2000=$A70)*(data_absen!$C$2:$C$2000=AZ$3)*(ROW(data_absen!$C$2:$C$2000)))-1)*1440,\"\")","v":""},{"$f":"IFERROR(INDEX(data_absen!$K$2:$K$2000,SUMPRODUCT((data_absen!$B$2:$B$2000=$A70)*(data_absen!$C$2:$C$2000=BE$3)*(ROW(data_absen!$C$2:$C$2000)))-1)*1440,\"\")","v":""},{"$f":"IFERROR(INDEX(data_absen!$I$2:$I$2000,SUMPRODUCT((data_absen!$B$2:$B$2000=$A70)*(data_absen!$C$2:$C$2000=BE$3)*(ROW(data_absen!$C$2:$C$2000)))-1)*1440,\"\")","v":""},null,null,{"$f":"IFERROR(INDEX(data_absen!$J$2:$J$2000,SUMPRODUCT((data_absen!$B$2:$B$2000=$A70)*(data_absen!$C$2:$C$2000=BE$3)*(ROW(data_absen!$C$2:$C$2000)))-1)*1440,\"\")","v":""},{"$f":"IFERROR(INDEX(data_absen!$K$2:$K$2000,SUMPRODUCT((data_absen!$B$2:$B$2000=$A70)*(data_absen!$C$2:$C$2000=BJ$3)*(ROW(data_absen!$C$2:$C$2000)))-1)*1440,\"\")","v":""},{"$f":"IFERROR(INDEX(data_absen!$I$2:$I$2000,SUMPRODUCT((data_absen!$B$2:$B$2000=$A70)*(data_absen!$C$2:$C$2000=BJ$3)*(ROW(data_absen!$C$2:$C$2000)))-1)*1440,\"\")","v":""},null,null,{"$f":"IFERROR(INDEX(data_absen!$J$2:$J$2000,SUMPRODUCT((data_absen!$B$2:$B$2000=$A70)*(data_absen!$C$2:$C$2000=BJ$3)*(ROW(data_absen!$C$2:$C$2000)))-1)*1440,\"\")","v":""},{"$f":"IFERROR(INDEX(data_absen!$K$2:$K$2000,SUMPRODUCT((data_absen!$B$2:$B$2000=$A70)*(data_absen!$C$2:$C$2000=BO$3)*(ROW(data_absen!$C$2:$C$2000)))-1)*1440,\"\")","v":""},{"$f":"IFERROR(INDEX(data_absen!$I$2:$I$2000,SUMPRODUCT((data_absen!$B$2:$B$2000=$A70)*(data_absen!$C$2:$C$2000=BO$3)*(ROW(data_absen!$C$2:$C$2000)))-1)*1440,\"\")","v":""},null,null,{"$f":"IFERROR(INDEX(data_absen!$J$2:$J$2000,SUMPRODUCT((data_absen!$B$2:$B$2000=$A70)*(data_absen!$C$2:$C$2000=BO$3)*(ROW(data_absen!$C$2:$C$2000)))-1)*1440,\"\")","v":""},{"$f":"COUNTIFS(data_absen!$B$2:$B$2000,$A70,data_absen!$I$2:$I$2000,\">0\")","v":6}]
["Zeky",{"$f":"INDEX(data_absen!$G$2:$G$2000,SUMPRODUCT((data_absen!$B$2:$B$2000=$A73)*(data_absen!$C$2:$C$2000=B$3)*(ROW(data_absen!$C$2:$C$2000)))-1)","v":""},null,"-",{"$f":"INDEX(data_absen!$H$2:$H$2000,SUMPRODUCT((data_absen!$B$2:$B$2000=$A73)*(data_absen!$C$2:$C$2000=B$3)*(ROW(data_absen!$C$2:$C$2000)))-1)","v":""},null,{"$f":"INDEX(data_absen!$G$2:$G$2000,SUMPRODUCT((data_absen!$B$2:$B$2000=$A73)*(data_absen!$C$2:$C$2000=G$3)*(ROW(data_absen!$C$2:$C$2000)))-1)","v":"06:48:00"},null,"-",{"$f":"INDEX(data_absen!$H$2:$H$2000,SUMPRODUCT((data_absen!$B$2:$B$2000=$A73)*(data_absen!$C$2:$C$2000=G$3)*(ROW(data_absen!$C$2:$C$2000)))-1)","v":"14:55:00"},null,{"$f":"INDEX(data_absen!$G$2:$G$2000,SUMPRODUCT((data_absen!$B$2:$B$2000=$A73)*(data_absen!$C$2:$C$2000=L$3)*(ROW(data_absen!$C$2:$C$2000)))-1)","v":"06:45:00"},null,"-",{"$f":"INDEX(data_absen!$H$2:$H$2000,SUMPRODUCT((data_absen!$B$2:$B$2000=$A73)*(data_absen!$C$2:$C$2000=L$3)*(ROW(data_absen!$C$2:$C$2000)))-1)","v":""},null,{"$f":"INDEX(data_absen!$G$2:$G$2000,SUMPRODUCT((data_absen!$B$2:$B$2000=$A73)*(data_absen!$C$2:$C$2000=Q$3)*(ROW(data_absen!$C$2:$C$2000)))-1)","v":""},null,"-",{"$f":"INDEX(data_absen!$H$2:$H$2000,SUMPRODUCT((data_absen!$B$2:$B$2000=$A73)*(data_absen!$C$2:$C$2000=Q$3)*(ROW(data_absen!$C$2:$C$2000)))-1)","v":""},null,{"$f":"INDEX(data_absen!$G$2:$G$2000,SUMPRODUCT((data_absen!$B$2:$B$2000=$A73)*(data_absen!$C$2:$C$2000=V$3)*(ROW(data_absen!$C$2:$C$2000)))-1)","v":""},null,"-",{"$f":"INDEX(data_absen!$H$2:$H$2000,SUMPRODUCT((data_absen!$B$2:$B$2000=$A73)*(data_absen!$C$2:$C$2000=V$3)*(ROW(data_absen!$C$2:$C$2000)))-1)","v":""},null,{"$f":"INDEX(data_absen!$G$2:$G$2000,SUMPRODUCT((data_absen!$B$2:$B$2000=$A73)*(data_absen!$C$2:$C$2000=AA$3)*(ROW(data_absen!$C$2:$C$2000)))-1)","v":""},null,"-",{"$f":"INDEX(data_absen!$H$2:$H$2000,SUMPRODUCT((data_absen!$B$2:$B$2000=$A73)*(data_absen!$C$2:$C$2000=AA$3)*(ROW(data_absen!$C$2:$C$2000)))-1)","v":""},null,{"$f":"INDEX(data_absen!$G$2:$G$2000,SUMPRODUCT((data_absen!$B$2:$B$2000=$A73)*(data_absen!$C$2:$C$2000=AF$3)*(ROW(data_absen!$C$2:$C$2000)))-1)","v":""},null,"-",{"$f":"INDEX(data_absen!$H$2:$H$2000,SUMPRODUCT((data_absen!$B$2:$B$2000=$A73)*(data_absen!$C$2:$C$2000=AF$3)*(ROW(data_absen!$C$2:$C$2000)))-1)","v":""},null,{"$f":"INDEX(data_absen!$G$2:$G$2000,SUMPRODUCT((data_absen!$B$2:$B$2000=$A73)*(data_absen!$C$2:$C$2000=AK$3)*(ROW(data_absen!$C$2:$C$2000)))-1)","v":""},null,"-",{"$f":"INDEX(data_absen!$H$2:$H$2000,SUMPRODUCT((data_absen!$B$2:$B$2000=$A73)*(data_absen!$C$2:$C$2000=AK$3)*(ROW(data_absen!$C$2:$C$2000)))-1)","v":""},null,{"$f":"INDEX(data_absen!$G$2:$G$2000,SUMPRODUCT((data_absen!$B$2:$B$2000=$A73)*(data_absen!$C$2:$C$2000=AP$3)*(ROW(data_absen!$C$2:$C$2000)))-1)","v":""},null,"-",{"$f":"INDEX(data_absen!$H$2:$H$2000,SUMPRODUCT((data_absen!$B$2:$B$2000=$A73)*(data_absen!$C$2:$C$2000=AP$3)*(ROW(data_absen!$C$2:$C$2000)))-1)","v":""},null,{"$f":"INDEX(data_absen!$G$2:$G$2000,SUMPRODUCT((data_absen!$B$2:$B$2000=$A73)*(data_absen!$C$2:$C$2000=AU$3)*(ROW(data_absen!$C$2:$C$2000)))-1)","v":""},null,"-",{"$f":"INDEX(data_absen!$H$2:$H$2000,SUMPRODUCT((data_absen!$B$2:$B$2000=$A73)*(data_absen!$C$2:$C$2000=AU$3)*(ROW(data_absen!$C$2:$C$2000)))-1)","v":""},null,{"$f":"INDEX(data_absen!$G$2:$G$2000,SUMPRODUCT((data_absen!$B$2:$B$2000=$A73)*(data_absen!$C$2:$C$2000=AZ$3)*(ROW(data_absen!$C$2:$C$2000)))-1)","v":""},null,"-",{"$f":"INDEX(data_absen!$H$2:$H$2000,SUMPRODUCT((data_absen!$B$2:$B$2000=$A73)*(data_absen!$C$2:$C$2000=AZ$3)*(ROW(data_absen!$C$2:$C$2000)))-1)","v":""},null,{"$f":"INDEX(data_absen!$G$2:$G$2000,SUMPRODUCT((data_absen!$B$2:$B$2000=$A73)*(data_absen!$C$2:$C$2000=BE$3)*(ROW(data_absen!$C$2:$C$2000)))-1)","v":""},null,"-",{"$f":"INDEX(data_absen!$H$2:$H$2000,SUMPRODUCT((data_absen!$B$2:$B$2000=$A73)*(data_absen!$C$2:$C$2000=BE$3)*(ROW(data_absen!$C$2:$C$2000)))-1)","v":""},null,{"$f":"INDEX(data_absen!$G$2:$G$2000,SUMPRODUCT((data_absen!$B$2:$B$2000=$A73)*(data_absen!$C$2:$C$2000=BJ$3)*(ROW(data_absen!$C$2:$C$2000)))-1)","v":""},null,"-",{"$f":"INDEX(data_absen!$H$2:$H$2000,SUMPRODUCT((data_absen!$B$2:$B$2000=$A73)*(data_absen!$C$2:$C$2000=BJ$3)*(ROW(data_absen!$C$2:$C$2000)))-1)","v":""},null,{"$f":"INDEX(data_absen!$G$2:$G$2000,SUMPRODUCT((data_absen!$B$2:$B$2000=$A73)*(data_absen!$C$2:$C$2000=BO$3)*(ROW(data_absen!$C$2:$C$2000)))-1)","v":""},null,"-",{"$f":"INDEX(data_absen!$H$2:$H$2000,SUMPRODUCT((data_absen!$B$2:$B$2000=$A73)*(data_absen!$C$2:$C$2000=BO$3)*(ROW(data_absen!$C$2:$C$2000)))-1)","v":""}]
[124,null,null,"-",null,null,null,null,"-",null,null,null,null,"-",null,null,null,null,"-",null,null,null,null,"-",null,null,null,null,"-",null,null,null,null,"-",null,null,null,null,"-",null,null,null,null,"-",null,null,null,null,"-",null,null,null,null,"-",null,null,null,null,"-",null,null,null,null,"-",null,null,null,null,"-"]
[null,{"$f":"IFERROR(INDEX(data_absen!$K$2:$K$2000,SUMPRODUCT((data_absen!$B$2:$B$2000=$A73)*(data_absen!$C$2:$C$2000=B$3)*(ROW(data_absen!$C$2:$C$2000)))-1)*1440,\"\")","v":""},{"$f":"IFERROR(INDEX(data_absen!$I$2:$I$2000,SUMPRODUCT((data_absen!$B$2:$B$2000=$A73)*(data_absen!$C$2:$C$2000=B$3)*(ROW(data_absen!$C$2:$C$2000)))-1)*1440,\"\")","v":""},null,null,{"$f":"IFERROR(INDEX(data_absen!$J$2:$J$2000,SUMPRODUCT((data_absen!$B$2:$B$2000=$A73)*(data_absen!$C$2:$C$2000=B$3)*(ROW(data_absen!$C$2:$C$2000)))-1)*1440,\"\")","v":""},{"$f":"IFERROR(INDEX(data_absen!$K$2:$K$2000,SUMPRODUCT((data_absen!$B$2:$B$2000=$A73)*(data_absen!$C$2:$C$2000=G$3)*(ROW(data_absen!$C$2:$C$2000)))-1)*1440,\"\")","v":""},{"$f":"IFERROR(INDEX(data_absen!$I$2:$I$2000,SUMPRODUCT((data_absen!$B$2:$B$2000=$A73)*(data_absen!$C$2:$C$2000=G$3)*(ROW(data_absen!$C$2:$C$2000)))-1)*1440,\"\")","v":""},null,null,{"$f":"IFERROR(INDEX(data_absen!$J$2:$J$2000,SUMPRODUCT((data_absen!$B$2:$B$2000=$A73)*(data_absen!$C$2:$C$2000=G$3)*(ROW(data_absen!$C$2:$C$2000)))-1)*1440,\"\")","v":""},{"$f":"IFERROR(INDEX(data_absen!$K$2:$K$2000,SUMPRODUCT((data_absen!$B$2:$B$2000=$A73)*(data_absen!$C$2:$C$2000=L$3)*(ROW(data_absen!$C$2:$C$2000)))-1)*1440,\"\")","v":""},{"$f":"IFERROR(INDEX(data_absen!$I$2:$I$2000,SUMPRODUCT((data_absen!$B$2:$B$2000=$A73)*(data_absen!$C$2:$C$2000=L$3)*(ROW(data_absen!$C$2:$C$2000)))-1)*1440,\"\")","v":""},null,null,{"$f":"IFERROR(INDEX(data_absen!$J$2:$J$2000,SUMPRODUCT((data_absen!$B$2:$B$2000=$A73)*(data_absen!$C$2:$C$2000=L$3)*(ROW(data_absen!$C$2:$C$2000)))-1)*1440,\"\")","v":120},{"$f":"IFERROR(INDEX(data_absen!$K$2:$K$2000,SUMPRODUCT((data_absen!$B$2:$B$2000=$A73)*(data_absen!$C$2:$C$2000=Q$3)*(ROW(data_absen!$C$2:$C$2000)))-1)*1440,\"\")","v":""},{"$f":"IFERROR(INDEX(data_absen!$I$2:$I$2000,SUMPRODUCT((data_absen!$B$2:$B$2000=$A73)*(data_absen!$C$2:$C$2000=Q$3)*(ROW(data_absen!$C$2:$C$2000)))-1)*1440,\"\")","v":""},null,null,{"$f":"IFERROR(INDEX(data_absen!$J$2:$J$2000,SUMPRODUCT((data_absen!$B$2:$B$2000=$A73)*(data_absen!$C$2:$C$2000=Q$3)*(ROW(data_absen!$C$2:$C$2000)))-1)*1440,\"\")","v":""},{"$f":"IFERROR(INDEX(data_absen!$K$2:$K$2000,SUMPRODUCT((data_absen!$B$2:$B$2000=$A73)*(data_absen!$C$2:$C$2000=V$3)*(ROW(data_absen!$C$2:$C$2000)))-1)*1440,\"\")","v":""},{"$f":"IFERROR(INDEX(data_absen!$I$2:$I$2000,SUMPRODUCT((data_absen!$B$2:$B$2000=$A73)*(data_absen!$C$2:$C$2000=V$3)*(ROW(data_absen!$C$2:$C$2000)))-1)*1440,\"\")","v":""},null,null,{"$f":"IFERROR(INDEX(data_absen!$J$2:$J$2000,SUMPRODUCT((data_absen!$B$2:$B$2000=$A73)*(data_absen!$C$2:$C$2000=V$3)*(ROW(data_absen!$C$2:$C$2000)))-1)*1440,\"\")","v":""},{"$f":"IFERROR(INDEX(data_absen!$K$2:$K$2000,SUMPRODUCT((data_absen!$B$2:$B$2000=$A73)*(data_absen!$C$2:$C$2000=AA$3)*(ROW(data_absen!$C$2:$C$2000)))-1)*1440,\"\")","v":""},{"$f":"IFERROR(INDEX(data_absen!$I$2:$I$2000,SUMPRODUCT((data_absen!$B$2:$B$2000=$A73)*(data_absen!$C$2:$C$2000=AA$3)*(ROW(data_absen!$C$2:$C$2000)))-1)*1440,\"\")","v":""},null,null,{"$f":"IFERROR(INDEX(data_absen!$J$2:$J$2000,SUMPRODUCT((data_absen!$B$2:$B$2000=$A73)*(data_absen!$C$2:$C$2000=AA$3)*(ROW(data_absen!$C$2:$C$2000)))-1)*1440,\"\")","v":""},{"$f":"IFERROR(INDEX(data_absen!$K$2:$K$2000,SUMPRODUCT((data_absen!$B$2:$B$2000=$A73)*(data_absen!$C$2:$C$2000=AF$3)*(ROW(data_absen!$C$2:$C$2000)))-1)*1440,\"\")","v":""},{"$f":"IFERROR(INDEX(data_absen!$I$2:$I$2000,SUMPRODUCT((data_absen!$B$2:$B$2000=$A73)*(data_absen!$C$2:$C$2000=AF$3)*(ROW(data_absen!$C$2:$C$2000)))-1)*1440,\"\")","v":""},null,null,{"$f":"IFERROR(INDEX(data_absen!$J$2:$J$2000,SUMPRODUCT((data_absen!$B$2:$B$2000=$A73)*(data_absen!$C$2:$C$2000=AF$3)*(ROW(data_absen!$C$2:$C$2000)))-1)*1440,\"\")","v":""},{"$f":"IFERROR(INDEX(data_absen!$K$2:$K$2000,SUMPRODUCT((data_absen!$B$2:$B$2000=$A73)*(data_absen!$C$2:$C$2000=AK$3)*(ROW(data_absen!$C$2:$C$2000)))-1)*1440,\"\")","v":""},{"$f":"IFERROR(INDEX(data_absen!$I$2:$I$2000,SUMPRODUCT((data_absen!$B$2:$B$2000=$A73)*(data_absen!$C$2:$C$2000=AK$3)*(ROW(data_absen!$C$2:$C$2000)))-1)*1440,\"\")","v":""},null,null,{"$f":"IFERROR(INDEX(data_absen!$J$2:$J$2000,SUMPRODUCT((data_absen!$B$2:$B$2000=$A73)*(data_absen!$C$2:$C$2000=AK$3)*(ROW(data_absen!$C$2:$C$2000)))-1)*1440,\"\")","v":""},{"$f":"IFERROR(INDEX(data_absen!$K$2:$K$2000,SUMPRODUCT((data_absen!$B$2:$B$2000=$A73)*(data_absen!$C$2:$C$2000=AP$3)*(ROW(data_absen!$C$2:$C$2000)))-1)*1440,\"\")","v":""},{"$f":"IFERROR(INDEX(data_absen!$I$2:$I$2000,SUMPRODUCT((data_absen!$B$2:$B$2000=$A73)*(data_absen!$C$2:$C$2000=AP$3)*(ROW(data_absen!$C$2:$C$2000)))-1)*1440,\"\")","v":""},null,null,{"$f":"IFERROR(INDEX(data_absen!$J$2:$J$2000,SUMPRODUCT((data_absen!$B$2:$B$2000=$A73)*(data_absen!$C$2:$C$2000=AP$3)*(ROW(data_absen!$C$2:$C$2000)))-1)*1440,\"\")","v":""},{"$f":"IFERROR(INDEX(data_absen!$K$2:$K$2000,SUMPRODUCT((data_absen!$B$2:$B$2000=$A73)*(data_absen!$C$2:$C$2000=AU$3)*(ROW(data_absen!$C$2:$C$2000)))-1)*1440,\"\")","v":""},{"$f":"IFERROR(INDEX(data_absen!$I$2:$I$2000,SUMPRODUCT((data_absen!$B$2:$B$2000=$A73)*(data_absen!$C$2:$C$2000=AU$3)*(ROW(data_absen!$C$2:$C$2000)))-1)*1440,\"\")","v":""},null,null,{"$f":"IFERROR(INDEX(data_absen!$J$2:$J$2000,SUMPRODUCT((data_absen!$B$2:$B$2000=$A73)*(data_absen!$C$2:$C$2000=AU$3)*(ROW(data_absen!$C$2:$C$2000)))-1)*1440,\"\")","v":""},{"$f":"IFERROR(INDEX(data_absen!$K$2:$K$2000,SUMPRODUCT((data_absen!$B$2:$B$2000=$A73)*(data_absen!$C$2:$C$2000=AZ$3)*(ROW(data_absen!$C$2:$C$2000)))-1)*1440,\"\")","v":""},{"$f":"IFERROR(INDEX(data_absen!$I$2:$I$2000,SUMPRODUCT((data_absen!$B$2:$B$2000=$A73)*(data_absen!$C$2:$C$2000=AZ$3)*(ROW(data_absen!$C$2:$C$2000)))-1)*1440,\"\")","v":""},null,null,{"$f":"IFERROR(INDEX(data_absen!$J$2:$J$2000,SUMPRODUCT((data_absen!$B$2:$B$2000=$A73)*(data_absen!$C$2:$C$2000=AZ$3)*(ROW(data_absen!$C$2:$C$2000)))-1)*1440,\"\")","v":""},{"$f":"IFERROR(INDEX(data_absen!$K$2:$K$2000,SUMPRODUCT((data_absen!$B$2:$B$2000=$A73)*(data_absen!$C$2:$C$2000=BE$3)*(ROW(data_absen!$C$2:$C$2000)))-1)*1440,\"\")","v":""},{"$f":"IFERROR(INDEX(data_absen!$I$2:$I$2000,SUMPRODUCT((data_absen!$B$2:$B$2000=$A73)*(data_absen!$C$2:$C$2000=BE$3)*(ROW(data_absen!$C$2:$C$2000)))-1)*1440,\"\")","v":""},null,null,{"$f":"IFERROR(INDEX(data_absen!$J$2:$J$2000,SUMPRODUCT((data_absen!$B$2:$B$2000=$A73)*(data_absen!$C$2:$C$2000=BE$3)*(ROW(data_absen!$C$2:$C$2000)))-1)*1440,\"\")","v":""},{"$f":"IFERROR(INDEX(data_absen!$K$2:$K$2000,SUMPRODUCT((data_absen!$B$2:$B$2000=$A73)*(data_absen!$C$2:$C$2000=BJ$3)*(ROW(data_absen!$C$2:$C$2000)))-1)*1440,\"\")","v":""},{"$f":"IFERROR(INDEX(data_absen!$I$2:$I$2000,SUMPRODUCT((data_absen!$B$2:$B$2000=$A73)*(data_absen!$C$2:$C$2000=BJ$3)*(ROW(data_absen!$C$2:$C$2000)))-1)*1440,\"\")","v":""},null,null,{"$f":"IFERROR(INDEX(data_absen!$J$2:$J$2000,SUMPRODUCT((data_absen!$B$2:$B$2000=$A73)*(data_absen!$C$2:$C$2000=BJ$3)*(ROW(data_absen!$C$2:$C$2000)))-1)*1440,\"\")","v":""},{"$f":"IFERROR(INDEX(data_absen!$K$2:$K$2000,SUMPRODUCT((data_absen!$B$2:$B$2000=$A73)*(data_absen!$C$2:$C$2000=BO$3)*(ROW(data_absen!$C$2:$C$2000)))-1)*1440,\"\")","v":""},{"$f":"IFERROR(INDEX(data_absen!$I$2:$I$2000,SUMPRODUCT((data_absen!$B$2:$B$2000=$A73)*(data_absen!$C$2:$C$2000=BO$3)*(ROW(data_absen!$C$2:$C$2000)))-1)*1440,\"\")","v":""},null,null,{"$f":"IFERROR(INDEX(data_absen!$J$2:$J$2000,SUMPRODUCT((data_absen!$B$2:$B$2000=$A73)*(data_absen!$C$2:$C$2000=BO$3)*(ROW(data_absen!$C$2:$C$2000)))-1)*1440,\"\")","v":""},{"$f":"COUNTIFS(data_absen!$B$2:$B$2000,$A73,data_absen!$I$2:$I$2000,\">0\")","v":0}]
["Yuli",{"$f":"INDEX(data_absen!$G$2:$G$2000,SUMPRODUCT((data_absen!$B$2:$B$2000=$A76)*(data_absen!$C$2:$C$2000=B$3)*(ROW(data_absen!$C$2:$C$2000)))-1)","v":"06:43:00"},null,"-",{"$f":"INDEX(data_absen!$H$2:$H$2000,SUMPRODUCT((data_absen!$B$2:$B$2000=$A76)*(data_absen!$C$2:$C$2000=B$3)*(ROW(data_absen!$C$2:$C$2000)))-1)","v":"14:58:00"},null,{"$f":"INDEX(data_absen!$G$2:$G$2000,SUMPRODUCT((data_absen!$B$2:$B$2000=$A76)*(data_absen!$C$2:$C$2000=G$3)*(ROW(data_absen!$C$2:$C$2000)))-1)","v":""},null,"-",{"$f":"INDEX(data_absen!$H$2:$H$2000,SUMPRODUCT((data_absen!$B$2:$B$2000=$A76)*(data_absen!$C$2:$C$2000=G$3)*(ROW(data_absen!$C$2:$C$2000)))-1)","v":""},null,{"$f":"INDEX(data_absen!$G$2:$G$2000,SUMPRODUCT((data_absen!$B$2:$B$2000=$A76)*(data_absen!$C$2:$C$2000=L$3)*(ROW(data_absen!$C$2:$C$2000)))-1)","v":""},null,"-",{"$f":"INDEX(data_absen!$H$2:$H$2000,SUMPRODUCT((data_absen!$B$2:$B$2000=$A76)*(data_absen!$C$2:$C$2000=L$3)*(ROW(data_absen!$C$2:$C$2000)))-1)","v":""},null,{"$f":"INDEX(data_absen!$G$2:$G$2000,SUMPRODUCT((data_absen!$B$2:$B$2000=$A76)*(data_absen!$C$2:$C$2000=Q$3)*(ROW(data_absen!$C$2:$C$2000)))-1)","v":""},null,"-",{"$f":"INDEX(data_absen!$H$2:$H$2000,SUMPRODUCT((data_absen!$B$2:$B$2000=$A76)*(data_absen!$C$2:$C$2000=Q$3)*(ROW(data_absen!$C$2:$C$2000)))-1)","v":""},null,{"$f":"INDEX(data_absen!$G$2:$G$2000,SUMPRODUCT((data_absen!$B$2:$B$2000=$A76)*(data_absen!$C$2:$C$2000=V$3)*(ROW(data_absen!$C$2:$C$2000)))-1)","v":""},null,"-",{"$f":"INDEX(data_absen!$H$2:$H$2000,SUMPRODUCT((data_absen!$B$2:$B$2000=$A76)*(data_absen!$C$2:$C$2000=V$3)*(ROW(data_absen!$C$2:$C$2000)))-1)","v":""},null,{"$f":"INDEX(data_absen!$G$2:$G$2000,SUMPRODUCT((data_absen!$B$2:$B$2000=$A76)*(data_absen!$C$2:$C$2000=AA$3)*(ROW(data_absen!$C$2:$C$2000)))-1)","v":""},null,"-",{"$f":"INDEX(data_absen!$H$2:$H$2000,SUMPRODUCT((data_absen!$B$2:$B$2000=$A76)*(data_absen!$C$2:$C$2000=AA$3)*(ROW(data_absen!$C$2:$C$2000)))-1)","v":""},null,{"$f":"INDEX(data_absen!$G$2:$G$2000,SUMPRODUCT((data_absen!$B$2:$B$2000=$A76)*(data_absen!$C$2:$C$2000=AF$3)*(ROW(data_absen!$C$2:$C$2000)))-1)","v":""},null,"-",{"$f":"INDEX(data_absen!$H$2:$H$2000,SUMPRODUCT((data_absen!$B$2:$B$2000=$A76)*(data_absen!$C$2:$C$2000=AF$3)*(ROW(data_absen!$C$2:$C$2000)))-1)","v":""},null,{"$f":"INDEX(data_absen!$G$2:$G$2000,SUMPRODUCT((data_absen!$B$2:$B$2000=$A76)*(data_absen!$C$2:$C$2000=AK$3)*(ROW(data_absen!$C$2:$C$2000)))-1)","v":""},null,"-",{"$f":"INDEX(data_absen!$H$2:$H$2000,SUMPRODUCT((data_absen!$B$2:$B$2000=$A76)*(data_absen!$C$2:$C$2000=AK$3)*(ROW(data_absen!$C$2:$C$2000)))-1)","v":""},null,{"$f":"INDEX(data_absen!$G$2:$G$2000,SUMPRODUCT((data_absen!$B$2:$B$2000=$A76)*(data_absen!$C$2:$C$2000=AP$3)*(ROW(data_absen!$C$2:$C$2000)))-1)","v":""},null,"-",{"$f":"INDEX(data_absen!$H$2:$H$2000,SUMPRODUCT((data_absen!$B$2:$B$2000=$A76)*(data_absen!$C$2:$C$2000=AP$3)*(ROW(data_absen!$C$2:$C$2000)))-1)","v":""},null,{"$f":"INDEX(data_absen!$G$2:$G$2000,SUMPRODUCT((data_absen!$B$2:$B$2000=$A76)*(data_absen!$C$2:$C$2000=AU$3)*(ROW(data_absen!$C$2:$C$2000)))-1)","v":""},null,"-",{"$f":"INDEX(data_absen!$H$2:$H$2000,SUMPRODUCT((data_absen!$B$2:$B$2000=$A76)*(data_absen!$C$2:$C$2000=AU$3)*(ROW(data_absen!$C$2:$C$2000)))-1)","v":""},null,{"$f":"INDEX(data_absen!$G$2:$G$2000,SUMPRODUCT((data_absen!$B$2:$B$2000=$A76)*(data_absen!$C$2:$C$2000=AZ$3)*(ROW(data_absen!$C$2:$C$2000)))-1)","v":""},null,"-",{"$f":"INDEX(data_absen!$H$2:$H$2000,SUMPRODUCT((data_absen!$B$2:$B$2000=$A76)*(data_absen!$C$2:$C$2000=AZ$3)*(ROW(data_absen!$C$2:$C$2000)))-1)","v":""},null,{"$f":"INDEX(data_absen!$G$2:$G$2000,SUMPRODUCT((data_absen!$B$2:$B$2000=$A76)*(data_absen!$C$2:$C$2000=BE$3)*(ROW(data_absen!$C$2:$C$2000)))-1)","v":""},null,"-",{"$f":"INDEX(data_absen!$H$2:$H$2000,SUMPRODUCT((data_absen!$B$2:$B$2000=$A76)*(data_absen!$C$2:$C$2000=BE$3)*(ROW(data_absen!$C$2:$C$2000)))-1)","v":""},null,{"$f":"INDEX(data_absen!$G$2:$G$2000,SUMPRODUCT((data_absen!$B$2:$B$2000=$A76)*(data_absen!$C$2:$C$2000=BJ$3)*(ROW(data_absen!$C$2:$C$2000)))-1)","v":""},null,"-",{"$f":"INDEX(data_absen!$H$2:$H$2000,SUMPRODUCT((data_absen!$B$2:$B$2000=$A76)*(data_absen!$C$2:$C$2000=BJ$3)*(ROW(data_absen!$C$2:$C$2000)))-1)","v":""},null,{"$f":"INDEX(data_absen!$G$2:$G$2000,SUMPRODUCT((data_absen!$B$2:$B$2000=$A76)*(data_absen!$C$2:$C$2000=BO$3)*(ROW(data_absen!$C$2:$C$2000)))-1)","v":""},null,"-",{"$f":"INDEX(data_absen!$H$2:$H$2000,SUMPRODUCT((data_absen!$B$2:$B$2000=$A76)*(data_absen!$C$2:$C$2000=BO$3)*(ROW(data_absen!$C$2:$C$2000)))-1)","v":""}]
[125,null,null,"-",null,null,null,null,"-",null,null,null,null,"-",null,null,null,null,"-",null,null,null,null,"-",null,null,null,null,"-",null,null,null,null,"-",null,null,null,null,"-",null,null,null,null,"-",null,null,null,null,"-",null,null,null,null,"-",null,null,null,null,"-",null,null,null,null,"-",null,null,null,null,"-"]
[null,{"$f":"IFERROR(INDEX(data_absen!$K$2:$K$2000,SUMPRODUCT((data_absen!$B$2:$B$2000=$A76)*(data_absen!$C$2:$C$2000=B$3)*(ROW(data_absen!$C$2:$C$2000)))-1)*1440,\"\")","v":""},{"$f":"IFERROR(INDEX(data_absen!$I$2:$I$2000,SUMPRODUCT((data_absen!$B$2:$B$2000=$A76)*(data_absen!$C$2:$C$2000=B$3)*(ROW(data_absen!$C$2:$C$2000)))-1)*1440,\"\")","v":""},null,null,{"$f":"IFERROR(INDEX(data_absen!$J$2:$J$2000,SUMPRODUCT((data_absen!$B$2:$B$2000=$A76)*(data_absen!$C$2:$C$2000=B$3)*(ROW(data_absen!$C$2:$C$2000)))-1)*1440,\"\")","v":121.99999999999999},{"$f":"IFERROR(INDEX(data_absen!$K$2:$K$2000,SUMPRODUCT((data_absen!$B$2:$B$2000=$A76)*(data_absen!$C$2:$C$2000=G$3)*(ROW(data_absen!$C$2:$C$2000)))-1)*1440,\"\")","v":""},{"$f":"IFERROR(INDEX(data_absen!$I$2:$I$2000,SUMPRODUCT((data_absen!$B$2:$B$2000=$A76)*(data_absen!$C$2:$C$2000=G$3)*(ROW(data_absen!$C$2:$C$2000)))-1)*1440,\"\")","v":""},null,null,{"$f":"IFERROR(INDEX(data_absen!$J$2:$J$2000,SUMPRODUCT((data_absen!$B$2:$B$2000=$A76)*(data_absen!$C$2:$C$2000=G$3)*(ROW(data_absen!$C$2:$C$2000)))-1)*1440,\"\")","v":""},{"$f":"IFERROR(INDEX(data_absen!$K$2:$K$2000,SUMPRODUCT((data_absen!$B$2:$B$2000=$A76)*(data_absen!$C$2:$C$2000=L$3)*(ROW(data_absen!$C$2:$C$2000)))-1)*1440,\"\")","v":""},{"$f":"IFERROR(INDEX(data_absen!$I$2:$I$2000,SUMPRODUCT((data_absen!$B$2:$B$2000=$A76)*(data_absen!$C$2:$C$2000=L$3)*(ROW(data_absen!$C$2:$C$2000)))-1)*1440,\"\")","v":""},null,null,{"$f":"IFERROR(INDEX(data_absen!$J$2:$J$2000,SUMPRODUCT((data_absen!$B$2:$B$2000=$A76)*(data_absen!$C$2:$C$2000=L$3)*(ROW(data_absen!$C$2:$C$2000)))-1)*1440,\"\")","v":""},{"$f":"IFERROR(INDEX(data_absen!$K$2:$K$2000,SUMPRODUCT((data_absen!$B$2:$B$2000=$A76)*(data_absen!$C$2:$C$2000=Q$3)*(ROW(data_absen!$C$2:$C$2000)))-1)*1440,\"\")","v":""},{"$f":"IFERROR(INDEX(data_absen!$I$2:$I$2000,SUMPRODUCT((data_absen!$B$2:$B$2000=$A76)*(data_absen!$C$2:$C$2000=Q$3)*(ROW(data_absen!$C$2:$C$2000)))-1)*1440,\"\")","v":""},null,null,{"$f":"IFERROR(INDEX(data_absen!$J$2:$J$2000,SUMPRODUCT((data_absen!$B$2:$B$2000=$A76)*(data_absen!$C$2:$C$2000=Q$3)*(ROW(data_absen!$C$2:$C$2000)))-1)*1440,\"\")","v":""},{"$f":"IFERROR(INDEX(data_absen!$K$2:$K$2000,SUMPRODUCT((data_absen!$B$2:$B$2000=$A76)*(data_absen!$C$2:$C$2000=V$3)*(ROW(data_absen!$C$2:$C$2000)))-1)*1440,\"\")","v":""},{"$f":"IFERROR(INDEX(data_absen!$I$2:$I$2000,SUMPRODUCT((data_absen!$B$2:$B$2000=$A76)*(data_absen!$C$2:$C$2000=V$3)*(ROW(data_absen!$C$2:$C$2000)))-1)*1440,\"\")","v":""},null,null,{"$f":"IFERROR(INDEX(data_absen!$J$2:$J$2000,SUMPRODUCT((data_absen!$B$2:$B$2000=$A76)*(data_absen!$C$2:$C$2000=V$3)*(ROW(data_absen!$C$2:$C$2000)))-1)*1440,\"\")","v":""},{"$f":"IFERROR(INDEX(data_absen!$K$2:$K$2000,SUMPRODUCT((data_absen!$B$2:$B$2000=$A76)*(data_absen!$C$2:$C$2000=AA$3)*(ROW(data_absen!$C$2:$C$2000)))-1)*1440,\"\")","v":""},{"$f":"IFERROR(INDEX(data_absen!$I$2:$I$2000,SUMPRODUCT((data_absen!$B$2:$B$2000=$A76)*(data_absen!$C$2:$C$2000=AA$3)*(ROW(data_absen!$C$2:$C$2000)))-1)*1440,\"\")","v":""},null,null,{"$f":"IFERROR(INDEX(data_absen!$J$2:$J$2000,SUMPRODUCT((data_absen!$B$2:$B$2000=$A76)*(data_absen!$C$2:$C$2000=AA$3)*(ROW(data_absen!$C$2:$C$2000)))-1)*1440,\"\")","v":""},{"$f":"IFERROR(INDEX(data_absen!$K$2:$K$2000,SUMPRODUCT((data_absen!$B$2:$B$2000=$A76)*(data_absen!$C$2:$C$2000=AF$3)*(ROW(data_absen!$C$2:$C$2000)))-1)*1440,\"\")","v":""},{"$f":"IFERROR(INDEX(data_absen!$I$2:$I$2000,SUMPRODUCT((data_absen!$B$2:$B$2000=$A76)*(data_absen!$C$2:$C$2000=AF$3)*(ROW(data_absen!$C$2:$C$2000)))-1)*1440,\"\")","v":""},null,null,{"$f":"IFERROR(INDEX(data_absen!$J$2:$J$2000,SUMPRODUCT((data_absen!$B$2:$B$2000=$A76)*(data_absen!$C$2:$C$2000=AF$3)*(ROW(data_absen!$C$2:$C$2000)))-1)*1440,\"\")","v":""},{"$f":"IFERROR(INDEX(data_absen!$K$2:$K$2000,SUMPRODUCT((data_absen!$B$2:$B$2000=$A76)*(data_absen!$C$2:$C$2000=AK$3)*(ROW(data_absen!$C$2:$C$2000)))-1)*1440,\"\")","v":""},{"$f":"IFERROR(INDEX(data_absen!$I$2:$I$2000,SUMPRODUCT((data_absen!$B$2:$B$2000=$A76)*(data_absen!$C$2:$C$2000=AK$3)*(ROW(data_absen!$C$2:$C$2000)))-1)*1440,\"\")","v":""},null,null,{"$f":"IFERROR(INDEX(data_absen!$J$2:$J$2000,SUMPRODUCT((data_absen!$B$2:$B$2000=$A76)*(data_absen!$C$2:$C$2000=AK$3)*(ROW(data_absen!$C$2:$C$2000)))-1)*1440,\"\")","v":""},{"$f":"IFERROR(INDEX(data_absen!$K$2:$K$2000,SUMPRODUCT((data_absen!$B$2:$B$2000=$A76)*(data_absen!$C$2:$C$2000=AP$3)*(ROW(data_absen!$C$2:$C$2000)))-1)*1440,\"\")","v":""},{"$f":"IFERROR(INDEX(data_absen!$I$2:$I$2000,SUMPRODUCT((data_absen!$B$2:$B$2000=$A76)*(data_absen!$C$2:$C$2000=AP$3)*(ROW(data_absen!$C$2:$C$2000)))-1)*1440,\"\")","v":""},null,null,{"$f":"IFERROR(INDEX(data_absen!$J$2:$J$2000,SUMPRODUCT((data_absen!$B$2:$B$2000=$A76)*(data_absen!$C$2:$C$2000=AP$3)*(ROW(data_absen!$C$2:$C$2000)))-1)*1440,\"\")","v":""},{"$f":"IFERROR(INDEX(data_absen!$K$2:$K$2000,SUMPRODUCT((data_absen!$B$2:$B$2000=$A76)*(data_absen!$C$2:$C$2000=AU$3)*(ROW(data_absen!$C$2:$C$2000)))-1)*1440,\"\")","v":""},{"$f":"IFERROR(INDEX(data_absen!$I$2:$I$2000,SUMPRODUCT((data_absen!$B$2:$B$2000=$A76)*(data_absen!$C$2:$C$2000=AU$3)*(ROW(data_absen!$C$2:$C$2000)))-1)*1440,\"\")","v":""},null,null,{"$f":"IFERROR(INDEX(data_absen!$J$2:$J$2000,SUMPRODUCT((data_absen!$B$2:$B$2000=$A76)*(data_absen!$C$2:$C$2000=AU$3)*(ROW(data_absen!$C$2:$C$2000)))-1)*1440,\"\")","v":""},{"$f":"IFERROR(INDEX(data_absen!$K$2:$K$2000,SUMPRODUCT((data_absen!$B$2:$B$2000=$A76)*(data_absen!$C$2:$C$2000=AZ$3)*(ROW(data_absen!$C$2:$C$2000)))-1)*1440,\"\")","v":""},{"$f":"IFERROR(INDEX(data_absen!$I$2:$I$2000,SUMPRODUCT((data_absen!$B$2:$B$2000=$A76)*(data_absen!$C$2:$C$2000=AZ$3)*(ROW(data_absen!$C$2:$C$2000)))-1)*1440,\"\")","v":""},null,null,{"$f":"IFERROR(INDEX(data_absen!$J$2:$J$2000,SUMPRODUCT((data_absen!$B$2:$B$2000=$A76)*(data_absen!$C$2:$C$2000=AZ$3)*(ROW(data_absen!$C$2:$C$2000)))-1)*1440,\"\")","v":""},{"$f":"IFERROR(INDEX(data_absen!$K$2:$K$2000,SUMPRODUCT((data_absen!$B$2:$B$2000=$A76)*(data_absen!$C$2:$C$2000=BE$3)*(ROW(data_absen!$C$2:$C$2000)))-1)*1440,\"\")","v":""},{"$f":"IFERROR(INDEX(data_absen!$I$2:$I$2000,SUMPRODUCT((data_absen!$B$2:$B$2000=$A76)*(data_absen!$C$2:$C$2000=BE$3)*(ROW(data_absen!$C$2:$C$2000)))-1)*1440,\"\")","v":""},null,null,{"$f":"IFERROR(INDEX(data_absen!$J$2:$J$2000,SUMPRODUCT((data_absen!$B$2:$B$2000=$A76)*(data_absen!$C$2:$C$2000=BE$3)*(ROW(data_absen!$C$2:$C$2000)))-1)*1440,\"\")","v":""},{"$f":"IFERROR(INDEX(data_absen!$K$2:$K$2000,SUMPRODUCT((data_absen!$B$2:$B$2000=$A76)*(data_absen!$C$2:$C$2000=BJ$3)*(ROW(data_absen!$C$2:$C$2000)))-1)*1440,\"\")","v":""},{"$f":"IFERROR(INDEX(data_absen!$I$2:$I$2000,SUMPRODUCT((data_absen!$B$2:$B$2000=$A76)*(data_absen!$C$2:$C$2000=BJ$3)*(ROW(data_absen!$C$2:$C$2000)))-1)*1440,\"\")","v":""},null,null,{"$f":"IFERROR(INDEX(data_absen!$J$2:$J$2000,SUMPRODUCT((data_absen!$B$2:$B$2000=$A76)*(data_absen!$C$2:$C$2000=BJ$3)*(ROW(data_absen!$C$2:$C$2000)))-1)*1440,\"\")","v":""},{"$f":"IFERROR(INDEX(data_absen!$K$2:$K$2000,SUMPRODUCT((data_absen!$B$2:$B$2000=$A76)*(data_absen!$C$2:$C$2000=BO$3)*(ROW(data_absen!$C$2:$C$2000)))-1)*1440,\"\")","v":""},{"$f":"IFERROR(INDEX(data_absen!$I$2:$I$2000,SUMPRODUCT((data_absen!$B$2:$B$2000=$A76)*(data_absen!$C$2:$C$2000=BO$3)*(ROW(data_absen!$C$2:$C$2000)))-1)*1440,\"\")","v":""},null,null,{"$f":"IFERROR(INDEX(data_absen!$J$2:$J$2000,SUMPRODUCT((data_absen!$B$2:$B$2000=$A76)*(data_absen!$C$2:$C$2000=BO$3)*(ROW(data_absen!$C$2:$C$2000)))-1)*1440,\"\")","v":""},{"$f":"COUNTIFS(data_absen!$B$2:$B$2000,$A76,data_absen!$I$2:$I$2000,\">0\")","v":0}]
["Rifah",{"$f":"INDEX(data_absen!$G$2:$G$2000,SUMPRODUCT((data_absen!$B$2:$B$2000=$A79)*(data_absen!$C$2:$C$2000=B$3)*(ROW(data_absen!$C$2:$C$2000)))-1)","v":""},null,"-",{"$f":"INDEX(data_absen!$H$2:$H$2000,SUMPRODUCT((data_absen!$B$2:$B$2000=$A79)*(data_absen!$C$2:$C$2000=B$3)*(ROW(data_absen!$C$2:$C$2000)))-1)","v":""},null,{"$f":"INDEX(data_absen!$G$2:$G$2000,SUMPRODUCT((data_absen!$B$2:$B$2000=$A79)*(data_absen!$C$2:$C$2000=G$3)*(ROW(data_absen!$C$2:$C$2000)))-1)","v":""},null,"-",{"$f":"INDEX(data_absen!$H$2:$H$2000,SUMPRODUCT((data_absen!$B$2:$B$2000=$A79)*(data_absen!$C$2:$C$2000=G$3)*(ROW(data_absen!$C$2:$C$2000)))-1)","v":""},null,{"$f":"INDEX(data_absen!$G$2:$G$2000,SUMPRODUCT((data_absen!$B$2:$B$2000=$A79)*(data_absen!$C$2:$C$2000=L$3)*(ROW(data_absen!$C$2:$C$2000)))-1)","v":""},null,"-",{"$f":"INDEX(data_absen!$H$2:$H$2000,SUMPRODUCT((data_absen!$B$2:$B$2000=$A79)*(data_absen!$C$2:$C$2000=L$3)*(ROW(data_absen!$C$2:$C$2000)))-1)","v":""},null,{"$f":"INDEX(data_absen!$G$2:$G$2000,SUMPRODUCT((data_absen!$B$2:$B$2000=$A79)*(data_absen!$C$2:$C$2000=Q$3)*(ROW(data_absen!$C$2:$C$2000)))-1)","v":""},null,"-",{"$f":"INDEX(data_absen!$H$2:$H$2000,SUMPRODUCT((data_absen!$B$2:$B$2000=$A79)*(data_absen!$C$2:$C$2000=Q$3)*(ROW(data_absen!$C$2:$C$2000)))-1)","v":""},null,{"$f":"INDEX(data_absen!$G$2:$G$2000,SUMPRODUCT((data_absen!$B$2:$B$2000=$A79)*(data_absen!$C$2:$C$2000=V$3)*(ROW(data_absen!$C$2:$C$2000)))-1)","v":""},null,"-",{"$f":"INDEX(data_absen!$H$2:$H$2000,SUMPRODUCT((data_absen!$B$2:$B$2000=$A79)*(data_absen!$C$2:$C$2000=V$3)*(ROW(data_absen!$C$2:$C$2000)))-1)","v":""},null,{"$f":"INDEX(data_absen!$G$2:$G$2000,SUMPRODUCT((data_absen!$B$2:$B$2000=$A79)*(data_absen!$C$2:$C$2000=AA$3)*(ROW(data_absen!$C$2:$C$2000)))-1)","v":""},null,"-",{"$f":"INDEX(data_absen!$H$2:$H$2000,SUMPRODUCT((data_absen!$B$2:$B$2000=$A79)*(data_absen!$C$2:$C$2000=AA$3)*(ROW(data_absen!$C$2:$C$2000)))-1)","v":""},null,{"$f":"INDEX(data_absen!$G$2:$G$2000,SUMPRODUCT((data_absen!$B$2:$B$2000=$A79)*(data_absen!$C$2:$C$2000=AF$3)*(ROW(data_absen!$C$2:$C$2000)))-1)","v":""},null,"-",{"$f":"INDEX(data_absen!$H$2:$H$2000,SUMPRODUCT((data_absen!$B$2:$B$2000=$A79)*(data_absen!$C$2:$C$2000=AF$3)*(ROW(data_absen!$C$2:$C$2000)))-1)","v":""},null,{"$f":"INDEX(data_absen!$G$2:$G$2000,SUMPRODUCT((data_absen!$B$2:$B$2000=$A79)*(data_absen!$C$2:$C$2000=AK$3)*(ROW(data_absen!$C$2:$C$2000)))-1)","v":""},null,"-",{"$f":"INDEX(data_absen!$H$2:$H$2000,SUMPRODUCT((data_absen!$B$2:$B$2000=$A79)*(data_absen!$C$2:$C$2000=AK$3)*(ROW(data_absen!$C$2:$C$2000)))-1)","v":""},null,{"$f":"INDEX(data_absen!$G$2:$G$2000,SUMPRODUCT((data_absen!$B$2:$B$2000=$A79)*(data_absen!$C$2:$C$2000=AP$3)*(ROW(data_absen!$C$2:$C$2000)))-1)","v":""},null,"-",{"$f":"INDEX(data_absen!$H$2:$H$2000,SUMPRODUCT((data_absen!$B$2:$B$2000=$A79)*(data_absen!$C$2:$C$2000=AP$3)*(ROW(data_absen!$C$2:$C$2000)))-1)","v":""},null,{"$f":"INDEX(data_absen!$G$2:$G$2000,SUMPRODUCT((data_absen!$B$2:$B$2000=$A79)*(data_absen!$C$2:$C$2000=AU$3)*(ROW(data_absen!$C$2:$C$2000)))-1)","v":""},null,"-",{"$f":"INDEX(data_absen!$H$2:$H$2000,SUMPRODUCT((data_absen!$B$2:$B$2000=$A79)*(data_absen!$C$2:$C$2000=AU$3)*(ROW(data_absen!$C$2:$C$2000)))-1)","v":""},null,{"$f":"INDEX(data_absen!$G$2:$G$2000,SUMPRODUCT((data_absen!$B$2:$B$2000=$A79)*(data_absen!$C$2:$C$2000=AZ$3)*(ROW(data_absen!$C$2:$C$2000)))-1)","v":""},null,"-",{"$f":"INDEX(data_absen!$H$2:$H$2000,SUMPRODUCT((data_absen!$B$2:$B$2000=$A79)*(data_absen!$C$2:$C$2000=AZ$3)*(ROW(data_absen!$C$2:$C$2000)))-1)","v":""},null,{"$f":"INDEX(data_absen!$G$2:$G$2000,SUMPRODUCT((data_absen!$B$2:$B$2000=$A79)*(data_absen!$C$2:$C$2000=BE$3)*(ROW(data_absen!$C$2:$C$2000)))-1)","v":""},null,"-",{"$f":"INDEX(data_absen!$H$2:$H$2000,SUMPRODUCT((data_absen!$B$2:$B$2000=$A79)*(data_absen!$C$2:$C$2000=BE$3)*(ROW(data_absen!$C$2:$C$2000)))-1)","v":""},null,{"$f":"INDEX(data_absen!$G$2:$G$2000,SUMPRODUCT((data_absen!$B$2:$B$2000=$A79)*(data_absen!$C$2:$C$2000=BJ$3)*(ROW(data_absen!$C$2:$C$2000)))-1)","v":""},null,"-",{"$f":"INDEX(data_absen!$H$2:$H$2000,SUMPRODUCT((data_absen!$B$2:$B$2000=$A79)*(data_absen!$C$2:$C$2000=BJ$3)*(ROW(data_absen!$C$2:$C$2000)))-1)","v":""},null,{"$f":"INDEX(data_absen!$G$2:$G$2000,SUMPRODUCT((data_absen!$B$2:$B$2000=$A79)*(data_absen!$C$2:$C$2000=BO$3)*(ROW(data_absen!$C$2:$C$2000)))-1)","v":""},null,"-",{"$f":"INDEX(data_absen!$H$2:$H$2000,SUMPRODUCT((data_absen!$B$2:$B$2000=$A79)*(data_absen!$C$2:$C$2000=BO$3)*(ROW(data_absen!$C$2:$C$2000)))-1)","v":""}]
[126,null,null,"-",null,null,null,null,"-",null,null,null,null,"-",null,null,null,null,"-",null,null,null,null,"-",null,null,null,null,"-",null,null,null,null,"-",null,null,null,null,"-",null,null,null,null,"-",null,null,null,null,"-",null,null,null,null,"-",null,null,null,null,"-",null,null,null,null,"-",null,null,null,null,"-"]
[null,{"$f":"IFERROR(INDEX(data_absen!$K$2:$K$2000,SUMPRODUCT((data_absen!$B$2:$B$2000=$A79)*(data_absen!$C$2:$C$2000=B$3)*(ROW(data_absen!$C$2:$C$2000)))-1)*1440,\"\")","v":""},{"$f":"IFERROR(INDEX(data_absen!$I$2:$I$2000,SUMPRODUCT((data_absen!$B$2:$B$2000=$A79)*(data_absen!$C$2:$C$2000=B$3)*(ROW(data_absen!$C$2:$C$2000)))-1)*1440,\"\")","v":""},null,null,{"$f":"IFERROR(INDEX(data_absen!$J$2:$J$2000,SUMPRODUCT((data_absen!$B$2:$B$2000=$A79)*(data_absen!$C$2:$C$2000=B$3)*(ROW(data_absen!$C$2:$C$2000)))-1)*1440,\"\")","v":""},{"$f":"IFERROR(INDEX(data_absen!$K$2:$K$2000,SUMPRODUCT((data_absen!$B$2:$B$2000=$A79)*(data_absen!$C$2:$C$2000=G$3)*(ROW(data_absen!$C$2:$C$2000)))-1)*1440,\"\")","v":""},{"$f":"IFERROR(INDEX(data_absen!$I$2:$I$2000,SUMPRODUCT((data_absen!$B$2:$B$2000=$A79)*(data_absen!$C$2:$C$2000=G$3)*(ROW(data_absen!$C$2:$C$2000)))-1)*1440,\"\")","v":""},null,null,{"$f":"IFERROR(INDEX(data_absen!$J$2:$J$2000,SUMPRODUCT((data_absen!$B$2:$B$2000=$A79)*(data_absen!$C$2:$C$2000=G$3)*(ROW(data_absen!$C$2:$C$2000)))-1)*1440,\"\")","v":""},{"$f":"IFERROR(INDEX(data_absen!$K$2:$K$2000,SUMPRODUCT((data_absen!$B$2:$B$2000=$A79)*(data_absen!$C$2:$C$2000=L$3)*(ROW(data_absen!$C$2:$C$2000)))-1)*1440,\"\")","v":""},{"$f":"IFERROR(INDEX(data_absen!$I$2:$I$2000,SUMPRODUCT((data_absen!$B$2:$B$2000=$A79)*(data_absen!$C$2:$C$2000=L$3)*(ROW(data_absen!$C$2:$C$2000)))-1)*1440,\"\")","v":""},null,null,{"$f":"IFERROR(INDEX(data_absen!$J$2:$J$2000,SUMPRODUCT((data_absen!$B$2:$B$2000=$A79)*(data_absen!$C$2:$C$2000=L$3)*(ROW(data_absen!$C$2:$C$2000)))-1)*1440,\"\")","v":""},{"$f":"IFERROR(INDEX(data_absen!$K$2:$K$2000,SUMPRODUCT((data_absen!$B$2:$B$2000=$A79)*(data_absen!$C$2:$C$2000=Q$3)*(ROW(data_absen!$C$2:$C$2000)))-1)*1440,\"\")","v":""},{"$f":"IFERROR(INDEX(data_absen!$I$2:$I$2000,SUMPRODUCT((data_absen!$B$2:$B$2000=$A79)*(data_absen!$C$2:$C$2000=Q$3)*(ROW(data_absen!$C$2:$C$2000)))-1)*1440,\"\")","v":""},null,null,{"$f":"IFERROR(INDEX(data_absen!$J$2:$J$2000,SUMPRODUCT((data_absen!$B$2:$B$2000=$A79)*(data_absen!$C$2:$C$2000=Q$3)*(ROW(data_absen!$C$2:$C$2000)))-1)*1440,\"\")","v":""},{"$f":"IFERROR(INDEX(data_absen!$K$2:$K$2000,SUMPRODUCT((data_absen!$B$2:$B$2000=$A79)*(data_absen!$C$2:$C$2000=V$3)*(ROW(data_absen!$C$2:$C$2000)))-1)*1440,\"\")","v":""},{"$f":"IFERROR(INDEX(data_absen!$I$2:$I$2000,SUMPRODUCT((data_absen!$B$2:$B$2000=$A79)*(data_absen!$C$2:$C$2000=V$3)*(ROW(data_absen!$C$2:$C$2000)))-1)*1440,\"\")","v":""},null,null,{"$f":"IFERROR(INDEX(data_absen!$J$2:$J$2000,SUMPRODUCT((data_absen!$B$2:$B$2000=$A79)*(data_absen!$C$2:$C$2000=V$3)*(ROW(data_absen!$C$2:$C$2000)))-1)*1440,\"\")","v":""},{"$f":"IFERROR(INDEX(data_absen!$K$2:$K$2000,SUMPRODUCT((data_absen!$B$2:$B$2000=$A79)*(data_absen!$C$2:$C$2000=AA$3)*(ROW(data_absen!$C$2:$C$2000)))-1)*1440,\"\")","v":""},{"$f":"IFERROR(INDEX(data_absen!$I$2:$I$2000,SUMPRODUCT((data_absen!$B$2:$B$2000=$A79)*(data_absen!$C$2:$C$2000=AA$3)*(ROW(data_absen!$C$2:$C$2000)))-1)*1440,\"\")","v":""},null,null,{"$f":"IFERROR(INDEX(data_absen!$J$2:$J$2000,SUMPRODUCT((data_absen!$B$2:$B$2000=$A79)*(data_absen!$C$2:$C$2000=AA$3)*(ROW(data_absen!$C$2:$C$2000)))-1)*1440,\"\")","v":""},{"$f":"IFERROR(INDEX(data_absen!$K$2:$K$2000,SUMPRODUCT((data_absen!$B$2:$B$2000=$A79)*(data_absen!$C$2:$C$2000=AF$3)*(ROW(data_absen!$C$2:$C$2000)))-1)*1440,\"\")","v":""},{"$f":"IFERROR(INDEX(data_absen!$I$2:$I$2000,SUMPRODUCT((data_absen!$B$2:$B$2000=$A79)*(data_absen!$C$2:$C$2000=AF$3)*(ROW(data_absen!$C$2:$C$2000)))-1)*1440,\"\")","v":""},null,null,{"$f":"IFERROR(INDEX(data_absen!$J$2:$J$2000,SUMPRODUCT((data_absen!$B$2:$B$2000=$A79)*(data_absen!$C$2:$C$2000=AF$3)*(ROW(data_absen!$C$2:$C$2000)))-1)*1440,\"\")","v":""},{"$f":"IFERROR(INDEX(data_absen!$K$2:$K$2000,SUMPRODUCT((data_absen!$B$2:$B$2000=$A79)*(data_absen!$C$2:$C$2000=AK$3)*(ROW(data_absen!$C$2:$C$2000)))-1)*1440,\"\")","v":""},{"$f":"IFERROR(INDEX(data_absen!$I$2:$I$2000,SUMPRODUCT((data_absen!$B$2:$B$2000=$A79)*(data_absen!$C$2:$C$2000=AK$3)*(ROW(data_absen!$C$2:$C$2000)))-1)*1440,\"\")","v":""},null,null,{"$f":"IFERROR(INDEX(data_absen!$J$2:$J$2000,SUMPRODUCT((data_absen!$B$2:$B$2000=$A79)*(data_absen!$C$2:$C$2000=AK$3)*(ROW(data_absen!$C$2:$C$2000)))-1)*1440,\"\")","v":""},{"$f":"IFERROR(INDEX(data_absen!$K$2:$K$2000,SUMPRODUCT((data_absen!$B$2:$B$2000=$A79)*(data_absen!$C$2:$C$2000=AP$3)*(ROW(data_absen!$C$2:$C$2000)))-1)*1440,\"\")","v":""},{"$f":"IFERROR(INDEX(data_absen!$I$2:$I$2000,SUMPRODUCT((data_absen!$B$2:$B$2000=$A79)*(data_absen!$C$2:$C$2000=AP$3)*(ROW(data_absen!$C$2:$C$2000)))-1)*1440,\"\")","v":""},null,null,{"$f":"IFERROR(INDEX(data_absen!$J$2:$J$2000,SUMPRODUCT((data_absen!$B$2:$B$2000=$A79)*(data_absen!$C$2:$C$2000=AP$3)*(ROW(data_absen!$C$2:$C$2000)))-1)*1440,\"\")","v":""},{"$f":"IFERROR(INDEX(data_absen!$K$2:$K$2000,SUMPRODUCT((data_absen!$B$2:$B$2000=$A79)*(data_absen!$C$2:$C$2000=AU$3)*(ROW(data_absen!$C$2:$C$2000)))-1)*1440,\"\")","v":""},{"$f":"IFERROR(INDEX(data_absen!$I$2:$I$2000,SUMPRODUCT((data_absen!$B$2:$B$2000=$A79)*(data_absen!$C$2:$C$2000=AU$3)*(ROW(data_absen!$C$2:$C$2000)))-1)*1440,\"\")","v":""},null,null,{"$f":"IFERROR(INDEX(data_absen!$J$2:$J$2000,SUMPRODUCT((data_absen!$B$2:$B$2000=$A79)*(data_absen!$C$2:$C$2000=AU$3)*(ROW(data_absen!$C$2:$C$2000)))-1)*1440,\"\")","v":""},{"$f":"IFERROR(INDEX(data_absen!$K$2:$K$2000,SUMPRODUCT((data_absen!$B$2:$B$2000=$A79)*(data_absen!$C$2:$C$2000=AZ$3)*(ROW(data_absen!$C$2:$C$2000)))-1)*1440,\"\")","v":""},{"$f":"IFERROR(INDEX(data_absen!$I$2:$I$2000,SUMPRODUCT((data_absen!$B$2:$B$2000=$A79)*(data_absen!$C$2:$C$2000=AZ$3)*(ROW(data_absen!$C$2:$C$2000)))-1)*1440,\"\")","v":""},null,null,{"$f":"IFERROR(INDEX(data_absen!$J$2:$J$2000,SUMPRODUCT((data_absen!$B$2:$B$2000=$A79)*(data_absen!$C$2:$C$2000=AZ$3)*(ROW(data_absen!$C$2:$C$2000)))-1)*1440,\"\")","v":""},{"$f":"IFERROR(INDEX(data_absen!$K$2:$K$2000,SUMPRODUCT((data_absen!$B$2:$B$2000=$A79)*(data_absen!$C$2:$C$2000=BE$3)*(ROW(data_absen!$C$2:$C$2000)))-1)*1440,\"\")","v":""},{"$f":"IFERROR(INDEX(data_absen!$I$2:$I$2000,SUMPRODUCT((data_absen!$B$2:$B$2000=$A79)*(data_absen!$C$2:$C$2000=BE$3)*(ROW(data_absen!$C$2:$C$2000)))-1)*1440,\"\")","v":""},null,null,{"$f":"IFERROR(INDEX(data_absen!$J$2:$J$2000,SUMPRODUCT((data_absen!$B$2:$B$2000=$A79)*(data_absen!$C$2:$C$2000=BE$3)*(ROW(data_absen!$C$2:$C$2000)))-1)*1440,\"\")","v":""},{"$f":"IFERROR(INDEX(data_absen!$K$2:$K$2000,SUMPRODUCT((data_absen!$B$2:$B$2000=$A79)*(data_absen!$C$2:$C$2000=BJ$3)*(ROW(data_absen!$C$2:$C$2000)))-1)*1440,\"\")","v":""},{"$f":"IFERROR(INDEX(data_absen!$I$2:$I$2000,SUMPRODUCT((data_absen!$B$2:$B$2000=$A79)*(data_absen!$C$2:$C$2000=BJ$3)*(ROW(data_absen!$C$2:$C$2000)))-1)*1440,\"\")","v":""},null,null,{"$f":"IFERROR(INDEX(data_absen!$J$2:$J$2000,SUMPRODUCT((data_absen!$B$2:$B$2000=$A79)*(data_absen!$C$2:$C$2000=BJ$3)*(ROW(data_absen!$C$2:$C$2000)))-1)*1440,\"\")","v":""},{"$f":"IFERROR(INDEX(data_absen!$K$2:$K$2000,SUMPRODUCT((data_absen!$B$2:$B$2000=$A79)*(data_absen!$C$2:$C$2000=BO$3)*(ROW(data_absen!$C$2:$C$2000)))-1)*1440,\"\")","v":""},{"$f":"IFERROR(INDEX(data_absen!$I$2:$I$2000,SUMPRODUCT((data_absen!$B$2:$B$2000=$A79)*(data_absen!$C$2:$C$2000=BO$3)*(ROW(data_absen!$C$2:$C$2000)))-1)*1440,\"\")","v":""},null,null,{"$f":"IFERROR(INDEX(data_absen!$J$2:$J$2000,SUMPRODUCT((data_absen!$B$2:$B$2000=$A79)*(data_absen!$C$2:$C$2000=BO$3)*(ROW(data_absen!$C$2:$C$2000)))-1)*1440,\"\")","v":""},{"$f":"COUNTIFS(data_absen!$B$2:$B$2000,$A79,data_absen!$I$2:$I$2000,\">0\")","v":0}]
["Krisna",{"$f":"INDEX(data_absen!$G$2:$G$2000,SUMPRODUCT((data_absen!$B$2:$B$2000=$A82)*(data_absen!$C$2:$C$2000=B$3)*(ROW(data_absen!$C$2:$C$2000)))-1)","v":""},null,"-",{"$f":"INDEX(data_absen!$H$2:$H$2000,SUMPRODUCT((data_absen!$B$2:$B$2000=$A82)*(data_absen!$C$2:$C$2000=B$3)*(ROW(data_absen!$C$2:$C$2000)))-1)","v":""},null,{"$f":"INDEX(data_absen!$G$2:$G$2000,SUMPRODUCT((data_absen!$B$2:$B$2000=$A82)*(data_absen!$C$2:$C$2000=G$3)*(ROW(data_absen!$C$2:$C$2000)))-1)","v":""},null,"-",{"$f":"INDEX(data_absen!$H$2:$H$2000,SUMPRODUCT((data_absen!$B$2:$B$2000=$A82)*(data_absen!$C$2:$C$2000=G$3)*(ROW(data_absen!$C$2:$C$2000)))-1)","v":""},null,{"$f":"INDEX(data_absen!$G$2:$G$2000,SUMPRODUCT((data_absen!$B$2:$B$2000=$A82)*(data_absen!$C$2:$C$2000=L$3)*(ROW(data_absen!$C$2:$C$2000)))-1)","v":""},null,"-",{"$f":"INDEX(data_absen!$H$2:$H$2000,SUMPRODUCT((data_absen!$B$2:$B$2000=$A82)*(data_absen!$C$2:$C$2000=L$3)*(ROW(data_absen!$C$2:$C$2000)))-1)","v":""},null,{"$f":"INDEX(data_absen!$G$2:$G$2000,SUMPRODUCT((data_absen!$B$2:$B$2000=$A82)*(data_absen!$C$2:$C$2000=Q$3)*(ROW(data_absen!$C$2:$C$2000)))-1)","v":""},null,"-",{"$f":"INDEX(data_absen!$H$2:$H$2000,SUMPRODUCT((data_absen!$B$2:$B$2000=$A82)*(data_absen!$C$2:$C$2000=Q$3)*(ROW(data_absen!$C$2:$C$2000)))-1)","v":""},null,{"$f":"INDEX(data_absen!$G$2:$G$2000,SUMPRODUCT((data_absen!$B$2:$B$2000=$A82)*(data_absen!$C$2:$C$2000=V$3)*(ROW(data_absen!$C$2:$C$2000)))-1)","v":""},null,"-",{"$f":"INDEX(data_absen!$H$2:$H$2000,SUMPRODUCT((data_absen!$B$2:$B$2000=$A82)*(data_absen!$C$2:$C$2000=V$3)*(ROW(data_absen!$C$2:$C$2000)))-1)","v":""},null,{"$f":"INDEX(data_absen!$G$2:$G$2000,SUMPRODUCT((data_absen!$B$2:$B$2000=$A82)*(data_absen!$C$2:$C$2000=AA$3)*(ROW(data_absen!$C$2:$C$2000)))-1)","v":""},null,"-",{"$f":"INDEX(data_absen!$H$2:$H$2000,SUMPRODUCT((data_absen!$B$2:$B$2000=$A82)*(data_absen!$C$2:$C$2000=AA$3)*(ROW(data_absen!$C$2:$C$2000)))-1)","v":""},null,{"$f":"INDEX(data_absen!$G$2:$G$2000,SUMPRODUCT((data_absen!$B$2:$B$2000=$A82)*(data_absen!$C$2:$C$2000=AF$3)*(ROW(data_absen!$C$2:$C$2000)))-1)","v":""},null,"-",{"$f":"INDEX(data_absen!$H$2:$H$2000,SUMPRODUCT((data_absen!$B$2:$B$2000=$A82)*(data_absen!$C$2:$C$2000=AF$3)*(ROW(data_absen!$C$2:$C$2000)))-1)","v":""},null,{"$f":"INDEX(data_absen!$G$2:$G$2000,SUMPRODUCT((data_absen!$B$2:$B$2000=$A82)*(data_absen!$C$2:$C$2000=AK$3)*(ROW(data_absen!$C$2:$C$2000)))-1)","v":""},null,"-",{"$f":"INDEX(data_absen!$H$2:$H$2000,SUMPRODUCT((data_absen!$B$2:$B$2000=$A82)*(data_absen!$C$2:$C$2000=AK$3)*(ROW(data_absen!$C$2:$C$2000)))-1)","v":""},null,{"$f":"INDEX(data_absen!$G$2:$G$2000,SUMPRODUCT((data_absen!$B$2:$B$2000=$A82)*(data_absen!$C$2:$C$2000=AP$3)*(ROW(data_absen!$C$2:$C$2000)))-1)","v":""},null,"-",{"$f":"INDEX(data_absen!$H$2:$H$2000,SUMPRODUCT((data_absen!$B$2:$B$2000=$A82)*(data_absen!$C$2:$C$2000=AP$3)*(ROW(data_absen!$C$2:$C$2000)))-1)","v":""},null,{"$f":"INDEX(data_absen!$G$2:$G$2000,SUMPRODUCT((data_absen!$B$2:$B$2000=$A82)*(data_absen!$C$2:$C$2000=AU$3)*(ROW(data_absen!$C$2:$C$2000)))-1)","v":""},null,"-",{"$f":"INDEX(data_absen!$H$2:$H$2000,SUMPRODUCT((data_absen!$B$2:$B$2000=$A82)*(data_absen!$C$2:$C$2000=AU$3)*(ROW(data_absen!$C$2:$C$2000)))-1)","v":""},null,{"$f":"INDEX(data_absen!$G$2:$G$2000,SUMPRODUCT((data_absen!$B$2:$B$2000=$A82)*(data_absen!$C$2:$C$2000=AZ$3)*(ROW(data_absen!$C$2:$C$2000)))-1)","v":""},null,"-",{"$f":"INDEX(data_absen!$H$2:$H$2000,SUMPRODUCT((data_absen!$B$2:$B$2000=$A82)*(data_absen!$C$2:$C$2000=AZ$3)*(ROW(data_absen!$C$2:$C$2000)))-1)","v":""},null,{"$f":"INDEX(data_absen!$G$2:$G$2000,SUMPRODUCT((data_absen!$B$2:$B$2000=$A82)*(data_absen!$C$2:$C$2000=BE$3)*(ROW(data_absen!$C$2:$C$2000)))-1)","v":""},null,"-",{"$f":"INDEX(data_absen!$H$2:$H$2000,SUMPRODUCT((data_absen!$B$2:$B$2000=$A82)*(data_absen!$C$2:$C$2000=BE$3)*(ROW(data_absen!$C$2:$C$2000)))-1)","v":""},null,{"$f":"INDEX(data_absen!$G$2:$G$2000,SUMPRODUCT((data_absen!$B$2:$B$2000=$A82)*(data_absen!$C$2:$C$2000=BJ$3)*(ROW(data_absen!$C$2:$C$2000)))-1)","v":""},null,"-",{"$f":"INDEX(data_absen!$H$2:$H$2000,SUMPRODUCT((data_absen!$B$2:$B$2000=$A82)*(data_absen!$C$2:$C$2000=BJ$3)*(ROW(data_absen!$C$2:$C$2000)))-1)","v":""},null,{"$f":"INDEX(data_absen!$G$2:$G$2000,SUMPRODUCT((data_absen!$B$2:$B$2000=$A82)*(data_absen!$C$2:$C$2000=BO$3)*(ROW(data_absen!$C$2:$C$2000)))-1)","v":""},null,"-",{"$f":"INDEX(data_absen!$H$2:$H$2000,SUMPRODUCT((data_absen!$B$2:$B$2000=$A82)*(data_absen!$C$2:$C$2000=BO$3)*(ROW(data_absen!$C$2:$C$2000)))-1)","v":""}]
[127,null,null,"-",null,null,null,null,"-",null,null,null,null,"-",null,null,null,null,"-",null,null,null,null,"-",null,null,null,null,"-",null,null,null,null,"-",null,null,null,null,"-",null,null,null,null,"-",null,null,null,null,"-",null,null,null,null,"-",null,null,null,null,"-",null,null,null,null,"-",null,null,null,null,"-"]
[null,{"$f":"IFERROR(INDEX(data_absen!$K$2:$K$2000,SUMPRODUCT((data_absen!$B$2:$B$2000=$A82)*(data_absen!$C$2:$C$2000=B$3)*(ROW(data_absen!$C$2:$C$2000)))-1)*1440,\"\")","v":""},{"$f":"IFERROR(INDEX(data_absen!$I$2:$I$2000,SUMPRODUCT((data_absen!$B$2:$B$2000=$A82)*(data_absen!$C$2:$C$2000=B$3)*(ROW(data_absen!$C$2:$C$2000)))-1)*1440,\"\")","v":""},null,null,{"$f":"IFERROR(INDEX(data_absen!$J$2:$J$2000,SUMPRODUCT((data_absen!$B$2:$B$2000=$A82)*(data_absen!$C$2:$C$2000=B$3)*(ROW(data_absen!$C$2:$C$2000)))-1)*1440,\"\")","v":""},{"$f":"IFERROR(INDEX(data_absen!$K$2:$K$2000,SUMPRODUCT((data_absen!$B$2:$B$2000=$A82)*(data_absen!$C$2:$C$2000=G$3)*(ROW(data_absen!$C$2:$C$2000)))-1)*1440,\"\")","v":""},{"$f":"IFERROR(INDEX(data_absen!$I$2:$I$2000,SUMPRODUCT((data_absen!$B$2:$B$2000=$A82)*(data_absen!$C$2:$C$2000=G$3)*(ROW(data_absen!$C$2:$C$2000)))-1)*1440,\"\")","v":""},null,null,{"$f":"IFERROR(INDEX(data_absen!$J$2:$J$2000,SUMPRODUCT((data_absen!$B$2:$B$2000=$A82)*(data_absen!$C$2:$C$2000=G$3)*(ROW(data_absen!$C$2:$C$2000)))-1)*1440,\"\")","v":""},{"$f":"IFERROR(INDEX(data_absen!$K$2:$K$2000,SUMPRODUCT((data_absen!$B$2:$B$2000=$A82)*(data_absen!$C$2:$C$2000=L$3)*(ROW(data_absen!$C$2:$C$2000)))-1)*1440,\"\")","v":""},{"$f":"IFERROR(INDEX(data_absen!$I$2:$I$2000,SUMPRODUCT((data_absen!$B$2:$B$2000=$A82)*(data_absen!$C$2:$C$2000=L$3)*(ROW(data_absen!$C$2:$C$2000)))-1)*1440,\"\")","v":""},null,null,{"$f":"IFERROR(INDEX(data_absen!$J$2:$J$2000,SUMPRODUCT((data_absen!$B$2:$B$2000=$A82)*(data_absen!$C$2:$C$2000=L$3)*(ROW(data_absen!$C$2:$C$2000)))-1)*1440,\"\")","v":""},{"$f":"IFERROR(INDEX(data_absen!$K$2:$K$2000,SUMPRODUCT((data_absen!$B$2:$B$2000=$A82)*(data_absen!$C$2:$C$2000=Q$3)*(ROW(data_absen!$C$2:$C$2000)))-1)*1440,\"\")","v":""},{"$f":"IFERROR(INDEX(data_absen!$I$2:$I$2000,SUMPRODUCT((data_absen!$B$2:$B$2000=$A82)*(data_absen!$C$2:$C$2000=Q$3)*(ROW(data_absen!$C$2:$C$2000)))-1)*1440,\"\")","v":""},null,null,{"$f":"IFERROR(INDEX(data_absen!$J$2:$J$2000,SUMPRODUCT((data_absen!$B$2:$B$2000=$A82)*(data_absen!$C$2:$C$2000=Q$3)*(ROW(data_absen!$C$2:$C$2000)))-1)*1440,\"\")","v":""},{"$f":"IFERROR(INDEX(data_absen!$K$2:$K$2000,SUMPRODUCT((data_absen!$B$2:$B$2000=$A82)*(data_absen!$C$2:$C$2000=V$3)*(ROW(data_absen!$C$2:$C$2000)))-1)*1440,\"\")","v":""},{"$f":"IFERROR(INDEX(data_absen!$I$2:$I$2000,SUMPRODUCT((data_absen!$B$2:$B$2000=$A82)*(data_absen!$C$2:$C$2000=V$3)*(ROW(data_absen!$C$2:$C$2000)))-1)*1440,\"\")","v":""},null,null,{"$f":"IFERROR(INDEX(data_absen!$J$2:$J$2000,SUMPRODUCT((data_absen!$B$2:$B$2000=$A82)*(data_absen!$C$2:$C$2000=V$3)*(ROW(data_absen!$C$2:$C$2000)))-1)*1440,\"\")","v":""},{"$f":"IFERROR(INDEX(data_absen!$K$2:$K$2000,SUMPRODUCT((data_absen!$B$2:$B$2000=$A82)*(data_absen!$C$2:$C$2000=AA$3)*(ROW(data_absen!$C$2:$C$2000)))-1)*1440,\"\")","v":""},{"$f":"IFERROR(INDEX(data_absen!$I$2:$I$2000,SUMPRODUCT((data_absen!$B$2:$B$2000=$A82)*(data_absen!$C$2:$C$2000=AA$3)*(ROW(data_absen!$C$2:$C$2000)))-1)*1440,\"\")","v":""},null,null,{"$f":"IFERROR(INDEX(data_absen!$J$2:$J$2000,SUMPRODUCT((data_absen!$B$2:$B$2000=$A82)*(data_absen!$C$2:$C$2000=AA$3)*(ROW(data_absen!$C$2:$C$2000)))-1)*1440,\"\")","v":""},{"$f":"IFERROR(INDEX(data_absen!$K$2:$K$2000,SUMPRODUCT((data_absen!$B$2:$B$2000=$A82)*(data_absen!$C$2:$C$2000=AF$3)*(ROW(data_absen!$C$2:$C$2000)))-1)*1440,\"\")","v":""},{"$f":"IFERROR(INDEX(data_absen!$I$2:$I$2000,SUMPRODUCT((data_absen!$B$2:$B$2000=$A82)*(data_absen!$C$2:$C$2000=AF$3)*(ROW(data_absen!$C$2:$C$2000)))-1)*1440,\"\")","v":""},null,null,{"$f":"IFERROR(INDEX(data_absen!$J$2:$J$2000,SUMPRODUCT((data_absen!$B$2:$B$2000=$A82)*(data_absen!$C$2:$C$2000=AF$3)*(ROW(data_absen!$C$2:$C$2000)))-1)*1440,\"\")","v":""},{"$f":"IFERROR(INDEX(data_absen!$K$2:$K$2000,SUMPRODUCT((data_absen!$B$2:$B$2000=$A82)*(data_absen!$C$2:$C$2000=AK$3)*(ROW(data_absen!$C$2:$C$2000)))-1)*1440,\"\")","v":""},{"$f":"IFERROR(INDEX(data_absen!$I$2:$I$2000,SUMPRODUCT((data_absen!$B$2:$B$2000=$A82)*(data_absen!$C$2:$C$2000=AK$3)*(ROW(data_absen!$C$2:$C$2000)))-1)*1440,\"\")","v":""},null,null,{"$f":"IFERROR(INDEX(data_absen!$J$2:$J$2000,SUMPRODUCT((data_absen!$B$2:$B$2000=$A82)*(data_absen!$C$2:$C$2000=AK$3)*(ROW(data_absen!$C$2:$C$2000)))-1)*1440,\"\")","v":""},{"$f":"IFERROR(INDEX(data_absen!$K$2:$K$2000,SUMPRODUCT((data_absen!$B$2:$B$2000=$A82)*(data_absen!$C$2:$C$2000=AP$3)*(ROW(data_absen!$C$2:$C$2000)))-1)*1440,\"\")","v":""},{"$f":"IFERROR(INDEX(data_absen!$I$2:$I$2000,SUMPRODUCT((data_absen!$B$2:$B$2000=$A82)*(data_absen!$C$2:$C$2000=AP$3)*(ROW(data_absen!$C$2:$C$2000)))-1)*1440,\"\")","v":""},null,null,{"$f":"IFERROR(INDEX(data_absen!$J$2:$J$2000,SUMPRODUCT((data_absen!$B$2:$B$2000=$A82)*(data_absen!$C$2:$C$2000=AP$3)*(ROW(data_absen!$C$2:$C$2000)))-1)*1440,\"\")","v":""},{"$f":"IFERROR(INDEX(data_absen!$K$2:$K$2000,SUMPRODUCT((data_absen!$B$2:$B$2000=$A82)*(data_absen!$C$2:$C$2000=AU$3)*(ROW(data_absen!$C$2:$C$2000)))-1)*1440,\"\")","v":""},{"$f":"IFERROR(INDEX(data_absen!$I$2:$I$2000,SUMPRODUCT((data_absen!$B$2:$B$2000=$A82)*(data_absen!$C$2:$C$2000=AU$3)*(ROW(data_absen!$C$2:$C$2000)))-1)*1440,\"\")","v":""},null,null,{"$f":"IFERROR(INDEX(data_absen!$J$2:$J$2000,SUMPRODUCT((data_absen!$B$2:$B$2000=$A82)*(data_absen!$C$2:$C$2000=AU$3)*(ROW(data_absen!$C$2:$C$2000)))-1)*1440,\"\")","v":""},{"$f":"IFERROR(INDEX(data_absen!$K$2:$K$2000,SUMPRODUCT((data_absen!$B$2:$B$2000=$A82)*(data_absen!$C$2:$C$2000=AZ$3)*(ROW(data_absen!$C$2:$C$2000)))-1)*1440,\"\")","v":""},{"$f":"IFERROR(INDEX(data_absen!$I$2:$I$2000,SUMPRODUCT((data_absen!$B$2:$B$2000=$A82)*(data_absen!$C$2:$C$2000=AZ$3)*(ROW(data_absen!$C$2:$C$2000)))-1)*1440,\"\")","v":""},null,null,{"$f":"IFERROR(INDEX(data_absen!$J$2:$J$2000,SUMPRODUCT((data_absen!$B$2:$B$2000=$A82)*(data_absen!$C$2:$C$2000=AZ$3)*(ROW(data_absen!$C$2:$C$2000)))-1)*1440,\"\")","v":""},{"$f":"IFERROR(INDEX(data_absen!$K$2:$K$2000,SUMPRODUCT((data_absen!$B$2:$B$2000=$A82)*(data_absen!$C$2:$C$2000=BE$3)*(ROW(data_absen!$C$2:$C$2000)))-1)*1440,\"\")","v":""},{"$f":"IFERROR(INDEX(data_absen!$I$2:$I$2000,SUMPRODUCT((data_absen!$B$2:$B$2000=$A82)*(data_absen!$C$2:$C$2000=BE$3)*(ROW(data_absen!$C$2:$C$2000)))-1)*1440,\"\")","v":""},null,null,{"$f":"IFERROR(INDEX(data_absen!$J$2:$J$2000,SUMPRODUCT((data_absen!$B$2:$B$2000=$A82)*(data_absen!$C$2:$C$2000=BE$3)*(ROW(data_absen!$C$2:$C$2000)))-1)*1440,\"\")","v":""},{"$f":"IFERROR(INDEX(data_absen!$K$2:$K$2000,SUMPRODUCT((data_absen!$B$2:$B$2000=$A82)*(data_absen!$C$2:$C$2000=BJ$3)*(ROW(data_absen!$C$2:$C$2000)))-1)*1440,\"\")","v":""},{"$f":"IFERROR(INDEX(data_absen!$I$2:$I$2000,SUMPRODUCT((data_absen!$B$2:$B$2000=$A82)*(data_absen!$C$2:$C$2000=BJ$3)*(ROW(data_absen!$C$2:$C$2000)))-1)*1440,\"\")","v":""},null,null,{"$f":"IFERROR(INDEX(data_absen!$J$2:$J$2000,SUMPRODUCT((data_absen!$B$2:$B$2000=$A82)*(data_absen!$C$2:$C$2000=BJ$3)*(ROW(data_absen!$C$2:$C$2000)))-1)*1440,\"\")","v":""},{"$f":"IFERROR(INDEX(data_absen!$K$2:$K$2000,SUMPRODUCT((data_absen!$B$2:$B$2000=$A82)*(data_absen!$C$2:$C$2000=BO$3)*(ROW(data_absen!$C$2:$C$2000)))-1)*1440,\"\")","v":""},{"$f":"IFERROR(INDEX(data_absen!$I$2:$I$2000,SUMPRODUCT((data_absen!$B$2:$B$2000=$A82)*(data_absen!$C$2:$C$2000=BO$3)*(ROW(data_absen!$C$2:$C$2000)))-1)*1440,\"\")","v":""},null,null,{"$f":"IFERROR(INDEX(data_absen!$J$2:$J$2000,SUMPRODUCT((data_absen!$B$2:$B$2000=$A82)*(data_absen!$C$2:$C$2000=BO$3)*(ROW(data_absen!$C$2:$C$2000)))-1)*1440,\"\")","v":""},{"$f":"COUNTIFS(data_absen!$B$2:$B$2000,$A82,data_absen!$I$2:$I$2000,\">0\")","v":0}]
["Keterangan : ",null,null,null,null,"Lembur",null,null,null,null,"Datang Telat atau Tdk/ Lupa Absen Masuk",null,null,null,null,null,null,null,null,null,null,null,null,null,null,"Pulang Cepat atau Tdk/Lupa Absen Pulang"]
[]
["NAMA","2019-01-16",null,null,null,null,"2019-01-17",null,null,null,null,"2019-01-18",null,null,null,null,"2019-01-19",null,null,null,null,"2019-01-21",null,null,null,null,"2019-01-22",null,null,null,null,"2019-01-23",null,null,null,null,"2019-01-24",null,null,null,null,"2019-01-25",null,null,null,null,"2019-01-26",null,null,null,null,"2019-01-28",null,null,null,null,"2019-01-29",null,null,null,null,"2019-01-30",null,null,null,null,"2019-01-31",null,null,null,null,"Telat Kali (X)","Lembur Menit"]
["Taufiq",{"$f":"INDEX(data_absen!$G$2:$G$2000,SUMPRODUCT((data_absen!$B$2:$B$2000=$A88)*(data_absen!$C$2:$C$2000=B$3)*(ROW(data_absen!$C$2:$C$2000)))-1)","v":""},null,"-",{"$f":"INDEX(data_absen!$H$2:$H$2000,SUMPRODUCT((data_absen!$B$2:$B$2000=$A88)*(data_absen!$C$2:$C$2000=B$3)*(ROW(data_absen!$C$2:$C$2000)))-1)","v":""},null,{"$f":"INDEX(data_absen!$G$2:$G$2000,SUMPRODUCT((data_absen!$B$2:$B$2000=$A88)*(data_absen!$C$2:$C$2000=G$3)*(ROW(data_absen!$C$2:$C$2000)))-1)","v":""},null,"-",{"$f":"INDEX(data_absen!$H$2:$H$2000,SUMPRODUCT((data_absen!$B$2:$B$2000=$A88)*(data_absen!$C$2:$C$2000=G$3)*(ROW(data_absen!$C$2:$C$2000)))-1)","v":""},null,{"$f":"INDEX(data_absen!$G$2:$G$2000,SUMPRODUCT((data_absen!$B$2:$B$2000=$A88)*(data_absen!$C$2:$C$2000=L$3)*(ROW(data_absen!$C$2:$C$2000)))-1)","v":"06:45:00"},null,"-",{"$f":"INDEX(data_absen!$H$2:$H$2000,SUMPRODUCT((data_absen!$B$2:$B$2000=$A88)*(data_absen!$C$2:$C$2000=L$3)*(ROW(data_absen!$C$2:$C$2000)))-1)","v":"15:20:00"},null,{"$f":"INDEX(data_absen!$G$2:$G$2000,SUMPRODUCT((data_absen!$B$2:$B$2000=$A88)*(data_absen!$C$2:$C$2000=Q$3)*(ROW(data_absen!$C$2:$C$2000)))-1)","v":""},null,"-",{"$f":"INDEX(data_absen!$H$2:$H$2000,SUMPRODUCT((data_absen!$B$2:$B$2000=$A88)*(data_absen!$C$2:$C$2000=Q$3)*(ROW(data_absen!$C$2:$C$2000)))-1)","v":""},null,{"$f":"INDEX(data_absen!$G$2:$G$2000,SUMPRODUCT((data_absen!$B$2:$B$2000=$A88)*(data_absen!$C$2:$C$2000=V$3)*(ROW(data_absen!$C$2:$C$2000)))-1)","v":""},null,"-",{"$f":"INDEX(data_absen!$H$2:$H$2000,SUMPRODUCT((data_absen!$B$2:$B$2000=$A88)*(data_absen!$C$2:$C$2000=V$3)*(ROW(data_absen!$C$2:$C$2000)))-1)","v":""},null,{"$f":"INDEX(data_absen!$G$2:$G$2000,SUMPRODUCT((data_absen!$B$2:$B$2000=$A88)*(data_absen!$C$2:$C$2000=AA$3)*(ROW(data_absen!$C$2:$C$2000)))-1)","v":""},null,"-",{"$f":"INDEX(data_absen!$H$2:$H$2000,SUMPRODUCT((data_absen!$B$2:$B$2000=$A88)*(data_absen!$C$2:$C$2000=AA$3)*(ROW(data_absen!$C$2:$C$2000)))-1)","v":""},null,{"$f":"INDEX(data_absen!$G$2:$G$2000,SUMPRODUCT((data_absen!$B$2:$B$2000=$A88)*(data_absen!$C$2:$C$2000=AF$3)*(ROW(data_absen!$C$2:$C$2000)))-1)","v":""},null,"-",{"$f":"INDEX(data_absen!$H$2:$H$2000,SUMPRODUCT((data_absen!$B$2:$B$2000=$A88)*(data_absen!$C$2:$C$2000=AF$3)*(ROW(data_absen!$C$2:$C$2000)))-1)","v":""},null,{"$f":"INDEX(data_absen!$G$2:$G$2000,SUMPRODUCT((data_absen!$B$2:$B$2000=$A88)*(data_absen!$C$2:$C$2000=AK$3)*(ROW(data_absen!$C$2:$C$2000)))-1)","v":""},null,"-",{"$f":"INDEX(data_absen!$H$2:$H$2000,SUMPRODUCT((data_absen!$B$2:$B$2000=$A88)*(data_absen!$C$2:$C$2000=AK$3)*(ROW(data_absen!$C$2:$C$2000)))-1)","v":""},null,{"$f":"INDEX(data_absen!$G$2:$G$2000,SUMPRODUCT((data_absen!$B$2:$B$2000=$A88)*(data_absen!$C$2:$C$2000=AP$3)*(ROW(data_absen!$C$2:$C$2000)))-1)","v":""},null,"-",{"$f":"INDEX(data_absen!$H$2:$H$2000,SUMPRODUCT((data_absen!$B$2:$B$2000=$A88)*(data_absen!$C$2:$C$2000=AP$3)*(ROW(data_absen!$C$2:$C$2000)))-1)","v":""},null,{"$f":"INDEX(data_absen!$G$2:$G$2000,SUMPRODUCT((data_absen!$B$2:$B$2000=$A88)*(data_absen!$C$2:$C$2000=AU$3)*(ROW(data_absen!$C$2:$C$2000)))-1)","v":""},null,"-",{"$f":"INDEX(data_absen!$H$2:$H$2000,SUMPRODUCT((data_absen!$B$2:$B$2000=$A88)*(data_absen!$C$2:$C$2000=AU$3)*(ROW(data_absen!$C$2:$C$2000)))-1)","v":""},null,{"$f":"INDEX(data_absen!$G$2:$G$2000,SUMPRODUCT((data_absen!$B$2:$B$2000=$A88)*(data_absen!$C$2:$C$2000=AZ$3)*(ROW(data_absen!$C$2:$C$2000)))-1)","v":""},null,"-",{"$f":"INDEX(data_absen!$H$2:$H$2000,SUMPRODUCT((data_absen!$B$2:$B$2000=$A88)*(data_absen!$C$2:$C$2000=AZ$3)*(ROW(data_absen!$C$2:$C$2000)))-1)","v":""},null,{"$f":"INDEX(data_absen!$G$2:$G$2000,SUMPRODUCT((data_absen!$B$2:$B$2000=$A88)*(data_absen!$C$2:$C$2000=BE$3)*(ROW(data_absen!$C$2:$C$2000)))-1)","v":""},null,"-",{"$f":"INDEX(data_absen!$H$2:$H$2000,SUMPRODUCT((data_absen!$B$2:$B$2000=$A88)*(data_absen!$C$2:$C$2000=BE$3)*(ROW(data_absen!$C$2:$C$2000)))-1)","v":""},null,{"$f":"INDEX(data_absen!$G$2:$G$2000,SUMPRODUCT((data_absen!$B$2:$B$2000=$A88)*(data_absen!$C$2:$C$2000=BJ$3)*(ROW(data_absen!$C$2:$C$2000)))-1)","v":""},null,"-",{"$f":"INDEX(data_absen!$H$2:$H$2000,SUMPRODUCT((data_absen!$B$2:$B$2000=$A88)*(data_absen!$C$2:$C$2000=BJ$3)*(ROW(data_absen!$C$2:$C$2000)))-1)","v":""},null,{"$f":"INDEX(data_absen!$G$2:$G$2000,SUMPRODUCT((data_absen!$B$2:$B$2000=$A88)*(data_absen!$C$2:$C$2000=BO$3)*(ROW(data_absen!$C$2:$C$2000)))-1)","v":""},null,"-",{"$f":"INDEX(data_absen!$H$2:$H$2000,SUMPRODUCT((data_absen!$B$2:$B$2000=$A88)*(data_absen!$C$2:$C$2000=BO$3)*(ROW(data_absen!$C$2:$C$2000)))-1)","v":""}]
[128,null,null,"-",null,null,null,null,"-",null,null,null,null,"-",null,null,null,null,"-",null,null,null,null,"-",null,null,null,null,"-",null,null,null,null,"-",null,null,null,null,"-",null,null,null,null,"-",null,null,null,null,"-",null,null,null,null,"-",null,null,null,null,"-",null,null,null,null,"-",null,null,null,null,"-"]
[null,{"$f":"IFERROR(INDEX(data_absen!$K$2:$K$2000,SUMPRODUCT((data_absen!$B$2:$B$2000=$A88)*(data_absen!$C$2:$C$2000=B$3)*(ROW(data_absen!$C$2:$C$2000)))-1)*1440,\"\")","v":""},{"$f":"IFERROR(INDEX(data_absen!$I$2:$I$2000,SUMPRODUCT((data_absen!$B$2:$B$2000=$A88)*(data_absen!$C$2:$C$2000=B$3)*(ROW(data_absen!$C$2:$C$2000)))-1)*1440,\"\")","v":""},null,null,{"$f":"IFERROR(INDEX(data_absen!$J$2:$J$2000,SUMPRODUCT((data_absen!$B$2:$B$2000=$A88)*(data_absen!$C$2:$C$2000=B$3)*(ROW(data_absen!$C$2:$C$2000)))-1)*1440,\"\")","v":""},{"$f":"IFERROR(INDEX(data_absen!$K$2:$K$2000,SUMPRODUCT((data_absen!$B$2:$B$2000=$A88)*(data_absen!$C$2:$C$2000=G$3)*(ROW(data_absen!$C$2:$C$2000)))-1)*1440,\"\")","v":""},{"$f":"IFERROR(INDEX(data_absen!$I$2:$I$2000,SUMPRODUCT((data_absen!$B$2:$B$2000=$A88)*(data_absen!$C$2:$C$2000=G$3)*(ROW(data_absen!$C$2:$C$2000)))-1)*1440,\"\")","v":""},null,null,{"$f":"IFERROR(INDEX(data_absen!$J$2:$J$2000,SUMPRODUCT((data_absen!$B$2:$B$2000=$A88)*(data_absen!$C$2:$C$2000=G$3)*(ROW(data_absen!$C$2:$C$2000)))-1)*1440,\"\")","v":""},{"$f":"IFERROR(INDEX(data_absen!$K$2:$K$2000,SUMPRODUCT((data_absen!$B$2:$B$2000=$A88)*(data_absen!$C$2:$C$2000=L$3)*(ROW(data_absen!$C$2:$C$2000)))-1)*1440,\"\")","v":""},{"$f":"IFERROR(INDEX(data_absen!$I$2:$I$2000,SUMPRODUCT((data_absen!$B$2:$B$2000=$A88)*(data_absen!$C$2:$C$2000=L$3)*(ROW(data_absen!$C$2:$C$2000)))-1)*1440,\"\")","v":""},null,null,{"$f":"IFERROR(INDEX(data_absen!$J$2:$J$2000,SUMPRODUCT((data_absen!$B$2:$B$2000=$A88)*(data_absen!$C$2:$C$2000=L$3)*(ROW(data_absen!$C$2:$C$2000)))-1)*1440,\"\")","v":99.999999999999986},{"$f":"IFERROR(INDEX(data_absen!$K$2:$K$2000,SUMPRODUCT((data_absen!$B$2:$B$2000=$A88)*(data_absen!$C$2:$C$2000=Q$3)*(ROW(data_absen!$C$2:$C$2000)))-1)*1440,\"\")","v":""},{"$f":"IFERROR(INDEX(data_absen!$I$2:$I$2000,SUMPRODUCT((data_absen!$B$2:$B$2000=$A88)*(data_absen!$C$2:$C$2000=Q$3)*(ROW(data_absen!$C$2:$C$2000)))-1)*1440,\"\")","v":""},null,null,{"$f":"IFERROR(INDEX(data_absen!$J$2:$J$2000,SUMPRODUCT((data_absen!$B$2:$B$2000=$A88)*(data_absen!$C$2:$C$2000=Q$3)*(ROW(data_absen!$C$2:$C$2000)))-1)*1440,\"\")","v":""},{"$f":"IFERROR(INDEX(data_absen!$K$2:$K$2000,SUMPRODUCT((data_absen!$B$2:$B$2000=$A88)*(data_absen!$C$2:$C$2000=V$3)*(ROW(data_absen!$C$2:$C$2000)))-1)*1440,\"\")","v":""},{"$f":"IFERROR(INDEX(data_absen!$I$2:$I$2000,SUMPRODUCT((data_absen!$B$2:$B$2000=$A88)*(data_absen!$C$2:$C$2000=V$3)*(ROW(data_absen!$C$2:$C$2000)))-1)*1440,\"\")","v":""},null,null,{"$f":"IFERROR(INDEX(data_absen!$J$2:$J$2000,SUMPRODUCT((data_absen!$B$2:$B$2000=$A88)*(data_absen!$C$2:$C$2000=V$3)*(ROW(data_absen!$C$2:$C$2000)))-1)*1440,\"\")","v":""},{"$f":"IFERROR(INDEX(data_absen!$K$2:$K$2000,SUMPRODUCT((data_absen!$B$2:$B$2000=$A88)*(data_absen!$C$2:$C$2000=AA$3)*(ROW(data_absen!$C$2:$C$2000)))-1)*1440,\"\")","v":""},{"$f":"IFERROR(INDEX(data_absen!$I$2:$I$2000,SUMPRODUCT((data_absen!$B$2:$B$2000=$A88)*(data_absen!$C$2:$C$2000=AA$3)*(ROW(data_absen!$C$2:$C$2000)))-1)*1440,\"\")","v":""},null,null,{"$f":"IFERROR(INDEX(data_absen!$J$2:$J$2000,SUMPRODUCT((data_absen!$B$2:$B$2000=$A88)*(data_absen!$C$2:$C$2000=AA$3)*(ROW(data_absen!$C$2:$C$2000)))-1)*1440,\"\")","v":""},{"$f":"IFERROR(INDEX(data_absen!$K$2:$K$2000,SUMPRODUCT((data_absen!$B$2:$B$2000=$A88)*(data_absen!$C$2:$C$2000=AF$3)*(ROW(data_absen!$C$2:$C$2000)))-1)*1440,\"\")","v":""},{"$f":"IFERROR(INDEX(data_absen!$I$2:$I$2000,SUMPRODUCT((data_absen!$B$2:$B$2000=$A88)*(data_absen!$C$2:$C$2000=AF$3)*(ROW(data_absen!$C$2:$C$2000)))-1)*1440,\"\")","v":""},null,null,{"$f":"IFERROR(INDEX(data_absen!$J$2:$J$2000,SUMPRODUCT((data_absen!$B$2:$B$2000=$A88)*(data_absen!$C$2:$C$2000=AF$3)*(ROW(data_absen!$C$2:$C$2000)))-1)*1440,\"\")","v":""},{"$f":"IFERROR(INDEX(data_absen!$K$2:$K$2000,SUMPRODUCT((data_absen!$B$2:$B$2000=$A88)*(data_absen!$C$2:$C$2000=AK$3)*(ROW(data_absen!$C$2:$C$2000)))-1)*1440,\"\")","v":""},{"$f":"IFERROR(INDEX(data_absen!$I$2:$I$2000,SUMPRODUCT((data_absen!$B$2:$B$2000=$A88)*(data_absen!$C$2:$C$2000=AK$3)*(ROW(data_absen!$C$2:$C$2000)))-1)*1440,\"\")","v":""},null,null,{"$f":"IFERROR(INDEX(data_absen!$J$2:$J$2000,SUMPRODUCT((data_absen!$B$2:$B$2000=$A88)*(data_absen!$C$2:$C$2000=AK$3)*(ROW(data_absen!$C$2:$C$2000)))-1)*1440,\"\")","v":""},{"$f":"IFERROR(INDEX(data_absen!$K$2:$K$2000,SUMPRODUCT((data_absen!$B$2:$B$2000=$A88)*(data_absen!$C$2:$C$2000=AP$3)*(ROW(data_absen!$C$2:$C$2000)))-1)*1440,\"\")","v":""},{"$f":"IFERROR(INDEX(data_absen!$I$2:$I$2000,SUMPRODUCT((data_absen!$B$2:$B$2000=$A88)*(data_absen!$C$2:$C$2000=AP$3)*(ROW(data_absen!$C$2:$C$2000)))-1)*1440,\"\")","v":""},null,null,{"$f":"IFERROR(INDEX(data_absen!$J$2:$J$2000,SUMPRODUCT((data_absen!$B$2:$B$2000=$A88)*(data_absen!$C$2:$C$2000=AP$3)*(ROW(data_absen!$C$2:$C$2000)))-1)*1440,\"\")","v":""},{"$f":"IFERROR(INDEX(data_absen!$K$2:$K$2000,SUMPRODUCT((data_absen!$B$2:$B$2000=$A88)*(data_absen!$C$2:$C$2000=AU$3)*(ROW(data_absen!$C$2:$C$2000)))-1)*1440,\"\")","v":""},{"$f":"IFERROR(INDEX(data_absen!$I$2:$I$2000,SUMPRODUCT((data_absen!$B$2:$B$2000=$A88)*(data_absen!$C$2:$C$2000=AU$3)*(ROW(data_absen!$C$2:$C$2000)))-1)*1440,\"\")","v":""},null,null,{"$f":"IFERROR(INDEX(data_absen!$J$2:$J$2000,SUMPRODUCT((data_absen!$B$2:$B$2000=$A88)*(data_absen!$C$2:$C$2000=AU$3)*(ROW(data_absen!$C$2:$C$2000)))-1)*1440,\"\")","v":""},{"$f":"IFERROR(INDEX(data_absen!$K$2:$K$2000,SUMPRODUCT((data_absen!$B$2:$B$2000=$A88)*(data_absen!$C$2:$C$2000=AZ$3)*(ROW(data_absen!$C$2:$C$2000)))-1)*1440,\"\")","v":""},{"$f":"IFERROR(INDEX(data_absen!$I$2:$I$2000,SUMPRODUCT((data_absen!$B$2:$B$2000=$A88)*(data_absen!$C$2:$C$2000=AZ$3)*(ROW(data_absen!$C$2:$C$2000)))-1)*1440,\"\")","v":""},null,null,{"$f":"IFERROR(INDEX(data_absen!$J$2:$J$2000,SUMPRODUCT((data_absen!$B$2:$B$2000=$A88)*(data_absen!$C$2:$C$2000=AZ$3)*(ROW(data_absen!$C$2:$C$2000)))-1)*1440,\"\")","v":""},{"$f":"IFERROR(INDEX(data_absen!$K$2:$K$2000,SUMPRODUCT((data_absen!$B$2:$B$2000=$A88)*(data_absen!$C$2:$C$2000=BE$3)*(ROW(data_absen!$C$2:$C$2000)))-1)*1440,\"\")","v":""},{"$f":"IFERROR(INDEX(data_absen!$I$2:$I$2000,SUMPRODUCT((data_absen!$B$2:$B$2000=$A88)*(data_absen!$C$2:$C$2000=BE$3)*(ROW(data_absen!$C$2:$C$2000)))-1)*1440,\"\")","v":""},null,null,{"$f":"IFERROR(INDEX(data_absen!$J$2:$J$2000,SUMPRODUCT((data_absen!$B$2:$B$2000=$A88)*(data_absen!$C$2:$C$2000=BE$3)*(ROW(data_absen!$C$2:$C$2000)))-1)*1440,\"\")","v":""},{"$f":"IFERROR(INDEX(data_absen!$K$2:$K$2000,SUMPRODUCT((data_absen!$B$2:$B$2000=$A88)*(data_absen!$C$2:$C$2000=BJ$3)*(ROW(data_absen!$C$2:$C$2000)))-1)*1440,\"\")","v":""},{"$f":"IFERROR(INDEX(data_absen!$I$2:$I$2000,SUMPRODUCT((data_absen!$B$2:$B$2000=$A88)*(data_absen!$C$2:$C$2000=BJ$3)*(ROW(data_absen!$C$2:$C$2000)))-1)*1440,\"\")","v":""},null,null,{"$f":"IFERROR(INDEX(data_absen!$J$2:$J$2000,SUMPRODUCT((data_absen!$B$2:$B$2000=$A88)*(data_absen!$C$2:$C$2000=BJ$3)*(ROW(data_absen!$C$2:$C$2000)))-1)*1440,\"\")","v":""},{"$f":"IFERROR(INDEX(data_absen!$K$2:$K$2000,SUMPRODUCT((data_absen!$B$2:$B$2000=$A88)*(data_absen!$C$2:$C$2000=BO$3)*(ROW(data_absen!$C$2:$C$2000)))-1)*1440,\"\")","v":""},{"$f":"IFERROR(INDEX(data_absen!$I$2:$I$2000,SUMPRODUCT((data_absen!$B$2:$B$2000=$A88)*(data_absen!$C$2:$C$2000=BO$3)*(ROW(data_absen!$C$2:$C$2000)))-1)*1440,\"\")","v":""},null,null,{"$f":"IFERROR(INDEX(data_absen!$J$2:$J$2000,SUMPRODUCT((data_absen!$B$2:$B$2000=$A88)*(data_absen!$C$2:$C$2000=BO$3)*(ROW(data_absen!$C$2:$C$2000)))-1)*1440,\"\")","v":""},{"$f":"COUNTIFS(data_absen!$B$2:$B$2000,$A88,data_absen!$I$2:$I$2000,\">0\")","v":0}]
["Jefri",{"$f":"INDEX(data_absen!$G$2:$G$2000,SUMPRODUCT((data_absen!$B$2:$B$2000=$A91)*(data_absen!$C$2:$C$2000=B$3)*(ROW(data_absen!$C$2:$C$2000)))-1)","v":""},null,"-",{"$f":"INDEX(data_absen!$H$2:$H$2000,SUMPRODUCT((data_absen!$B$2:$B$2000=$A91)*(data_absen!$C$2:$C$2000=B$3)*(ROW(data_absen!$C$2:$C$2000)))-1)","v":""},null,{"$f":"INDEX(data_absen!$G$2:$G$2000,SUMPRODUCT((data_absen!$B$2:$B$2000=$A91)*(data_absen!$C$2:$C$2000=G$3)*(ROW(data_absen!$C$2:$C$2000)))-1)","v":"06:43:00"},null,"-",{"$f":"INDEX(data_absen!$H$2:$H$2000,SUMPRODUCT((data_absen!$B$2:$B$2000=$A91)*(data_absen!$C$2:$C$2000=G$3)*(ROW(data_absen!$C$2:$C$2000)))-1)","v":"14:57:00"},null,{"$f":"INDEX(data_absen!$G$2:$G$2000,SUMPRODUCT((data_absen!$B$2:$B$2000=$A91)*(data_absen!$C$2:$C$2000=L$3)*(ROW(data_absen!$C$2:$C$2000)))-1)","v":""},null,"-",{"$f":"INDEX(data_absen!$H$2:$H$2000,SUMPRODUCT((data_absen!$B$2:$B$2000=$A91)*(data_absen!$C$2:$C$2000=L$3)*(ROW(data_absen!$C$2:$C$2000)))-1)","v":""},null,{"$f":"INDEX(data_absen!$G$2:$G$2000,SUMPRODUCT((data_absen!$B$2:$B$2000=$A91)*(data_absen!$C$2:$C$2000=Q$3)*(ROW(data_absen!$C$2:$C$2000)))-1)","v":""},null,"-",{"$f":"INDEX(data_absen!$H$2:$H$2000,SUMPRODUCT((data_absen!$B$2:$B$2000=$A91)*(data_absen!$C$2:$C$2000=Q$3)*(ROW(data_absen!$C$2:$C$2000)))-1)","v":""},null,{"$f":"INDEX(data_absen!$G$2:$G$2000,SUMPRODUCT((data_absen!$B$2:$B$2000=$A91)*(data_absen!$C$2:$C$2000=V$3)*(ROW(data_absen!$C$2:$C$2000)))-1)","v":""},null,"-",{"$f":"INDEX(data_absen!$H$2:$H$2000,SUMPRODUCT((data_absen!$B$2:$B$2000=$A91)*(data_absen!$C$2:$C$2000=V$3)*(ROW(data_absen!$C$2:$C$2000)))-1)","v":""},null,{"$f":"INDEX(data_absen!$G$2:$G$2000,SUMPRODUCT((data_absen!$B$2:$B$2000=$A91)*(data_absen!$C$2:$C$2000=AA$3)*(ROW(data_absen!$C$2:$C$2000)))-1)","v":""},null,"-",{"$f":"INDEX(data_absen!$H$2:$H$2000,SUMPRODUCT((data_absen!$B$2:$B$2000=$A91)*(data_absen!$C$2:$C$2000=AA$3)*(ROW(data_absen!$C$2:$C$2000)))-1)","v":""},null,{"$f":"INDEX(data_absen!$G$2:$G$2000,SUMPRODUCT((data_absen!$B$2:$B$2000=$A91)*(data_absen!$C$2:$C$2000=AF$3)*(ROW(data_absen!$C$2:$C$2000)))-1)","v":""},null,"-",{"$f":"INDEX(data_absen!$H$2:$H$2000,SUMPRODUCT((data_absen!$B$2:$B$2000=$A91)*(data_absen!$C$2:$C$2000=AF$3)*(ROW(data_absen!$C$2:$C$2000)))-1)","v":""},null,{"$f":"INDEX(data_absen!$G$2:$G$2000,SUMPRODUCT((data_absen!$B$2:$B$2000=$A91)*(data_absen!$C$2:$C$2000=AK$3)*(ROW(data_absen!$C$2:$C$2000)))-1)","v":""},null,"-",{"$f":"INDEX(data_absen!$H$2:$H$2000,SUMPRODUCT((data_absen!$B$2:$B$2000=$A91)*(data_absen!$C$2:$C$2000=AK$3)*(ROW(data_absen!$C$2:$C$2000)))-1)","v":""},null,{"$f":"INDEX(data_absen!$G$2:$G$2000,SUMPRODUCT((data_absen!$B$2:$B$2000=$A91)*(data_absen!$C$2:$C$2000=AP$3)*(ROW(data_absen!$C$2:$C$2000)))-1)","v":""},null,"-",{"$f":"INDEX(data_absen!$H$2:$H$2000,SUMPRODUCT((data_absen!$B$2:$B$2000=$A91)*(data_absen!$C$2:$C$2000=AP$3)*(ROW(data_absen!$C$2:$C$2000)))-1)","v":""},null,{"$f":"INDEX(data_absen!$G$2:$G$2000,SUMPRODUCT((data_absen!$B$2:$B$2000=$A91)*(data_absen!$C$2:$C$2000=AU$3)*(ROW(data_absen!$C$2:$C$2000)))-1)","v":""},null,"-",{"$f":"INDEX(data_absen!$H$2:$H$2000,SUMPRODUCT((data_absen!$B$2:$B$2000=$A91)*(data_absen!$C$2:$C$2000=AU$3)*(ROW(data_absen!$C$2:$C$2000)))-1)","v":""},null,{"$f":"INDEX(data_absen!$G$2:$G$2000,SUMPRODUCT((data_absen!$B$2:$B$2000=$A91)*(data_absen!$C$2:$C$2000=AZ$3)*(ROW(data_absen!$C$2:$C$2000)))-1)","v":""},null,"-",{"$f":"INDEX(data_absen!$H$2:$H$2000,SUMPRODUCT((data_absen!$B$2:$B$2000=$A91)*(data_absen!$C$2:$C$2000=AZ$3)*(ROW(data_absen!$C$2:$C$2000)))-1)","v":""},null,{"$f":"INDEX(data_absen!$G$2:$G$2000,SUMPRODUCT((data_absen!$B$2:$B$2000=$A91)*(data_absen!$C$2:$C$2000=BE$3)*(ROW(data_absen!$C$2:$C$2000)))-1)","v":""},null,"-",{"$f":"INDEX(data_absen!$H$2:$H$2000,SUMPRODUCT((data_absen!$B$2:$B$2000=$A91)*(data_absen!$C$2:$C$2000=BE$3)*(ROW(data_absen!$C$2:$C$2000)))-1)","v":""},null,{"$f":"INDEX(data_absen!$G$2:$G$2000,SUMPRODUCT((data_absen!$B$2:$B$2000=$A91)*(data_absen!$C$2:$C$2000=BJ$3)*(ROW(data_absen!$C$2:$C$2000)))-1)","v":""},null,"-",{"$f":"INDEX(data_absen!$H$2:$H$2000,SUMPRODUCT((data_absen!$B$2:$B$2000=$A91)*(data_absen!$C$2:$C$2000=BJ$3)*(ROW(data_absen!$C$2:$C$2000)))-1)","v":""},null,{"$f":"INDEX(data_absen!$G$2:$G$2000,SUMPRODUCT((data_absen!$B$2:$B$2000=$A91)*(data_absen!$C$2:$C$2000=BO$3)*(ROW(data_absen!$C$2:$C$2000)))-1)","v":""},null,"-",{"$f":"INDEX(data_absen!$H$2:$H$2000,SUMPRODUCT((data_absen!$B$2:$B$2000=$A91)*(data_absen!$C$2:$C$2000=BO$3)*(ROW(data_absen!$C$2:$C$2000)))-1)","v":""}]
[129,null,null,"-",null,null,null,null,"-",null,null,null,null,"-",null,null,null,null,"-",null,null,null,null,"-",null,null,null,null,"-",null,null,null,null,"-",null,null,null,null,"-",null,null,null,null,"-",null,null,null,null,"-",null,null,null,null,"-",null,null,null,null,"-",null,null,null,null,"-",null,null,null,null,"-"]
[null,{"$f":"IFERROR(INDEX(data_absen!$K$2:$K$2000,SUMPRODUCT((data_absen!$B$2:$B$2000=$A91)*(data_absen!$C$2:$C$2000=B$3)*(ROW(data_absen!$C$2:$C$2000)))-1)*1440,\"\")","v":""},{"$f":"IFERROR(INDEX(data_absen!$I$2:$I$2000,SUMPRODUCT((data_absen!$B$2:$B$2000=$A91)*(data_absen!$C$2:$C$2000=B$3)*(ROW(data_absen!$C$2:$C$2000)))-1)*1440,\"\")","v":""},null,null,{"$f":"IFERROR(INDEX(data_absen!$J$2:$J$2000,SUMPRODUCT((data_absen!$B$2:$B$2000=$A91)*(data_absen!$C$2:$C$2000=B$3)*(ROW(data_absen!$C$2:$C$2000)))-1)*1440,\"\")","v":""},{"$f":"IFERROR(INDEX(data_absen!$K$2:$K$2000,SUMPRODUCT((data_absen!$B$2:$B$2000=$A91)*(data_absen!$C$2:$C$2000=G$3)*(ROW(data_absen!$C$2:$C$2000)))-1)*1440,\"\")","v":""},{"$f":"IFERROR(INDEX(data_absen!$I$2:$I$2000,SUMPRODUCT((data_absen!$B$2:$B$2000=$A91)*(data_absen!$C$2:$C$2000=G$3)*(ROW(data_absen!$C$2:$C$2000)))-1)*1440,\"\")","v":""},null,null,{"$f":"IFERROR(INDEX(data_absen!$J$2:$J$2000,SUMPRODUCT((data_absen!$B$2:$B$2000=$A91)*(data_absen!$C$2:$C$2000=G$3)*(ROW(data_absen!$C$2:$C$2000)))-1)*1440,\"\")","v":122.99999999999999},{"$f":"IFERROR(INDEX(data_absen!$K$2:$K$2000,SUMPRODUCT((data_absen!$B$2:$B$2000=$A91)*(data_absen!$C$2:$C$2000=L$3)*(ROW(data_absen!$C$2:$C$2000)))-1)*1440,\"\")","v":""},{"$f":"IFERROR(INDEX(data_absen!$I$2:$I$2000,SUMPRODUCT((data_absen!$B$2:$B$2000=$A91)*(data_absen!$C$2:$C$2000=L$3)*(ROW(data_absen!$C$2:$C$2000)))-1)*1440,\"\")","v":""},null,null,{"$f":"IFERROR(INDEX(data_absen!$J$2:$J$2000,SUMPRODUCT((data_absen!$B$2:$B$2000=$A91)*(data_absen!$C$2:$C$2000=L$3)*(ROW(data_absen!$C$2:$C$2000)))-1)*1440,\"\")","v":""},{"$f":"IFERROR(INDEX(data_absen!$K$2:$K$2000,SUMPRODUCT((data_absen!$B$2:$B$2000=$A91)*(data_absen!$C$2:$C$2000=Q$3)*(ROW(data_absen!$C$2:$C$2000)))-1)*1440,\"\")","v":""},{"$f":"IFERROR(INDEX(data_absen!$I$2:$I$2000,SUMPRODUCT((data_absen!$B$2:$B$2000=$A91)*(data_absen!$C$2:$C$2000=Q$3)*(ROW(data_absen!$C$2:$C$2000)))-1)*1440,\"\")","v":""},null,null,{"$f":"IFERROR(INDEX(data_absen!$J$2:$J$2000,SUMPRODUCT((data_absen!$B$2:$B$2000=$A91)*(data_absen!$C$2:$C$2000=Q$3)*(ROW(data_absen!$C$2:$C$2000)))-1)*1440,\"\")","v":""},{"$f":"IFERROR(INDEX(data_absen!$K$2:$K$2000,SUMPRODUCT((data_absen!$B$2:$B$2000=$A91)*(data_absen!$C$2:$C$2000=V$3)*(ROW(data_absen!$C$2:$C$2000)))-1)*1440,\"\")","v":""},{"$f":"IFERROR(INDEX(data_absen!$I$2:$I$2000,SUMPRODUCT((data_absen!$B$2:$B$2000=$A91)*(data_absen!$C$2:$C$2000=V$3)*(ROW(data_absen!$C$2:$C$2000)))-1)*1440,\"\")","v":""},null,null,{"$f":"IFERROR(INDEX(data_absen!$J$2:$J$2000,SUMPRODUCT((data_absen!$B$2:$B$2000=$A91)*(data_absen!$C$2:$C$2000=V$3)*(ROW(data_absen!$C$2:$C$2000)))-1)*1440,\"\")","v":""},{"$f":"IFERROR(INDEX(data_absen!$K$2:$K$2000,SUMPRODUCT((data_absen!$B$2:$B$2000=$A91)*(data_absen!$C$2:$C$2000=AA$3)*(ROW(data_absen!$C$2:$C$2000)))-1)*1440,\"\")","v":""},{"$f":"IFERROR(INDEX(data_absen!$I$2:$I$2000,SUMPRODUCT((data_absen!$B$2:$B$2000=$A91)*(data_absen!$C$2:$C$2000=AA$3)*(ROW(data_absen!$C$2:$C$2000)))-1)*1440,\"\")","v":""},null,null,{"$f":"IFERROR(INDEX(data_absen!$J$2:$J$2000,SUMPRODUCT((data_absen!$B$2:$B$2000=$A91)*(data_absen!$C$2:$C$2000=AA$3)*(ROW(data_absen!$C$2:$C$2000)))-1)*1440,\"\")","v":""},{"$f":"IFERROR(INDEX(data_absen!$K$2:$K$2000,SUMPRODUCT((data_absen!$B$2:$B$2000=$A91)*(data_absen!$C$2:$C$2000=AF$3)*(ROW(data_absen!$C$2:$C$2000)))-1)*1440,\"\")","v":""},{"$f":"IFERROR(INDEX(data_absen!$I$2:$I$2000,SUMPRODUCT((data_absen!$B$2:$B$2000=$A91)*(data_absen!$C$2:$C$2000=AF$3)*(ROW(data_absen!$C$2:$C$2000)))-1)*1440,\"\")","v":""},null,null,{"$f":"IFERROR(INDEX(data_absen!$J$2:$J$2000,SUMPRODUCT((data_absen!$B$2:$B$2000=$A91)*(data_absen!$C$2:$C$2000=AF$3)*(ROW(data_absen!$C$2:$C$2000)))-1)*1440,\"\")","v":""},{"$f":"IFERROR(INDEX(data_absen!$K$2:$K$2000,SUMPRODUCT((data_absen!$B$2:$B$2000=$A91)*(data_absen!$C$2:$C$2000=AK$3)*(ROW(data_absen!$C$2:$C$2000)))-1)*1440,\"\")","v":""},{"$f":"IFERROR(INDEX(data_absen!$I$2:$I$2000,SUMPRODUCT((data_absen!$B$2:$B$2000=$A91)*(data_absen!$C$2:$C$2000=AK$3)*(ROW(data_absen!$C$2:$C$2000)))-1)*1440,\"\")","v":""},null,null,{"$f":"IFERROR(INDEX(data_absen!$J$2:$J$2000,SUMPRODUCT((data_absen!$B$2:$B$2000=$A91)*(data_absen!$C$2:$C$2000=AK$3)*(ROW(data_absen!$C$2:$C$2000)))-1)*1440,\"\")","v":""},{"$f":"IFERROR(INDEX(data_absen!$K$2:$K$2000,SUMPRODUCT((data_absen!$B$2:$B$2000=$A91)*(data_absen!$C$2:$C$2000=AP$3)*(ROW(data_absen!$C$2:$C$2000)))-1)*1440,\"\")","v":""},{"$f":"IFERROR(INDEX(data_absen!$I$2:$I$2000,SUMPRODUCT((data_absen!$B$2:$B$2000=$A91)*(data_absen!$C$2:$C$2000=AP$3)*(ROW(data_absen!$C$2:$C$2000)))-1)*1440,\"\")","v":""},null,null,{"$f":"IFERROR(INDEX(data_absen!$J$2:$J$2000,SUMPRODUCT((data_absen!$B$2:$B$2000=$A91)*(data_absen!$C$2:$C$2000=AP$3)*(ROW(data_absen!$C$2:$C$2000)))-1)*1440,\"\")","v":""},{"$f":"IFERROR(INDEX(data_absen!$K$2:$K$2000,SUMPRODUCT((data_absen!$B$2:$B$2000=$A91)*(data_absen!$C$2:$C$2000=AU$3)*(ROW(data_absen!$C$2:$C$2000)))-1)*1440,\"\")","v":""},{"$f":"IFERROR(INDEX(data_absen!$I$2:$I$2000,SUMPRODUCT((data_absen!$B$2:$B$2000=$A91)*(data_absen!$C$2:$C$2000=AU$3)*(ROW(data_absen!$C$2:$C$2000)))-1)*1440,\"\")","v":""},null,null,{"$f":"IFERROR(INDEX(data_absen!$J$2:$J$2000,SUMPRODUCT((data_absen!$B$2:$B$2000=$A91)*(data_absen!$C$2:$C$2000=AU$3)*(ROW(data_absen!$C$2:$C$2000)))-1)*1440,\"\")","v":""},{"$f":"IFERROR(INDEX(data_absen!$K$2:$K$2000,SUMPRODUCT((data_absen!$B$2:$B$2000=$A91)*(data_absen!$C$2:$C$2000=AZ$3)*(ROW(data_absen!$C$2:$C$2000)))-1)*1440,\"\")","v":""},{"$f":"IFERROR(INDEX(data_absen!$I$2:$I$2000,SUMPRODUCT((data_absen!$B$2:$B$2000=$A91)*(data_absen!$C$2:$C$2000=AZ$3)*(ROW(data_absen!$C$2:$C$2000)))-1)*1440,\"\")","v":""},null,null,{"$f":"IFERROR(INDEX(data_absen!$J$2:$J$2000,SUMPRODUCT((data_absen!$B$2:$B$2000=$A91)*(data_absen!$C$2:$C$2000=AZ$3)*(ROW(data_absen!$C$2:$C$2000)))-1)*1440,\"\")","v":""},{"$f":"IFERROR(INDEX(data_absen!$K$2:$K$2000,SUMPRODUCT((data_absen!$B$2:$B$2000=$A91)*(data_absen!$C$2:$C$2000=BE$3)*(ROW(data_absen!$C$2:$C$2000)))-1)*1440,\"\")","v":""},{"$f":"IFERROR(INDEX(data_absen!$I$2:$I$2000,SUMPRODUCT((data_absen!$B$2:$B$2000=$A91)*(data_absen!$C$2:$C$2000=BE$3)*(ROW(data_absen!$C$2:$C$2000)))-1)*1440,\"\")","v":""},null,null,{"$f":"IFERROR(INDEX(data_absen!$J$2:$J$2000,SUMPRODUCT((data_absen!$B$2:$B$2000=$A91)*(data_absen!$C$2:$C$2000=BE$3)*(ROW(data_absen!$C$2:$C$2000)))-1)*1440,\"\")","v":""},{"$f":"IFERROR(INDEX(data_absen!$K$2:$K$2000,SUMPRODUCT((data_absen!$B$2:$B$2000=$A91)*(data_absen!$C$2:$C$2000=BJ$3)*(ROW(data_absen!$C$2:$C$2000)))-1)*1440,\"\")","v":""},{"$f":"IFERROR(INDEX(data_absen!$I$2:$I$2000,SUMPRODUCT((data_absen!$B$2:$B$2000=$A91)*(data_absen!$C$2:$C$2000=BJ$3)*(ROW(data_absen!$C$2:$C$2000)))-1)*1440,\"\")","v":""},null,null,{"$f":"IFERROR(INDEX(data_absen!$J$2:$J$2000,SUMPRODUCT((data_absen!$B$2:$B$2000=$A91)*(data_absen!$C$2:$C$2000=BJ$3)*(ROW(data_absen!$C$2:$C$2000)))-1)*1440,\"\")","v":""},{"$f":"IFERROR(INDEX(data_absen!$K$2:$K$2000,SUMPRODUCT((data_absen!$B$2:$B$2000=$A91)*(data_absen!$C$2:$C$2000=BO$3)*(ROW(data_absen!$C$2:$C$2000)))-1)*1440,\"\")","v":""},{"$f":"IFERROR(INDEX(data_absen!$I$2:$I$2000,SUMPRODUCT((data_absen!$B$2:$B$2000=$A91)*(data_absen!$C$2:$C$2000=BO$3)*(ROW(data_absen!$C$2:$C$2000)))-1)*1440,\"\")","v":""},null,null,{"$f":"IFERROR(INDEX(data_absen!$J$2:$J$2000,SUMPRODUCT((data_absen!$B$2:$B$2000=$A91)*(data_absen!$C$2:$C$2000=BO$3)*(ROW(data_absen!$C$2:$C$2000)))-1)*1440,\"\")","v":""},{"$f":"COUNTIFS(data_absen!$B$2:$B$2000,$A91,data_absen!$I$2:$I$2000,\">0\")","v":0}]
[]
[]
[]
[]
[]
[]
[]
[]
[]
[]
[]
[]
[]
[]
[]
[]
[]
[]
[]
[]
[]
[]
[]
[]
[]
[]
[]
[]
[]
["Keterangan : ",null,null,null,null,"Lembur",null,null,null,null,"Datang Telat atau Tdk/ Lupa Absen Masuk",null,null,null,null,null,null,null,null,null,null,null,null,null,null,"Pulang Cepat atau Tdk/Lupa Absen Pulang"]

{"sheet":"Borongan","index":3,"n_rows":197,"n_cols":74,"rows_kept":197,"cut":false,"hidden":false,"merged":[[159,66,159,67],[159,69,159,70],[160,66,160,67],[160,69,160,70],[161,67,161,69],[162,66,162,67],[162,69,162,70],[163,66,163,67],[163,69,163,70],[164,67,164,69],[146,67,146,69],[147,66,147,67],[147,69,147,70],[148,66,148,67],[148,69,148,70],[149,67,149,69],[150,66,150,67],[150,69,150,70],[151,66,151,67],[151,69,151,70],[152,67,152,69],[153,66,153,67],[153,69,153,70],[154,66,154,67],[154,69,154,70],[155,67,155,69],[158,66,158,70],[136,66,136,67],[136,69,136,70],[137,67,137,69],[138,66,138,67],[138,69,138,70],[139,66,139,67],[139,69,139,70],[140,67,140,69],[141,66,141,67],[141,69,141,70],[142,66,142,67],[142,69,142,70],[143,67,143,69],[144,66,144,67],[144,69,144,70],[145,66,145,67],[145,69,145,70],[125,67,125,69],[126,66,126,67],[126,69,126,70],[127,66,127,67],[127,69,127,70],[128,67,128,69],[129,66,129,67],[129,69,129,70],[130,66,130,67],[130,69,130,70],[131,67,131,69],[132,66,132,67],[132,69,132,70],[133,66,133,67],[133,69,133,70],[134,67,134,69],[135,66,135,67],[135,69,135,70],[112,66,112,67],[112,69,112,70],[113,67,113,69],[114,66,114,67],[114,69,114,70],[115,66,115,67],[115,69,115,70],[116,67,116,69],[119,66,119,70],[120,66,120,67],[120,69,120,70],[121,66,121,67],[121,69,121,70],[122,67,122,69],[123,66,123,67],[123,69,123,70],[124,66,124,67],[124,69,124,70],[101,67,101,69],[102,66,102,67],[102,69,102,70],[103,66,103,67],[103,69,103,70],[104,67,104,69],[105,66,105,67],[105,69,105,70],[106,66,106,67],[106,69,106,70],[107,67,107,69],[108,66,108,67],[108,69,108,70],[109,66,109,67],[109,69,109,70],[110,67,110,69],[111,66,111,67],[111,69,111,70],[91,66,91,67],[91,69,91,70],[92,67,92,69],[93,66,93,67],[93,69,93,70],[94,66,94,67],[94,69,94,70],[95,67,95,69],[96,66,96,67],[96,69,96,70],[97,66,97,67],[97,69,97,70],[98,67,98,69],[99,66,99,67],[99,69,99,70],[100,66,100,67],[100,69,100,70],[81,66,81,67],[81,69,81,70],[82,66,82,67],[82,69,82,70],[83,67,83,69],[84,66,84,67],[84,69,84,70],[85,66,85,67],[85,69,85,70],[86,67,86,69],[87,66,87,67],[87,69,87,70],[88,66,88,67],[88,69,88,70],[89,67,89,69],[90,66,90,67],[90,69,90,70],[68,67,68,69],[69,66,69,67],[69,69,69,70],[70,66,70,67],[70,69,70,70],[71,67,71,69],[72,66,72,67],[72,69,72,70],[73,66,73,67],[73,69,73,70],[74,67,74,69],[75,66,75,67],[75,69,75,70],[76,66,76,67],[76,69,76,70],[77,67,77,69],[80,66,80,70],[58,66,58,67],[58,69,58,70],[59,67,59,69],[60,66,60,67],[60,69,60,70],[61,66,61,67],[61,69,61,70],[62,67,62,69],[63,66,63,67],[63,69,63,70],[64,66,64,67],[64,69,64,70],[65,67,65,69],[66,66,66,67],[66,69,66,70],[67,66,67,67],[67,69,67,70],[47,67,47,69],[48,66,48,67],[48,69,48,70],[49,66,49,67],[49,69,49,70],[50,67,50,69],[51,66,51,67],[51,69,51,70],[52,66,52,67],[52,69,52,70],[53,67,53,69],[54,66,54,67],[54,69,54,70],[55,66,55,67],[55,69,55,70],[56,67,56,69],[57,66,57,67],[57,69,57,70],[34,66,34,67],[34,69,34,70],[35,67,35,69],[36,66,36,67],[36,69,36,70],[37,66,37,67],[37,69,37,70],[38,67,38,69],[41,66,41,70],[42,66,42,67],[42,69,42,70],[43,66,43,67],[43,69,43,70],[44,67,44,69],[45,66,45,67],[45,69,45,70],[46,66,46,67],[46,69,46,70],[23,67,23,69],[24,66,24,67],[24,69,24,70],[25,66,25,67],[25,69,25,70],[26,67,26,69],[27,66,27,67],[27,69,27,70],[28,66,28,67],[28,69,28,70],[29,67,29,69],[30,66,30,67],[30,69,30,70],[31,66,31,67],[31,69,31,70],[32,67,32,69],[33,66,33,67],[33,69,33,70],[13,66,13,67],[13,69,13,70],[14,67,14,69],[15,66,15,67],[15,69,15,70],[16,66,16,67],[16,69,16,70],[17,67,17,69],[18,66,18,67],[18,69,18,70],[19,66,19,67],[19,69,19,70],[20,67,20,69],[21,66,21,67],[21,69,21,70],[22,66,22,67],[22,69,22,70],[2,66,2,70],[3,66,3,67],[3,69,3,70],[4,66,4,67],[4,69,4,70],[5,67,5,69],[6,66,6,67],[6,69,6,70],[7,66,7,67],[7,69,7,70],[8,67,8,69],[9,66,9,67],[9,69,9,70],[10,66,10,67],[10,69,10,70],[11,67,11,69],[12,66,12,67],[12,69,12,70],[87,56,87,57],[87,59,87,60],[88,56,88,57],[88,59,88,60],[89,57,89,59],[87,61,87,62],[87,64,87,65],[88,64,88,65],[88,61,88,62],[89,62,89,64],[87,41,87,42],[87,44,87,45],[88,41,88,42],[88,44,88,45],[89,42,89,44],[87,46,87,47],[87,49,87,50],[88,46,88,47],[88,49,88,50],[89,47,89,49],[87,51,87,52],[87,54,87,55],[88,51,88,52],[88,54,88,55],[89,52,89,54],[87,21,87,22],[87,24,87,25],[88,21,88,22],[88,24,88,25],[89,22,89,24],[87,26,87,27],[87,29,87,30],[88,26,88,27],[88,29,88,30],[89,27,89,29],[87,31,87,32],[87,34,87,35],[88,31,88,32],[88,34,88,35],[89,32,89,34],[87,36,87,37],[87,39,87,40],[88,36,88,37],[88,39,88,40],[89,37,89,39],[87,1,87,2],[87,4,87,5],[88,1,88,2],[88,4,88,5],[89,2,89,4],[87,6,87,7],[88,6,88,7],[87,9,87,10],[88,9,88,10],[89,7,89,9],[87,11,87,12],[87,14,87,15],[88,11,88,12],[88,14,88,15],[89,12,89,14],[87,16,87,17],[87,19,87,20],[88,16,88,17],[88,19,88,20],[89,17,89,19],[158,1,158,5],[158,6,158,10],[158,11,158,15],[158,16,158,20],[158,21,158,25],[158,26,158,30],[158,31,158,35],[158,36,158,40],[158,41,158,45],[158,46,158,50],[158,51,158,55],[158,56,158,60],[158,61,158,65],[163,56,163,57],[163,59,163,60],[163,61,163,62],[163,64,163,65],[163,34,163,35],[163,36,163,37],[163,39,163,40],[163,41,163,42],[163,44,163,45],[163,46,163,47],[162,1,162,2],[162,4,162,5],[162,6,162,7],[162,9,162,10],[163,49,163,50],[163,51,163,52],[163,54,163,55],[162,11,162,12],[162,14,162,15],[164,2,164,4],[164,7,164,9],[164,12,164,14],[164,17,164,19],[164,22,164,24],[164,27,164,29],[164,32,164,34],[164,37,164,39],[164,42,164,44],[164,47,164,49],[164,52,164,54],[164,57,164,59],[164,62,164,64],[162,51,162,52],[162,54,162,55],[162,56,162,57],[162,59,162,60],[162,61,162,62],[162,64,162,65],[163,1,163,2],[163,4,163,5],[163,6,163,7],[163,9,163,10],[163,11,163,12],[163,14,163,15],[163,16,163,17],[163,19,163,20],[163,21,163,22],[163,24,163,25],[163,26,163,27],[163,29,163,30],[163,31,163,32],[162,16,162,17],[162,19,162,20],[162,21,162,22],[162,24,162,25],[162,26,162,27],[162,29,162,30],[162,31,162,32],[162,34,162,35],[162,36,162,37],[162,39,162,40],[162,41,162,42],[160,49,160,50],[160,51,160,52],[160,54,160,55],[160,56,160,57],[160,19,160,20],[160,21,160,22],[160,24,160,25],[160,26,160,27],[160,29,160,30],[160,31,160,32],[160,34,160,35],[160,36,160,37],[160,39,160,40],[160,41,160,42],[160,44,160,45],[160,46,160,47],[162,44,162,45],[162,46,162,47],[162,49,162,50],[160,59,160,60],[160,61,160,62],[160,64,160,65],[161,2,161,4],[161,7,161,9],[161,12,161,14],[161,17,161,19],[161,22,161,24],[161,27,161,29],[161,32,161,34],[161,37,161,39],[161,42,161,44],[161,47,161,49],[161,52,161,54],[161,57,161,59],[161,62,161,64],[159,44,159,45],[159,46,159,47],[159,49,159,50],[159,51,159,52],[159,54,159,55],[159,56,159,57],[159,59,159,60],[159,61,159,62],[159,64,159,65],[160,1,160,2],[160,4,160,5],[160,6,160,7],[160,9,160,10],[160,11,160,12],[160,14,160,15],[160,16,160,17],[159,1,159,2],[159,4,159,5],[159,6,159,7],[159,9,159,10],[159,11,159,12],[159,14,159,15],[159,16,159,17],[159,19,159,20],[159,21,159,22],[159,24,159,25],[159,26,159,27],[159,29,159,30],[159,31,159,32],[159,34,159,35],[159,36,159,37],[159,39,159,40],[159,41,159,42],[154,56,154,57],[154,59,154,60],[154,61,154,62],[154,64,154,65],[155,2,155,4],[155,7,155,9],[155,12,155,14],[155,17,155,19],[155,22,155,24],[155,27,155,29],[155,32,155,34],[155,37,155,39],[155,42,155,44],[155,47,155,49],[155,52,155,54],[155,57,155,59],[155,62,155,64],[153,51,153,52],[153,54,153,55],[153,56,153,57],[153,59,153,60],[153,61,153,62],[153,64,153,65],[154,1,154,2],[154,4,154,5],[154,6,154,7],[154,9,154,10],[154,11,154,12],[154,14,154,15],[154,16,154,17],[154,19,154,20],[154,21,154,22],[154,24,154,25],[154,26,154,27],[154,29,154,30],[154,31,154,32],[154,34,154,35],[154,36,154,37],[154,39,154,40],[154,41,154,42],[154,44,154,45],[154,46,154,47],[153,1,153,2],[153,4,153,5],[153,6,153,7],[153,9,153,10],[154,49,154,50],[154,51,154,52],[154,54,154,55],[153,11,153,12],[153,14,153,15],[153,16,153,17],[153,19,153,20],[153,21,153,22],[153,24,153,25],[153,26,153,27],[153,29,153,30],[153,31,153,32],[153,34,153,35],[153,36,153,37],[153,39,153,40],[153,41,153,42],[151,49,151,50],[151,51,151,52],[151,54,151,55],[151,56,151,57],[151,19,151,20],[151,21,151,22],[151,24,151,25],[151,26,151,27],[151,29,151,30],[151,31,151,32],[151,34,151,35],[151,36,151,37],[151,39,151,40],[151,41,151,42],[151,44,151,45],[151,46,151,47],[153,44,153,45],[153,46,153,47],[153,49,153,50],[151,59,151,60],[151,61,151,62],[151,64,151,65],[152,2,152,4],[152,7,152,9],[152,12,152,14],[152,17,152,19],[152,22,152,24],[152,27,152,29],[152,32,152,34],[152,37,152,39],[152,42,152,44],[152,47,152,49],[152,52,152,54],[152,57,152,59],[152,62,152,64],[150,44,150,45],[150,46,150,47],[150,49,150,50],[150,51,150,52],[150,54,150,55],[150,56,150,57],[150,59,150,60],[150,61,150,62],[150,64,150,65],[151,1,151,2],[151,4,151,5],[151,6,151,7],[151,9,151,10],[151,11,151,12],[151,14,151,15],[151,16,151,17],[150,1,150,2],[150,4,150,5],[150,6,150,7],[150,9,150,10],[150,11,150,12],[150,14,150,15],[150,16,150,17],[150,19,150,20],[150,21,150,22],[150,24,150,25],[150,26,150,27],[150,29,150,30],[150,31,150,32],[150,34,150,35],[150,36,150,37],[150,39,150,40],[150,41,150,42],[148,56,148,57],[148,59,148,60],[148,61,148,62],[148,64,148,65],[149,2,149,4],[149,7,149,9],[149,12,149,14],[149,17,149,19],[149,22,149,24],[149,27,149,29],[149,32,149,34],[149,37,149,39],[149,42,149,44],[149,47,149,49],[149,52,149,54],[149,57,149,59],[149,62,149,64],[147,51,147,52],[147,54,147,55],[147,56,147,57],[147,59,147,60],[147,61,147,62],[147,64,147,65],[148,1,148,2],[148,4,148,5],[148,6,148,7],[148,9,148,10],[148,11,148,12],[148,14,148,15],[148,16,148,17],[148,19,148,20],[148,21,148,22],[148,24,148,25],[148,26,148,27],[148,29,148,30],[148,31,148,32],[148,34,148,35],[148,36,148,37],[148,39,148,40],[148,41,148,42],[148,44,148,45],[148,46,148,47],[147,1,147,2],[147,4,147,5],[147,6,147,7],[147,9,147,10],[148,49,148,50],[148,51,148,52],[148,54,148,55],[147,11,147,12],[147,14,147,15],[147,16,147,17],[147,19,147,20],[147,21,147,22],[147,24,147,25],[147,26,147,27],[147,29,147,30],[147,31,147,32],[147,34,147,35],[147,36,147,37],[147,39,147,40],[147,41,147,42],[145,49,145,50],[145,51,145,52],[145,54,145,55],[145,56,145,57],[145,19,145,20],[145,21,145,22],[145,24,145,25],[145,26,145,27],[145,29,145,30],[145,31,145,32],[145,34,145,35],[145,36,145,37],[145,39,145,40],[145,41,145,42],[145,44,145,45],[145,46,145,47],[147,44,147,45],[147,46,147,47],[147,49,147,50],[145,59,145,60],[145,61,145,62],[145,64,145,65],[146,2,146,4],[146,7,146,9],[146,12,146,14],[146,17,146,19],[146,22,146,24],[146,27,146,29],[146,32,146,34],[146,37,146,39],[146,42,146,44],[146,47,146,49],[146,52,146,54],[146,57,146,59],[146,62,146,64],[144,44,144,45],[144,46,144,47],[144,49,144,50],[144,51,144,52],[144,54,144,55],[144,56,144,57],[144,59,144,60],[144,61,144,62],[144,64,144,65],[145,1,145,2],[145,4,145,5],[145,6,145,7],[145,9,145,10],[145,11,145,12],[145,14,145,15],[145,16,145,17],[144,1,144,2],[144,4,144,5],[144,6,144,7],[144,9,144,10],[144,11,144,12],[144,14,144,15],[144,16,144,17],[144,19,144,20],[144,21,144,22],[144,24,144,25],[144,26,144,27],[144,29,144,30],[144,31,144,32],[144,34,144,35],[144,36,144,37],[144,39,144,40],[144,41,144,42],[142,56,142,57],[142,59,142,60],[142,61,142,62],[142,64,142,65],[143,2,143,4],[143,7,143,9],[143,12,143,14],[143,17,143,19],[143,22,143,24],[143,27,143,29],[143,32,143,34],[143,37,143,39],[143,42,143,44],[143,47,143,49],[143,52,143,54],[143,57,143,59],[143,62,143,64],[141,51,141,52],[141,54,141,55],[141,56,141,57],[141,59,141,60],[141,61,141,62],[141,64,141,65],[142,1,142,2],[142,4,142,5],[142,6,142,7],[142,9,142,10],[142,11,142,12],[142,14,142,15],[142,16,142,17],[142,19,142,20],[142,21,142,22],[142,24,142,25],[142,26,142,27],[142,29,142,30],[142,31,142,32],[142,34,142,35],[142,36,142,37],[142,39,142,40],[142,41,142,42],[142,44,142,45],[142,46,142,47],[141,1,141,2],[141,4,141,5],[141,6,141,7],[141,9,141,10],[142,49,142,50],[142,51,142,52],[142,54,142,55],[141,11,141,12],[141,14,141,15],[141,16,141,17],[141,19,141,20],[141,21,141,22],[141,24,141,25],[141,26,141,27],[141,29,141,30],[141,31,141,32],[141,34,141,35],[141,36,141,37],[141,39,141,40],[141,41,141,42],[139,49,139,50],[139,51,139,52],[139,54,139,55],[139,56,139,57],[139,19,139,20],[139,21,139,22],[139,24,139,25],[139,26,139,27],[139,29,139,30],[139,31,139,32],[139,34,139,35],[139,36,139,37],[139,39,139,40],[139,41,139,42],[139,44,139,45],[139,46,139,47],[141,44,141,45],[141,46,141,47],[141,49,141,50],[139,59,139,60],[139,61,139,62],[139,64,139,65],[140,2,140,4],[140,7,140,9],[140,12,140,14],[140,17,140,19],[140,22,140,24],[140,27,140,29],[140,32,140,34],[140,37,140,39],[140,42,140,44],[140,47,140,49],[140,52,140,54],[140,57,140,59],[140,62,140,64],[138,44,138,45],[138,46,138,47],[138,49,138,50],[138,51,138,52],[138,54,138,55],[138,56,138,57],[138,59,138,60],[138,61,138,62],[138,64,138,65],[139,1,139,2],[139,4,139,5],[139,6,139,7],[139,9,139,10],[139,11,139,12],[139,14,139,15],[139,16,139,17],[138,1,138,2],[138,4,138,5],[138,6,138,7],[138,9,138,10],[138,11,138,12],[138,14,138,15],[138,16,138,17],[138,19,138,20],[138,21,138,22],[138,24,138,25],[138,26,138,27],[138,29,138,30],[138,31,138,32],[138,34,138,35],[138,36,138,37],[138,39,138,40],[138,41,138,42],[136,56,136,57],[136,59,136,60],[136,61,136,62],[136,64,136,65],[137,2,137,4],[137,7,137,9],[137,12,137,14],[137,17,137,19],[137,22,137,24],[137,27,137,29],[137,32,137,34],[137,37,137,39],[137,42,137,44],[137,47,137,49],[137,52,137,54],[137,57,137,59],[137,62,137,64],[135,51,135,52],[135,54,135,55],[135,56,135,57],[135,59,135,60],[135,61,135,62],[135,64,135,65],[136,1,136,2],[136,4,136,5],[136,6,136,7],[136,9,136,10],[136,11,136,12],[136,14,136,15],[136,16,136,17],[136,19,136,20],[136,21,136,22],[136,24,136,25],[136,26,136,27],[136,29,136,30],[136,31,136,32],[136,34,136,35],[136,36,136,37],[136,39,136,40],[136,41,136,42],[136,44,136,45],[136,46,136,47],[135,1,135,2],[135,4,135,5],[135,6,135,7],[135,9,135,10],[136,49,136,50],[136,51,136,52],[136,54,136,55],[135,11,135,12],[135,14,135,15],[135,16,135,17],[135,19,135,20],[135,21,135,22],[135,24,135,25],[135,26,135,27],[135,29,135,30],[135,31,135,32],[135,34,135,35],[135,36,135,37],[135,39,135,40],[135,41,135,42],[133,49,133,50],[133,51,133,52],[133,54,133,55],[133,56,133,57],[133,19,133,20],[133,21,133,22],[133,24,133,25],[133,26,133,27],[133,29,133,30],[133,31,133,32],[133,34,133,35],[133,36,133,37],[133,39,133,40],[133,41,133,42],[133,44,133,45],[133,46,133,47],[135,44,135,45],[135,46,135,47],[135,49,135,50],[133,59,133,60],[133,61,133,62],[133,64,133,65],[134,2,134,4],[134,7,134,9],[134,12,134,14],[134,17,134,19],[134,22,134,24],[134,27,134,29],[134,32,134,34],[134,37,134,39],[134,42,134,44],[134,47,134,49],[134,52,134,54],[134,57,134,59],[134,62,134,64],[132,44,132,45],[132,46,132,47],[132,49,132,50],[132,51,132,52],[132,54,132,55],[132,56,132,57],[132,59,132,60],[132,61,132,62],[132,64,132,65],[133,1,133,2],[133,4,133,5],[133,6,133,7],[133,9,133,10],[133,11,133,12],[133,14,133,15],[133,16,133,17],[132,1,132,2],[132,4,132,5],[132,6,132,7],[132,9,132,10],[132,11,132,12],[132,14,132,15],[132,16,132,17],[132,19,132,20],[132,21,132,22],[132,24,132,25],[132,26,132,27],[132,29,132,30],[132,31,132,32],[132,34,132,35],[132,36,132,37],[132,39,132,40],[132,41,132,42],[130,56,130,57],[130,59,130,60],[130,61,130,62],[130,64,130,65],[131,2,131,4],[131,7,131,9],[131,12,131,14],[131,17,131,19],[131,22,131,24],[131,27,131,29],[131,32,131,34],[131,37,131,39],[131,42,131,44],[131,47,131,49],[131,52,131,54],[131,57,131,59],[131,62,131,64]],"merged_total":3571,"flags":["merged_cut"]}
["Rekap Absen Borongan"]
[]
["NAMA","2019-01-16",null,null,null,null,"2019-01-17",null,null,null,null,"2019-01-18",null,null,null,null,"2019-01-19",null,null,null,null,"2019-01-21",null,null,null,null,"2019-01-22",null,null,null,null,"2019-01-23",null,null,null,null,"2019-01-24",null,null,null,null,"2019-01-25",null,null,null,null,"2019-01-26",null,null,null,null,"2019-01-28",null,null,null,null,"2019-01-29",null,null,null,null,"2019-01-30",null,null,null,null,"2019-01-31",null,null,null,null,"Telat Kali (X)","Lembur Menit","Tidak Masuk"]
["Tatik",{"$f":"INDEX(data_absen!$G$2:$G$2000,SUMPRODUCT((data_absen!$B$2:$B$2000=$A4)*(data_absen!$C$2:$C$2000=B$3)*(ROW(data_absen!$C$2:$C$2000)))-1)","v":"06:44:00"},null,"-",{"$f":"INDEX(data_absen!$H$2:$H$2000,SUMPRODUCT((data_absen!$B$2:$B$2000=$A4)*(data_absen!$C$2:$C$2000=B$3)*(ROW(data_absen!$C$2:$C$2000)))-1)","v":""},null,{"$f":"INDEX(data_absen!$G$2:$G$2000,SUMPRODUCT((data_absen!$B$2:$B$2000=$A4)*(data_absen!$C$2:$C$2000=G$3)*(ROW(data_absen!$C$2:$C$2000)))-1)","v":""},null,"-",{"$f":"INDEX(data_absen!$H$2:$H$2000,SUMPRODUCT((data_absen!$B$2:$B$2000=$A4)*(data_absen!$C$2:$C$2000=G$3)*(ROW(data_absen!$C$2:$C$2000)))-1)","v":""},null,{"$f":"INDEX(data_absen!$G$2:$G$2000,SUMPRODUCT((data_absen!$B$2:$B$2000=$A4)*(data_absen!$C$2:$C$2000=L$3)*(ROW(data_absen!$C$2:$C$2000)))-1)","v":""},null,"-",{"$f":"INDEX(data_absen!$H$2:$H$2000,SUMPRODUCT((data_absen!$B$2:$B$2000=$A4)*(data_absen!$C$2:$C$2000=L$3)*(ROW(data_absen!$C$2:$C$2000)))-1)","v":""},null,{"$f":"INDEX(data_absen!$G$2:$G$2000,SUMPRODUCT((data_absen!$B$2:$B$2000=$A4)*(data_absen!$C$2:$C$2000=Q$3)*(ROW(data_absen!$C$2:$C$2000)))-1)","v":""},null,"-",{"$f":"INDEX(data_absen!$H$2:$H$2000,SUMPRODUCT((data_absen!$B$2:$B$2000=$A4)*(data_absen!$C$2:$C$2000=Q$3)*(ROW(data_absen!$C$2:$C$2000)))-1)","v":""},null,{"$f":"INDEX(data_absen!$G$2:$G$2000,SUMPRODUCT((data_absen!$B$2:$B$2000=$A4)*(data_absen!$C$2:$C$2000=V$3)*(ROW(data_absen!$C$2:$C$2000)))-1)","v":""},null,"-",{"$f":"INDEX(data_absen!$H$2:$H$2000,SUMPRODUCT((data_absen!$B$2:$B$2000=$A4)*(data_absen!$C$2:$C$2000=V$3)*(ROW(data_absen!$C$2:$C$2000)))-1)","v":""},null,{"$f":"INDEX(data_absen!$G$2:$G$2000,SUMPRODUCT((data_absen!$B$2:$B$2000=$A4)*(data_absen!$C$2:$C$2000=AA$3)*(ROW(data_absen!$C$2:$C$2000)))-1)","v":""},null,"-",{"$f":"INDEX(data_absen!$H$2:$H$2000,SUMPRODUCT((data_absen!$B$2:$B$2000=$A4)*(data_absen!$C$2:$C$2000=AA$3)*(ROW(data_absen!$C$2:$C$2000)))-1)","v":""},null,{"$f":"INDEX(data_absen!$G$2:$G$2000,SUMPRODUCT((data_absen!$B$2:$B$2000=$A4)*(data_absen!$C$2:$C$2000=AF$3)*(ROW(data_absen!$C$2:$C$2000)))-1)","v":""},null,"-",{"$f":"INDEX(data_absen!$H$2:$H$2000,SUMPRODUCT((data_absen!$B$2:$B$2000=$A4)*(data_absen!$C$2:$C$2000=AF$3)*(ROW(data_absen!$C$2:$C$2000)))-1)","v":""},null,{"$f":"INDEX(data_absen!$G$2:$G$2000,SUMPRODUCT((data_absen!$B$2:$B$2000=$A4)*(data_absen!$C$2:$C$2000=AK$3)*(ROW(data_absen!$C$2:$C$2000)))-1)","v":""},null,"-",{"$f":"INDEX(data_absen!$H$2:$H$2000,SUMPRODUCT((data_absen!$B$2:$B$2000=$A4)*(data_absen!$C$2:$C$2000=AK$3)*(ROW(data_absen!$C$2:$C$2000)))-1)","v":""},null,{"$f":"INDEX(data_absen!$G$2:$G$2000,SUMPRODUCT((data_absen!$B$2:$B$2000=$A4)*(data_absen!$C$2:$C$2000=AP$3)*(ROW(data_absen!$C$2:$C$2000)))-1)","v":""},null,"-",{"$f":"INDEX(data_absen!$H$2:$H$2000,SUMPRODUCT((data_absen!$B$2:$B$2000=$A4)*(data_absen!$C$2:$C$2000=AP$3)*(ROW(data_absen!$C$2:$C$2000)))-1)","v":""},null,{"$f":"INDEX(data_absen!$G$2:$G$2000,SUMPRODUCT((data_absen!$B$2:$B$2000=$A4)*(data_absen!$C$2:$C$2000=AU$3)*(ROW(data_absen!$C$2:$C$2000)))-1)","v":""},null,"-",{"$f":"INDEX(data_absen!$H$2:$H$2000,SUMPRODUCT((data_absen!$B$2:$B$2000=$A4)*(data_absen!$C$2:$C$2000=AU$3)*(ROW(data_absen!$C$2:$C$2000)))-1)","v":""},null,{"$f":"INDEX(data_absen!$G$2:$G$2000,SUMPRODUCT((data_absen!$B$2:$B$2000=$A4)*(data_absen!$C$2:$C$2000=AZ$3)*(ROW(data_absen!$C$2:$C$2000)))-1)","v":""},null,"-",{"$f":"INDEX(data_absen!$H$2:$H$2000,SUMPRODUCT((data_absen!$B$2:$B$2000=$A4)*(data_absen!$C$2:$C$2000=AZ$3)*(ROW(data_absen!$C$2:$C$2000)))-1)","v":""},null,{"$f":"INDEX(data_absen!$G$2:$G$2000,SUMPRODUCT((data_absen!$B$2:$B$2000=$A4)*(data_absen!$C$2:$C$2000=BE$3)*(ROW(data_absen!$C$2:$C$2000)))-1)","v":""},null,"-",{"$f":"INDEX(data_absen!$H$2:$H$2000,SUMPRODUCT((data_absen!$B$2:$B$2000=$A4)*(data_absen!$C$2:$C$2000=BE$3)*(ROW(data_absen!$C$2:$C$2000)))-1)","v":""},null,{"$f":"INDEX(data_absen!$G$2:$G$2000,SUMPRODUCT((data_absen!$B$2:$B$2000=$A4)*(data_absen!$C$2:$C$2000=BJ$3)*(ROW(data_absen!$C$2:$C$2000)))-1)","v":""},null,"-",{"$f":"INDEX(data_absen!$H$2:$H$2000,SUMPRODUCT((data_absen!$B$2:$B$2000=$A4)*(data_absen!$C$2:$C$2000=BJ$3)*(ROW(data_absen!$C$2:$C$2000)))-1)","v":""},null,{"$f":"INDEX(data_absen!$G$2:$G$2000,SUMPRODUCT((data_absen!$B$2:$B$2000=$A4)*(data_absen!$C$2:$C$2000=BO$3)*(ROW(data_absen!$C$2:$C$2000)))-1)","v":""},null,"-",{"$f":"INDEX(data_absen!$H$2:$H$2000,SUMPRODUCT((data_absen!$B$2:$B$2000=$A4)*(data_absen!$C$2:$C$2000=BO$3)*(ROW(data_absen!$C$2:$C$2000)))-1)","v":""}]
[201,null,null,"-",null,null,null,null,"-",null,null,null,null,"-",null,null,null,null,"-",null,null,null,null,"-",null,null,null,null,"-",null,null,null,null,"-",null,null,null,null,"-",null,null,null,null,"-",null,null,null,null,"-",null,null,null,null,"-",null,null,null,null,"-",null,null,null,null,"-",null,null,null,null,"-"]
[null,{"$f":"IFERROR(INDEX(data_absen!$K$2:$K$2000,SUMPRODUCT((data_absen!$B$2:$B$2000=$A4)*(data_absen!$C$2:$C$2000=B$3)*(ROW(data_absen!$C$2:$C$2000)))-1)*1440,\"\")","v":""},{"$f":"IFERROR(INDEX(data_absen!$I$2:$I$2000,SUMPRODUCT((data_absen!$B$2:$B$2000=$A4)*(data_absen!$C$2:$C$2000=B$3)*(ROW(data_absen!$C$2:$C$2000)))-1)*1440,\"\")","v":""},null,null,{"$f":"IFERROR(INDEX(data_absen!$J$2:$J$2000,SUMPRODUCT((data_absen!$B$2:$B$2000=$A4)*(data_absen!$C$2:$C$2000=B$3)*(ROW(data_absen!$C$2:$C$2000)))-1)*1440,\"\")","v":120},{"$f":"IFERROR(INDEX(data_absen!$K$2:$K$2000,SUMPRODUCT((data_absen!$B$2:$B$2000=$A4)*(data_absen!$C$2:$C$2000=G$3)*(ROW(data_absen!$C$2:$C$2000)))-1)*1440,\"\")","v":""},{"$f":"IFERROR(INDEX(data_absen!$I$2:$I$2000,SUMPRODUCT((data_absen!$B$2:$B$2000=$A4)*(data_absen!$C$2:$C$2000=G$3)*(ROW(data_absen!$C$2:$C$2000)))-1)*1440,\"\")","v":""},null,null,{"$f":"IFERROR(INDEX(data_absen!$J$2:$J$2000,SUMPRODUCT((data_absen!$B$2:$B$2000=$A4)*(data_absen!$C$2:$C$2000=G$3)*(ROW(data_absen!$C$2:$C$2000)))-1)*1440,\"\")","v":""},{"$f":"IFERROR(INDEX(data_absen!$K$2:$K$2000,SUMPRODUCT((data_absen!$B$2:$B$2000=$A4)*(data_absen!$C$2:$C$2000=L$3)*(ROW(data_absen!$C$2:$C$2000)))-1)*1440,\"\")","v":""},{"$f":"IFERROR(INDEX(data_absen!$I$2:$I$2000,SUMPRODUCT((data_absen!$B$2:$B$2000=$A4)*(data_absen!$C$2:$C$2000=L$3)*(ROW(data_absen!$C$2:$C$2000)))-1)*1440,\"\")","v":""},null,null,{"$f":"IFERROR(INDEX(data_absen!$J$2:$J$2000,SUMPRODUCT((data_absen!$B$2:$B$2000=$A4)*(data_absen!$C$2:$C$2000=L$3)*(ROW(data_absen!$C$2:$C$2000)))-1)*1440,\"\")","v":""},{"$f":"IFERROR(INDEX(data_absen!$K$2:$K$2000,SUMPRODUCT((data_absen!$B$2:$B$2000=$A4)*(data_absen!$C$2:$C$2000=Q$3)*(ROW(data_absen!$C$2:$C$2000)))-1)*1440,\"\")","v":""},{"$f":"IFERROR(INDEX(data_absen!$I$2:$I$2000,SUMPRODUCT((data_absen!$B$2:$B$2000=$A4)*(data_absen!$C$2:$C$2000=Q$3)*(ROW(data_absen!$C$2:$C$2000)))-1)*1440,\"\")","v":""},null,null,{"$f":"IFERROR(INDEX(data_absen!$J$2:$J$2000,SUMPRODUCT((data_absen!$B$2:$B$2000=$A4)*(data_absen!$C$2:$C$2000=Q$3)*(ROW(data_absen!$C$2:$C$2000)))-1)*1440,\"\")","v":""},{"$f":"IFERROR(INDEX(data_absen!$K$2:$K$2000,SUMPRODUCT((data_absen!$B$2:$B$2000=$A4)*(data_absen!$C$2:$C$2000=V$3)*(ROW(data_absen!$C$2:$C$2000)))-1)*1440,\"\")","v":""},{"$f":"IFERROR(INDEX(data_absen!$I$2:$I$2000,SUMPRODUCT((data_absen!$B$2:$B$2000=$A4)*(data_absen!$C$2:$C$2000=V$3)*(ROW(data_absen!$C$2:$C$2000)))-1)*1440,\"\")","v":""},null,null,{"$f":"IFERROR(INDEX(data_absen!$J$2:$J$2000,SUMPRODUCT((data_absen!$B$2:$B$2000=$A4)*(data_absen!$C$2:$C$2000=V$3)*(ROW(data_absen!$C$2:$C$2000)))-1)*1440,\"\")","v":""},{"$f":"IFERROR(INDEX(data_absen!$K$2:$K$2000,SUMPRODUCT((data_absen!$B$2:$B$2000=$A4)*(data_absen!$C$2:$C$2000=AA$3)*(ROW(data_absen!$C$2:$C$2000)))-1)*1440,\"\")","v":""},{"$f":"IFERROR(INDEX(data_absen!$I$2:$I$2000,SUMPRODUCT((data_absen!$B$2:$B$2000=$A4)*(data_absen!$C$2:$C$2000=AA$3)*(ROW(data_absen!$C$2:$C$2000)))-1)*1440,\"\")","v":""},null,null,{"$f":"IFERROR(INDEX(data_absen!$J$2:$J$2000,SUMPRODUCT((data_absen!$B$2:$B$2000=$A4)*(data_absen!$C$2:$C$2000=AA$3)*(ROW(data_absen!$C$2:$C$2000)))-1)*1440,\"\")","v":""},{"$f":"IFERROR(INDEX(data_absen!$K$2:$K$2000,SUMPRODUCT((data_absen!$B$2:$B$2000=$A4)*(data_absen!$C$2:$C$2000=AF$3)*(ROW(data_absen!$C$2:$C$2000)))-1)*1440,\"\")","v":""},{"$f":"IFERROR(INDEX(data_absen!$I$2:$I$2000,SUMPRODUCT((data_absen!$B$2:$B$2000=$A4)*(data_absen!$C$2:$C$2000=AF$3)*(ROW(data_absen!$C$2:$C$2000)))-1)*1440,\"\")","v":""},null,null,{"$f":"IFERROR(INDEX(data_absen!$J$2:$J$2000,SUMPRODUCT((data_absen!$B$2:$B$2000=$A4)*(data_absen!$C$2:$C$2000=AF$3)*(ROW(data_absen!$C$2:$C$2000)))-1)*1440,\"\")","v":""},{"$f":"IFERROR(INDEX(data_absen!$K$2:$K$2000,SUMPRODUCT((data_absen!$B$2:$B$2000=$A4)*(data_absen!$C$2:$C$2000=AK$3)*(ROW(data_absen!$C$2:$C$2000)))-1)*1440,\"\")","v":""},{"$f":"IFERROR(INDEX(data_absen!$I$2:$I$2000,SUMPRODUCT((data_absen!$B$2:$B$2000=$A4)*(data_absen!$C$2:$C$2000=AK$3)*(ROW(data_absen!$C$2:$C$2000)))-1)*1440,\"\")","v":""},null,null,{"$f":"IFERROR(INDEX(data_absen!$J$2:$J$2000,SUMPRODUCT((data_absen!$B$2:$B$2000=$A4)*(data_absen!$C$2:$C$2000=AK$3)*(ROW(data_absen!$C$2:$C$2000)))-1)*1440,\"\")","v":""},{"$f":"IFERROR(INDEX(data_absen!$K$2:$K$2000,SUMPRODUCT((data_absen!$B$2:$B$2000=$A4)*(data_absen!$C$2:$C$2000=AP$3)*(ROW(data_absen!$C$2:$C$2000)))-1)*1440,\"\")","v":""},{"$f":"IFERROR(INDEX(data_absen!$I$2:$I$2000,SUMPRODUCT((data_absen!$B$2:$B$2000=$A4)*(data_absen!$C$2:$C$2000=AP$3)*(ROW(data_absen!$C$2:$C$2000)))-1)*1440,\"\")","v":""},null,null,{"$f":"IFERROR(INDEX(data_absen!$J$2:$J$2000,SUMPRODUCT((data_absen!$B$2:$B$2000=$A4)*(data_absen!$C$2:$C$2000=AP$3)*(ROW(data_absen!$C$2:$C$2000)))-1)*1440,\"\")","v":""},{"$f":"IFERROR(INDEX(data_absen!$K$2:$K$2000,SUMPRODUCT((data_absen!$B$2:$B$2000=$A4)*(data_absen!$C$2:$C$2000=AU$3)*(ROW(data_absen!$C$2:$C$2000)))-1)*1440,\"\")","v":""},{"$f":"IFERROR(INDEX(data_absen!$I$2:$I$2000,SUMPRODUCT((data_absen!$B$2:$B$2000=$A4)*(data_absen!$C$2:$C$2000=AU$3)*(ROW(data_absen!$C$2:$C$2000)))-1)*1440,\"\")","v":""},null,null,{"$f":"IFERROR(INDEX(data_absen!$J$2:$J$2000,SUMPRODUCT((data_absen!$B$2:$B$2000=$A4)*(data_absen!$C$2:$C$2000=AU$3)*(ROW(data_absen!$C$2:$C$2000)))-1)*1440,\"\")","v":""},{"$f":"IFERROR(INDEX(data_absen!$K$2:$K$2000,SUMPRODUCT((data_absen!$B$2:$B$2000=$A4)*(data_absen!$C$2:$C$2000=AZ$3)*(ROW(data_absen!$C$2:$C$2000)))-1)*1440,\"\")","v":""},{"$f":"IFERROR(INDEX(data_absen!$I$2:$I$2000,SUMPRODUCT((data_absen!$B$2:$B$2000=$A4)*(data_absen!$C$2:$C$2000=AZ$3)*(ROW(data_absen!$C$2:$C$2000)))-1)*1440,\"\")","v":""},null,null,{"$f":"IFERROR(INDEX(data_absen!$J$2:$J$2000,SUMPRODUCT((data_absen!$B$2:$B$2000=$A4)*(data_absen!$C$2:$C$2000=AZ$3)*(ROW(data_absen!$C$2:$C$2000)))-1)*1440,\"\")","v":""},{"$f":"IFERROR(INDEX(data_absen!$K$2:$K$2000,SUMPRODUCT((data_absen!$B$2:$B$2000=$A4)*(data_absen!$C$2:$C$2000=BE$3)*(ROW(data_absen!$C$2:$C$2000)))-1)*1440,\"\")","v":""},{"$f":"IFERROR(INDEX(data_absen!$I$2:$I$2000,SUMPRODUCT((data_absen!$B$2:$B$2000=$A4)*(data_absen!$C$2:$C$2000=BE$3)*(ROW(data_absen!$C$2:$C$2000)))-1)*1440,\"\")","v":""},null,null,{"$f":"IFERROR(INDEX(data_absen!$J$2:$J$2000,SUMPRODUCT((data_absen!$B$2:$B$2000=$A4)*(data_absen!$C$2:$C$2000=BE$3)*(ROW(data_absen!$C$2:$C$2000)))-1)*1440,\"\")","v":""},{"$f":"IFERROR(INDEX(data_absen!$K$2:$K$2000,SUMPRODUCT((data_absen!$B$2:$B$2000=$A4)*(data_absen!$C$2:$C$2000=BJ$3)*(ROW(data_absen!$C$2:$C$2000)))-1)*1440,\"\")","v":""},{"$f":"IFERROR(INDEX(data_absen!$I$2:$I$2000,SUMPRODUCT((data_absen!$B$2:$B$2000=$A4)*(data_absen!$C$2:$C$2000=BJ$3)*(ROW(data_absen!$C$2:$C$2000)))-1)*1440,\"\")","v":""},null,null,{"$f":"IFERROR(INDEX(data_absen!$J$2:$J$2000,SUMPRODUCT((data_absen!$B$2:$B$2000=$A4)*(data_absen!$C$2:$C$2000=BJ$3)*(ROW(data_absen!$C$2:$C$2000)))-1)*1440,\"\")","v":""},{"$f":"IFERROR(INDEX(data_absen!$K$2:$K$2000,SUMPRODUCT((data_absen!$B$2:$B$2000=$A4)*(data_absen!$C$2:$C$2000=BO$3)*(ROW(data_absen!$C$2:$C$2000)))-1)*1440,\"\")","v":""},{"$f":"IFERROR(INDEX(data_absen!$I$2:$I$2000,SUMPRODUCT((data_absen!$B$2:$B$2000=$A4)*(data_absen!$C$2:$C$2000=BO$3)*(ROW(data_absen!$C$2:$C$2000)))-1)*1440,\"\")","v":""},null,null,{"$f":"IFERROR(INDEX(data_absen!$J$2:$J$2000,SUMPRODUCT((data_absen!$B$2:$B$2000=$A4)*(data_absen!$C$2:$C$2000=BO$3)*(ROW(data_absen!$C$2:$C$2000)))-1)*1440,\"\")","v":""},{"$f":"COUNTIFS(data_absen!$B$2:$B$2000,$A4,data_absen!$I$2:$I$2000,\">0\")","v":0}]
["Ririn",{"$f":"INDEX(data_absen!$G$2:$G$2000,SUMPRODUCT((data_absen!$B$2:$B$2000=$A7)*(data_absen!$C$2:$C$2000=B$3)*(ROW(data_absen!$C$2:$C$2000)))-1)","v":""},null,"-",{"$f":"INDEX(data_absen!$H$2:$H$2000,SUMPRODUCT((data_absen!$B$2:$B$2000=$A7)*(data_absen!$C$2:$C$2000=B$3)*(ROW(data_absen!$C$2:$C$2000)))-1)","v":""},null,{"$f":"INDEX(data_absen!$G$2:$G$2000,SUMPRODUCT((data_absen!$B$2:$B$2000=$A7)*(data_absen!$C$2:$C$2000=G$3)*(ROW(data_absen!$C$2:$C$2000)))-1)","v":""},null,"-",{"$f":"INDEX(data_absen!$H$2:$H$2000,SUMPRODUCT((data_absen!$B$2:$B$2000=$A7)*(data_absen!$C$2:$C$2000=G$3)*(ROW(data_absen!$C$2:$C$2000)))-1)","v":""},null,{"$f":"INDEX(data_absen!$G$2:$G$2000,SUMPRODUCT((data_absen!$B$2:$B$2000=$A7)*(data_absen!$C$2:$C$2000=L$3)*(ROW(data_absen!$C$2:$C$2000)))-1)","v":""},null,"-",{"$f":"INDEX(data_absen!$H$2:$H$2000,SUMPRODUCT((data_absen!$B$2:$B$2000=$A7)*(data_absen!$C$2:$C$2000=L$3)*(ROW(data_absen!$C$2:$C$2000)))-1)","v":""},null,{"$f":"INDEX(data_absen!$G$2:$G$2000,SUMPRODUCT((data_absen!$B$2:$B$2000=$A7)*(data_absen!$C$2:$C$2000=Q$3)*(ROW(data_absen!$C$2:$C$2000)))-1)","v":""},null,"-",{"$f":"INDEX(data_absen!$H$2:$H$2000,SUMPRODUCT((data_absen!$B$2:$B$2000=$A7)*(data_absen!$C$2:$C$2000=Q$3)*(ROW(data_absen!$C$2:$C$2000)))-1)","v":""},null,{"$f":"INDEX(data_absen!$G$2:$G$2000,SUMPRODUCT((data_absen!$B$2:$B$2000=$A7)*(data_absen!$C$2:$C$2000=V$3)*(ROW(data_absen!$C$2:$C$2000)))-1)","v":""},null,"-",{"$f":"INDEX(data_absen!$H$2:$H$2000,SUMPRODUCT((data_absen!$B$2:$B$2000=$A7)*(data_absen!$C$2:$C$2000=V$3)*(ROW(data_absen!$C$2:$C$2000)))-1)","v":""},null,{"$f":"INDEX(data_absen!$G$2:$G$2000,SUMPRODUCT((data_absen!$B$2:$B$2000=$A7)*(data_absen!$C$2:$C$2000=AA$3)*(ROW(data_absen!$C$2:$C$2000)))-1)","v":""},null,"-",{"$f":"INDEX(data_absen!$H$2:$H$2000,SUMPRODUCT((data_absen!$B$2:$B$2000=$A7)*(data_absen!$C$2:$C$2000=AA$3)*(ROW(data_absen!$C$2:$C$2000)))-1)","v":""},null,{"$f":"INDEX(data_absen!$G$2:$G$2000,SUMPRODUCT((data_absen!$B$2:$B$2000=$A7)*(data_absen!$C$2:$C$2000=AF$3)*(ROW(data_absen!$C$2:$C$2000)))-1)","v":""},null,"-",{"$f":"INDEX(data_absen!$H$2:$H$2000,SUMPRODUCT((data_absen!$B$2:$B$2000=$A7)*(data_absen!$C$2:$C$2000=AF$3)*(ROW(data_absen!$C$2:$C$2000)))-1)","v":""},null,{"$f":"INDEX(data_absen!$G$2:$G$2000,SUMPRODUCT((data_absen!$B$2:$B$2000=$A7)*(data_absen!$C$2:$C$2000=AK$3)*(ROW(data_absen!$C$2:$C$2000)))-1)","v":""},null,"-",{"$f":"INDEX(data_absen!$H$2:$H$2000,SUMPRODUCT((data_absen!$B$2:$B$2000=$A7)*(data_absen!$C$2:$C$2000=AK$3)*(ROW(data_absen!$C$2:$C$2000)))-1)","v":""},null,{"$f":"INDEX(data_absen!$G$2:$G$2000,SUMPRODUCT((data_absen!$B$2:$B$2000=$A7)*(data_absen!$C$2:$C$2000=AP$3)*(ROW(data_absen!$C$2:$C$2000)))-1)","v":""},null,"-",{"$f":"INDEX(data_absen!$H$2:$H$2000,SUMPRODUCT((data_absen!$B$2:$B$2000=$A7)*(data_absen!$C$2:$C$2000=AP$3)*(ROW(data_absen!$C$2:$C$2000)))-1)","v":""},null,{"$f":"INDEX(data_absen!$G$2:$G$2000,SUMPRODUCT((data_absen!$B$2:$B$2000=$A7)*(data_absen!$C$2:$C$2000=AU$3)*(ROW(data_absen!$C$2:$C$2000)))-1)","v":""},null,"-",{"$f":"INDEX(data_absen!$H$2:$H$2000,SUMPRODUCT((data_absen!$B$2:$B$2000=$A7)*(data_absen!$C$2:$C$2000=AU$3)*(ROW(data_absen!$C$2:$C$2000)))-1)","v":""},null,{"$f":"INDEX(data_absen!$G$2:$G$2000,SUMPRODUCT((data_absen!$B$2:$B$2000=$A7)*(data_absen!$C$2:$C$2000=AZ$3)*(ROW(data_absen!$C$2:$C$2000)))-1)","v":""},null,"-",{"$f":"INDEX(data_absen!$H$2:$H$2000,SUMPRODUCT((data_absen!$B$2:$B$2000=$A7)*(data_absen!$C$2:$C$2000=AZ$3)*(ROW(data_absen!$C$2:$C$2000)))-1)","v":""},null,{"$f":"INDEX(data_absen!$G$2:$G$2000,SUMPRODUCT((data_absen!$B$2:$B$2000=$A7)*(data_absen!$C$2:$C$2000=BE$3)*(ROW(data_absen!$C$2:$C$2000)))-1)","v":""},null,"-",{"$f":"INDEX(data_absen!$H$2:$H$2000,SUMPRODUCT((data_absen!$B$2:$B$2000=$A7)*(data_absen!$C$2:$C$2000=BE$3)*(ROW(data_absen!$C$2:$C$2000)))-1)","v":""},null,{"$f":"INDEX(data_absen!$G$2:$G$2000,SUMPRODUCT((data_absen!$B$2:$B$2000=$A7)*(data_absen!$C$2:$C$2000=BJ$3)*(ROW(data_absen!$C$2:$C$2000)))-1)","v":""},null,"-",{"$f":"INDEX(data_absen!$H$2:$H$2000,SUMPRODUCT((data_absen!$B$2:$B$2000=$A7)*(data_absen!$C$2:$C$2000=BJ$3)*(ROW(data_absen!$C$2:$C$2000)))-1)","v":""},null,{"$f":"INDEX(data_absen!$G$2:$G$2000,SUMPRODUCT((data_absen!$B$2:$B$2000=$A7)*(data_absen!$C$2:$C$2000=BO$3)*(ROW(data_absen!$C$2:$C$2000)))-1)","v":""},null,"-",{"$f":"INDEX(data_absen!$H$2:$H$2000,SUMPRODUCT((data_absen!$B$2:$B$2000=$A7)*(data_absen!$C$2:$C$2000=BO$3)*(ROW(data_absen!$C$2:$C$2000)))-1)","v":""}]
[202,null,null,"-",null,null,null,null,"-",null,null,null,null,"-",null,null,null,null,"-",null,null,null,null,"-",null,null,null,null,"-",null,null,null,null,"-",null,null,null,null,"-",null,null,null,null,"-",null,null,null,null,"-",null,null,null,null,"-",null,null,null,null,"-",null,null,null,null,"-",null,null,null,null,"-"]
[null,{"$f":"IFERROR(INDEX(data_absen!$K$2:$K$2000,SUMPRODUCT((data_absen!$B$2:$B$2000=$A7)*(data_absen!$C$2:$C$2000=B$3)*(ROW(data_absen!$C$2:$C$2000)))-1)*1440,\"\")","v":""},{"$f":"IFERROR(INDEX(data_absen!$I$2:$I$2000,SUMPRODUCT((data_absen!$B$2:$B$2000=$A7)*(data_absen!$C$2:$C$2000=B$3)*(ROW(data_absen!$C$2:$C$2000)))-1)*1440,\"\")","v":""},null,null,{"$f":"IFERROR(INDEX(data_absen!$J$2:$J$2000,SUMPRODUCT((data_absen!$B$2:$B$2000=$A7)*(data_absen!$C$2:$C$2000=B$3)*(ROW(data_absen!$C$2:$C$2000)))-1)*1440,\"\")","v":""},{"$f":"IFERROR(INDEX(data_absen!$K$2:$K$2000,SUMPRODUCT((data_absen!$B$2:$B$2000=$A7)*(data_absen!$C$2:$C$2000=G$3)*(ROW(data_absen!$C$2:$C$2000)))-1)*1440,\"\")","v":""},{"$f":"IFERROR(INDEX(data_absen!$I$2:$I$2000,SUMPRODUCT((data_absen!$B$2:$B$2000=$A7)*(data_absen!$C$2:$C$2000=G$3)*(ROW(data_absen!$C$2:$C$2000)))-1)*1440,\"\")","v":""},null,null,{"$f":"IFERROR(INDEX(data_absen!$J$2:$J$2000,SUMPRODUCT((data_absen!$B$2:$B$2000=$A7)*(data_absen!$C$2:$C$2000=G$3)*(ROW(data_absen!$C$2:$C$2000)))-1)*1440,\"\")","v":""},{"$f":"IFERROR(INDEX(data_absen!$K$2:$K$2000,SUMPRODUCT((data_absen!$B$2:$B$2000=$A7)*(data_absen!$C$2:$C$2000=L$3)*(ROW(data_absen!$C$2:$C$2000)))-1)*1440,\"\")","v":""},{"$f":"IFERROR(INDEX(data_absen!$I$2:$I$2000,SUMPRODUCT((data_absen!$B$2:$B$2000=$A7)*(data_absen!$C$2:$C$2000=L$3)*(ROW(data_absen!$C$2:$C$2000)))-1)*1440,\"\")","v":""},null,null,{"$f":"IFERROR(INDEX(data_absen!$J$2:$J$2000,SUMPRODUCT((data_absen!$B$2:$B$2000=$A7)*(data_absen!$C$2:$C$2000=L$3)*(ROW(data_absen!$C$2:$C$2000)))-1)*1440,\"\")","v":""},{"$f":"IFERROR(INDEX(data_absen!$K$2:$K$2000,SUMPRODUCT((data_absen!$B$2:$B$2000=$A7)*(data_absen!$C$2:$C$2000=Q$3)*(ROW(data_absen!$C$2:$C$2000)))-1)*1440,\"\")","v":""},{"$f":"IFERROR(INDEX(data_absen!$I$2:$I$2000,SUMPRODUCT((data_absen!$B$2:$B$2000=$A7)*(data_absen!$C$2:$C$2000=Q$3)*(ROW(data_absen!$C$2:$C$2000)))-1)*1440,\"\")","v":""},null,null,{"$f":"IFERROR(INDEX(data_absen!$J$2:$J$2000,SUMPRODUCT((data_absen!$B$2:$B$2000=$A7)*(data_absen!$C$2:$C$2000=Q$3)*(ROW(data_absen!$C$2:$C$2000)))-1)*1440,\"\")","v":""},{"$f":"IFERROR(INDEX(data_absen!$K$2:$K$2000,SUMPRODUCT((data_absen!$B$2:$B$2000=$A7)*(data_absen!$C$2:$C$2000=V$3)*(ROW(data_absen!$C$2:$C$2000)))-1)*1440,\"\")","v":""},{"$f":"IFERROR(INDEX(data_absen!$I$2:$I$2000,SUMPRODUCT((data_absen!$B$2:$B$2000=$A7)*(data_absen!$C$2:$C$2000=V$3)*(ROW(data_absen!$C$2:$C$2000)))-1)*1440,\"\")","v":""},null,null,{"$f":"IFERROR(INDEX(data_absen!$J$2:$J$2000,SUMPRODUCT((data_absen!$B$2:$B$2000=$A7)*(data_absen!$C$2:$C$2000=V$3)*(ROW(data_absen!$C$2:$C$2000)))-1)*1440,\"\")","v":""},{"$f":"IFERROR(INDEX(data_absen!$K$2:$K$2000,SUMPRODUCT((data_absen!$B$2:$B$2000=$A7)*(data_absen!$C$2:$C$2000=AA$3)*(ROW(data_absen!$C$2:$C$2000)))-1)*1440,\"\")","v":""},{"$f":"IFERROR(INDEX(data_absen!$I$2:$I$2000,SUMPRODUCT((data_absen!$B$2:$B$2000=$A7)*(data_absen!$C$2:$C$2000=AA$3)*(ROW(data_absen!$C$2:$C$2000)))-1)*1440,\"\")","v":""},null,null,{"$f":"IFERROR(INDEX(data_absen!$J$2:$J$2000,SUMPRODUCT((data_absen!$B$2:$B$2000=$A7)*(data_absen!$C$2:$C$2000=AA$3)*(ROW(data_absen!$C$2:$C$2000)))-1)*1440,\"\")","v":""},{"$f":"IFERROR(INDEX(data_absen!$K$2:$K$2000,SUMPRODUCT((data_absen!$B$2:$B$2000=$A7)*(data_absen!$C$2:$C$2000=AF$3)*(ROW(data_absen!$C$2:$C$2000)))-1)*1440,\"\")","v":""},{"$f":"IFERROR(INDEX(data_absen!$I$2:$I$2000,SUMPRODUCT((data_absen!$B$2:$B$2000=$A7)*(data_absen!$C$2:$C$2000=AF$3)*(ROW(data_absen!$C$2:$C$2000)))-1)*1440,\"\")","v":""},null,null,{"$f":"IFERROR(INDEX(data_absen!$J$2:$J$2000,SUMPRODUCT((data_absen!$B$2:$B$2000=$A7)*(data_absen!$C$2:$C$2000=AF$3)*(ROW(data_absen!$C$2:$C$2000)))-1)*1440,\"\")","v":""},{"$f":"IFERROR(INDEX(data_absen!$K$2:$K$2000,SUMPRODUCT((data_absen!$B$2:$B$2000=$A7)*(data_absen!$C$2:$C$2000=AK$3)*(ROW(data_absen!$C$2:$C$2000)))-1)*1440,\"\")","v":""},{"$f":"IFERROR(INDEX(data_absen!$I$2:$I$2000,SUMPRODUCT((data_absen!$B$2:$B$2000=$A7)*(data_absen!$C$2:$C$2000=AK$3)*(ROW(data_absen!$C$2:$C$2000)))-1)*1440,\"\")","v":""},null,null,{"$f":"IFERROR(INDEX(data_absen!$J$2:$J$2000,SUMPRODUCT((data_absen!$B$2:$B$2000=$A7)*(data_absen!$C$2:$C$2000=AK$3)*(ROW(data_absen!$C$2:$C$2000)))-1)*1440,\"\")","v":""},{"$f":"IFERROR(INDEX(data_absen!$K$2:$K$2000,SUMPRODUCT((data_absen!$B$2:$B$2000=$A7)*(data_absen!$C$2:$C$2000=AP$3)*(ROW(data_absen!$C$2:$C$2000)))-1)*1440,\"\")","v":""},{"$f":"IFERROR(INDEX(data_absen!$I$2:$I$2000,SUMPRODUCT((data_absen!$B$2:$B$2000=$A7)*(data_absen!$C$2:$C$2000=AP$3)*(ROW(data_absen!$C$2:$C$2000)))-1)*1440,\"\")","v":""},null,null,{"$f":"IFERROR(INDEX(data_absen!$J$2:$J$2000,SUMPRODUCT((data_absen!$B$2:$B$2000=$A7)*(data_absen!$C$2:$C$2000=AP$3)*(ROW(data_absen!$C$2:$C$2000)))-1)*1440,\"\")","v":""},{"$f":"IFERROR(INDEX(data_absen!$K$2:$K$2000,SUMPRODUCT((data_absen!$B$2:$B$2000=$A7)*(data_absen!$C$2:$C$2000=AU$3)*(ROW(data_absen!$C$2:$C$2000)))-1)*1440,\"\")","v":""},{"$f":"IFERROR(INDEX(data_absen!$I$2:$I$2000,SUMPRODUCT((data_absen!$B$2:$B$2000=$A7)*(data_absen!$C$2:$C$2000=AU$3)*(ROW(data_absen!$C$2:$C$2000)))-1)*1440,\"\")","v":""},null,null,{"$f":"IFERROR(INDEX(data_absen!$J$2:$J$2000,SUMPRODUCT((data_absen!$B$2:$B$2000=$A7)*(data_absen!$C$2:$C$2000=AU$3)*(ROW(data_absen!$C$2:$C$2000)))-1)*1440,\"\")","v":""},{"$f":"IFERROR(INDEX(data_absen!$K$2:$K$2000,SUMPRODUCT((data_absen!$B$2:$B$2000=$A7)*(data_absen!$C$2:$C$2000=AZ$3)*(ROW(data_absen!$C$2:$C$2000)))-1)*1440,\"\")","v":""},{"$f":"IFERROR(INDEX(data_absen!$I$2:$I$2000,SUMPRODUCT((data_absen!$B$2:$B$2000=$A7)*(data_absen!$C$2:$C$2000=AZ$3)*(ROW(data_absen!$C$2:$C$2000)))-1)*1440,\"\")","v":""},null,null,{"$f":"IFERROR(INDEX(data_absen!$J$2:$J$2000,SUMPRODUCT((data_absen!$B$2:$B$2000=$A7)*(data_absen!$C$2:$C$2000=AZ$3)*(ROW(data_absen!$C$2:$C$2000)))-1)*1440,\"\")","v":""},{"$f":"IFERROR(INDEX(data_absen!$K$2:$K$2000,SUMPRODUCT((data_absen!$B$2:$B$2000=$A7)*(data_absen!$C$2:$C$2000=BE$3)*(ROW(data_absen!$C$2:$C$2000)))-1)*1440,\"\")","v":""},{"$f":"IFERROR(INDEX(data_absen!$I$2:$I$2000,SUMPRODUCT((data_absen!$B$2:$B$2000=$A7)*(data_absen!$C$2:$C$2000=BE$3)*(ROW(data_absen!$C$2:$C$2000)))-1)*1440,\"\")","v":""},null,null,{"$f":"IFERROR(INDEX(data_absen!$J$2:$J$2000,SUMPRODUCT((data_absen!$B$2:$B$2000=$A7)*(data_absen!$C$2:$C$2000=BE$3)*(ROW(data_absen!$C$2:$C$2000)))-1)*1440,\"\")","v":""},{"$f":"IFERROR(INDEX(data_absen!$K$2:$K$2000,SUMPRODUCT((data_absen!$B$2:$B$2000=$A7)*(data_absen!$C$2:$C$2000=BJ$3)*(ROW(data_absen!$C$2:$C$2000)))-1)*1440,\"\")","v":""},{"$f":"IFERROR(INDEX(data_absen!$I$2:$I$2000,SUMPRODUCT((data_absen!$B$2:$B$2000=$A7)*(data_absen!$C$2:$C$2000=BJ$3)*(ROW(data_absen!$C$2:$C$2000)))-1)*1440,\"\")","v":""},null,null,{"$f":"IFERROR(INDEX(data_absen!$J$2:$J$2000,SUMPRODUCT((data_absen!$B$2:$B$2000=$A7)*(data_absen!$C$2:$C$2000=BJ$3)*(ROW(data_absen!$C$2:$C$2000)))-1)*1440,\"\")","v":""},{"$f":"IFERROR(INDEX(data_absen!$K$2:$K$2000,SUMPRODUCT((data_absen!$B$2:$B$2000=$A7)*(data_absen!$C$2:$C$2000=BO$3)*(ROW(data_absen!$C$2:$C$2000)))-1)*1440,\"\")","v":""},{"$f":"IFERROR(INDEX(data_absen!$I$2:$I$2000,SUMPRODUCT((data_absen!$B$2:$B$2000=$A7)*(data_absen!$C$2:$C$2000=BO$3)*(ROW(data_absen!$C$2:$C$2000)))-1)*1440,\"\")","v":""},null,null,{"$f":"IFERROR(INDEX(data_absen!$J$2:$J$2000,SUMPRODUCT((data_absen!$B$2:$B$2000=$A7)*(data_absen!$C$2:$C$2000=BO$3)*(ROW(data_absen!$C$2:$C$2000)))-1)*1440,\"\")","v":""},{"$f":"COUNTIFS(data_absen!$B$2:$B$2000,$A7,data_absen!$I$2:$I$2000,\">0\")","v":6}]
["Asmaul",{"$f":"INDEX(data_absen!$G$2:$G$2000,SUMPRODUCT((data_absen!$B$2:$B$2000=$A10)*(data_absen!$C$2:$C$2000=B$3)*(ROW(data_absen!$C$2:$C$2000)))-1)","v":""},null,"-",{"$f":"INDEX(data_absen!$H$2:$H$2000,SUMPRODUCT((data_absen!$B$2:$B$2000=$A10)*(data_absen!$C$2:$C$2000=B$3)*(ROW(data_absen!$C$2:$C$2000)))-1)","v":""},null,{"$f":"INDEX(data_absen!$G$2:$G$2000,SUMPRODUCT((data_absen!$B$2:$B$2000=$A10)*(data_absen!$C$2:$C$2000=G$3)*(ROW(data_absen!$C$2:$C$2000)))-1)","v":""},null,"-",{"$f":"INDEX(data_absen!$H$2:$H$2000,SUMPRODUCT((data_absen!$B$2:$B$2000=$A10)*(data_absen!$C$2:$C$2000=G$3)*(ROW(data_absen!$C$2:$C$2000)))-1)","v":""},null,{"$f":"INDEX(data_absen!$G$2:$G$2000,SUMPRODUCT((data_absen!$B$2:$B$2000=$A10)*(data_absen!$C$2:$C$2000=L$3)*(ROW(data_absen!$C$2:$C$2000)))-1)","v":""},null,"-",{"$f":"INDEX(data_absen!$H$2:$H$2000,SUMPRODUCT((data_absen!$B$2:$B$2000=$A10)*(data_absen!$C$2:$C$2000=L$3)*(ROW(data_absen!$C$2:$C$2000)))-1)","v":""},null,{"$f":"INDEX(data_absen!$G$2:$G$2000,SUMPRODUCT((data_absen!$B$2:$B$2000=$A10)*(data_absen!$C$2:$C$2000=Q$3)*(ROW(data_absen!$C$2:$C$2000)))-1)","v":""},null,"-",{"$f":"INDEX(data_absen!$H$2:$H$2000,SUMPRODUCT((data_absen!$B$2:$B$2000=$A10)*(data_absen!$C$2:$C$2000=Q$3)*(ROW(data_absen!$C$2:$C$2000)))-1)","v":""},null,{"$f":"INDEX(data_absen!$G$2:$G$2000,SUMPRODUCT((data_absen!$B$2:$B$2000=$A10)*(data_absen!$C$2:$C$2000=V$3)*(ROW(data_absen!$C$2:$C$2000)))-1)","v":""},null,"-",{"$f":"INDEX(data_absen!$H$2:$H$2000,SUMPRODUCT((data_absen!$B$2:$B$2000=$A10)*(data_absen!$C$2:$C$2000=V$3)*(ROW(data_absen!$C$2:$C$2000)))-1)","v":""},null,{"$f":"INDEX(data_absen!$G$2:$G$2000,SUMPRODUCT((data_absen!$B$2:$B$2000=$A10)*(data_absen!$C$2:$C$2000=AA$3)*(ROW(data_absen!$C$2:$C$2000)))-1)","v":""},null,"-",{"$f":"INDEX(data_absen!$H$2:$H$2000,SUMPRODUCT((data_absen!$B$2:$B$2000=$A10)*(data_absen!$C$2:$C$2000=AA$3)*(ROW(data_absen!$C$2:$C$2000)))-1)","v":""},null,{"$f":"INDEX(data_absen!$G$2:$G$2000,SUMPRODUCT((data_absen!$B$2:$B$2000=$A10)*(data_absen!$C$2:$C$2000=AF$3)*(ROW(data_absen!$C$2:$C$2000)))-1)","v":""},null,"-",{"$f":"INDEX(data_absen!$H$2:$H$2000,SUMPRODUCT((data_absen!$B$2:$B$2000=$A10)*(data_absen!$C$2:$C$2000=AF$3)*(ROW(data_absen!$C$2:$C$2000)))-1)","v":""},null,{"$f":"INDEX(data_absen!$G$2:$G$2000,SUMPRODUCT((data_absen!$B$2:$B$2000=$A10)*(data_absen!$C$2:$C$2000=AK$3)*(ROW(data_absen!$C$2:$C$2000)))-1)","v":""},null,"-",{"$f":"INDEX(data_absen!$H$2:$H$2000,SUMPRODUCT((data_absen!$B$2:$B$2000=$A10)*(data_absen!$C$2:$C$2000=AK$3)*(ROW(data_absen!$C$2:$C$2000)))-1)","v":""},null,{"$f":"INDEX(data_absen!$G$2:$G$2000,SUMPRODUCT((data_absen!$B$2:$B$2000=$A10)*(data_absen!$C$2:$C$2000=AP$3)*(ROW(data_absen!$C$2:$C$2000)))-1)","v":""},null,"-",{"$f":"INDEX(data_absen!$H$2:$H$2000,SUMPRODUCT((data_absen!$B$2:$B$2000=$A10)*(data_absen!$C$2:$C$2000=AP$3)*(ROW(data_absen!$C$2:$C$2000)))-1)","v":""},null,{"$f":"INDEX(data_absen!$G$2:$G$2000,SUMPRODUCT((data_absen!$B$2:$B$2000=$A10)*(data_absen!$C$2:$C$2000=AU$3)*(ROW(data_absen!$C$2:$C$2000)))-1)","v":""},null,"-",{"$f":"INDEX(data_absen!$H$2:$H$2000,SUMPRODUCT((data_absen!$B$2:$B$2000=$A10)*(data_absen!$C$2:$C$2000=AU$3)*(ROW(data_absen!$C$2:$C$2000)))-1)","v":""},null,{"$f":"INDEX(data_absen!$G$2:$G$2000,SUMPRODUCT((data_absen!$B$2:$B$2000=$A10)*(data_absen!$C$2:$C$2000=AZ$3)*(ROW(data_absen!$C$2:$C$2000)))-1)","v":""},null,"-",{"$f":"INDEX(data_absen!$H$2:$H$2000,SUMPRODUCT((data_absen!$B$2:$B$2000=$A10)*(data_absen!$C$2:$C$2000=AZ$3)*(ROW(data_absen!$C$2:$C$2000)))-1)","v":""},null,{"$f":"INDEX(data_absen!$G$2:$G$2000,SUMPRODUCT((data_absen!$B$2:$B$2000=$A10)*(data_absen!$C$2:$C$2000=BE$3)*(ROW(data_absen!$C$2:$C$2000)))-1)","v":""},null,"-",{"$f":"INDEX(data_absen!$H$2:$H$2000,SUMPRODUCT((data_absen!$B$2:$B$2000=$A10)*(data_absen!$C$2:$C$2000=BE$3)*(ROW(data_absen!$C$2:$C$2000)))-1)","v":""},null,{"$f":"INDEX(data_absen!$G$2:$G$2000,SUMPRODUCT((data_absen!$B$2:$B$2000=$A10)*(data_absen!$C$2:$C$2000=BJ$3)*(ROW(data_absen!$C$2:$C$2000)))-1)","v":""},null,"-",{"$f":"INDEX(data_absen!$H$2:$H$2000,SUMPRODUCT((data_absen!$B$2:$B$2000=$A10)*(data_absen!$C$2:$C$2000=BJ$3)*(ROW(data_absen!$C$2:$C$2000)))-1)","v":""},null,{"$f":"INDEX(data_absen!$G$2:$G$2000,SUMPRODUCT((data_absen!$B$2:$B$2000=$A10)*(data_absen!$C$2:$C$2000=BO$3)*(ROW(data_absen!$C$2:$C$2000)))-1)","v":""},null,"-",{"$f":"INDEX(data_absen!$H$2:$H$2000,SUMPRODUCT((data_absen!$B$2:$B$2000=$A10)*(data_absen!$C$2:$C$2000=BO$3)*(ROW(data_absen!$C$2:$C$2000)))-1)","v":""}]
[203,null,null,"-",null,null,null,null,"-",null,null,null,null,"-",null,null,null,null,"-",null,null,null,null,"-",null,null,null,null,"-",null,null,null,null,"-",null,null,null,null,"-",null,null,null,null,"-",null,null,null,null,"-",null,null,null,null,"-",null,null,null,null,"-",null,null,null,null,"-",null,null,null,null,"-"]
[null,{"$f":"IFERROR(INDEX(data_absen!$K$2:$K$2000,SUMPRODUCT((data_absen!$B$2:$B$2000=$A10)*(data_absen!$C$2:$C$2000=B$3)*(ROW(data_absen!$C$2:$C$2000)))-1)*1440,\"\")","v":""},{"$f":"IFERROR(INDEX(data_absen!$I$2:$I$2000,SUMPRODUCT((data_absen!$B$2:$B$2000=$A10)*(data_absen!$C$2:$C$2000=B$3)*(ROW(data_absen!$C$2:$C$2000)))-1)*1440,\"\")","v":""},null,null,{"$f":"IFERROR(INDEX(data_absen!$J$2:$J$2000,SUMPRODUCT((data_absen!$B$2:$B$2000=$A10)*(data_absen!$C$2:$C$2000=B$3)*(ROW(data_absen!$C$2:$C$2000)))-1)*1440,\"\")","v":""},{"$f":"IFERROR(INDEX(data_absen!$K$2:$K$2000,SUMPRODUCT((data_absen!$B$2:$B$2000=$A10)*(data_absen!$C$2:$C$2000=G$3)*(ROW(data_absen!$C$2:$C$2000)))-1)*1440,\"\")","v":""},{"$f":"IFERROR(INDEX(data_absen!$I$2:$I$2000,SUMPRODUCT((data_absen!$B$2:$B$2000=$A10)*(data_absen!$C$2:$C$2000=G$3)*(ROW(data_absen!$C$2:$C$2000)))-1)*1440,\"\")","v":""},null,null,{"$f":"IFERROR(INDEX(data_absen!$J$2:$J$2000,SUMPRODUCT((data_absen!$B$2:$B$2000=$A10)*(data_absen!$C$2:$C$2000=G$3)*(ROW(data_absen!$C$2:$C$2000)))-1)*1440,\"\")","v":""},{"$f":"IFERROR(INDEX(data_absen!$K$2:$K$2000,SUMPRODUCT((data_absen!$B$2:$B$2000=$A10)*(data_absen!$C$2:$C$2000=L$3)*(ROW(data_absen!$C$2:$C$2000)))-1)*1440,\"\")","v":""},{"$f":"IFERROR(INDEX(data_absen!$I$2:$I$2000,SUMPRODUCT((data_absen!$B$2:$B$2000=$A10)*(data_absen!$C$2:$C$2000=L$3)*(ROW(data_absen!$C$2:$C$2000)))-1)*1440,\"\")","v":""},null,null,{"$f":"IFERROR(INDEX(data_absen!$J$2:$J$2000,SUMPRODUCT((data_absen!$B$2:$B$2000=$A10)*(data_absen!$C$2:$C$2000=L$3)*(ROW(data_absen!$C$2:$C$2000)))-1)*1440,\"\")","v":""},{"$f":"IFERROR(INDEX(data_absen!$K$2:$K$2000,SUMPRODUCT((data_absen!$B$2:$B$2000=$A10)*(data_absen!$C$2:$C$2000=Q$3)*(ROW(data_absen!$C$2:$C$2000)))-1)*1440,\"\")","v":""},{"$f":"IFERROR(INDEX(data_absen!$I$2:$I$2000,SUMPRODUCT((data_absen!$B$2:$B$2000=$A10)*(data_absen!$C$2:$C$2000=Q$3)*(ROW(data_absen!$C$2:$C$2000)))-1)*1440,\"\")","v":""},null,null,{"$f":"IFERROR(INDEX(data_absen!$J$2:$J$2000,SUMPRODUCT((data_absen!$B$2:$B$2000=$A10)*(data_absen!$C$2:$C$2000=Q$3)*(ROW(data_absen!$C$2:$C$2000)))-1)*1440,\"\")","v":""},{"$f":"IFERROR(INDEX(data_absen!$K$2:$K$2000,SUMPRODUCT((data_absen!$B$2:$B$2000=$A10)*(data_absen!$C$2:$C$2000=V$3)*(ROW(data_absen!$C$2:$C$2000)))-1)*1440,\"\")","v":""},{"$f":"IFERROR(INDEX(data_absen!$I$2:$I$2000,SUMPRODUCT((data_absen!$B$2:$B$2000=$A10)*(data_absen!$C$2:$C$2000=V$3)*(ROW(data_absen!$C$2:$C$2000)))-1)*1440,\"\")","v":""},null,null,{"$f":"IFERROR(INDEX(data_absen!$J$2:$J$2000,SUMPRODUCT((data_absen!$B$2:$B$2000=$A10)*(data_absen!$C$2:$C$2000=V$3)*(ROW(data_absen!$C$2:$C$2000)))-1)*1440,\"\")","v":""},{"$f":"IFERROR(INDEX(data_absen!$K$2:$K$2000,SUMPRODUCT((data_absen!$B$2:$B$2000=$A10)*(data_absen!$C$2:$C$2000=AA$3)*(ROW(data_absen!$C$2:$C$2000)))-1)*1440,\"\")","v":""},{"$f":"IFERROR(INDEX(data_absen!$I$2:$I$2000,SUMPRODUCT((data_absen!$B$2:$B$2000=$A10)*(data_absen!$C$2:$C$2000=AA$3)*(ROW(data_absen!$C$2:$C$2000)))-1)*1440,\"\")","v":""},null,null,{"$f":"IFERROR(INDEX(data_absen!$J$2:$J$2000,SUMPRODUCT((data_absen!$B$2:$B$2000=$A10)*(data_absen!$C$2:$C$2000=AA$3)*(ROW(data_absen!$C$2:$C$2000)))-1)*1440,\"\")","v":""},{"$f":"IFERROR(INDEX(data_absen!$K$2:$K$2000,SUMPRODUCT((data_absen!$B$2:$B$2000=$A10)*(data_absen!$C$2:$C$2000=AF$3)*(ROW(data_absen!$C$2:$C$2000)))-1)*1440,\"\")","v":""},{"$f":"IFERROR(INDEX(data_absen!$I$2:$I$2000,SUMPRODUCT((data_absen!$B$2:$B$2000=$A10)*(data_absen!$C$2:$C$2000=AF$3)*(ROW(data_absen!$C$2:$C$2000)))-1)*1440,\"\")","v":""},null,null,{"$f":"IFERROR(INDEX(data_absen!$J$2:$J$2000,SUMPRODUCT((data_absen!$B$2:$B$2000=$A10)*(data_absen!$C$2:$C$2000=AF$3)*(ROW(data_absen!$C$2:$C$2000)))-1)*1440,\"\")","v":""},{"$f":"IFERROR(INDEX(data_absen!$K$2:$K$2000,SUMPRODUCT((data_absen!$B$2:$B$2000=$A10)*(data_absen!$C$2:$C$2000=AK$3)*(ROW(data_absen!$C$2:$C$2000)))-1)*1440,\"\")","v":""},{"$f":"IFERROR(INDEX(data_absen!$I$2:$I$2000,SUMPRODUCT((data_absen!$B$2:$B$2000=$A10)*(data_absen!$C$2:$C$2000=AK$3)*(ROW(data_absen!$C$2:$C$2000)))-1)*1440,\"\")","v":""},null,null,{"$f":"IFERROR(INDEX(data_absen!$J$2:$J$2000,SUMPRODUCT((data_absen!$B$2:$B$2000=$A10)*(data_absen!$C$2:$C$2000=AK$3)*(ROW(data_absen!$C$2:$C$2000)))-1)*1440,\"\")","v":""},{"$f":"IFERROR(INDEX(data_absen!$K$2:$K$2000,SUMPRODUCT((data_absen!$B$2:$B$2000=$A10)*(data_absen!$C$2:$C$2000=AP$3)*(ROW(data_absen!$C$2:$C$2000)))-1)*1440,\"\")","v":""},{"$f":"IFERROR(INDEX(data_absen!$I$2:$I$2000,SUMPRODUCT((data_absen!$B$2:$B$2000=$A10)*(data_absen!$C$2:$C$2000=AP$3)*(ROW(data_absen!$C$2:$C$2000)))-1)*1440,\"\")","v":""},null,null,{"$f":"IFERROR(INDEX(data_absen!$J$2:$J$2000,SUMPRODUCT((data_absen!$B$2:$B$2000=$A10)*(data_absen!$C$2:$C$2000=AP$3)*(ROW(data_absen!$C$2:$C$2000)))-1)*1440,\"\")","v":""},{"$f":"IFERROR(INDEX(data_absen!$K$2:$K$2000,SUMPRODUCT((data_absen!$B$2:$B$2000=$A10)*(data_absen!$C$2:$C$2000=AU$3)*(ROW(data_absen!$C$2:$C$2000)))-1)*1440,\"\")","v":""},{"$f":"IFERROR(INDEX(data_absen!$I$2:$I$2000,SUMPRODUCT((data_absen!$B$2:$B$2000=$A10)*(data_absen!$C$2:$C$2000=AU$3)*(ROW(data_absen!$C$2:$C$2000)))-1)*1440,\"\")","v":""},null,null,{"$f":"IFERROR(INDEX(data_absen!$J$2:$J$2000,SUMPRODUCT((data_absen!$B$2:$B$2000=$A10)*(data_absen!$C$2:$C$2000=AU$3)*(ROW(data_absen!$C$2:$C$2000)))-1)*1440,\"\")","v":""},{"$f":"IFERROR(INDEX(data_absen!$K$2:$K$2000,SUMPRODUCT((data_absen!$B$2:$B$2000=$A10)*(data_absen!$C$2:$C$2000=AZ$3)*(ROW(data_absen!$C$2:$C$2000)))-1)*1440,\"\")","v":""},{"$f":"IFERROR(INDEX(data_absen!$I$2:$I$2000,SUMPRODUCT((data_absen!$B$2:$B$2000=$A10)*(data_absen!$C$2:$C$2000=AZ$3)*(ROW(data_absen!$C$2:$C$2000)))-1)*1440,\"\")","v":""},null,null,{"$f":"IFERROR(INDEX(data_absen!$J$2:$J$2000,SUMPRODUCT((data_absen!$B$2:$B$2000=$A10)*(data_absen!$C$2:$C$2000=AZ$3)*(ROW(data_absen!$C$2:$C$2000)))-1)*1440,\"\")","v":""},{"$f":"IFERROR(INDEX(data_absen!$K$2:$K$2000,SUMPRODUCT((data_absen!$B$2:$B$2000=$A10)*(data_absen!$C$2:$C$2000=BE$3)*(ROW(data_absen!$C$2:$C$2000)))-1)*1440,\"\")","v":""},{"$f":"IFERROR(INDEX(data_absen!$I$2:$I$2000,SUMPRODUCT((data_absen!$B$2:$B$2000=$A10)*(data_absen!$C$2:$C$2000=BE$3)*(ROW(data_absen!$C$2:$C$2000)))-1)*1440,\"\")","v":""},null,null,{"$f":"IFERROR(INDEX(data_absen!$J$2:$J$2000,SUMPRODUCT((data_absen!$B$2:$B$2000=$A10)*(data_absen!$C$2:$C$2000=BE$3)*(ROW(data_absen!$C$2:$C$2000)))-1)*1440,\"\")","v":""},{"$f":"IFERROR(INDEX(data_absen!$K$2:$K$2000,SUMPRODUCT((data_absen!$B$2:$B$2000=$A10)*(data_absen!$C$2:$C$2000=BJ$3)*(ROW(data_absen!$C$2:$C$2000)))-1)*1440,\"\")","v":""},{"$f":"IFERROR(INDEX(data_absen!$I$2:$I$2000,SUMPRODUCT((data_absen!$B$2:$B$2000=$A10)*(data_absen!$C$2:$C$2000=BJ$3)*(ROW(data_absen!$C$2:$C$2000)))-1)*1440,\"\")","v":""},null,null,{"$f":"IFERROR(INDEX(data_absen!$J$2:$J$2000,SUMPRODUCT((data_absen!$B$2:$B$2000=$A10)*(data_absen!$C$2:$C$2000=BJ$3)*(ROW(data_absen!$C$2:$C$2000)))-1)*1440,\"\")","v":""},{"$f":"IFERROR(INDEX(data_absen!$K$2:$K$2000,SUMPRODUCT((data_absen!$B$2:$B$2000=$A10)*(data_absen!$C$2:$C$2000=BO$3)*(ROW(data_absen!$C$2:$C$2000)))-1)*1440,\"\")","v":""},{"$f":"IFERROR(INDEX(data_absen!$I$2:$I$2000,SUMPRODUCT((data_absen!$B$2:$B$2000=$A10)*(data_absen!$C$2:$C$2000=BO$3)*(ROW(data_absen!$C$2:$C$2000)))-1)*1440,\"\")","v":""},null,null,{"$f":"IFERROR(INDEX(data_absen!$J$2:$J$2000,SUMPRODUCT((data_absen!$B$2:$B$2000=$A10)*(data_absen!$C$2:$C$2000=BO$3)*(ROW(data_absen!$C$2:$C$2000)))-1)*1440,\"\")","v":""},{"$f":"COUNTIFS(data_absen!$B$2:$B$2000,$A10,data_absen!$I$2:$I$2000,\">0\")","v":0}]
["Dwi Ayu",{"$f":"INDEX(data_absen!$G$2:$G$2000,SUMPRODUCT((data_absen!$B$2:$B$2000=$A13)*(data_absen!$C$2:$C$2000=B$3)*(ROW(data_absen!$C$2:$C$2000)))-1)","v":""},null,"-",{"$f":"INDEX(data_absen!$H$2:$H$2000,SUMPRODUCT((data_absen!$B$2:$B$2000=$A13)*(data_absen!$C$2:$C$2000=B$3)*(ROW(data_absen!$C$2:$C$2000)))-1)","v":""},null,{"$f":"INDEX(data_absen!$G$2:$G$2000,SUMPRODUCT((data_absen!$B$2:$B$2000=$A13)*(data_absen!$C$2:$C$2000=G$3)*(ROW(data_absen!$C$2:$C$2000)))-1)","v":""},null,"-",{"$f":"INDEX(data_absen!$H$2:$H$2000,SUMPRODUCT((data_absen!$B$2:$B$2000=$A13)*(data_absen!$C$2:$C$2000=G$3)*(ROW(data_absen!$C$2:$C$2000)))-1)","v":""},null,{"$f":"INDEX(data_absen!$G$2:$G$2000,SUMPRODUCT((data_absen!$B$2:$B$2000=$A13)*(data_absen!$C$2:$C$2000=L$3)*(ROW(data_absen!$C$2:$C$2000)))-1)","v":"06:44:00"},null,"-",{"$f":"INDEX(data_absen!$H$2:$H$2000,SUMPRODUCT((data_absen!$B$2:$B$2000=$A13)*(data_absen!$C$2:$C$2000=L$3)*(ROW(data_absen!$C$2:$C$2000)))-1)","v":"14:51:00"},null,{"$f":"INDEX(data_absen!$G$2:$G$2000,SUMPRODUCT((data_absen!$B$2:$B$2000=$A13)*(data_absen!$C$2:$C$2000=Q$3)*(ROW(data_absen!$C$2:$C$2000)))-1)","v":""},null,"-",{"$f":"INDEX(data_absen!$H$2:$H$2000,SUMPRODUCT((data_absen!$B$2:$B$2000=$A13)*(data_absen!$C$2:$C$2000=Q$3)*(ROW(data_absen!$C$2:$C$2000)))-1)","v":""},null,{"$f":"INDEX(data_absen!$G$2:$G$2000,SUMPRODUCT((data_absen!$B$2:$B$2000=$A13)*(data_absen!$C$2:$C$2000=V$3)*(ROW(data_absen!$C$2:$C$2000)))-1)","v":""},null,"-",{"$f":"INDEX(data_absen!$H$2:$H$2000,SUMPRODUCT((data_absen!$B$2:$B$2000=$A13)*(data_absen!$C$2:$C$2000=V$3)*(ROW(data_absen!$C$2:$C$2000)))-1)","v":""},null,{"$f":"INDEX(data_absen!$G$2:$G$2000,SUMPRODUCT((data_absen!$B$2:$B$2000=$A13)*(data_absen!$C$2:$C$2000=AA$3)*(ROW(data_absen!$C$2:$C$2000)))-1)","v":""},null,"-",{"$f":"INDEX(data_absen!$H$2:$H$2000,SUMPRODUCT((data_absen!$B$2:$B$2000=$A13)*(data_absen!$C$2:$C$2000=AA$3)*(ROW(data_absen!$C$2:$C$2000)))-1)","v":""},null,{"$f":"INDEX(data_absen!$G$2:$G$2000,SUMPRODUCT((data_absen!$B$2:$B$2000=$A13)*(data_absen!$C$2:$C$2000=AF$3)*(ROW(data_absen!$C$2:$C$2000)))-1)","v":""},null,"-",{"$f":"INDEX(data_absen!$H$2:$H$2000,SUMPRODUCT((data_absen!$B$2:$B$2000=$A13)*(data_absen!$C$2:$C$2000=AF$3)*(ROW(data_absen!$C$2:$C$2000)))-1)","v":""},null,{"$f":"INDEX(data_absen!$G$2:$G$2000,SUMPRODUCT((data_absen!$B$2:$B$2000=$A13)*(data_absen!$C$2:$C$2000=AK$3)*(ROW(data_absen!$C$2:$C$2000)))-1)","v":""},null,"-",{"$f":"INDEX(data_absen!$H$2:$H$2000,SUMPRODUCT((data_absen!$B$2:$B$2000=$A13)*(data_absen!$C$2:$C$2000=AK$3)*(ROW(data_absen!$C$2:$C$2000)))-1)","v":""},null,{"$f":"INDEX(data_absen!$G$2:$G$2000,SUMPRODUCT((data_absen!$B$2:$B$2000=$A13)*(data_absen!$C$2:$C$2000=AP$3)*(ROW(data_absen!$C$2:$C$2000)))-1)","v":""},null,"-",{"$f":"INDEX(data_absen!$H$2:$H$2000,SUMPRODUCT((data_absen!$B$2:$B$2000=$A13)*(data_absen!$C$2:$C$2000=AP$3)*(ROW(data_absen!$C$2:$C$2000)))-1)","v":""},null,{"$f":"INDEX(data_absen!$G$2:$G$2000,SUMPRODUCT((data_absen!$B$2:$B$2000=$A13)*(data_absen!$C$2:$C$2000=AU$3)*(ROW(data_absen!$C$2:$C$2000)))-1)","v":""},null,"-",{"$f":"INDEX(data_absen!$H$2:$H$2000,SUMPRODUCT((data_absen!$B$2:$B$2000=$A13)*(data_absen!$C$2:$C$2000=AU$3)*(ROW(data_absen!$C$2:$C$2000)))-1)","v":""},null,{"$f":"INDEX(data_absen!$G$2:$G$2000,SUMPRODUCT((data_absen!$B$2:$B$2000=$A13)*(data_absen!$C$2:$C$2000=AZ$3)*(ROW(data_absen!$C$2:$C$2000)))-1)","v":""},null,"-",{"$f":"INDEX(data_absen!$H$2:$H$2000,SUMPRODUCT((data_absen!$B$2:$B$2000=$A13)*(data_absen!$C$2:$C$2000=AZ$3)*(ROW(data_absen!$C$2:$C$2000)))-1)","v":""},null,{"$f":"INDEX(data_absen!$G$2:$G$2000,SUMPRODUCT((data_absen!$B$2:$B$2000=$A13)*(data_absen!$C$2:$C$2000=BE$3)*(ROW(data_absen!$C$2:$C$2000)))-1)","v":""},null,"-",{"$f":"INDEX(data_absen!$H$2:$H$2000,SUMPRODUCT((data_absen!$B$2:$B$2000=$A13)*(data_absen!$C$2:$C$2000=BE$3)*(ROW(data_absen!$C$2:$C$2000)))-1)","v":""},null,{"$f":"INDEX(data_absen!$G$2:$G$2000,SUMPRODUCT((data_absen!$B$2:$B$2000=$A13)*(data_absen!$C$2:$C$2000=BJ$3)*(ROW(data_absen!$C$2:$C$2000)))-1)","v":""},null,"-",{"$f":"INDEX(data_absen!$H$2:$H$2000,SUMPRODUCT((data_absen!$B$2:$B$2000=$A13)*(data_absen!$C$2:$C$2000=BJ$3)*(ROW(data_absen!$C$2:$C$2000)))-1)","v":""},null,{"$f":"INDEX(data_absen!$G$2:$G$2000,SUMPRODUCT((data_absen!$B$2:$B$2000=$A13)*(data_absen!$C$2:$C$2000=BO$3)*(ROW(data_absen!$C$2:$C$2000)))-1)","v":""},null,"-",{"$f":"INDEX(data_absen!$H$2:$H$2000,SUMPRODUCT((data_absen!$B$2:$B$2000=$A13)*(data_absen!$C$2:$C$2000=BO$3)*(ROW(data_absen!$C$2:$C$2000)))-1)","v":""}]
[204,null,null,"-",null,null,null,null,"-",null,null,null,null,"-",null,null,null,null,"-",null,null,null,null,"-",null,null,null,null,"-",null,null,null,null,"-",null,null,null,null,"-",null,null,null,null,"-",null,null,null,null,"-",null,null,null,null,"-",null,null,null,null,"-",null,null,null,null,"-",null,null,null,null,"-"]
[null,{"$f":"IFERROR(INDEX(data_absen!$K$2:$K$2000,SUMPRODUCT((data_absen!$B$2:$B$2000=$A13)*(data_absen!$C$2:$C$2000=B$3)*(ROW(data_absen!$C$2:$C$2000)))-1)*1440,\"\")","v":""},{"$f":"IFERROR(INDEX(data_absen!$I$2:$I$2000,SUMPRODUCT((data_absen!$B$2:$B$2000=$A13)*(data_absen!$C$2:$C$2000=B$3)*(ROW(data_absen!$C$2:$C$2000)))-1)*1440,\"\")","v":""},null,null,{"$f":"IFERROR(INDEX(data_absen!$J$2:$J$2000,SUMPRODUCT((data_absen!$B$2:$B$2000=$A13)*(data_absen!$C$2:$C$2000=B$3)*(ROW(data_absen!$C$2:$C$2000)))-1)*1440,\"\")","v":""},{"$f":"IFERROR(INDEX(data_absen!$K$2:$K$2000,SUMPRODUCT((data_absen!$B$2:$B$2000=$A13)*(data_absen!$C$2:$C$2000=G$3)*(ROW(data_absen!$C$2:$C$2000)))-1)*1440,\"\")","v":""},{"$f":"IFERROR(INDEX(data_absen!$I$2:$I$2000,SUMPRODUCT((data_absen!$B$2:$B$2000=$A13)*(data_absen!$C$2:$C$2000=G$3)*(ROW(data_absen!$C$2:$C$2000)))-1)*1440,\"\")","v":""},null,null,{"$f":"IFERROR(INDEX(data_absen!$J$2:$J$2000,SUMPRODUCT((data_absen!$B$2:$B$2000=$A13)*(data_absen!$C$2:$C$2000=G$3)*(ROW(data_absen!$C$2:$C$2000)))-1)*1440,\"\")","v":""},{"$f":"IFERROR(INDEX(data_absen!$K$2:$K$2000,SUMPRODUCT((data_absen!$B$2:$B$2000=$A13)*(data_absen!$C$2:$C$2000=L$3)*(ROW(data_absen!$C$2:$C$2000)))-1)*1440,\"\")","v":""},{"$f":"IFERROR(INDEX(data_absen!$I$2:$I$2000,SUMPRODUCT((data_absen!$B$2:$B$2000=$A13)*(data_absen!$C$2:$C$2000=L$3)*(ROW(data_absen!$C$2:$C$2000)))-1)*1440,\"\")","v":""},null,null,{"$f":"IFERROR(INDEX(data_absen!$J$2:$J$2000,SUMPRODUCT((data_absen!$B$2:$B$2000=$A13)*(data_absen!$C$2:$C$2000=L$3)*(ROW(data_absen!$C$2:$C$2000)))-1)*1440,\"\")","v":129},{"$f":"IFERROR(INDEX(data_absen!$K$2:$K$2000,SUMPRODUCT((data_absen!$B$2:$B$2000=$A13)*(data_absen!$C$2:$C$2000=Q$3)*(ROW(data_absen!$C$2:$C$2000)))-1)*1440,\"\")","v":""},{"$f":"IFERROR(INDEX(data_absen!$I$2:$I$2000,SUMPRODUCT((data_absen!$B$2:$B$2000=$A13)*(data_absen!$C$2:$C$2000=Q$3)*(ROW(data_absen!$C$2:$C$2000)))-1)*1440,\"\")","v":""},null,null,{"$f":"IFERROR(INDEX(data_absen!$J$2:$J$2000,SUMPRODUCT((data_absen!$B$2:$B$2000=$A13)*(data_absen!$C$2:$C$2000=Q$3)*(ROW(data_absen!$C$2:$C$2000)))-1)*1440,\"\")","v":""},{"$f":"IFERROR(INDEX(data_absen!$K$2:$K$2000,SUMPRODUCT((data_absen!$B$2:$B$2000=$A13)*(data_absen!$C$2:$C$2000=V$3)*(ROW(data_absen!$C$2:$C$2000)))-1)*1440,\"\")","v":""},{"$f":"IFERROR(INDEX(data_absen!$I$2:$I$2000,SUMPRODUCT((data_absen!$B$2:$B$2000=$A13)*(data_absen!$C$2:$C$2000=V$3)*(ROW(data_absen!$C$2:$C$2000)))-1)*1440,\"\")","v":""},null,null,{"$f":"IFERROR(INDEX(data_absen!$J$2:$J$2000,SUMPRODUCT((data_absen!$B$2:$B$2000=$A13)*(data_absen!$C$2:$C$2000=V$3)*(ROW(data_absen!$C$2:$C$2000)))-1)*1440,\"\")","v":""},{"$f":"IFERROR(INDEX(data_absen!$K$2:$K$2000,SUMPRODUCT((data_absen!$B$2:$B$2000=$A13)*(data_absen!$C$2:$C$2000=AA$3)*(ROW(data_absen!$C$2:$C$2000)))-1)*1440,\"\")","v":""},{"$f":"IFERROR(INDEX(data_absen!$I$2:$I$2000,SUMPRODUCT((data_absen!$B$2:$B$2000=$A13)*(data_absen!$C$2:$C$2000=AA$3)*(ROW(data_absen!$C$2:$C$2000)))-1)*1440,\"\")","v":""},null,null,{"$f":"IFERROR(INDEX(data_absen!$J$2:$J$2000,SUMPRODUCT((data_absen!$B$2:$B$2000=$A13)*(data_absen!$C$2:$C$2000=AA$3)*(ROW(data_absen!$C$2:$C$2000)))-1)*1440,\"\")","v":""},{"$f":"IFERROR(INDEX(data_absen!$K$2:$K$2000,SUMPRODUCT((data_absen!$B$2:$B$2000=$A13)*(data_absen!$C$2:$C$2000=AF$3)*(ROW(data_absen!$C$2:$C$2000)))-1)*1440,\"\")","v":""},{"$f":"IFERROR(INDEX(data_absen!$I$2:$I$2000,SUMPRODUCT((data_absen!$B$2:$B$2000=$A13)*(data_absen!$C$2:$C$2000=AF$3)*(ROW(data_absen!$C$2:$C$2000)))-1)*1440,\"\")","v":""},null,null,{"$f":"IFERROR(INDEX(data_absen!$J$2:$J$2000,SUMPRODUCT((data_absen!$B$2:$B$2000=$A13)*(data_absen!$C$2:$C$2000=AF$3)*(ROW(data_absen!$C$2:$C$2000)))-1)*1440,\"\")","v":""},{"$f":"IFERROR(INDEX(data_absen!$K$2:$K$2000,SUMPRODUCT((data_absen!$B$2:$B$2000=$A13)*(data_absen!$C$2:$C$2000=AK$3)*(ROW(data_absen!$C$2:$C$2000)))-1)*1440,\"\")","v":""},{"$f":"IFERROR(INDEX(data_absen!$I$2:$I$2000,SUMPRODUCT((data_absen!$B$2:$B$2000=$A13)*(data_absen!$C$2:$C$2000=AK$3)*(ROW(data_absen!$C$2:$C$2000)))-1)*1440,\"\")","v":""},null,null,{"$f":"IFERROR(INDEX(data_absen!$J$2:$J$2000,SUMPRODUCT((data_absen!$B$2:$B$2000=$A13)*(data_absen!$C$2:$C$2000=AK$3)*(ROW(data_absen!$C$2:$C$2000)))-1)*1440,\"\")","v":""},{"$f":"IFERROR(INDEX(data_absen!$K$2:$K$2000,SUMPRODUCT((data_absen!$B$2:$B$2000=$A13)*(data_absen!$C$2:$C$2000=AP$3)*(ROW(data_absen!$C$2:$C$2000)))-1)*1440,\"\")","v":""},{"$f":"IFERROR(INDEX(data_absen!$I$2:$I$2000,SUMPRODUCT((data_absen!$B$2:$B$2000=$A13)*(data_absen!$C$2:$C$2000=AP$3)*(ROW(data_absen!$C$2:$C$2000)))-1)*1440,\"\")","v":""},null,null,{"$f":"IFERROR(INDEX(data_absen!$J$2:$J$2000,SUMPRODUCT((data_absen!$B$2:$B$2000=$A13)*(data_absen!$C$2:$C$2000=AP$3)*(ROW(data_absen!$C$2:$C$2000)))-1)*1440,\"\")","v":""},{"$f":"IFERROR(INDEX(data_absen!$K$2:$K$2000,SUMPRODUCT((data_absen!$B$2:$B$2000=$A13)*(data_absen!$C$2:$C$2000=AU$3)*(ROW(data_absen!$C$2:$C$2000)))-1)*1440,\"\")","v":""},{"$f":"IFERROR(INDEX(data_absen!$I$2:$I$2000,SUMPRODUCT((data_absen!$B$2:$B$2000=$A13)*(data_absen!$C$2:$C$2000=AU$3)*(ROW(data_absen!$C$2:$C$2000)))-1)*1440,\"\")","v":""},null,null,{"$f":"IFERROR(INDEX(data_absen!$J$2:$J$2000,SUMPRODUCT((data_absen!$B$2:$B$2000=$A13)*(data_absen!$C$2:$C$2000=AU$3)*(ROW(data_absen!$C$2:$C$2000)))-1)*1440,\"\")","v":""},{"$f":"IFERROR(INDEX(data_absen!$K$2:$K$2000,SUMPRODUCT((data_absen!$B$2:$B$2000=$A13)*(data_absen!$C$2:$C$2000=AZ$3)*(ROW(data_absen!$C$2:$C$2000)))-1)*1440,\"\")","v":""},{"$f":"IFERROR(INDEX(data_absen!$I$2:$I$2000,SUMPRODUCT((data_absen!$B$2:$B$2000=$A13)*(data_absen!$C$2:$C$2000=AZ$3)*(ROW(data_absen!$C$2:$C$2000)))-1)*1440,\"\")","v":""},null,null,{"$f":"IFERROR(INDEX(data_absen!$J$2:$J$2000,SUMPRODUCT((data_absen!$B$2:$B$2000=$A13)*(data_absen!$C$2:$C$2000=AZ$3)*(ROW(data_absen!$C$2:$C$2000)))-1)*1440,\"\")","v":""},{"$f":"IFERROR(INDEX(data_absen!$K$2:$K$2000,SUMPRODUCT((data_absen!$B$2:$B$2000=$A13)*(data_absen!$C$2:$C$2000=BE$3)*(ROW(data_absen!$C$2:$C$2000)))-1)*1440,\"\")","v":""},{"$f":"IFERROR(INDEX(data_absen!$I$2:$I$2000,SUMPRODUCT((data_absen!$B$2:$B$2000=$A13)*(data_absen!$C$2:$C$2000=BE$3)*(ROW(data_absen!$C$2:$C$2000)))-1)*1440,\"\")","v":""},null,null,{"$f":"IFERROR(INDEX(data_absen!$J$2:$J$2000,SUMPRODUCT((data_absen!$B$2:$B$2000=$A13)*(data_absen!$C$2:$C$2000=BE$3)*(ROW(data_absen!$C$2:$C$2000)))-1)*1440,\"\")","v":""},{"$f":"IFERROR(INDEX(data_absen!$K$2:$K$2000,SUMPRODUCT((data_absen!$B$2:$B$2000=$A13)*(data_absen!$C$2:$C$2000=BJ$3)*(ROW(data_absen!$C$2:$C$2000)))-1)*1440,\"\")","v":""},{"$f":"IFERROR(INDEX(data_absen!$I$2:$I$2000,SUMPRODUCT((data_absen!$B$2:$B$2000=$A13)*(data_absen!$C$2:$C$2000=BJ$3)*(ROW(data_absen!$C$2:$C$2000)))-1)*1440,\"\")","v":""},null,null,{"$f":"IFERROR(INDEX(data_absen!$J$2:$J$2000,SUMPRODUCT((data_absen!$B$2:$B$2000=$A13)*(data_absen!$C$2:$C$2000=BJ$3)*(ROW(data_absen!$C$2:$C$2000)))-1)*1440,\"\")","v":""},{"$f":"IFERROR(INDEX(data_absen!$K$2:$K$2000,SUMPRODUCT((data_absen!$B$2:$B$2000=$A13)*(data_absen!$C$2:$C$2000=BO$3)*(ROW(data_absen!$C$2:$C$2000)))-1)*1440,\"\")","v":""},{"$f":"IFERROR(INDEX(data_absen!$I$2:$I$2000,SUMPRODUCT((data_absen!$B$2:$B$2000=$A13)*(data_absen!$C$2:$C$2000=BO$3)*(ROW(data_absen!$C$2:$C$2000)))-1)*1440,\"\")","v":""},null,null,{"$f":"IFERROR(INDEX(data_absen!$J$2:$J$2000,SUMPRODUCT((data_absen!$B$2:$B$2000=$A13)*(data_absen!$C$2:$C$2000=BO$3)*(ROW(data_absen!$C$2:$C$2000)))-1)*1440,\"\")","v":""},{"$f":"COUNTIFS(data_absen!$B$2:$B$2000,$A13,data_absen!$I$2:$I$2000,\">0\")","v":0}]
["Reni",{"$f":"INDEX(data_absen!$G$2:$G$2000,SUMPRODUCT((data_absen!$B$2:$B$2000=$A16)*(data_absen!$C$2:$C$2000=B$3)*(ROW(data_absen!$C$2:$C$2000)))-1)","v":"06:47:00"},null,"-",{"$f":"INDEX(data_absen!$H$2:$H$2000,SUMPRODUCT((data_absen!$B$2:$B$2000=$A16)*(data_absen!$C$2:$C$2000=B$3)*(ROW(data_absen!$C$2:$C$2000)))-1)","v":"15:15:00"},null,{"$f":"INDEX(data_absen!$G$2:$G$2000,SUMPRODUCT((data_absen!$B$2:$B$2000=$A16)*(data_absen!$C$2:$C$2000=G$3)*(ROW(data_absen!$C$2:$C$2000)))-1)","v":"06:46:00"},null,"-",{"$f":"INDEX(data_absen!$H$2:$H$2000,SUMPRODUCT((data_absen!$B$2:$B$2000=$A16)*(data_absen!$C$2:$C$2000=G$3)*(ROW(data_absen!$C$2:$C$2000)))-1)","v":""},null,{"$f":"INDEX(data_absen!$G$2:$G$2000,SUMPRODUCT((data_absen!$B$2:$B$2000=$A16)*(data_absen!$C$2:$C$2000=L$3)*(ROW(data_absen!$C$2:$C$2000)))-1)","v":""},null,"-",{"$f":"INDEX(data_absen!$H$2:$H$2000,SUMPRODUCT((data_absen!$B$2:$B$2000=$A16)*(data_absen!$C$2:$C$2000=L$3)*(ROW(data_absen!$C$2:$C$2000)))-1)","v":""},null,{"$f":"INDEX(data_absen!$G$2:$G$2000,SUMPRODUCT((data_absen!$B$2:$B$2000=$A16)*(data_absen!$C$2:$C$2000=Q$3)*(ROW(data_absen!$C$2:$C$2000)))-1)","v":""},null,"-",{"$f":"INDEX(data_absen!$H$2:$H$2000,SUMPRODUCT((data_absen!$B$2:$B$2000=$A16)*(data_absen!$C$2:$C$2000=Q$3)*(ROW(data_absen!$C$2:$C$2000)))-1)","v":""},null,{"$f":"INDEX(data_absen!$G$2:$G$2000,SUMPRODUCT((data_absen!$B$2:$B$2000=$A16)*(data_absen!$C$2:$C$2000=V$3)*(ROW(data_absen!$C$2:$C$2000)))-1)","v":""},null,"-",{"$f":"INDEX(data_absen!$H$2:$H$2000,SUMPRODUCT((data_absen!$B$2:$B$2000=$A16)*(data_absen!$C$2:$C$2000=V$3)*(ROW(data_absen!$C$2:$C$2000)))-1)","v":""},null,{"$f":"INDEX(data_absen!$G$2:$G$2000,SUMPRODUCT((data_absen!$B$2:$B$2000=$A16)*(data_absen!$C$2:$C$2000=AA$3)*(ROW(data_absen!$C$2:$C$2000)))-1)","v":""},null,"-",{"$f":"INDEX(data_absen!$H$2:$H$2000,SUMPRODUCT((data_absen!$B$2:$B$2000=$A16)*(data_absen!$C$2:$C$2000=AA$3)*(ROW(data_absen!$C$2:$C$2000)))-1)","v":""},null,{"$f":"INDEX(data_absen!$G$2:$G$2000,SUMPRODUCT((data_absen!$B$2:$B$2000=$A16)*(data_absen!$C$2:$C$2000=AF$3)*(ROW(data_absen!$C$2:$C$2000)))-1)","v":""},null,"-",{"$f":"INDEX(data_absen!$H$2:$H$2000,SUMPRODUCT((data_absen!$B$2:$B$2000=$A16)*(data_absen!$C$2:$C$2000=AF$3)*(ROW(data_absen!$C$2:$C$2000)))-1)","v":""},null,{"$f":"INDEX(data_absen!$G$2:$G$2000,SUMPRODUCT((data_absen!$B$2:$B$2000=$A16)*(data_absen!$C$2:$C$2000=AK$3)*(ROW(data_absen!$C$2:$C$2000)))-1)","v":""},null,"-",{"$f":"INDEX(data_absen!$H$2:$H$2000,SUMPRODUCT((data_absen!$B$2:$B$2000=$A16)*(data_absen!$C$2:$C$2000=AK$3)*(ROW(data_absen!$C$2:$C$2000)))-1)","v":""},null,{"$f":"INDEX(data_absen!$G$2:$G$2000,SUMPRODUCT((data_absen!$B$2:$B$2000=$A16)*(data_absen!$C$2:$C$2000=AP$3)*(ROW(data_absen!$C$2:$C$2000)))-1)","v":""},null,"-",{"$f":"INDEX(data_absen!$H$2:$H$2000,SUMPRODUCT((data_absen!$B$2:$B$2000=$A16)*(data_absen!$C$2:$C$2000=AP$3)*(ROW(data_absen!$C$2:$C$2000)))-1)","v":""},null,{"$f":"INDEX(data_absen!$G$2:$G$2000,SUMPRODUCT((data_absen!$B$2:$B$2000=$A16)*(data_absen!$C$2:$C$2000=AU$3)*(ROW(data_absen!$C$2:$C$2000)))-1)","v":""},null,"-",{"$f":"INDEX(data_absen!$H$2:$H$2000,SUMPRODUCT((data_absen!$B$2:$B$2000=$A16)*(data_absen!$C$2:$C$2000=AU$3)*(ROW(data_absen!$C$2:$C$2000)))-1)","v":""},null,{"$f":"INDEX(data_absen!$G$2:$G$2000,SUMPRODUCT((data_absen!$B$2:$B$2000=$A16)*(data_absen!$C$2:$C$2000=AZ$3)*(ROW(data_absen!$C$2:$C$2000)))-1)","v":""},null,"-",{"$f":"INDEX(data_absen!$H$2:$H$2000,SUMPRODUCT((data_absen!$B$2:$B$2000=$A16)*(data_absen!$C$2:$C$2000=AZ$3)*(ROW(data_absen!$C$2:$C$2000)))-1)","v":""},null,{"$f":"INDEX(data_absen!$G$2:$G$2000,SUMPRODUCT((data_absen!$B$2:$B$2000=$A16)*(data_absen!$C$2:$C$2000=BE$3)*(ROW(data_absen!$C$2:$C$2000)))-1)","v":""},null,"-",{"$f":"INDEX(data_absen!$H$2:$H$2000,SUMPRODUCT((data_absen!$B$2:$B$2000=$A16)*(data_absen!$C$2:$C$2000=BE$3)*(ROW(data_absen!$C$2:$C$2000)))-1)","v":""},null,{"$f":"INDEX(data_absen!$G$2:$G$2000,SUMPRODUCT((data_absen!$B$2:$B$2000=$A16)*(data_absen!$C$2:$C$2000=BJ$3)*(ROW(data_absen!$C$2:$C$2000)))-1)","v":""},null,"-",{"$f":"INDEX(data_absen!$H$2:$H$2000,SUMPRODUCT((data_absen!$B$2:$B$2000=$A16)*(data_absen!$C$2:$C$2000=BJ$3)*(ROW(data_absen!$C$2:$C$2000)))-1)","v":""},null,{"$f":"INDEX(data_absen!$G$2:$G$2000,SUMPRODUCT((data_absen!$B$2:$B$2000=$A16)*(data_absen!$C$2:$C$2000=BO$3)*(ROW(data_absen!$C$2:$C$2000)))-1)","v":""},null,"-",{"$f":"INDEX(data_absen!$H$2:$H$2000,SUMPRODUCT((data_absen!$B$2:$B$2000=$A16)*(data_absen!$C$2:$C$2000=BO$3)*(ROW(data_absen!$C$2:$C$2000)))-1)","v":""}]
[301,null,null,"-",null,null,null,null,"-",null,null,null,null,"-",null,null,null,null,"-",null,null,null,null,"-",null,null,null,null,"-",null,null,null,null,"-",null,null,null,null,"-",null,null,null,null,"-",null,null,null,null,"-",null,null,null,null,"-",null,null,null,null,"-",null,null,null,null,"-",null,null,null,null,"-"]
[null,{"$f":"IFERROR(INDEX(data_absen!$K$2:$K$2000,SUMPRODUCT((data_absen!$B$2:$B$2000=$A16)*(data_absen!$C$2:$C$2000=B$3)*(ROW(data_absen!$C$2:$C$2000)))-1)*1440,\"\")","v":""},{"$f":"IFERROR(INDEX(data_absen!$I$2:$I$2000,SUMPRODUCT((data_absen!$B$2:$B$2000=$A16)*(data_absen!$C$2:$C$2000=B$3)*(ROW(data_absen!$C$2:$C$2000)))-1)*1440,\"\")","v":""},null,null,{"$f":"IFERROR(INDEX(data_absen!$J$2:$J$2000,SUMPRODUCT((data_absen!$B$2:$B$2000=$A16)*(data_absen!$C$2:$C$2000=B$3)*(ROW(data_absen!$C$2:$C$2000)))-1)*1440,\"\")","v":105},{"$f":"IFERROR(INDEX(data_absen!$K$2:$K$2000,SUMPRODUCT((data_absen!$B$2:$B$2000=$A16)*(data_absen!$C$2:$C$2000=G$3)*(ROW(data_absen!$C$2:$C$2000)))-1)*1440,\"\")","v":""},{"$f":"IFERROR(INDEX(data_absen!$I$2:$I$2000,SUMPRODUCT((data_absen!$B$2:$B$2000=$A16)*(data_absen!$C$2:$C$2000=G$3)*(ROW(data_absen!$C$2:$C$2000)))-1)*1440,\"\")","v":""},null,null,{"$f":"IFERROR(INDEX(data_absen!$J$2:$J$2000,SUMPRODUCT((data_absen!$B$2:$B$2000=$A16)*(data_absen!$C$2:$C$2000=G$3)*(ROW(data_absen!$C$2:$C$2000)))-1)*1440,\"\")","v":120},{"$f":"IFERROR(INDEX(data_absen!$K$2:$K$2000,SUMPRODUCT((data_absen!$B$2:$B$2000=$A16)*(data_absen!$C$2:$C$2000=L$3)*(ROW(data_absen!$C$2:$C$2000)))-1)*1440,\"\")","v":""},{"$f":"IFERROR(INDEX(data_absen!$I$2:$I$2000,SUMPRODUCT((data_absen!$B$2:$B$2000=$A16)*(data_absen!$C$2:$C$2000=L$3)*(ROW(data_absen!$C$2:$C$2000)))-1)*1440,\"\")","v":""},null,null,{"$f":"IFERROR(INDEX(data_absen!$J$2:$J$2000,SUMPRODUCT((data_absen!$B$2:$B$2000=$A16)*(data_absen!$C$2:$C$2000=L$3)*(ROW(data_absen!$C$2:$C$2000)))-1)*1440,\"\")","v":""},{"$f":"IFERROR(INDEX(data_absen!$K$2:$K$2000,SUMPRODUCT((data_absen!$B$2:$B$2000=$A16)*(data_absen!$C$2:$C$2000=Q$3)*(ROW(data_absen!$C$2:$C$2000)))-1)*1440,\"\")","v":""},{"$f":"IFERROR(INDEX(data_absen!$I$2:$I$2000,SUMPRODUCT((data_absen!$B$2:$B$2000=$A16)*(data_absen!$C$2:$C$2000=Q$3)*(ROW(data_absen!$C$2:$C$2000)))-1)*1440,\"\")","v":""},null,null,{"$f":"IFERROR(INDEX(data_absen!$J$2:$J$2000,SUMPRODUCT((data_absen!$B$2:$B$2000=$A16)*(data_absen!$C$2:$C$2000=Q$3)*(ROW(data_absen!$C$2:$C$2000)))-1)*1440,\"\")","v":""},{"$f":"IFERROR(INDEX(data_absen!$K$2:$K$2000,SUMPRODUCT((data_absen!$B$2:$B$2000=$A16)*(data_absen!$C$2:$C$2000=V$3)*(ROW(data_absen!$C$2:$C$2000)))-1)*1440,\"\")","v":""},{"$f":"IFERROR(INDEX(data_absen!$I$2:$I$2000,SUMPRODUCT((data_absen!$B$2:$B$2000=$A16)*(data_absen!$C$2:$C$2000=V$3)*(ROW(data_absen!$C$2:$C$2000)))-1)*1440,\"\")","v":""},null,null,{"$f":"IFERROR(INDEX(data_absen!$J$2:$J$2000,SUMPRODUCT((data_absen!$B$2:$B$2000=$A16)*(data_absen!$C$2:$C$2000=V$3)*(ROW(data_absen!$C$2:$C$2000)))-1)*1440,\"\")","v":""},{"$f":"IFERROR(INDEX(data_absen!$K$2:$K$2000,SUMPRODUCT((data_absen!$B$2:$B$2000=$A16)*(data_absen!$C$2:$C$2000=AA$3)*(ROW(data_absen!$C$2:$C$2000)))-1)*1440,\"\")","v":""},{"$f":"IFERROR(INDEX(data_absen!$I$2:$I$2000,SUMPRODUCT((data_absen!$B$2:$B$2000=$A16)*(data_absen!$C$2:$C$2000=AA$3)*(ROW(data_absen!$C$2:$C$2000)))-1)*1440,\"\")","v":""},null,null,{"$f":"IFERROR(INDEX(data_absen!$J$2:$J$2000,SUMPRODUCT((data_absen!$B$2:$B$2000=$A16)*(data_absen!$C$2:$C$2000=AA$3)*(ROW(data_absen!$C$2:$C$2000)))-1)*1440,\"\")","v":""},{"$f":"IFERROR(INDEX(data_absen!$K$2:$K$2000,SUMPRODUCT((data_absen!$B$2:$B$2000=$A16)*(data_absen!$C$2:$C$2000=AF$3)*(ROW(data_absen!$C$2:$C$2000)))-1)*1440,\"\")","v":""},{"$f":"IFERROR(INDEX(data_absen!$I$2:$I$2000,SUMPRODUCT((data_absen!$B$2:$B$2000=$A16)*(data_absen!$C$2:$C$2000=AF$3)*(ROW(data_absen!$C$2:$C$2000)))-1)*1440,\"\")","v":""},null,null,{"$f":"IFERROR(INDEX(data_absen!$J$2:$J$2000,SUMPRODUCT((data_absen!$B$2:$B$2000=$A16)*(data_absen!$C$2:$C$2000=AF$3)*(ROW(data_absen!$C$2:$C$2000)))-1)*1440,\"\")","v":""},{"$f":"IFERROR(INDEX(data_absen!$K$2:$K$2000,SUMPRODUCT((data_absen!$B$2:$B$2000=$A16)*(data_absen!$C$2:$C$2000=AK$3)*(ROW(data_absen!$C$2:$C$2000)))-1)*1440,\"\")","v":""},{"$f":"IFERROR(INDEX(data_absen!$I$2:$I$2000,SUMPRODUCT((data_absen!$B$2:$B$2000=$A16)*(data_absen!$C$2:$C$2000=AK$3)*(ROW(data_absen!$C$2:$C$2000)))-1)*1440,\"\")","v":""},null,null,{"$f":"IFERROR(INDEX(data_absen!$J$2:$J$2000,SUMPRODUCT((data_absen!$B$2:$B$2000=$A16)*(data_absen!$C$2:$C$2000=AK$3)*(ROW(data_absen!$C$2:$C$2000)))-1)*1440,\"\")","v":""},{"$f":"IFERROR(INDEX(data_absen!$K$2:$K$2000,SUMPRODUCT((data_absen!$B$2:$B$2000=$A16)*(data_absen!$C$2:$C$2000=AP$3)*(ROW(data_absen!$C$2:$C$2000)))-1)*1440,\"\")","v":""},{"$f":"IFERROR(INDEX(data_absen!$I$2:$I$2000,SUMPRODUCT((data_absen!$B$2:$B$2000=$A16)*(data_absen!$C$2:$C$2000=AP$3)*(ROW(data_absen!$C$2:$C$2000)))-1)*1440,\"\")","v":""},null,null,{"$f":"IFERROR(INDEX(data_absen!$J$2:$J$2000,SUMPRODUCT((data_absen!$B$2:$B$2000=$A16)*(data_absen!$C$2:$C$2000=AP$3)*(ROW(data_absen!$C$2:$C$2000)))-1)*1440,\"\")","v":""},{"$f":"IFERROR(INDEX(data_absen!$K$2:$K$2000,SUMPRODUCT((data_absen!$B$2:$B$2000=$A16)*(data_absen!$C$2:$C$2000=AU$3)*(ROW(data_absen!$C$2:$C$2000)))-1)*1440,\"\")","v":""},{"$f":"IFERROR(INDEX(data_absen!$I$2:$I$2000,SUMPRODUCT((data_absen!$B$2:$B$2000=$A16)*(data_absen!$C$2:$C$2000=AU$3)*(ROW(data_absen!$C$2:$C$2000)))-1)*1440,\"\")","v":""},null,null,{"$f":"IFERROR(INDEX(data_absen!$J$2:$J$2000,SUMPRODUCT((data_absen!$B$2:$B$2000=$A16)*(data_absen!$C$2:$C$2000=AU$3)*(ROW(data_absen!$C$2:$C$2000)))-1)*1440,\"\")","v":""},{"$f":"IFERROR(INDEX(data_absen!$K$2:$K$2000,SUMPRODUCT((data_absen!$B$2:$B$2000=$A16)*(data_absen!$C$2:$C$2000=AZ$3)*(ROW(data_absen!$C$2:$C$2000)))-1)*1440,\"\")","v":""},{"$f":"IFERROR(INDEX(data_absen!$I$2:$I$2000,SUMPRODUCT((data_absen!$B$2:$B$2000=$A16)*(data_absen!$C$2:$C$2000=AZ$3)*(ROW(data_absen!$C$2:$C$2000)))-1)*1440,\"\")","v":""},null,null,{"$f":"IFERROR(INDEX(data_absen!$J$2:$J$2000,SUMPRODUCT((data_absen!$B$2:$B$2000=$A16)*(data_absen!$C$2:$C$2000=AZ$3)*(ROW(data_absen!$C$2:$C$2000)))-1)*1440,\"\")","v":""},{"$f":"IFERROR(INDEX(data_absen!$K$2:$K$2000,SUMPRODUCT((data_absen!$B$2:$B$2000=$A16)*(data_absen!$C$2:$C$2000=BE$3)*(ROW(data_absen!$C$2:$C$2000)))-1)*1440,\"\")","v":""},{"$f":"IFERROR(INDEX(data_absen!$I$2:$I$2000,SUMPRODUCT((data_absen!$B$2:$B$2000=$A16)*(data_absen!$C$2:$C$2000=BE$3)*(ROW(data_absen!$C$2:$C$2000)))-1)*1440,\"\")","v":""},null,null,{"$f":"IFERROR(INDEX(data_absen!$J$2:$J$2000,SUMPRODUCT((data_absen!$B$2:$B$2000=$A16)*(data_absen!$C$2:$C$2000=BE$3)*(ROW(data_absen!$C$2:$C$2000)))-1)*1440,\"\")","v":""},{"$f":"IFERROR(INDEX(data_absen!$K$2:$K$2000,SUMPRODUCT((data_absen!$B$2:$B$2000=$A16)*(data_absen!$C$2:$C$2000=BJ$3)*(ROW(data_absen!$C$2:$C$2000)))-1)*1440,\"\")","v":""},{"$f":"IFERROR(INDEX(data_absen!$I$2:$I$2000,SUMPRODUCT((data_absen!$B$2:$B$2000=$A16)*(data_absen!$C$2:$C$2000=BJ$3)*(ROW(data_absen!$C$2:$C$2000)))-1)*1440,\"\")","v":""},null,null,{"$f":"IFERROR(INDEX(data_absen!$J$2:$J$2000,SUMPRODUCT((data_absen!$B$2:$B$2000=$A16)*(data_absen!$C$2:$C$2000=BJ$3)*(ROW(data_absen!$C$2:$C$2000)))-1)*1440,\"\")","v":""},{"$f":"IFERROR(INDEX(data_absen!$K$2:$K$2000,SUMPRODUCT((data_absen!$B$2:$B$2000=$A16)*(data_absen!$C$2:$C$2000=BO$3)*(ROW(data_absen!$C$2:$C$2000)))-1)*1440,\"\")","v":""},{"$f":"IFERROR(INDEX(data_absen!$I$2:$I$2000,SUMPRODUCT((data_absen!$B$2:$B$2000=$A16)*(data_absen!$C$2:$C$2000=BO$3)*(ROW(data_absen!$C$2:$C$2000)))-1)*1440,\"\")","v":""},null,null,{"$f":"IFERROR(INDEX(data_absen!$J$2:$J$2000,SUMPRODUCT((data_absen!$B$2:$B$2000=$A16)*(data_absen!$C$2:$C$2000=BO$3)*(ROW(data_absen!$C$2:$C$2000)))-1)*1440,\"\")","v":""},{"$f":"COUNTIFS(data_absen!$B$2:$B$2000,$A16,data_absen!$I$2:$I$2000,\">0\")","v":2}]
["Saroh",{"$f":"INDEX(data_absen!$G$2:$G$2000,SUMPRODUCT((data_absen!$B$2:$B$2000=$A19)*(data_absen!$C$2:$C$2000=B$3)*(ROW(data_absen!$C$2:$C$2000)))-1)","v":""},null,"-",{"$f":"INDEX(data_absen!$H$2:$H$2000,SUMPRODUCT((data_absen!$B$2:$B$2000=$A19)*(data_absen!$C$2:$C$2000=B$3)*(ROW(data_absen!$C$2:$C$2000)))-1)","v":""},null,{"$f":"INDEX(data_absen!$G$2:$G$2000,SUMPRODUCT((data_absen!$B$2:$B$2000=$A19)*(data_absen!$C$2:$C$2000=G$3)*(ROW(data_absen!$C$2:$C$2000)))-1)","v":""},null,"-",{"$f":"INDEX(data_absen!$H$2:$H$2000,SUMPRODUCT((data_absen!$B$2:$B$2000=$A19)*(data_absen!$C$2:$C$2000=G$3)*(ROW(data_absen!$C$2:$C$2000)))-1)","v":""},null,{"$f":"INDEX(data_absen!$G$2:$G$2000,SUMPRODUCT((data_absen!$B$2:$B$2000=$A19)*(data_absen!$C$2:$C$2000=L$3)*(ROW(data_absen!$C$2:$C$2000)))-1)","v":""},null,"-",{"$f":"INDEX(data_absen!$H$2:$H$2000,SUMPRODUCT((data_absen!$B$2:$B$2000=$A19)*(data_absen!$C$2:$C$2000=L$3)*(ROW(data_absen!$C$2:$C$2000)))-1)","v":""},null,{"$f":"INDEX(data_absen!$G$2:$G$2000,SUMPRODUCT((data_absen!$B$2:$B$2000=$A19)*(data_absen!$C$2:$C$2000=Q$3)*(ROW(data_absen!$C$2:$C$2000)))-1)","v":""},null,"-",{"$f":"INDEX(data_absen!$H$2:$H$2000,SUMPRODUCT((data_absen!$B$2:$B$2000=$A19)*(data_absen!$C$2:$C$2000=Q$3)*(ROW(data_absen!$C$2:$C$2000)))-1)","v":""},null,{"$f":"INDEX(data_absen!$G$2:$G$2000,SUMPRODUCT((data_absen!$B$2:$B$2000=$A19)*(data_absen!$C$2:$C$2000=V$3)*(ROW(data_absen!$C$2:$C$2000)))-1)","v":""},null,"-",{"$f":"INDEX(data_absen!$H$2:$H$2000,SUMPRODUCT((data_absen!$B$2:$B$2000=$A19)*(data_absen!$C$2:$C$2000=V$3)*(ROW(data_absen!$C$2:$C$2000)))-1)","v":""},null,{"$f":"INDEX(data_absen!$G$2:$G$2000,SUMPRODUCT((data_absen!$B$2:$B$2000=$A19)*(data_absen!$C$2:$C$2000=AA$3)*(ROW(data_absen!$C$2:$C$2000)))-1)","v":""},null,"-",{"$f":"INDEX(data_absen!$H$2:$H$2000,SUMPRODUCT((data_absen!$B$2:$B$2000=$A19)*(data_absen!$C$2:$C$2000=AA$3)*(ROW(data_absen!$C$2:$C$2000)))-1)","v":""},null,{"$f":"INDEX(data_absen!$G$2:$G$2000,SUMPRODUCT((data_absen!$B$2:$B$2000=$A19)*(data_absen!$C$2:$C$2000=AF$3)*(ROW(data_absen!$C$2:$C$2000)))-1)","v":""},null,"-",{"$f":"INDEX(data_absen!$H$2:$H$2000,SUMPRODUCT((data_absen!$B$2:$B$2000=$A19)*(data_absen!$C$2:$C$2000=AF$3)*(ROW(data_absen!$C$2:$C$2000)))-1)","v":""},null,{"$f":"INDEX(data_absen!$G$2:$G$2000,SUMPRODUCT((data_absen!$B$2:$B$2000=$A19)*(data_absen!$C$2:$C$2000=AK$3)*(ROW(data_absen!$C$2:$C$2000)))-1)","v":""},null,"-",{"$f":"INDEX(data_absen!$H$2:$H$2000,SUMPRODUCT((data_absen!$B$2:$B$2000=$A19)*(data_absen!$C$2:$C$2000=AK$3)*(ROW(data_absen!$C$2:$C$2000)))-1)","v":""},null,{"$f":"INDEX(data_absen!$G$2:$G$2000,SUMPRODUCT((data_absen!$B$2:$B$2000=$A19)*(data_absen!$C$2:$C$2000=AP$3)*(ROW(data_absen!$C$2:$C$2000)))-1)","v":""},null,"-",{"$f":"INDEX(data_absen!$H$2:$H$2000,SUMPRODUCT((data_absen!$B$2:$B$2000=$A19)*(data_absen!$C$2:$C$2000=AP$3)*(ROW(data_absen!$C$2:$C$2000)))-1)","v":""},null,{"$f":"INDEX(data_absen!$G$2:$G$2000,SUMPRODUCT((data_absen!$B$2:$B$2000=$A19)*(data_absen!$C$2:$C$2000=AU$3)*(ROW(data_absen!$C$2:$C$2000)))-1)","v":""},null,"-",{"$f":"INDEX(data_absen!$H$2:$H$2000,SUMPRODUCT((data_absen!$B$2:$B$2000=$A19)*(data_absen!$C$2:$C$2000=AU$3)*(ROW(data_absen!$C$2:$C$2000)))-1)","v":""},null,{"$f":"INDEX(data_absen!$G$2:$G$2000,SUMPRODUCT((data_absen!$B$2:$B$2000=$A19)*(data_absen!$C$2:$C$2000=AZ$3)*(ROW(data_absen!$C$2:$C$2000)))-1)","v":""},null,"-",{"$f":"INDEX(data_absen!$H$2:$H$2000,SUMPRODUCT((data_absen!$B$2:$B$2000=$A19)*(data_absen!$C$2:$C$2000=AZ$3)*(ROW(data_absen!$C$2:$C$2000)))-1)","v":""},null,{"$f":"INDEX(data_absen!$G$2:$G$2000,SUMPRODUCT((data_absen!$B$2:$B$2000=$A19)*(data_absen!$C$2:$C$2000=BE$3)*(ROW(data_absen!$C$2:$C$2000)))-1)","v":""},null,"-",{"$f":"INDEX(data_absen!$H$2:$H$2000,SUMPRODUCT((data_absen!$B$2:$B$2000=$A19)*(data_absen!$C$2:$C$2000=BE$3)*(ROW(data_absen!$C$2:$C$2000)))-1)","v":""},null,{"$f":"INDEX(data_absen!$G$2:$G$2000,SUMPRODUCT((data_absen!$B$2:$B$2000=$A19)*(data_absen!$C$2:$C$2000=BJ$3)*(ROW(data_absen!$C$2:$C$2000)))-1)","v":""},null,"-",{"$f":"INDEX(data_absen!$H$2:$H$2000,SUMPRODUCT((data_absen!$B$2:$B$2000=$A19)*(data_absen!$C$2:$C$2000=BJ$3)*(ROW(data_absen!$C$2:$C$2000)))-1)","v":""},null,{"$f":"INDEX(data_absen!$G$2:$G$2000,SUMPRODUCT((data_absen!$B$2:$B$2000=$A19)*(data_absen!$C$2:$C$2000=BO$3)*(ROW(data_absen!$C$2:$C$2000)))-1)","v":""},null,"-",{"$f":"INDEX(data_absen!$H$2:$H$2000,SUMPRODUCT((data_absen!$B$2:$B$2000=$A19)*(data_absen!$C$2:$C$2000=BO$3)*(ROW(data_absen!$C$2:$C$2000)))-1)","v":""}]
[302,null,null,"-",null,null,null,null,"-",null,null,null,null,"-",null,null,null,null,"-",null,null,null,null,"-",null,null,null,null,"-",null,null,null,null,"-",null,null,null,null,"-",null,null,null,null,"-",null,null,null,null,"-",null,null,null,null,"-",null,null,null,null,"-",null,null,null,null,"-",null,null,null,null,"-"]
[null,{"$f":"IFERROR(INDEX(data_absen!$K$2:$K$2000,SUMPRODUCT((data_absen!$B$2:$B$2000=$A19)*(data_absen!$C$2:$C$2000=B$3)*(ROW(data_absen!$C$2:$C$2000)))-1)*1440,\"\")","v":""},{"$f":"IFERROR(INDEX(data_absen!$I$2:$I$2000,SUMPRODUCT((data_absen!$B$2:$B$2000=$A19)*(data_absen!$C$2:$C$2000=B$3)*(ROW(data_absen!$C$2:$C$2000)))-1)*1440,\"\")","v":""},null,null,{"$f":"IFERROR(INDEX(data_absen!$J$2:$J$2000,SUMPRODUCT((data_absen!$B$2:$B$2000=$A19)*(data_absen!$C$2:$C$2000=B$3)*(ROW(data_absen!$C$2:$C$2000)))-1)*1440,\"\")","v":""},{"$f":"IFERROR(INDEX(data_absen!$K$2:$K$2000,SUMPRODUCT((data_absen!$B$2:$B$2000=$A19)*(data_absen!$C$2:$C$2000=G$3)*(ROW(data_absen!$C$2:$C$2000)))-1)*1440,\"\")","v":""},{"$f":"IFERROR(INDEX(data_absen!$I$2:$I$2000,SUMPRODUCT((data_absen!$B$2:$B$2000=$A19)*(data_absen!$C$2:$C$2000=G$3)*(ROW(data_absen!$C$2:$C$2000)))-1)*1440,\"\")","v":""},null,null,{"$f":"IFERROR(INDEX(data_absen!$J$2:$J$2000,SUMPRODUCT((data_absen!$B$2:$B$2000=$A19)*(data_absen!$C$2:$C$2000=G$3)*(ROW(data_absen!$C$2:$C$2000)))-1)*1440,\"\")","v":""},{"$f":"IFERROR(INDEX(data_absen!$K$2:$K$2000,SUMPRODUCT((data_absen!$B$2:$B$2000=$A19)*(data_absen!$C$2:$C$2000=L$3)*(ROW(data_absen!$C$2:$C$2000)))-1)*1440,\"\")","v":""},{"$f":"IFERROR(INDEX(data_absen!$I$2:$I$2000,SUMPRODUCT((data_absen!$B$2:$B$2000=$A19)*(data_absen!$C$2:$C$2000=L$3)*(ROW(data_absen!$C$2:$C$2000)))-1)*1440,\"\")","v":""},null,null,{"$f":"IFERROR(INDEX(data_absen!$J$2:$J$2000,SUMPRODUCT((data_absen!$B$2:$B$2000=$A19)*(data_absen!$C$2:$C$2000=L$3)*(ROW(data_absen!$C$2:$C$2000)))-1)*1440,\"\")","v":""},{"$f":"IFERROR(INDEX(data_absen!$K$2:$K$2000,SUMPRODUCT((data_absen!$B$2:$B$2000=$A19)*(data_absen!$C$2:$C$2000=Q$3)*(ROW(data_absen!$C$2:$C$2000)))-1)*1440,\"\")","v":""},{"$f":"IFERROR(INDEX(data_absen!$I$2:$I$2000,SUMPRODUCT((data_absen!$B$2:$B$2000=$A19)*(data_absen!$C$2:$C$2000=Q$3)*(ROW(data_absen!$C$2:$C$2000)))-1)*1440,\"\")","v":""},null,null,{"$f":"IFERROR(INDEX(data_absen!$J$2:$J$2000,SUMPRODUCT((data_absen!$B$2:$B$2000=$A19)*(data_absen!$C$2:$C$2000=Q$3)*(ROW(data_absen!$C$2:$C$2000)))-1)*1440,\"\")","v":""},{"$f":"IFERROR(INDEX(data_absen!$K$2:$K$2000,SUMPRODUCT((data_absen!$B$2:$B$2000=$A19)*(data_absen!$C$2:$C$2000=V$3)*(ROW(data_absen!$C$2:$C$2000)))-1)*1440,\"\")","v":""},{"$f":"IFERROR(INDEX(data_absen!$I$2:$I$2000,SUMPRODUCT((data_absen!$B$2:$B$2000=$A19)*(data_absen!$C$2:$C$2000=V$3)*(ROW(data_absen!$C$2:$C$2000)))-1)*1440,\"\")","v":""},null,null,{"$f":"IFERROR(INDEX(data_absen!$J$2:$J$2000,SUMPRODUCT((data_absen!$B$2:$B$2000=$A19)*(data_absen!$C$2:$C$2000=V$3)*(ROW(data_absen!$C$2:$C$2000)))-1)*1440,\"\")","v":""},{"$f":"IFERROR(INDEX(data_absen!$K$2:$K$2000,SUMPRODUCT((data_absen!$B$2:$B$2000=$A19)*(data_absen!$C$2:$C$2000=AA$3)*(ROW(data_absen!$C$2:$C$2000)))-1)*1440,\"\")","v":""},{"$f":"IFERROR(INDEX(data_absen!$I$2:$I$2000,SUMPRODUCT((data_absen!$B$2:$B$2000=$A19)*(data_absen!$C$2:$C$2000=AA$3)*(ROW(data_absen!$C$2:$C$2000)))-1)*1440,\"\")","v":""},null,null,{"$f":"IFERROR(INDEX(data_absen!$J$2:$J$2000,SUMPRODUCT((data_absen!$B$2:$B$2000=$A19)*(data_absen!$C$2:$C$2000=AA$3)*(ROW(data_absen!$C$2:$C$2000)))-1)*1440,\"\")","v":""},{"$f":"IFERROR(INDEX(data_absen!$K$2:$K$2000,SUMPRODUCT((data_absen!$B$2:$B$2000=$A19)*(data_absen!$C$2:$C$2000=AF$3)*(ROW(data_absen!$C$2:$C$2000)))-1)*1440,\"\")","v":""},{"$f":"IFERROR(INDEX(data_absen!$I$2:$I$2000,SUMPRODUCT((data_absen!$B$2:$B$2000=$A19)*(data_absen!$C$2:$C$2000=AF$3)*(ROW(data_absen!$C$2:$C$2000)))-1)*1440,\"\")","v":""},null,null,{"$f":"IFERROR(INDEX(data_absen!$J$2:$J$2000,SUMPRODUCT((data_absen!$B$2:$B$2000=$A19)*(data_absen!$C$2:$C$2000=AF$3)*(ROW(data_absen!$C$2:$C$2000)))-1)*1440,\"\")","v":""},{"$f":"IFERROR(INDEX(data_absen!$K$2:$K$2000,SUMPRODUCT((data_absen!$B$2:$B$2000=$A19)*(data_absen!$C$2:$C$2000=AK$3)*(ROW(data_absen!$C$2:$C$2000)))-1)*1440,\"\")","v":""},{"$f":"IFERROR(INDEX(data_absen!$I$2:$I$2000,SUMPRODUCT((data_absen!$B$2:$B$2000=$A19)*(data_absen!$C$2:$C$2000=AK$3)*(ROW(data_absen!$C$2:$C$2000)))-1)*1440,\"\")","v":""},null,null,{"$f":"IFERROR(INDEX(data_absen!$J$2:$J$2000,SUMPRODUCT((data_absen!$B$2:$B$2000=$A19)*(data_absen!$C$2:$C$2000=AK$3)*(ROW(data_absen!$C$2:$C$2000)))-1)*1440,\"\")","v":""},{"$f":"IFERROR(INDEX(data_absen!$K$2:$K$2000,SUMPRODUCT((data_absen!$B$2:$B$2000=$A19)*(data_absen!$C$2:$C$2000=AP$3)*(ROW(data_absen!$C$2:$C$2000)))-1)*1440,\"\")","v":""},{"$f":"IFERROR(INDEX(data_absen!$I$2:$I$2000,SUMPRODUCT((data_absen!$B$2:$B$2000=$A19)*(data_absen!$C$2:$C$2000=AP$3)*(ROW(data_absen!$C$2:$C$2000)))-1)*1440,\"\")","v":""},null,null,{"$f":"IFERROR(INDEX(data_absen!$J$2:$J$2000,SUMPRODUCT((data_absen!$B$2:$B$2000=$A19)*(data_absen!$C$2:$C$2000=AP$3)*(ROW(data_absen!$C$2:$C$2000)))-1)*1440,\"\")","v":""},{"$f":"IFERROR(INDEX(data_absen!$K$2:$K$2000,SUMPRODUCT((data_absen!$B$2:$B$2000=$A19)*(data_absen!$C$2:$C$2000=AU$3)*(ROW(data_absen!$C$2:$C$2000)))-1)*1440,\"\")","v":""},{"$f":"IFERROR(INDEX(data_absen!$I$2:$I$2000,SUMPRODUCT((data_absen!$B$2:$B$2000=$A19)*(data_absen!$C$2:$C$2000=AU$3)*(ROW(data_absen!$C$2:$C$2000)))-1)*1440,\"\")","v":""},null,null,{"$f":"IFERROR(INDEX(data_absen!$J$2:$J$2000,SUMPRODUCT((data_absen!$B$2:$B$2000=$A19)*(data_absen!$C$2:$C$2000=AU$3)*(ROW(data_absen!$C$2:$C$2000)))-1)*1440,\"\")","v":""},{"$f":"IFERROR(INDEX(data_absen!$K$2:$K$2000,SUMPRODUCT((data_absen!$B$2:$B$2000=$A19)*(data_absen!$C$2:$C$2000=AZ$3)*(ROW(data_absen!$C$2:$C$2000)))-1)*1440,\"\")","v":""},{"$f":"IFERROR(INDEX(data_absen!$I$2:$I$2000,SUMPRODUCT((data_absen!$B$2:$B$2000=$A19)*(data_absen!$C$2:$C$2000=AZ$3)*(ROW(data_absen!$C$2:$C$2000)))-1)*1440,\"\")","v":""},null,null,{"$f":"IFERROR(INDEX(data_absen!$J$2:$J$2000,SUMPRODUCT((data_absen!$B$2:$B$2000=$A19)*(data_absen!$C$2:$C$2000=AZ$3)*(ROW(data_absen!$C$2:$C$2000)))-1)*1440,\"\")","v":""},{"$f":"IFERROR(INDEX(data_absen!$K$2:$K$2000,SUMPRODUCT((data_absen!$B$2:$B$2000=$A19)*(data_absen!$C$2:$C$2000=BE$3)*(ROW(data_absen!$C$2:$C$2000)))-1)*1440,\"\")","v":""},{"$f":"IFERROR(INDEX(data_absen!$I$2:$I$2000,SUMPRODUCT((data_absen!$B$2:$B$2000=$A19)*(data_absen!$C$2:$C$2000=BE$3)*(ROW(data_absen!$C$2:$C$2000)))-1)*1440,\"\")","v":""},null,null,{"$f":"IFERROR(INDEX(data_absen!$J$2:$J$2000,SUMPRODUCT((data_absen!$B$2:$B$2000=$A19)*(data_absen!$C$2:$C$2000=BE$3)*(ROW(data_absen!$C$2:$C$2000)))-1)*1440,\"\")","v":""},{"$f":"IFERROR(INDEX(data_absen!$K$2:$K$2000,SUMPRODUCT((data_absen!$B$2:$B$2000=$A19)*(data_absen!$C$2:$C$2000=BJ$3)*(ROW(data_absen!$C$2:$C$2000)))-1)*1440,\"\")","v":""},{"$f":"IFERROR(INDEX(data_absen!$I$2:$I$2000,SUMPRODUCT((data_absen!$B$2:$B$2000=$A19)*(data_absen!$C$2:$C$2000=BJ$3)*(ROW(data_absen!$C$2:$C$2000)))-1)*1440,\"\")","v":""},null,null,{"$f":"IFERROR(INDEX(data_absen!$J$2:$J$2000,SUMPRODUCT((data_absen!$B$2:$B$2000=$A19)*(data_absen!$C$2:$C$2000=BJ$3)*(ROW(data_absen!$C$2:$C$2000)))-1)*1440,\"\")","v":""},{"$f":"IFERROR(INDEX(data_absen!$K$2:$K$2000,SUMPRODUCT((data_absen!$B$2:$B$2000=$A19)*(data_absen!$C$2:$C$2000=BO$3)*(ROW(data_absen!$C$2:$C$2000)))-1)*1440,\"\")","v":""},{"$f":"IFERROR(INDEX(data_absen!$I$2:$I$2000,SUMPRODUCT((data_absen!$B$2:$B$2000=$A19)*(data_absen!$C$2:$C$2000=BO$3)*(ROW(data_absen!$C$2:$C$2000)))-1)*1440,\"\")","v":""},null,null,{"$f":"IFERROR(INDEX(data_absen!$J$2:$J$2000,SUMPRODUCT((data_absen!$B$2:$B$2000=$A19)*(data_absen!$C$2:$C$2000=BO$3)*(ROW(data_absen!$C$2:$C$2000)))-1)*1440,\"\")","v":""},{"$f":"COUNTIFS(data_absen!$B$2:$B$2000,$A19,data_absen!$I$2:$I$2000,\">0\")","v":0}]
["Ulhayati",{"$f":"INDEX(data_absen!$G$2:$G$2000,SUMPRODUCT((data_absen!$B$2:$B$2000=$A22)*(data_absen!$C$2:$C$2000=B$3)*(ROW(data_absen!$C$2:$C$2000)))-1)","v":""},null,"-",{"$f":"INDEX(data_absen!$H$2:$H$2000,SUMPRODUCT((data_absen!$B$2:$B$2000=$A22)*(data_absen!$C$2:$C$2000=B$3)*(ROW(data_absen!$C$2:$C$2000)))-1)","v":""},null,{"$f":"INDEX(data_absen!$G$2:$G$2000,SUMPRODUCT((data_absen!$B$2:$B$2000=$A22)*(data_absen!$C$2:$C$2000=G$3)*(ROW(data_absen!$C$2:$C$2000)))-1)","v":""},null,"-",{"$f":"INDEX(data_absen!$H$2:$H$2000,SUMPRODUCT((data_absen!$B$2:$B$2000=$A22)*(data_absen!$C$2:$C$2000=G$3)*(ROW(data_absen!$C$2:$C$2000)))-1)","v":""},null,{"$f":"INDEX(data_absen!$G$2:$G$2000,SUMPRODUCT((data_absen!$B$2:$B$2000=$A22)*(data_absen!$C$2:$C$2000=L$3)*(ROW(data_absen!$C$2:$C$2000)))-1)","v":""},null,"-",{"$f":"INDEX(data_absen!$H$2:$H$2000,SUMPRODUCT((data_absen!$B$2:$B$2000=$A22)*(data_absen!$C$2:$C$2000=L$3)*(ROW(data_absen!$C$2:$C$2000)))-1)","v":""},null,{"$f":"INDEX(data_absen!$G$2:$G$2000,SUMPRODUCT((data_absen!$B$2:$B$2000=$A22)*(data_absen!$C$2:$C$2000=Q$3)*(ROW(data_absen!$C$2:$C$2000)))-1)","v":""},null,"-",{"$f":"INDEX(data_absen!$H$2:$H$2000,SUMPRODUCT((data_absen!$B$2:$B$2000=$A22)*(data_absen!$C$2:$C$2000=Q$3)*(ROW(data_absen!$C$2:$C$2000)))-1)","v":""},null,{"$f":"INDEX(data_absen!$G$2:$G$2000,SUMPRODUCT((data_absen!$B$2:$B$2000=$A22)*(data_absen!$C$2:$C$2000=V$3)*(ROW(data_absen!$C$2:$C$2000)))-1)","v":""},null,"-",{"$f":"INDEX(data_absen!$H$2:$H$2000,SUMPRODUCT((data_absen!$B$2:$B$2000=$A22)*(data_absen!$C$2:$C$2000=V$3)*(ROW(data_absen!$C$2:$C$2000)))-1)","v":""},null,{"$f":"INDEX(data_absen!$G$2:$G$2000,SUMPRODUCT((data_absen!$B$2:$B$2000=$A22)*(data_absen!$C$2:$C$2000=AA$3)*(ROW(data_absen!$C$2:$C$2000)))-1)","v":""},null,"-",{"$f":"INDEX(data_absen!$H$2:$H$2000,SUMPRODUCT((data_absen!$B$2:$B$2000=$A22)*(data_absen!$C$2:$C$2000=AA$3)*(ROW(data_absen!$C$2:$C$2000)))-1)","v":""},null,{"$f":"INDEX(data_absen!$G$2:$G$2000,SUMPRODUCT((data_absen!$B$2:$B$2000=$A22)*(data_absen!$C$2:$C$2000=AF$3)*(ROW(data_absen!$C$2:$C$2000)))-1)","v":""},null,"-",{"$f":"INDEX(data_absen!$H$2:$H$2000,SUMPRODUCT((data_absen!$B$2:$B$2000=$A22)*(data_absen!$C$2:$C$2000=AF$3)*(ROW(data_absen!$C$2:$C$2000)))-1)","v":""},null,{"$f":"INDEX(data_absen!$G$2:$G$2000,SUMPRODUCT((data_absen!$B$2:$B$2000=$A22)*(data_absen!$C$2:$C$2000=AK$3)*(ROW(data_absen!$C$2:$C$2000)))-1)","v":""},null,"-",{"$f":"INDEX(data_absen!$H$2:$H$2000,SUMPRODUCT((data_absen!$B$2:$B$2000=$A22)*(data_absen!$C$2:$C$2000=AK$3)*(ROW(data_absen!$C$2:$C$2000)))-1)","v":""},null,{"$f":"INDEX(data_absen!$G$2:$G$2000,SUMPRODUCT((data_absen!$B$2:$B$2000=$A22)*(data_absen!$C$2:$C$2000=AP$3)*(ROW(data_absen!$C$2:$C$2000)))-1)","v":""},null,"-",{"$f":"INDEX(data_absen!$H$2:$H$2000,SUMPRODUCT((data_absen!$B$2:$B$2000=$A22)*(data_absen!$C$2:$C$2000=AP$3)*(ROW(data_absen!$C$2:$C$2000)))-1)","v":""},null,{"$f":"INDEX(data_absen!$G$2:$G$2000,SUMPRODUCT((data_absen!$B$2:$B$2000=$A22)*(data_absen!$C$2:$C$2000=AU$3)*(ROW(data_absen!$C$2:$C$2000)))-1)","v":""},null,"-",{"$f":"INDEX(data_absen!$H$2:$H$2000,SUMPRODUCT((data_absen!$B$2:$B$2000=$A22)*(data_absen!$C$2:$C$2000=AU$3)*(ROW(data_absen!$C$2:$C$2000)))-1)","v":""},null,{"$f":"INDEX(data_absen!$G$2:$G$2000,SUMPRODUCT((data_absen!$B$2:$B$2000=$A22)*(data_absen!$C$2:$C$2000=AZ$3)*(ROW(data_absen!$C$2:$C$2000)))-1)","v":""},null,"-",{"$f":"INDEX(data_absen!$H$2:$H$2000,SUMPRODUCT((data_absen!$B$2:$B$2000=$A22)*(data_absen!$C$2:$C$2000=AZ$3)*(ROW(data_absen!$C$2:$C$2000)))-1)","v":""},null,{"$f":"INDEX(data_absen!$G$2:$G$2000,SUMPRODUCT((data_absen!$B$2:$B$2000=$A22)*(data_absen!$C$2:$C$2000=BE$3)*(ROW(data_absen!$C$2:$C$2000)))-1)","v":""},null,"-",{"$f":"INDEX(data_absen!$H$2:$H$2000,SUMPRODUCT((data_absen!$B$2:$B$2000=$A22)*(data_absen!$C$2:$C$2000=BE$3)*(ROW(data_absen!$C$2:$C$2000)))-1)","v":""},null,{"$f":"INDEX(data_absen!$G$2:$G$2000,SUMPRODUCT((data_absen!$B$2:$B$2000=$A22)*(data_absen!$C$2:$C$2000=BJ$3)*(ROW(data_absen!$C$2:$C$2000)))-1)","v":""},null,"-",{"$f":"INDEX(data_absen!$H$2:$H$2000,SUMPRODUCT((data_absen!$B$2:$B$2000=$A22)*(data_absen!$C$2:$C$2000=BJ$3)*(ROW(data_absen!$C$2:$C$2000)))-1)","v":""},null,{"$f":"INDEX(data_absen!$G$2:$G$2000,SUMPRODUCT((data_absen!$B$2:$B$2000=$A22)*(data_absen!$C$2:$C$2000=BO$3)*(ROW(data_absen!$C$2:$C$2000)))-1)","v":""},null,"-",{"$f":"INDEX(data_absen!$H$2:$H$2000,SUMPRODUCT((data_absen!$B$2:$B$2000=$A22)*(data_absen!$C$2:$C$2000=BO$3)*(ROW(data_absen!$C$2:$C$2000)))-1)","v":""}]
[303,null,null,"-",null,null,null,null,"-",null,null,null,null,"-",null,null,null,null,"-",null,null,null,null,"-",null,null,null,null,"-",null,null,null,null,"-",null,null,null,null,"-",null,null,null,null,"-",null,null,null,null,"-",null,null,null,null,"-",null,null,null,null,"-",null,null,null,null,"-",null,null,null,null,"-"]
[null,{"$f":"IFERROR(INDEX(data_absen!$K$2:$K$2000,SUMPRODUCT((data_absen!$B$2:$B$2000=$A22)*(data_absen!$C$2:$C$2000=B$3)*(ROW(data_absen!$C$2:$C$2000)))-1)*1440,\"\")","v":""},{"$f":"IFERROR(INDEX(data_absen!$I$2:$I$2000,SUMPRODUCT((data_absen!$B$2:$B$2000=$A22)*(data_absen!$C$2:$C$2000=B$3)*(ROW(data_absen!$C$2:$C$2000)))-1)*1440,\"\")","v":""},null,null,{"$f":"IFERROR(INDEX(data_absen!$J$2:$J$2000,SUMPRODUCT((data_absen!$B$2:$B$2000=$A22)*(data_absen!$C$2:$C$2000=B$3)*(ROW(data_absen!$C$2:$C$2000)))-1)*1440,\"\")","v":""},{"$f":"IFERROR(INDEX(data_absen!$K$2:$K$2000,SUMPRODUCT((data_absen!$B$2:$B$2000=$A22)*(data_absen!$C$2:$C$2000=G$3)*(ROW(data_absen!$C$2:$C$2000)))-1)*1440,\"\")","v":""},{"$f":"IFERROR(INDEX(data_absen!$I$2:$I$2000,SUMPRODUCT((data_absen!$B$2:$B$2000=$A22)*(data_absen!$C$2:$C$2000=G$3)*(ROW(data_absen!$C$2:$C$2000)))-1)*1440,\"\")","v":""},null,null,{"$f":"IFERROR(INDEX(data_absen!$J$2:$J$2000,SUMPRODUCT((data_absen!$B$2:$B$2000=$A22)*(data_absen!$C$2:$C$2000=G$3)*(ROW(data_absen!$C$2:$C$2000)))-1)*1440,\"\")","v":""},{"$f":"IFERROR(INDEX(data_absen!$K$2:$K$2000,SUMPRODUCT((data_absen!$B$2:$B$2000=$A22)*(data_absen!$C$2:$C$2000=L$3)*(ROW(data_absen!$C$2:$C$2000)))-1)*1440,\"\")","v":""},{"$f":"IFERROR(INDEX(data_absen!$I$2:$I$2000,SUMPRODUCT((data_absen!$B$2:$B$2000=$A22)*(data_absen!$C$2:$C$2000=L$3)*(ROW(data_absen!$C$2:$C$2000)))-1)*1440,\"\")","v":""},null,null,{"$f":"IFERROR(INDEX(data_absen!$J$2:$J$2000,SUMPRODUCT((data_absen!$B$2:$B$2000=$A22)*(data_absen!$C$2:$C$2000=L$3)*(ROW(data_absen!$C$2:$C$2000)))-1)*1440,\"\")","v":""},{"$f":"IFERROR(INDEX(data_absen!$K$2:$K$2000,SUMPRODUCT((data_absen!$B$2:$B$2000=$A22)*(data_absen!$C$2:$C$2000=Q$3)*(ROW(data_absen!$C$2:$C$2000)))-1)*1440,\"\")","v":""},{"$f":"IFERROR(INDEX(data_absen!$I$2:$I$2000,SUMPRODUCT((data_absen!$B$2:$B$2000=$A22)*(data_absen!$C$2:$C$2000=Q$3)*(ROW(data_absen!$C$2:$C$2000)))-1)*1440,\"\")","v":""},null,null,{"$f":"IFERROR(INDEX(data_absen!$J$2:$J$2000,SUMPRODUCT((data_absen!$B$2:$B$2000=$A22)*(data_absen!$C$2:$C$2000=Q$3)*(ROW(data_absen!$C$2:$C$2000)))-1)*1440,\"\")","v":""},{"$f":"IFERROR(INDEX(data_absen!$K$2:$K$2000,SUMPRODUCT((data_absen!$B$2:$B$2000=$A22)*(data_absen!$C$2:$C$2000=V$3)*(ROW(data_absen!$C$2:$C$2000)))-1)*1440,\"\")","v":""},{"$f":"IFERROR(INDEX(data_absen!$I$2:$I$2000,SUMPRODUCT((data_absen!$B$2:$B$2000=$A22)*(data_absen!$C$2:$C$2000=V$3)*(ROW(data_absen!$C$2:$C$2000)))-1)*1440,\"\")","v":""},null,null,{"$f":"IFERROR(INDEX(data_absen!$J$2:$J$2000,SUMPRODUCT((data_absen!$B$2:$B$2000=$A22)*(data_absen!$C$2:$C$2000=V$3)*(ROW(data_absen!$C$2:$C$2000)))-1)*1440,\"\")","v":""},{"$f":"IFERROR(INDEX(data_absen!$K$2:$K$2000,SUMPRODUCT((data_absen!$B$2:$B$2000=$A22)*(data_absen!$C$2:$C$2000=AA$3)*(ROW(data_absen!$C$2:$C$2000)))-1)*1440,\"\")","v":""},{"$f":"IFERROR(INDEX(data_absen!$I$2:$I$2000,SUMPRODUCT((data_absen!$B$2:$B$2000=$A22)*(data_absen!$C$2:$C$2000=AA$3)*(ROW(data_absen!$C$2:$C$2000)))-1)*1440,\"\")","v":""},null,null,{"$f":"IFERROR(INDEX(data_absen!$J$2:$J$2000,SUMPRODUCT((data_absen!$B$2:$B$2000=$A22)*(data_absen!$C$2:$C$2000=AA$3)*(ROW(data_absen!$C$2:$C$2000)))-1)*1440,\"\")","v":""},{"$f":"IFERROR(INDEX(data_absen!$K$2:$K$2000,SUMPRODUCT((data_absen!$B$2:$B$2000=$A22)*(data_absen!$C$2:$C$2000=AF$3)*(ROW(data_absen!$C$2:$C$2000)))-1)*1440,\"\")","v":""},{"$f":"IFERROR(INDEX(data_absen!$I$2:$I$2000,SUMPRODUCT((data_absen!$B$2:$B$2000=$A22)*(data_absen!$C$2:$C$2000=AF$3)*(ROW(data_absen!$C$2:$C$2000)))-1)*1440,\"\")","v":""},null,null,{"$f":"IFERROR(INDEX(data_absen!$J$2:$J$2000,SUMPRODUCT((data_absen!$B$2:$B$2000=$A22)*(data_absen!$C$2:$C$2000=AF$3)*(ROW(data_absen!$C$2:$C$2000)))-1)*1440,\"\")","v":""},{"$f":"IFERROR(INDEX(data_absen!$K$2:$K$2000,SUMPRODUCT((data_absen!$B$2:$B$2000=$A22)*(data_absen!$C$2:$C$2000=AK$3)*(ROW(data_absen!$C$2:$C$2000)))-1)*1440,\"\")","v":""},{"$f":"IFERROR(INDEX(data_absen!$I$2:$I$2000,SUMPRODUCT((data_absen!$B$2:$B$2000=$A22)*(data_absen!$C$2:$C$2000=AK$3)*(ROW(data_absen!$C$2:$C$2000)))-1)*1440,\"\")","v":""},null,null,{"$f":"IFERROR(INDEX(data_absen!$J$2:$J$2000,SUMPRODUCT((data_absen!$B$2:$B$2000=$A22)*(data_absen!$C$2:$C$2000=AK$3)*(ROW(data_absen!$C$2:$C$2000)))-1)*1440,\"\")","v":""},{"$f":"IFERROR(INDEX(data_absen!$K$2:$K$2000,SUMPRODUCT((data_absen!$B$2:$B$2000=$A22)*(data_absen!$C$2:$C$2000=AP$3)*(ROW(data_absen!$C$2:$C$2000)))-1)*1440,\"\")","v":""},{"$f":"IFERROR(INDEX(data_absen!$I$2:$I$2000,SUMPRODUCT((data_absen!$B$2:$B$2000=$A22)*(data_absen!$C$2:$C$2000=AP$3)*(ROW(data_absen!$C$2:$C$2000)))-1)*1440,\"\")","v":""},null,null,{"$f":"IFERROR(INDEX(data_absen!$J$2:$J$2000,SUMPRODUCT((data_absen!$B$2:$B$2000=$A22)*(data_absen!$C$2:$C$2000=AP$3)*(ROW(data_absen!$C$2:$C$2000)))-1)*1440,\"\")","v":""},{"$f":"IFERROR(INDEX(data_absen!$K$2:$K$2000,SUMPRODUCT((data_absen!$B$2:$B$2000=$A22)*(data_absen!$C$2:$C$2000=AU$3)*(ROW(data_absen!$C$2:$C$2000)))-1)*1440,\"\")","v":""},{"$f":"IFERROR(INDEX(data_absen!$I$2:$I$2000,SUMPRODUCT((data_absen!$B$2:$B$2000=$A22)*(data_absen!$C$2:$C$2000=AU$3)*(ROW(data_absen!$C$2:$C$2000)))-1)*1440,\"\")","v":""},null,null,{"$f":"IFERROR(INDEX(data_absen!$J$2:$J$2000,SUMPRODUCT((data_absen!$B$2:$B$2000=$A22)*(data_absen!$C$2:$C$2000=AU$3)*(ROW(data_absen!$C$2:$C$2000)))-1)*1440,\"\")","v":""},{"$f":"IFERROR(INDEX(data_absen!$K$2:$K$2000,SUMPRODUCT((data_absen!$B$2:$B$2000=$A22)*(data_absen!$C$2:$C$2000=AZ$3)*(ROW(data_absen!$C$2:$C$2000)))-1)*1440,\"\")","v":""},{"$f":"IFERROR(INDEX(data_absen!$I$2:$I$2000,SUMPRODUCT((data_absen!$B$2:$B$2000=$A22)*(data_absen!$C$2:$C$2000=AZ$3)*(ROW(data_absen!$C$2:$C$2000)))-1)*1440,\"\")","v":""},null,null,{"$f":"IFERROR(INDEX(data_absen!$J$2:$J$2000,SUMPRODUCT((data_absen!$B$2:$B$2000=$A22)*(data_absen!$C$2:$C$2000=AZ$3)*(ROW(data_absen!$C$2:$C$2000)))-1)*1440,\"\")","v":""},{"$f":"IFERROR(INDEX(data_absen!$K$2:$K$2000,SUMPRODUCT((data_absen!$B$2:$B$2000=$A22)*(data_absen!$C$2:$C$2000=BE$3)*(ROW(data_absen!$C$2:$C$2000)))-1)*1440,\"\")","v":""},{"$f":"IFERROR(INDEX(data_absen!$I$2:$I$2000,SUMPRODUCT((data_absen!$B$2:$B$2000=$A22)*(data_absen!$C$2:$C$2000=BE$3)*(ROW(data_absen!$C$2:$C$2000)))-1)*1440,\"\")","v":""},null,null,{"$f":"IFERROR(INDEX(data_absen!$J$2:$J$2000,SUMPRODUCT((data_absen!$B$2:$B$2000=$A22)*(data_absen!$C$2:$C$2000=BE$3)*(ROW(data_absen!$C$2:$C$2000)))-1)*1440,\"\")","v":""},{"$f":"IFERROR(INDEX(data_absen!$K$2:$K$2000,SUMPRODUCT((data_absen!$B$2:$B$2000=$A22)*(data_absen!$C$2:$C$2000=BJ$3)*(ROW(data_absen!$C$2:$C$2000)))-1)*1440,\"\")","v":""},{"$f":"IFERROR(INDEX(data_absen!$I$2:$I$2000,SUMPRODUCT((data_absen!$B$2:$B$2000=$A22)*(data_absen!$C$2:$C$2000=BJ$3)*(ROW(data_absen!$C$2:$C$2000)))-1)*1440,\"\")","v":""},null,null,{"$f":"IFERROR(INDEX(data_absen!$J$2:$J$2000,SUMPRODUCT((data_absen!$B$2:$B$2000=$A22)*(data_absen!$C$2:$C$2000=BJ$3)*(ROW(data_absen!$C$2:$C$2000)))-1)*1440,\"\")","v":""},{"$f":"IFERROR(INDEX(data_absen!$K$2:$K$2000,SUMPRODUCT((data_absen!$B$2:$B$2000=$A22)*(data_absen!$C$2:$C$2000=BO$3)*(ROW(data_absen!$C$2:$C$2000)))-1)*1440,\"\")","v":""},{"$f":"IFERROR(INDEX(data_absen!$I$2:$I$2000,SUMPRODUCT((data_absen!$B$2:$B$2000=$A22)*(data_absen!$C$2:$C$2000=BO$3)*(ROW(data_absen!$C$2:$C$2000)))-1)*1440,\"\")","v":""},null,null,{"$f":"IFERROR(INDEX(data_absen!$J$2:$J$2000,SUMPRODUCT((data_absen!$B$2:$B$2000=$A22)*(data_absen!$C$2:$C$2000=BO$3)*(ROW(data_absen!$C$2:$C$2000)))-1)*1440,\"\")","v":""},{"$f":"COUNTIFS(data_absen!$B$2:$B$2000,$A22,data_absen!$I$2:$I$2000,\">0\")","v":0}]
["Sri A",{"$f":"INDEX(data_absen!$G$2:$G$2000,SUMPRODUCT((data_absen!$B$2:$B$2000=$A25)*(data_absen!$C$2:$C$2000=B$3)*(ROW(data_absen!$C$2:$C$2000)))-1)","v":""},null,"-",{"$f":"INDEX(data_absen!$H$2:$H$2000,SUMPRODUCT((data_absen!$B$2:$B$2000=$A25)*(data_absen!$C$2:$C$2000=B$3)*(ROW(data_absen!$C$2:$C$2000)))-1)","v":""},null,{"$f":"INDEX(data_absen!$G$2:$G$2000,SUMPRODUCT((data_absen!$B$2:$B$2000=$A25)*(data_absen!$C$2:$C$2000=G$3)*(ROW(data_absen!$C$2:$C$2000)))-1)","v":""},null,"-",{"$f":"INDEX(data_absen!$H$2:$H$2000,SUMPRODUCT((data_absen!$B$2:$B$2000=$A25)*(data_absen!$C$2:$C$2000=G$3)*(ROW(data_absen!$C$2:$C$2000)))-1)","v":""},null,{"$f":"INDEX(data_absen!$G$2:$G$2000,SUMPRODUCT((data_absen!$B$2:$B$2000=$A25)*(data_absen!$C$2:$C$2000=L$3)*(ROW(data_absen!$C$2:$C$2000)))-1)","v":""},null,"-",{"$f":"INDEX(data_absen!$H$2:$H$2000,SUMPRODUCT((data_absen!$B$2:$B$2000=$A25)*(data_absen!$C$2:$C$2000=L$3)*(ROW(data_absen!$C$2:$C$2000)))-1)","v":""},null,{"$f":"INDEX(data_absen!$G$2:$G$2000,SUMPRODUCT((data_absen!$B$2:$B$2000=$A25)*(data_absen!$C$2:$C$2000=Q$3)*(ROW(data_absen!$C$2:$C$2000)))-1)","v":""},null,"-",{"$f":"INDEX(data_absen!$H$2:$H$2000,SUMPRODUCT((data_absen!$B$2:$B$2000=$A25)*(data_absen!$C$2:$C$2000=Q$3)*(ROW(data_absen!$C$2:$C$2000)))-1)","v":""},null,{"$f":"INDEX(data_absen!$G$2:$G$2000,SUMPRODUCT((data_absen!$B$2:$B$2000=$A25)*(data_absen!$C$2:$C$2000=V$3)*(ROW(data_absen!$C$2:$C$2000)))-1)","v":""},null,"-",{"$f":"INDEX(data_absen!$H$2:$H$2000,SUMPRODUCT((data_absen!$B$2:$B$2000=$A25)*(data_absen!$C$2:$C$2000=V$3)*(ROW(data_absen!$C$2:$C$2000)))-1)","v":""},null,{"$f":"INDEX(data_absen!$G$2:$G$2000,SUMPRODUCT((data_absen!$B$2:$B$2000=$A25)*(data_absen!$C$2:$C$2000=AA$3)*(ROW(data_absen!$C$2:$C$2000)))-1)","v":""},null,"-",{"$f":"INDEX(data_absen!$H$2:$H$2000,SUMPRODUCT((data_absen!$B$2:$B$2000=$A25)*(data_absen!$C$2:$C$2000=AA$3)*(ROW(data_absen!$C$2:$C$2000)))-1)","v":""},null,{"$f":"INDEX(data_absen!$G$2:$G$2000,SUMPRODUCT((data_absen!$B$2:$B$2000=$A25)*(data_absen!$C$2:$C$2000=AF$3)*(ROW(data_absen!$C$2:$C$2000)))-1)","v":""},null,"-",{"$f":"INDEX(data_absen!$H$2:$H$2000,SUMPRODUCT((data_absen!$B$2:$B$2000=$A25)*(data_absen!$C$2:$C$2000=AF$3)*(ROW(data_absen!$C$2:$C$2000)))-1)","v":""},null,{"$f":"INDEX(data_absen!$G$2:$G$2000,SUMPRODUCT((data_absen!$B$2:$B$2000=$A25)*(data_absen!$C$2:$C$2000=AK$3)*(ROW(data_absen!$C$2:$C$2000)))-1)","v":""},null,"-",{"$f":"INDEX(data_absen!$H$2:$H$2000,SUMPRODUCT((data_absen!$B$2:$B$2000=$A25)*(data_absen!$C$2:$C$2000=AK$3)*(ROW(data_absen!$C$2:$C$2000)))-1)","v":""},null,{"$f":"INDEX(data_absen!$G$2:$G$2000,SUMPRODUCT((data_absen!$B$2:$B$2000=$A25)*(data_absen!$C$2:$C$2000=AP$3)*(ROW(data_absen!$C$2:$C$2000)))-1)","v":""},null,"-",{"$f":"INDEX(data_absen!$H$2:$H$2000,SUMPRODUCT((data_absen!$B$2:$B$2000=$A25)*(data_absen!$C$2:$C$2000=AP$3)*(ROW(data_absen!$C$2:$C$2000)))-1)","v":""},null,{"$f":"INDEX(data_absen!$G$2:$G$2000,SUMPRODUCT((data_absen!$B$2:$B$2000=$A25)*(data_absen!$C$2:$C$2000=AU$3)*(ROW(data_absen!$C$2:$C$2000)))-1)","v":""},null,"-",{"$f":"INDEX(data_absen!$H$2:$H$2000,SUMPRODUCT((data_absen!$B$2:$B$2000=$A25)*(data_absen!$C$2:$C$2000=AU$3)*(ROW(data_absen!$C$2:$C$2000)))-1)","v":""},null,{"$f":"INDEX(data_absen!$G$2:$G$2000,SUMPRODUCT((data_absen!$B$2:$B$2000=$A25)*(data_absen!$C$2:$C$2000=AZ$3)*(ROW(data_absen!$C$2:$C$2000)))-1)","v":""},null,"-",{"$f":"INDEX(data_absen!$H$2:$H$2000,SUMPRODUCT((data_absen!$B$2:$B$2000=$A25)*(data_absen!$C$2:$C$2000=AZ$3)*(ROW(data_absen!$C$2:$C$2000)))-1)","v":""},null,{"$f":"INDEX(data_absen!$G$2:$G$2000,SUMPRODUCT((data_absen!$B$2:$B$2000=$A25)*(data_absen!$C$2:$C$2000=BE$3)*(ROW(data_absen!$C$2:$C$2000)))-1)","v":""},null,"-",{"$f":"INDEX(data_absen!$H$2:$H$2000,SUMPRODUCT((data_absen!$B$2:$B$2000=$A25)*(data_absen!$C$2:$C$2000=BE$3)*(ROW(data_absen!$C$2:$C$2000)))-1)","v":""},null,{"$f":"INDEX(data_absen!$G$2:$G$2000,SUMPRODUCT((data_absen!$B$2:$B$2000=$A25)*(data_absen!$C$2:$C$2000=BJ$3)*(ROW(data_absen!$C$2:$C$2000)))-1)","v":""},null,"-",{"$f":"INDEX(data_absen!$H$2:$H$2000,SUMPRODUCT((data_absen!$B$2:$B$2000=$A25)*(data_absen!$C$2:$C$2000=BJ$3)*(ROW(data_absen!$C$2:$C$2000)))-1)","v":""},null,{"$f":"INDEX(data_absen!$G$2:$G$2000,SUMPRODUCT((data_absen!$B$2:$B$2000=$A25)*(data_absen!$C$2:$C$2000=BO$3)*(ROW(data_absen!$C$2:$C$2000)))-1)","v":""},null,"-",{"$f":"INDEX(data_absen!$H$2:$H$2000,SUMPRODUCT((data_absen!$B$2:$B$2000=$A25)*(data_absen!$C$2:$C$2000=BO$3)*(ROW(data_absen!$C$2:$C$2000)))-1)","v":""}]
[304,null,null,"-",null,null,null,null,"-",null,null,null,null,"-",null,null,null,null,"-",null,null,null,null,"-",null,null,null,null,"-",null,null,null,null,"-",null,null,null,null,"-",null,null,null,null,"-",null,null,null,null,"-",null,null,null,null,"-",null,null,null,null,"-",null,null,null,null,"-",null,null,null,null,"-"]
[null,{"$f":"IFERROR(INDEX(data_absen!$K$2:$K$2000,SUMPRODUCT((data_absen!$B$2:$B$2000=$A25)*(data_absen!$C$2:$C$2000=B$3)*(ROW(data_absen!$C$2:$C$2000)))-1)*1440,\"\")","v":""},{"$f":"IFERROR(INDEX(data_absen!$I$2:$I$2000,SUMPRODUCT((data_absen!$B$2:$B$2000=$A25)*(data_absen!$C$2:$C$2000=B$3)*(ROW(data_absen!$C$2:$C$2000)))-1)*1440,\"\")","v":""},null,null,{"$f":"IFERROR(INDEX(data_absen!$J$2:$J$2000,SUMPRODUCT((data_absen!$B$2:$B$2000=$A25)*(data_absen!$C$2:$C$2000=B$3)*(ROW(data_absen!$C$2:$C$2000)))-1)*1440,\"\")","v":""},{"$f":"IFERROR(INDEX(data_absen!$K$2:$K$2000,SUMPRODUCT((data_absen!$B$2:$B$2000=$A25)*(data_absen!$C$2:$C$2000=G$3)*(ROW(data_absen!$C$2:$C$2000)))-1)*1440,\"\")","v":""},{"$f":"IFERROR(INDEX(data_absen!$I$2:$I$2000,SUMPRODUCT((data_absen!$B$2:$B$2000=$A25)*(data_absen!$C$2:$C$2000=G$3)*(ROW(data_absen!$C$2:$C$2000)))-1)*1440,\"\")","v":""},null,null,{"$f":"IFERROR(INDEX(data_absen!$J$2:$J$2000,SUMPRODUCT((data_absen!$B$2:$B$2000=$A25)*(data_absen!$C$2:$C$2000=G$3)*(ROW(data_absen!$C$2:$C$2000)))-1)*1440,\"\")","v":""},{"$f":"IFERROR(INDEX(data_absen!$K$2:$K$2000,SUMPRODUCT((data_absen!$B$2:$B$2000=$A25)*(data_absen!$C$2:$C$2000=L$3)*(ROW(data_absen!$C$2:$C$2000)))-1)*1440,\"\")","v":""},{"$f":"IFERROR(INDEX(data_absen!$I$2:$I$2000,SUMPRODUCT((data_absen!$B$2:$B$2000=$A25)*(data_absen!$C$2:$C$2000=L$3)*(ROW(data_absen!$C$2:$C$2000)))-1)*1440,\"\")","v":""},null,null,{"$f":"IFERROR(INDEX(data_absen!$J$2:$J$2000,SUMPRODUCT((data_absen!$B$2:$B$2000=$A25)*(data_absen!$C$2:$C$2000=L$3)*(ROW(data_absen!$C$2:$C$2000)))-1)*1440,\"\")","v":""},{"$f":"IFERROR(INDEX(data_absen!$K$2:$K$2000,SUMPRODUCT((data_absen!$B$2:$B$2000=$A25)*(data_absen!$C$2:$C$2000=Q$3)*(ROW(data_absen!$C$2:$C$2000)))-1)*1440,\"\")","v":""},{"$f":"IFERROR(INDEX(data_absen!$I$2:$I$2000,SUMPRODUCT((data_absen!$B$2:$B$2000=$A25)*(data_absen!$C$2:$C$2000=Q$3)*(ROW(data_absen!$C$2:$C$2000)))-1)*1440,\"\")","v":""},null,null,{"$f":"IFERROR(INDEX(data_absen!$J$2:$J$2000,SUMPRODUCT((data_absen!$B$2:$B$2000=$A25)*(data_absen!$C$2:$C$2000=Q$3)*(ROW(data_absen!$C$2:$C$2000)))-1)*1440,\"\")","v":""},{"$f":"IFERROR(INDEX(data_absen!$K$2:$K$2000,SUMPRODUCT((data_absen!$B$2:$B$2000=$A25)*(data_absen!$C$2:$C$2000=V$3)*(ROW(data_absen!$C$2:$C$2000)))-1)*1440,\"\")","v":""},{"$f":"IFERROR(INDEX(data_absen!$I$2:$I$2000,SUMPRODUCT((data_absen!$B$2:$B$2000=$A25)*(data_absen!$C$2:$C$2000=V$3)*(ROW(data_absen!$C$2:$C$2000)))-1)*1440,\"\")","v":""},null,null,{"$f":"IFERROR(INDEX(data_absen!$J$2:$J$2000,SUMPRODUCT((data_absen!$B$2:$B$2000=$A25)*(data_absen!$C$2:$C$2000=V$3)*(ROW(data_absen!$C$2:$C$2000)))-1)*1440,\"\")","v":""},{"$f":"IFERROR(INDEX(data_absen!$K$2:$K$2000,SUMPRODUCT((data_absen!$B$2:$B$2000=$A25)*(data_absen!$C$2:$C$2000=AA$3)*(ROW(data_absen!$C$2:$C$2000)))-1)*1440,\"\")","v":""},{"$f":"IFERROR(INDEX(data_absen!$I$2:$I$2000,SUMPRODUCT((data_absen!$B$2:$B$2000=$A25)*(data_absen!$C$2:$C$2000=AA$3)*(ROW(data_absen!$C$2:$C$2000)))-1)*1440,\"\")","v":""},null,null,{"$f":"IFERROR(INDEX(data_absen!$J$2:$J$2000,SUMPRODUCT((data_absen!$B$2:$B$2000=$A25)*(data_absen!$C$2:$C$2000=AA$3)*(ROW(data_absen!$C$2:$C$2000)))-1)*1440,\"\")","v":""},{"$f":"IFERROR(INDEX(data_absen!$K$2:$K$2000,SUMPRODUCT((data_absen!$B$2:$B$2000=$A25)*(data_absen!$C$2:$C$2000=AF$3)*(ROW(data_absen!$C$2:$C$2000)))-1)*1440,\"\")","v":""},{"$f":"IFERROR(INDEX(data_absen!$I$2:$I$2000,SUMPRODUCT((data_absen!$B$2:$B$2000=$A25)*(data_absen!$C$2:$C$2000=AF$3)*(ROW(data_absen!$C$2:$C$2000)))-1)*1440,\"\")","v":""},null,null,{"$f":"IFERROR(INDEX(data_absen!$J$2:$J$2000,SUMPRODUCT((data_absen!$B$2:$B$2000=$A25)*(data_absen!$C$2:$C$2000=AF$3)*(ROW(data_absen!$C$2:$C$2000)))-1)*1440,\"\")","v":""},{"$f":"IFERROR(INDEX(data_absen!$K$2:$K$2000,SUMPRODUCT((data_absen!$B$2:$B$2000=$A25)*(data_absen!$C$2:$C$2000=AK$3)*(ROW(data_absen!$C$2:$C$2000)))-1)*1440,\"\")","v":""},{"$f":"IFERROR(INDEX(data_absen!$I$2:$I$2000,SUMPRODUCT((data_absen!$B$2:$B$2000=$A25)*(data_absen!$C$2:$C$2000=AK$3)*(ROW(data_absen!$C$2:$C$2000)))-1)*1440,\"\")","v":""},null,null,{"$f":"IFERROR(INDEX(data_absen!$J$2:$J$2000,SUMPRODUCT((data_absen!$B$2:$B$2000=$A25)*(data_absen!$C$2:$C$2000=AK$3)*(ROW(data_absen!$C$2:$C$2000)))-1)*1440,\"\")","v":""},{"$f":"IFERROR(INDEX(data_absen!$K$2:$K$2000,SUMPRODUCT((data_absen!$B$2:$B$2000=$A25)*(data_absen!$C$2:$C$2000=AP$3)*(ROW(data_absen!$C$2:$C$2000)))-1)*1440,\"\")","v":""},{"$f":"IFERROR(INDEX(data_absen!$I$2:$I$2000,SUMPRODUCT((data_absen!$B$2:$B$2000=$A25)*(data_absen!$C$2:$C$2000=AP$3)*(ROW(data_absen!$C$2:$C$2000)))-1)*1440,\"\")","v":""},null,null,{"$f":"IFERROR(INDEX(data_absen!$J$2:$J$2000,SUMPRODUCT((data_absen!$B$2:$B$2000=$A25)*(data_absen!$C$2:$C$2000=AP$3)*(ROW(data_absen!$C$2:$C$2000)))-1)*1440,\"\")","v":""},{"$f":"IFERROR(INDEX(data_absen!$K$2:$K$2000,SUMPRODUCT((data_absen!$B$2:$B$2000=$A25)*(data_absen!$C$2:$C$2000=AU$3)*(ROW(data_absen!$C$2:$C$2000)))-1)*1440,\"\")","v":""},{"$f":"IFERROR(INDEX(data_absen!$I$2:$I$2000,SUMPRODUCT((data_absen!$B$2:$B$2000=$A25)*(data_absen!$C$2:$C$2000=AU$3)*(ROW(data_absen!$C$2:$C$2000)))-1)*1440,\"\")","v":""},null,null,{"$f":"IFERROR(INDEX(data_absen!$J$2:$J$2000,SUMPRODUCT((data_absen!$B$2:$B$2000=$A25)*(data_absen!$C$2:$C$2000=AU$3)*(ROW(data_absen!$C$2:$C$2000)))-1)*1440,\"\")","v":""},{"$f":"IFERROR(INDEX(data_absen!$K$2:$K$2000,SUMPRODUCT((data_absen!$B$2:$B$2000=$A25)*(data_absen!$C$2:$C$2000=AZ$3)*(ROW(data_absen!$C$2:$C$2000)))-1)*1440,\"\")","v":""},{"$f":"IFERROR(INDEX(data_absen!$I$2:$I$2000,SUMPRODUCT((data_absen!$B$2:$B$2000=$A25)*(data_absen!$C$2:$C$2000=AZ$3)*(ROW(data_absen!$C$2:$C$2000)))-1)*1440,\"\")","v":""},null,null,{"$f":"IFERROR(INDEX(data_absen!$J$2:$J$2000,SUMPRODUCT((data_absen!$B$2:$B$2000=$A25)*(data_absen!$C$2:$C$2000=AZ$3)*(ROW(data_absen!$C$2:$C$2000)))-1)*1440,\"\")","v":""},{"$f":"IFERROR(INDEX(data_absen!$K$2:$K$2000,SUMPRODUCT((data_absen!$B$2:$B$2000=$A25)*(data_absen!$C$2:$C$2000=BE$3)*(ROW(data_absen!$C$2:$C$2000)))-1)*1440,\"\")","v":""},{"$f":"IFERROR(INDEX(data_absen!$I$2:$I$2000,SUMPRODUCT((data_absen!$B$2:$B$2000=$A25)*(data_absen!$C$2:$C$2000=BE$3)*(ROW(data_absen!$C$2:$C$2000)))-1)*1440,\"\")","v":""},null,null,{"$f":"IFERROR(INDEX(data_absen!$J$2:$J$2000,SUMPRODUCT((data_absen!$B$2:$B$2000=$A25)*(data_absen!$C$2:$C$2000=BE$3)*(ROW(data_absen!$C$2:$C$2000)))-1)*1440,\"\")","v":""},{"$f":"IFERROR(INDEX(data_absen!$K$2:$K$2000,SUMPRODUCT((data_absen!$B$2:$B$2000=$A25)*(data_absen!$C$2:$C$2000=BJ$3)*(ROW(data_absen!$C$2:$C$2000)))-1)*1440,\"\")","v":""},{"$f":"IFERROR(INDEX(data_absen!$I$2:$I$2000,SUMPRODUCT((data_absen!$B$2:$B$2000=$A25)*(data_absen!$C$2:$C$2000=BJ$3)*(ROW(data_absen!$C$2:$C$2000)))-1)*1440,\"\")","v":""},null,null,{"$f":"IFERROR(INDEX(data_absen!$J$2:$J$2000,SUMPRODUCT((data_absen!$B$2:$B$2000=$A25)*(data_absen!$C$2:$C$2000=BJ$3)*(ROW(data_absen!$C$2:$C$2000)))-1)*1440,\"\")","v":""},{"$f":"IFERROR(INDEX(data_absen!$K$2:$K$2000,SUMPRODUCT((data_absen!$B$2:$B$2000=$A25)*(data_absen!$C$2:$C$2000=BO$3)*(ROW(data_absen!$C$2:$C$2000)))-1)*1440,\"\")","v":""},{"$f":"IFERROR(INDEX(data_absen!$I$2:$I$2000,SUMPRODUCT((data_absen!$B$2:$B$2000=$A25)*(data_absen!$C$2:$C$2000=BO$3)*(ROW(data_absen!$C$2:$C$2000)))-1)*1440,\"\")","v":""},null,null,{"$f":"IFERROR(INDEX(data_absen!$J$2:$J$2000,SUMPRODUCT((data_absen!$B$2:$B$2000=$A25)*(data_absen!$C$2:$C$2000=BO$3)*(ROW(data_absen!$C$2:$C$2000)))-1)*1440,\"\")","v":""},{"$f":"COUNTIFS(data_absen!$B$2:$B$2000,$A25,data_absen!$I$2:$I$2000,\">0\")","v":0}]
["Endang",{"$f":"INDEX(data_absen!$G$2:$G$2000,SUMPRODUCT((data_absen!$B$2:$B$2000=$A28)*(data_absen!$C$2:$C$2000=B$3)*(ROW(data_absen!$C$2:$C$2000)))-1)","v":""},null,"-",{"$f":"INDEX(data_absen!$H$2:$H$2000,SUMPRODUCT((data_absen!$B$2:$B$2000=$A28)*(data_absen!$C$2:$C$2000=B$3)*(ROW(data_absen!$C$2:$C$2000)))-1)","v":""},null,{"$f":"INDEX(data_absen!$G$2:$G$2000,SUMPRODUCT((data_absen!$B$2:$B$2000=$A28)*(data_absen!$C$2:$C$2000=G$3)*(ROW(data_absen!$C$2:$C$2000)))-1)","v":""},null,"-",{"$f":"INDEX(data_absen!$H$2:$H$2000,SUMPRODUCT((data_absen!$B$2:$B$2000=$A28)*(data_absen!$C$2:$C$2000=G$3)*(ROW(data_absen!$C$2:$C$2000)))-1)","v":""},null,{"$f":"INDEX(data_absen!$G$2:$G$2000,SUMPRODUCT((data_absen!$B$2:$B$2000=$A28)*(data_absen!$C$2:$C$2000=L$3)*(ROW(data_absen!$C$2:$C$2000)))-1)","v":""},null,"-",{"$f":"INDEX(data_absen!$H$2:$H$2000,SUMPRODUCT((data_absen!$B$2:$B$2000=$A28)*(data_absen!$C$2:$C$2000=L$3)*(ROW(data_absen!$C$2:$C$2000)))-1)","v":""},null,{"$f":"INDEX(data_absen!$G$2:$G$2000,SUMPRODUCT((data_absen!$B$2:$B$2000=$A28)*(data_absen!$C$2:$C$2000=Q$3)*(ROW(data_absen!$C$2:$C$2000)))-1)","v":""},null,"-",{"$f":"INDEX(data_absen!$H$2:$H$2000,SUMPRODUCT((data_absen!$B$2:$B$2000=$A28)*(data_absen!$C$2:$C$2000=Q$3)*(ROW(data_absen!$C$2:$C$2000)))-1)","v":""},null,{"$f":"INDEX(data_absen!$G$2:$G$2000,SUMPRODUCT((data_absen!$B$2:$B$2000=$A28)*(data_absen!$C$2:$C$2000=V$3)*(ROW(data_absen!$C$2:$C$2000)))-1)","v":""},null,"-",{"$f":"INDEX(data_absen!$H$2:$H$2000,SUMPRODUCT((data_absen!$B$2:$B$2000=$A28)*(data_absen!$C$2:$C$2000=V$3)*(ROW(data_absen!$C$2:$C$2000)))-1)","v":""},null,{"$f":"INDEX(data_absen!$G$2:$G$2000,SUMPRODUCT((data_absen!$B$2:$B$2000=$A28)*(data_absen!$C$2:$C$2000=AA$3)*(ROW(data_absen!$C$2:$C$2000)))-1)","v":""},null,"-",{"$f":"INDEX(data_absen!$H$2:$H$2000,SUMPRODUCT((data_absen!$B$2:$B$2000=$A28)*(data_absen!$C$2:$C$2000=AA$3)*(ROW(data_absen!$C$2:$C$2000)))-1)","v":""},null,{"$f":"INDEX(data_absen!$G$2:$G$2000,SUMPRODUCT((data_absen!$B$2:$B$2000=$A28)*(data_absen!$C$2:$C$2000=AF$3)*(ROW(data_absen!$C$2:$C$2000)))-1)","v":""},null,"-",{"$f":"INDEX(data_absen!$H$2:$H$2000,SUMPRODUCT((data_absen!$B$2:$B$2000=$A28)*(data_absen!$C$2:$C$2000=AF$3)*(ROW(data_absen!$C$2:$C$2000)))-1)","v":""},null,{"$f":"INDEX(data_absen!$G$2:$G$2000,SUMPRODUCT((data_absen!$B$2:$B$2000=$A28)*(data_absen!$C$2:$C$2000=AK$3)*(ROW(data_absen!$C$2:$C$2000)))-1)","v":""},null,"-",{"$f":"INDEX(data_absen!$H$2:$H$2000,SUMPRODUCT((data_absen!$B$2:$B$2000=$A28)*(data_absen!$C$2:$C$2000=AK$3)*(ROW(data_absen!$C$2:$C$2000)))-1)","v":""},null,{"$f":"INDEX(data_absen!$G$2:$G$2000,SUMPRODUCT((data_absen!$B$2:$B$2000=$A28)*(data_absen!$C$2:$C$2000=AP$3)*(ROW(data_absen!$C$2:$C$2000)))-1)","v":""},null,"-",{"$f":"INDEX(data_absen!$H$2:$H$2000,SUMPRODUCT((data_absen!$B$2:$B$2000=$A28)*(data_absen!$C$2:$C$2000=AP$3)*(ROW(data_absen!$C$2:$C$2000)))-1)","v":""},null,{"$f":"INDEX(data_absen!$G$2:$G$2000,SUMPRODUCT((data_absen!$B$2:$B$2000=$A28)*(data_absen!$C$2:$C$2000=AU$3)*(ROW(data_absen!$C$2:$C$2000)))-1)","v":""},null,"-",{"$f":"INDEX(data_absen!$H$2:$H$2000,SUMPRODUCT((data_absen!$B$2:$B$2000=$A28)*(data_absen!$C$2:$C$2000=AU$3)*(ROW(data_absen!$C$2:$C$2000)))-1)","v":""},null,{"$f":"INDEX(data_absen!$G$2:$G$2000,SUMPRODUCT((data_absen!$B$2:$B$2000=$A28)*(data_absen!$C$2:$C$2000=AZ$3)*(ROW(data_absen!$C$2:$C$2000)))-1)","v":""},null,"-",{"$f":"INDEX(data_absen!$H$2:$H$2000,SUMPRODUCT((data_absen!$B$2:$B$2000=$A28)*(data_absen!$C$2:$C$2000=AZ$3)*(ROW(data_absen!$C$2:$C$2000)))-1)","v":""},null,{"$f":"INDEX(data_absen!$G$2:$G$2000,SUMPRODUCT((data_absen!$B$2:$B$2000=$A28)*(data_absen!$C$2:$C$2000=BE$3)*(ROW(data_absen!$C$2:$C$2000)))-1)","v":""},null,"-",{"$f":"INDEX(data_absen!$H$2:$H$2000,SUMPRODUCT((data_absen!$B$2:$B$2000=$A28)*(data_absen!$C$2:$C$2000=BE$3)*(ROW(data_absen!$C$2:$C$2000)))-1)","v":""},null,{"$f":"INDEX(data_absen!$G$2:$G$2000,SUMPRODUCT((data_absen!$B$2:$B$2000=$A28)*(data_absen!$C$2:$C$2000=BJ$3)*(ROW(data_absen!$C$2:$C$2000)))-1)","v":""},null,"-",{"$f":"INDEX(data_absen!$H$2:$H$2000,SUMPRODUCT((data_absen!$B$2:$B$2000=$A28)*(data_absen!$C$2:$C$2000=BJ$3)*(ROW(data_absen!$C$2:$C$2000)))-1)","v":""},null,{"$f":"INDEX(data_absen!$G$2:$G$2000,SUMPRODUCT((data_absen!$B$2:$B$2000=$A28)*(data_absen!$C$2:$C$2000=BO$3)*(ROW(data_absen!$C$2:$C$2000)))-1)","v":""},null,"-",{"$f":"INDEX(data_absen!$H$2:$H$2000,SUMPRODUCT((data_absen!$B$2:$B$2000=$A28)*(data_absen!$C$2:$C$2000=BO$3)*(ROW(data_absen!$C$2:$C$2000)))-1)","v":""}]
[305,null,null,"-",null,null,null,null,"-",null,null,null,null,"-",null,null,null,null,"-",null,null,null,null,"-",null,null,null,null,"-",null,null,null,null,"-",null,null,null,null,"-",null,null,null,null,"-",null,null,null,null,"-",null,null,null,null,"-",null,null,null,null,"-",null,null,null,null,"-",null,null,null,null,"-"]
[null,{"$f":"IFERROR(INDEX(data_absen!$K$2:$K$2000,SUMPRODUCT((data_absen!$B$2:$B$2000=$A28)*(data_absen!$C$2:$C$2000=B$3)*(ROW(data_absen!$C$2:$C$2000)))-1)*1440,\"\")","v":""},{"$f":"IFERROR(INDEX(data_absen!$I$2:$I$2000,SUMPRODUCT((data_absen!$B$2:$B$2000=$A28)*(data_absen!$C$2:$C$2000=B$3)*(ROW(data_absen!$C$2:$C$2000)))-1)*1440,\"\")","v":""},null,null,{"$f":"IFERROR(INDEX(data_absen!$J$2:$J$2000,SUMPRODUCT((data_absen!$B$2:$B$2000=$A28)*(data_absen!$C$2:$C$2000=B$3)*(ROW(data_absen!$C$2:$C$2000)))-1)*1440,\"\")","v":""},{"$f":"IFERROR(INDEX(data_absen!$K$2:$K$2000,SUMPRODUCT((data_absen!$B$2:$B$2000=$A28)*(data_absen!$C$2:$C$2000=G$3)*(ROW(data_absen!$C$2:$C$2000)))-1)*1440,\"\")","v":""},{"$f":"IFERROR(INDEX(data_absen!$I$2:$I$2000,SUMPRODUCT((data_absen!$B$2:$B$2000=$A28)*(data_absen!$C$2:$C$2000=G$3)*(ROW(data_absen!$C$2:$C$2000)))-1)*1440,\"\")","v":""},null,null,{"$f":"IFERROR(INDEX(data_absen!$J$2:$J$2000,SUMPRODUCT((data_absen!$B$2:$B$2000=$A28)*(data_absen!$C$2:$C$2000=G$3)*(ROW(data_absen!$C$2:$C$2000)))-1)*1440,\"\")","v":""},{"$f":"IFERROR(INDEX(data_absen!$K$2:$K$2000,SUMPRODUCT((data_absen!$B$2:$B$2000=$A28)*(data_absen!$C$2:$C$2000=L$3)*(ROW(data_absen!$C$2:$C$2000)))-1)*1440,\"\")","v":""},{"$f":"IFERROR(INDEX(data_absen!$I$2:$I$2000,SUMPRODUCT((data_absen!$B$2:$B$2000=$A28)*(data_absen!$C$2:$C$2000=L$3)*(ROW(data_absen!$C$2:$C$2000)))-1)*1440,\"\")","v":""},null,null,{"$f":"IFERROR(INDEX(data_absen!$J$2:$J$2000,SUMPRODUCT((data_absen!$B$2:$B$2000=$A28)*(data_absen!$C$2:$C$2000=L$3)*(ROW(data_absen!$C$2:$C$2000)))-1)*1440,\"\")","v":""},{"$f":"IFERROR(INDEX(data_absen!$K$2:$K$2000,SUMPRODUCT((data_absen!$B$2:$B$2000=$A28)*(data_absen!$C$2:$C$2000=Q$3)*(ROW(data_absen!$C$2:$C$2000)))-1)*1440,\"\")","v":""},{"$f":"IFERROR(INDEX(data_absen!$I$2:$I$2000,SUMPRODUCT((data_absen!$B$2:$B$2000=$A28)*(data_absen!$C$2:$C$2000=Q$3)*(ROW(data_absen!$C$2:$C$2000)))-1)*1440,\"\")","v":""},null,null,{"$f":"IFERROR(INDEX(data_absen!$J$2:$J$2000,SUMPRODUCT((data_absen!$B$2:$B$2000=$A28)*(data_absen!$C$2:$C$2000=Q$3)*(ROW(data_absen!$C$2:$C$2000)))-1)*1440,\"\")","v":""},{"$f":"IFERROR(INDEX(data_absen!$K$2:$K$2000,SUMPRODUCT((data_absen!$B$2:$B$2000=$A28)*(data_absen!$C$2:$C$2000=V$3)*(ROW(data_absen!$C$2:$C$2000)))-1)*1440,\"\")","v":""},{"$f":"IFERROR(INDEX(data_absen!$I$2:$I$2000,SUMPRODUCT((data_absen!$B$2:$B$2000=$A28)*(data_absen!$C$2:$C$2000=V$3)*(ROW(data_absen!$C$2:$C$2000)))-1)*1440,\"\")","v":""},null,null,{"$f":"IFERROR(INDEX(data_absen!$J$2:$J$2000,SUMPRODUCT((data_absen!$B$2:$B$2000=$A28)*(data_absen!$C$2:$C$2000=V$3)*(ROW(data_absen!$C$2:$C$2000)))-1)*1440,\"\")","v":""},{"$f":"IFERROR(INDEX(data_absen!$K$2:$K$2000,SUMPRODUCT((data_absen!$B$2:$B$2000=$A28)*(data_absen!$C$2:$C$2000=AA$3)*(ROW(data_absen!$C$2:$C$2000)))-1)*1440,\"\")","v":""},{"$f":"IFERROR(INDEX(data_absen!$I$2:$I$2000,SUMPRODUCT((data_absen!$B$2:$B$2000=$A28)*(data_absen!$C$2:$C$2000=AA$3)*(ROW(data_absen!$C$2:$C$2000)))-1)*1440,\"\")","v":""},null,null,{"$f":"IFERROR(INDEX(data_absen!$J$2:$J$2000,SUMPRODUCT((data_absen!$B$2:$B$2000=$A28)*(data_absen!$C$2:$C$2000=AA$3)*(ROW(data_absen!$C$2:$C$2000)))-1)*1440,\"\")","v":""},{"$f":"IFERROR(INDEX(data_absen!$K$2:$K$2000,SUMPRODUCT((data_absen!$B$2:$B$2000=$A28)*(data_absen!$C$2:$C$2000=AF$3)*(ROW(data_absen!$C$2:$C$2000)))-1)*1440,\"\")","v":""},{"$f":"IFERROR(INDEX(data_absen!$I$2:$I$2000,SUMPRODUCT((data_absen!$B$2:$B$2000=$A28)*(data_absen!$C$2:$C$2000=AF$3)*(ROW(data_absen!$C$2:$C$2000)))-1)*1440,\"\")","v":""},null,null,{"$f":"IFERROR(INDEX(data_absen!$J$2:$J$2000,SUMPRODUCT((data_absen!$B$2:$B$2000=$A28)*(data_absen!$C$2:$C$2000=AF$3)*(ROW(data_absen!$C$2:$C$2000)))-1)*1440,\"\")","v":""},{"$f":"IFERROR(INDEX(data_absen!$K$2:$K$2000,SUMPRODUCT((data_absen!$B$2:$B$2000=$A28)*(data_absen!$C$2:$C$2000=AK$3)*(ROW(data_absen!$C$2:$C$2000)))-1)*1440,\"\")","v":""},{"$f":"IFERROR(INDEX(data_absen!$I$2:$I$2000,SUMPRODUCT((data_absen!$B$2:$B$2000=$A28)*(data_absen!$C$2:$C$2000=AK$3)*(ROW(data_absen!$C$2:$C$2000)))-1)*1440,\"\")","v":""},null,null,{"$f":"IFERROR(INDEX(data_absen!$J$2:$J$2000,SUMPRODUCT((data_absen!$B$2:$B$2000=$A28)*(data_absen!$C$2:$C$2000=AK$3)*(ROW(data_absen!$C$2:$C$2000)))-1)*1440,\"\")","v":""},{"$f":"IFERROR(INDEX(data_absen!$K$2:$K$2000,SUMPRODUCT((data_absen!$B$2:$B$2000=$A28)*(data_absen!$C$2:$C$2000=AP$3)*(ROW(data_absen!$C$2:$C$2000)))-1)*1440,\"\")","v":""},{"$f":"IFERROR(INDEX(data_absen!$I$2:$I$2000,SUMPRODUCT((data_absen!$B$2:$B$2000=$A28)*(data_absen!$C$2:$C$2000=AP$3)*(ROW(data_absen!$C$2:$C$2000)))-1)*1440,\"\")","v":""},null,null,{"$f":"IFERROR(INDEX(data_absen!$J$2:$J$2000,SUMPRODUCT((data_absen!$B$2:$B$2000=$A28)*(data_absen!$C$2:$C$2000=AP$3)*(ROW(data_absen!$C$2:$C$2000)))-1)*1440,\"\")","v":""},{"$f":"IFERROR(INDEX(data_absen!$K$2:$K$2000,SUMPRODUCT((data_absen!$B$2:$B$2000=$A28)*(data_absen!$C$2:$C$2000=AU$3)*(ROW(data_absen!$C$2:$C$2000)))-1)*1440,\"\")","v":""},{"$f":"IFERROR(INDEX(data_absen!$I$2:$I$2000,SUMPRODUCT((data_absen!$B$2:$B$2000=$A28)*(data_absen!$C$2:$C$2000=AU$3)*(ROW(data_absen!$C$2:$C$2000)))-1)*1440,\"\")","v":""},null,null,{"$f":"IFERROR(INDEX(data_absen!$J$2:$J$2000,SUMPRODUCT((data_absen!$B$2:$B$2000=$A28)*(data_absen!$C$2:$C$2000=AU$3)*(ROW(data_absen!$C$2:$C$2000)))-1)*1440,\"\")","v":""},{"$f":"IFERROR(INDEX(data_absen!$K$2:$K$2000,SUMPRODUCT((data_absen!$B$2:$B$2000=$A28)*(data_absen!$C$2:$C$2000=AZ$3)*(ROW(data_absen!$C$2:$C$2000)))-1)*1440,\"\")","v":""},{"$f":"IFERROR(INDEX(data_absen!$I$2:$I$2000,SUMPRODUCT((data_absen!$B$2:$B$2000=$A28)*(data_absen!$C$2:$C$2000=AZ$3)*(ROW(data_absen!$C$2:$C$2000)))-1)*1440,\"\")","v":""},null,null,{"$f":"IFERROR(INDEX(data_absen!$J$2:$J$2000,SUMPRODUCT((data_absen!$B$2:$B$2000=$A28)*(data_absen!$C$2:$C$2000=AZ$3)*(ROW(data_absen!$C$2:$C$2000)))-1)*1440,\"\")","v":""},{"$f":"IFERROR(INDEX(data_absen!$K$2:$K$2000,SUMPRODUCT((data_absen!$B$2:$B$2000=$A28)*(data_absen!$C$2:$C$2000=BE$3)*(ROW(data_absen!$C$2:$C$2000)))-1)*1440,\"\")","v":""},{"$f":"IFERROR(INDEX(data_absen!$I$2:$I$2000,SUMPRODUCT((data_absen!$B$2:$B$2000=$A28)*(data_absen!$C$2:$C$2000=BE$3)*(ROW(data_absen!$C$2:$C$2000)))-1)*1440,\"\")","v":""},null,null,{"$f":"IFERROR(INDEX(data_absen!$J$2:$J$2000,SUMPRODUCT((data_absen!$B$2:$B$2000=$A28)*(data_absen!$C$2:$C$2000=BE$3)*(ROW(data_absen!$C$2:$C$2000)))-1)*1440,\"\")","v":""},{"$f":"IFERROR(INDEX(data_absen!$K$2:$K$2000,SUMPRODUCT((data_absen!$B$2:$B$2000=$A28)*(data_absen!$C$2:$C$2000=BJ$3)*(ROW(data_absen!$C$2:$C$2000)))-1)*1440,\"\")","v":""},{"$f":"IFERROR(INDEX(data_absen!$I$2:$I$2000,SUMPRODUCT((data_absen!$B$2:$B$2000=$A28)*(data_absen!$C$2:$C$2000=BJ$3)*(ROW(data_absen!$C$2:$C$2000)))-1)*1440,\"\")","v":""},null,null,{"$f":"IFERROR(INDEX(data_absen!$J$2:$J$2000,SUMPRODUCT((data_absen!$B$2:$B$2000=$A28)*(data_absen!$C$2:$C$2000=BJ$3)*(ROW(data_absen!$C$2:$C$2000)))-1)*1440,\"\")","v":""},{"$f":"IFERROR(INDEX(data_absen!$K$2:$K$2000,SUMPRODUCT((data_absen!$B$2:$B$2000=$A28)*(data_absen!$C$2:$C$2000=BO$3)*(ROW(data_absen!$C$2:$C$2000)))-1)*1440,\"\")","v":""},{"$f":"IFERROR(INDEX(data_absen!$I$2:$I$2000,SUMPRODUCT((data_absen!$B$2:$B$2000=$A28)*(data_absen!$C$2:$C$2000=BO$3)*(ROW(data_absen!$C$2:$C$2000)))-1)*1440,\"\")","v":""},null,null,{"$f":"IFERROR(INDEX(data_absen!$J$2:$J$2000,SUMPRODUCT((data_absen!$B$2:$B$2000=$A28)*(data_absen!$C$2:$C$2000=BO$3)*(ROW(data_absen!$C$2:$C$2000)))-1)*1440,\"\")","v":""},{"$f":"COUNTIFS(data_absen!$B$2:$B$2000,$A28,data_absen!$I$2:$I$2000,\">0\")","v":0}]
["Uyun",{"$f":"INDEX(data_absen!$G$2:$G$2000,SUMPRODUCT((data_absen!$B$2:$B$2000=$A31)*(data_absen!$C$2:$C$2000=B$3)*(ROW(data_absen!$C$2:$C$2000)))-1)","v":"06:45:00"},null,"-",{"$f":"INDEX(data_absen!$H$2:$H$2000,SUMPRODUCT((data_absen!$B$2:$B$2000=$A31)*(data_absen!$C$2:$C$2000=B$3)*(ROW(data_absen!$C$2:$C$2000)))-1)","v":"14:56:00"},null,{"$f":"INDEX(data_absen!$G$2:$G$2000,SUMPRODUCT((data_absen!$B$2:$B$2000=$A31)*(data_absen!$C$2:$C$2000=G$3)*(ROW(data_absen!$C$2:$C$2000)))-1)","v":""},null,"-",{"$f":"INDEX(data_absen!$H$2:$H$2000,SUMPRODUCT((data_absen!$B$2:$B$2000=$A31)*(data_absen!$C$2:$C$2000=G$3)*(ROW(data_absen!$C$2:$C$2000)))-1)","v":""},null,{"$f":"INDEX(data_absen!$G$2:$G$2000,SUMPRODUCT((data_absen!$B$2:$B$2000=$A31)*(data_absen!$C$2:$C$2000=L$3)*(ROW(data_absen!$C$2:$C$2000)))-1)","v":""},null,"-",{"$f":"INDEX(data_absen!$H$2:$H$2000,SUMPRODUCT((data_absen!$B$2:$B$2000=$A31)*(data_absen!$C$2:$C$2000=L$3)*(ROW(data_absen!$C$2:$C$2000)))-1)","v":""},null,{"$f":"INDEX(data_absen!$G$2:$G$2000,SUMPRODUCT((data_absen!$B$2:$B$2000=$A31)*(data_absen!$C$2:$C$2000=Q$3)*(ROW(data_absen!$C$2:$C$2000)))-1)","v":""},null,"-",{"$f":"INDEX(data_absen!$H$2:$H$2000,SUMPRODUCT((data_absen!$B$2:$B$2000=$A31)*(data_absen!$C$2:$C$2000=Q$3)*(ROW(data_absen!$C$2:$C$2000)))-1)","v":""},null,{"$f":"INDEX(data_absen!$G$2:$G$2000,SUMPRODUCT((data_absen!$B$2:$B$2000=$A31)*(data_absen!$C$2:$C$2000=V$3)*(ROW(data_absen!$C$2:$C$2000)))-1)","v":""},null,"-",{"$f":"INDEX(data_absen!$H$2:$H$2000,SUMPRODUCT((data_absen!$B$2:$B$2000=$A31)*(data_absen!$C$2:$C$2000=V$3)*(ROW(data_absen!$C$2:$C$2000)))-1)","v":""},null,{"$f":"INDEX(data_absen!$G$2:$G$2000,SUMPRODUCT((data_absen!$B$2:$B$2000=$A31)*(data_absen!$C$2:$C$2000=AA$3)*(ROW(data_absen!$C$2:$C$2000)))-1)","v":""},null,"-",{"$f":"INDEX(data_absen!$H$2:$H$2000,SUMPRODUCT((data_absen!$B$2:$B$2000=$A31)*(data_absen!$C$2:$C$2000=AA$3)*(ROW(data_absen!$C$2:$C$2000)))-1)","v":""},null,{"$f":"INDEX(data_absen!$G$2:$G$2000,SUMPRODUCT((data_absen!$B$2:$B$2000=$A31)*(data_absen!$C$2:$C$2000=AF$3)*(ROW(data_absen!$C$2:$C$2000)))-1)","v":""},null,"-",{"$f":"INDEX(data_absen!$H$2:$H$2000,SUMPRODUCT((data_absen!$B$2:$B$2000=$A31)*(data_absen!$C$2:$C$2000=AF$3)*(ROW(data_absen!$C$2:$C$2000)))-1)","v":""},null,{"$f":"INDEX(data_absen!$G$2:$G$2000,SUMPRODUCT((data_absen!$B$2:$B$2000=$A31)*(data_absen!$C$2:$C$2000=AK$3)*(ROW(data_absen!$C$2:$C$2000)))-1)","v":""},null,"-",{"$f":"INDEX(data_absen!$H$2:$H$2000,SUMPRODUCT((data_absen!$B$2:$B$2000=$A31)*(data_absen!$C$2:$C$2000=AK$3)*(ROW(data_absen!$C$2:$C$2000)))-1)","v":""},null,{"$f":"INDEX(data_absen!$G$2:$G$2000,SUMPRODUCT((data_absen!$B$2:$B$2000=$A31)*(data_absen!$C$2:$C$2000=AP$3)*(ROW(data_absen!$C$2:$C$2000)))-1)","v":""},null,"-",{"$f":"INDEX(data_absen!$H$2:$H$2000,SUMPRODUCT((data_absen!$B$2:$B$2000=$A31)*(data_absen!$C$2:$C$2000=AP$3)*(ROW(data_absen!$C$2:$C$2000)))-1)","v":""},null,{"$f":"INDEX(data_absen!$G$2:$G$2000,SUMPRODUCT((data_absen!$B$2:$B$2000=$A31)*(data_absen!$C$2:$C$2000=AU$3)*(ROW(data_absen!$C$2:$C$2000)))-1)","v":""},null,"-",{"$f":"INDEX(data_absen!$H$2:$H$2000,SUMPRODUCT((data_absen!$B$2:$B$2000=$A31)*(data_absen!$C$2:$C$2000=AU$3)*(ROW(data_absen!$C$2:$C$2000)))-1)","v":""},null,{"$f":"INDEX(data_absen!$G$2:$G$2000,SUMPRODUCT((data_absen!$B$2:$B$2000=$A31)*(data_absen!$C$2:$C$2000=AZ$3)*(ROW(data_absen!$C$2:$C$2000)))-1)","v":""},null,"-",{"$f":"INDEX(data_absen!$H$2:$H$2000,SUMPRODUCT((data_absen!$B$2:$B$2000=$A31)*(data_absen!$C$2:$C$2000=AZ$3)*(ROW(data_absen!$C$2:$C$2000)))-1)","v":""},null,{"$f":"INDEX(data_absen!$G$2:$G$2000,SUMPRODUCT((data_absen!$B$2:$B$2000=$A31)*(data_absen!$C$2:$C$2000=BE$3)*(ROW(data_absen!$C$2:$C$2000)))-1)","v":""},null,"-",{"$f":"INDEX(data_absen!$H$2:$H$2000,SUMPRODUCT((data_absen!$B$2:$B$2000=$A31)*(data_absen!$C$2:$C$2000=BE$3)*(ROW(data_absen!$C$2:$C$2000)))-1)","v":""},null,{"$f":"INDEX(data_absen!$G$2:$G$2000,SUMPRODUCT((data_absen!$B$2:$B$2000=$A31)*(data_absen!$C$2:$C$2000=BJ$3)*(ROW(data_absen!$C$2:$C$2000)))-1)","v":""},null,"-",{"$f":"INDEX(data_absen!$H$2:$H$2000,SUMPRODUCT((data_absen!$B$2:$B$2000=$A31)*(data_absen!$C$2:$C$2000=BJ$3)*(ROW(data_absen!$C$2:$C$2000)))-1)","v":""},null,{"$f":"INDEX(data_absen!$G$2:$G$2000,SUMPRODUCT((data_absen!$B$2:$B$2000=$A31)*(data_absen!$C$2:$C$2000=BO$3)*(ROW(data_absen!$C$2:$C$2000)))-1)","v":""},null,"-",{"$f":"INDEX(data_absen!$H$2:$H$2000,SUMPRODUCT((data_absen!$B$2:$B$2000=$A31)*(data_absen!$C$2:$C$2000=BO$3)*(ROW(data_absen!$C$2:$C$2000)))-1)","v":""}]
[306,null,null,"-",null,null,null,null,"-",null,null,null,null,"-",null,null,null,null,"-",null,null,null,null,"-",null,null,null,null,"-",null,null,null,null,"-",null,null,null,null,"-",null,null,null,null,"-",null,null,null,null,"-",null,null,null,null,"-",null,null,null,null,"-",null,null,null,null,"-",null,null,null,null,"-"]
[null,{"$f":"IFERROR(INDEX(data_absen!$K$2:$K$2000,SUMPRODUCT((data_absen!$B$2:$B$2000=$A31)*(data_absen!$C$2:$C$2000=B$3)*(ROW(data_absen!$C$2:$C$2000)))-1)*1440,\"\")","v":""},{"$f":"IFERROR(INDEX(data_absen!$I$2:$I$2000,SUMPRODUCT((data_absen!$B$2:$B$2000=$A31)*(data_absen!$C$2:$C$2000=B$3)*(ROW(data_absen!$C$2:$C$2000)))-1)*1440,\"\")","v":""},null,null,{"$f":"IFERROR(INDEX(data_absen!$J$2:$J$2000,SUMPRODUCT((data_absen!$B$2:$B$2000=$A31)*(data_absen!$C$2:$C$2000=B$3)*(ROW(data_absen!$C$2:$C$2000)))-1)*1440,\"\")","v":124.00000000000001},{"$f":"IFERROR(INDEX(data_absen!$K$2:$K$2000,SUMPRODUCT((data_absen!$B$2:$B$2000=$A31)*(data_absen!$C$2:$C$2000=G$3)*(ROW(data_absen!$C$2:$C$2000)))-1)*1440,\"\")","v":""},{"$f":"IFERROR(INDEX(data_absen!$I$2:$I$2000,SUMPRODUCT((data_absen!$B$2:$B$2000=$A31)*(data_absen!$C$2:$C$2000=G$3)*(ROW(data_absen!$C$2:$C$2000)))-1)*1440,\"\")","v":""},null,null,{"$f":"IFERROR(INDEX(data_absen!$J$2:$J$2000,SUMPRODUCT((data_absen!$B$2:$B$2000=$A31)*(data_absen!$C$2:$C$2000=G$3)*(ROW(data_absen!$C$2:$C$2000)))-1)*1440,\"\")","v":""},{"$f":"IFERROR(INDEX(data_absen!$K$2:$K$2000,SUMPRODUCT((data_absen!$B$2:$B$2000=$A31)*(data_absen!$C$2:$C$2000=L$3)*(ROW(data_absen!$C$2:$C$2000)))-1)*1440,\"\")","v":""},{"$f":"IFERROR(INDEX(data_absen!$I$2:$I$2000,SUMPRODUCT((data_absen!$B$2:$B$2000=$A31)*(data_absen!$C$2:$C$2000=L$3)*(ROW(data_absen!$C$2:$C$2000)))-1)*1440,\"\")","v":""},null,null,{"$f":"IFERROR(INDEX(data_absen!$J$2:$J$2000,SUMPRODUCT((data_absen!$B$2:$B$2000=$A31)*(data_absen!$C$2:$C$2000=L$3)*(ROW(data_absen!$C$2:$C$2000)))-1)*1440,\"\")","v":""},{"$f":"IFERROR(INDEX(data_absen!$K$2:$K$2000,SUMPRODUCT((data_absen!$B$2:$B$2000=$A31)*(data_absen!$C$2:$C$2000=Q$3)*(ROW(data_absen!$C$2:$C$2000)))-1)*1440,\"\")","v":""},{"$f":"IFERROR(INDEX(data_absen!$I$2:$I$2000,SUMPRODUCT((data_absen!$B$2:$B$2000=$A31)*(data_absen!$C$2:$C$2000=Q$3)*(ROW(data_absen!$C$2:$C$2000)))-1)*1440,\"\")","v":""},null,null,{"$f":"IFERROR(INDEX(data_absen!$J$2:$J$2000,SUMPRODUCT((data_absen!$B$2:$B$2000=$A31)*(data_absen!$C$2:$C$2000=Q$3)*(ROW(data_absen!$C$2:$C$2000)))-1)*1440,\"\")","v":""},{"$f":"IFERROR(INDEX(data_absen!$K$2:$K$2000,SUMPRODUCT((data_absen!$B$2:$B$2000=$A31)*(data_absen!$C$2:$C$2000=V$3)*(ROW(data_absen!$C$2:$C$2000)))-1)*1440,\"\")","v":""},{"$f":"IFERROR(INDEX(data_absen!$I$2:$I$2000,SUMPRODUCT((data_absen!$B$2:$B$2000=$A31)*(data_absen!$C$2:$C$2000=V$3)*(ROW(data_absen!$C$2:$C$2000)))-1)*1440,\"\")","v":""},null,null,{"$f":"IFERROR(INDEX(data_absen!$J$2:$J$2000,SUMPRODUCT((data_absen!$B$2:$B$2000=$A31)*(data_absen!$C$2:$C$2000=V$3)*(ROW(data_absen!$C$2:$C$2000)))-1)*1440,\"\")","v":""},{"$f":"IFERROR(INDEX(data_absen!$K$2:$K$2000,SUMPRODUCT((data_absen!$B$2:$B$2000=$A31)*(data_absen!$C$2:$C$2000=AA$3)*(ROW(data_absen!$C$2:$C$2000)))-1)*1440,\"\")","v":""},{"$f":"IFERROR(INDEX(data_absen!$I$2:$I$2000,SUMPRODUCT((data_absen!$B$2:$B$2000=$A31)*(data_absen!$C$2:$C$2000=AA$3)*(ROW(data_absen!$C$2:$C$2000)))-1)*1440,\"\")","v":""},null,null,{"$f":"IFERROR(INDEX(data_absen!$J$2:$J$2000,SUMPRODUCT((data_absen!$B$2:$B$2000=$A31)*(data_absen!$C$2:$C$2000=AA$3)*(ROW(data_absen!$C$2:$C$2000)))-1)*1440,\"\")","v":""},{"$f":"IFERROR(INDEX(data_absen!$K$2:$K$2000,SUMPRODUCT((data_absen!$B$2:$B$2000=$A31)*(data_absen!$C$2:$C$2000=AF$3)*(ROW(data_absen!$C$2:$C$2000)))-1)*1440,\"\")","v":""},{"$f":"IFERROR(INDEX(data_absen!$I$2:$I$2000,SUMPRODUCT((data_absen!$B$2:$B$2000=$A31)*(data_absen!$C$2:$C$2000=AF$3)*(ROW(data_absen!$C$2:$C$2000)))-1)*1440,\"\")","v":""},null,null,{"$f":"IFERROR(INDEX(data_absen!$J$2:$J$2000,SUMPRODUCT((data_absen!$B$2:$B$2000=$A31)*(data_absen!$C$2:$C$2000=AF$3)*(ROW(data_absen!$C$2:$C$2000)))-1)*1440,\"\")","v":""},{"$f":"IFERROR(INDEX(data_absen!$K$2:$K$2000,SUMPRODUCT((data_absen!$B$2:$B$2000=$A31)*(data_absen!$C$2:$C$2000=AK$3)*(ROW(data_absen!$C$2:$C$2000)))-1)*1440,\"\")","v":""},{"$f":"IFERROR(INDEX(data_absen!$I$2:$I$2000,SUMPRODUCT((data_absen!$B$2:$B$2000=$A31)*(data_absen!$C$2:$C$2000=AK$3)*(ROW(data_absen!$C$2:$C$2000)))-1)*1440,\"\")","v":""},null,null,{"$f":"IFERROR(INDEX(data_absen!$J$2:$J$2000,SUMPRODUCT((data_absen!$B$2:$B$2000=$A31)*(data_absen!$C$2:$C$2000=AK$3)*(ROW(data_absen!$C$2:$C$2000)))-1)*1440,\"\")","v":""},{"$f":"IFERROR(INDEX(data_absen!$K$2:$K$2000,SUMPRODUCT((data_absen!$B$2:$B$2000=$A31)*(data_absen!$C$2:$C$2000=AP$3)*(ROW(data_absen!$C$2:$C$2000)))-1)*1440,\"\")","v":""},{"$f":"IFERROR(INDEX(data_absen!$I$2:$I$2000,SUMPRODUCT((data_absen!$B$2:$B$2000=$A31)*(data_absen!$C$2:$C$2000=AP$3)*(ROW(data_absen!$C$2:$C$2000)))-1)*1440,\"\")","v":""},null,null,{"$f":"IFERROR(INDEX(data_absen!$J$2:$J$2000,SUMPRODUCT((data_absen!$B$2:$B$2000=$A31)*(data_absen!$C$2:$C$2000=AP$3)*(ROW(data_absen!$C$2:$C$2000)))-1)*1440,\"\")","v":""},{"$f":"IFERROR(INDEX(data_absen!$K$2:$K$2000,SUMPRODUCT((data_absen!$B$2:$B$2000=$A31)*(data_absen!$C$2:$C$2000=AU$3)*(ROW(data_absen!$C$2:$C$2000)))-1)*1440,\"\")","v":""},{"$f":"IFERROR(INDEX(data_absen!$I$2:$I$2000,SUMPRODUCT((data_absen!$B$2:$B$2000=$A31)*(data_absen!$C$2:$C$2000=AU$3)*(ROW(data_absen!$C$2:$C$2000)))-1)*1440,\"\")","v":""},null,null,{"$f":"IFERROR(INDEX(data_absen!$J$2:$J$2000,SUMPRODUCT((data_absen!$B$2:$B$2000=$A31)*(data_absen!$C$2:$C$2000=AU$3)*(ROW(data_absen!$C$2:$C$2000)))-1)*1440,\"\")","v":""},{"$f":"IFERROR(INDEX(data_absen!$K$2:$K$2000,SUMPRODUCT((data_absen!$B$2:$B$2000=$A31)*(data_absen!$C$2:$C$2000=AZ$3)*(ROW(data_absen!$C$2:$C$2000)))-1)*1440,\"\")","v":""},{"$f":"IFERROR(INDEX(data_absen!$I$2:$I$2000,SUMPRODUCT((data_absen!$B$2:$B$2000=$A31)*(data_absen!$C$2:$C$2000=AZ$3)*(ROW(data_absen!$C$2:$C$2000)))-1)*1440,\"\")","v":""},null,null,{"$f":"IFERROR(INDEX(data_absen!$J$2:$J$2000,SUMPRODUCT((data_absen!$B$2:$B$2000=$A31)*(data_absen!$C$2:$C$2000=AZ$3)*(ROW(data_absen!$C$2:$C$2000)))-1)*1440,\"\")","v":""},{"$f":"IFERROR(INDEX(data_absen!$K$2:$K$2000,SUMPRODUCT((data_absen!$B$2:$B$2000=$A31)*(data_absen!$C$2:$C$2000=BE$3)*(ROW(data_absen!$C$2:$C$2000)))-1)*1440,\"\")","v":""},{"$f":"IFERROR(INDEX(data_absen!$I$2:$I$2000,SUMPRODUCT((data_absen!$B$2:$B$2000=$A31)*(data_absen!$C$2:$C$2000=BE$3)*(ROW(data_absen!$C$2:$C$2000)))-1)*1440,\"\")","v":""},null,null,{"$f":"IFERROR(INDEX(data_absen!$J$2:$J$2000,SUMPRODUCT((data_absen!$B$2:$B$2000=$A31)*(data_absen!$C$2:$C$2000=BE$3)*(ROW(data_absen!$C$2:$C$2000)))-1)*1440,\"\")","v":""},{"$f":"IFERROR(INDEX(data_absen!$K$2:$K$2000,SUMPRODUCT((data_absen!$B$2:$B$2000=$A31)*(data_absen!$C$2:$C$2000=BJ$3)*(ROW(data_absen!$C$2:$C$2000)))-1)*1440,\"\")","v":""},{"$f":"IFERROR(INDEX(data_absen!$I$2:$I$2000,SUMPRODUCT((data_absen!$B$2:$B$2000=$A31)*(data_absen!$C$2:$C$2000=BJ$3)*(ROW(data_absen!$C$2:$C$2000)))-1)*1440,\"\")","v":""},null,null,{"$f":"IFERROR(INDEX(data_absen!$J$2:$J$2000,SUMPRODUCT((data_absen!$B$2:$B$2000=$A31)*(data_absen!$C$2:$C$2000=BJ$3)*(ROW(data_absen!$C$2:$C$2000)))-1)*1440,\"\")","v":""},{"$f":"IFERROR(INDEX(data_absen!$K$2:$K$2000,SUMPRODUCT((data_absen!$B$2:$B$2000=$A31)*(data_absen!$C$2:$C$2000=BO$3)*(ROW(data_absen!$C$2:$C$2000)))-1)*1440,\"\")","v":""},{"$f":"IFERROR(INDEX(data_absen!$I$2:$I$2000,SUMPRODUCT((data_absen!$B$2:$B$2000=$A31)*(data_absen!$C$2:$C$2000=BO$3)*(ROW(data_absen!$C$2:$C$2000)))-1)*1440,\"\")","v":""},null,null,{"$f":"IFERROR(INDEX(data_absen!$J$2:$J$2000,SUMPRODUCT((data_absen!$B$2:$B$2000=$A31)*(data_absen!$C$2:$C$2000=BO$3)*(ROW(data_absen!$C$2:$C$2000)))-1)*1440,\"\")","v":""},{"$f":"COUNTIFS(data_absen!$B$2:$B$2000,$A31,data_absen!$I$2:$I$2000,\">0\")","v":0}]
["Rina",{"$f":"INDEX(data_absen!$G$2:$G$2000,SUMPRODUCT((data_absen!$B$2:$B$2000=$A34)*(data_absen!$C$2:$C$2000=B$3)*(ROW(data_absen!$C$2:$C$2000)))-1)","v":""},null,"-",{"$f":"INDEX(data_absen!$H$2:$H$2000,SUMPRODUCT((data_absen!$B$2:$B$2000=$A34)*(data_absen!$C$2:$C$2000=B$3)*(ROW(data_absen!$C$2:$C$2000)))-1)","v":""},null,{"$f":"INDEX(data_absen!$G$2:$G$2000,SUMPRODUCT((data_absen!$B$2:$B$2000=$A34)*(data_absen!$C$2:$C$2000=G$3)*(ROW(data_absen!$C$2:$C$2000)))-1)","v":""},null,"-",{"$f":"INDEX(data_absen!$H$2:$H$2000,SUMPRODUCT((data_absen!$B$2:$B$2000=$A34)*(data_absen!$C$2:$C$2000=G$3)*(ROW(data_absen!$C$2:$C$2000)))-1)","v":""},null,{"$f":"INDEX(data_absen!$G$2:$G$2000,SUMPRODUCT((data_absen!$B$2:$B$2000=$A34)*(data_absen!$C$2:$C$2000=L$3)*(ROW(data_absen!$C$2:$C$2000)))-1)","v":""},null,"-",{"$f":"INDEX(data_absen!$H$2:$H$2000,SUMPRODUCT((data_absen!$B$2:$B$2000=$A34)*(data_absen!$C$2:$C$2000=L$3)*(ROW(data_absen!$C$2:$C$2000)))-1)","v":""},null,{"$f":"INDEX(data_absen!$G$2:$G$2000,SUMPRODUCT((data_absen!$B$2:$B$2000=$A34)*(data_absen!$C$2:$C$2000=Q$3)*(ROW(data_absen!$C$2:$C$2000)))-1)","v":""},null,"-",{"$f":"INDEX(data_absen!$H$2:$H$2000,SUMPRODUCT((data_absen!$B$2:$B$2000=$A34)*(data_absen!$C$2:$C$2000=Q$3)*(ROW(data_absen!$C$2:$C$2000)))-1)","v":""},null,{"$f":"INDEX(data_absen!$G$2:$G$2000,SUMPRODUCT((data_absen!$B$2:$B$2000=$A34)*(data_absen!$C$2:$C$2000=V$3)*(ROW(data_absen!$C$2:$C$2000)))-1)","v":""},null,"-",{"$f":"INDEX(data_absen!$H$2:$H$2000,SUMPRODUCT((data_absen!$B$2:$B$2000=$A34)*(data_absen!$C$2:$C$2000=V$3)*(ROW(data_absen!$C$2:$C$2000)))-1)","v":""},null,{"$f":"INDEX(data_absen!$G$2:$G$2000,SUMPRODUCT((data_absen!$B$2:$B$2000=$A34)*(data_absen!$C$2:$C$2000=AA$3)*(ROW(data_absen!$C$2:$C$2000)))-1)","v":""},null,"-",{"$f":"INDEX(data_absen!$H$2:$H$2000,SUMPRODUCT((data_absen!$B$2:$B$2000=$A34)*(data_absen!$C$2:$C$2000=AA$3)*(ROW(data_absen!$C$2:$C$2000)))-1)","v":""},null,{"$f":"INDEX(data_absen!$G$2:$G$2000,SUMPRODUCT((data_absen!$B$2:$B$2000=$A34)*(data_absen!$C$2:$C$2000=AF$3)*(ROW(data_absen!$C$2:$C$2000)))-1)","v":""},null,"-",{"$f":"INDEX(data_absen!$H$2:$H$2000,SUMPRODUCT((data_absen!$B$2:$B$2000=$A34)*(data_absen!$C$2:$C$2000=AF$3)*(ROW(data_absen!$C$2:$C$2000)))-1)","v":""},null,{"$f":"INDEX(data_absen!$G$2:$G$2000,SUMPRODUCT((data_absen!$B$2:$B$2000=$A34)*(data_absen!$C$2:$C$2000=AK$3)*(ROW(data_absen!$C$2:$C$2000)))-1)","v":""},null,"-",{"$f":"INDEX(data_absen!$H$2:$H$2000,SUMPRODUCT((data_absen!$B$2:$B$2000=$A34)*(data_absen!$C$2:$C$2000=AK$3)*(ROW(data_absen!$C$2:$C$2000)))-1)","v":""},null,{"$f":"INDEX(data_absen!$G$2:$G$2000,SUMPRODUCT((data_absen!$B$2:$B$2000=$A34)*(data_absen!$C$2:$C$2000=AP$3)*(ROW(data_absen!$C$2:$C$2000)))-1)","v":""},null,"-",{"$f":"INDEX(data_absen!$H$2:$H$2000,SUMPRODUCT((data_absen!$B$2:$B$2000=$A34)*(data_absen!$C$2:$C$2000=AP$3)*(ROW(data_absen!$C$2:$C$2000)))-1)","v":""},null,{"$f":"INDEX(data_absen!$G$2:$G$2000,SUMPRODUCT((data_absen!$B$2:$B$2000=$A34)*(data_absen!$C$2:$C$2000=AU$3)*(ROW(data_absen!$C$2:$C$2000)))-1)","v":""},null,"-",{"$f":"INDEX(data_absen!$H$2:$H$2000,SUMPRODUCT((data_absen!$B$2:$B$2000=$A34)*(data_absen!$C$2:$C$2000=AU$3)*(ROW(data_absen!$C$2:$C$2000)))-1)","v":""},null,{"$f":"INDEX(data_absen!$G$2:$G$2000,SUMPRODUCT((data_absen!$B$2:$B$2000=$A34)*(data_absen!$C$2:$C$2000=AZ$3)*(ROW(data_absen!$C$2:$C$2000)))-1)","v":""},null,"-",{"$f":"INDEX(data_absen!$H$2:$H$2000,SUMPRODUCT((data_absen!$B$2:$B$2000=$A34)*(data_absen!$C$2:$C$2000=AZ$3)*(ROW(data_absen!$C$2:$C$2000)))-1)","v":""},null,{"$f":"INDEX(data_absen!$G$2:$G$2000,SUMPRODUCT((data_absen!$B$2:$B$2000=$A34)*(data_absen!$C$2:$C$2000=BE$3)*(ROW(data_absen!$C$2:$C$2000)))-1)","v":""},null,"-",{"$f":"INDEX(data_absen!$H$2:$H$2000,SUMPRODUCT((data_absen!$B$2:$B$2000=$A34)*(data_absen!$C$2:$C$2000=BE$3)*(ROW(data_absen!$C$2:$C$2000)))-1)","v":""},null,{"$f":"INDEX(data_absen!$G$2:$G$2000,SUMPRODUCT((data_absen!$B$2:$B$2000=$A34)*(data_absen!$C$2:$C$2000=BJ$3)*(ROW(data_absen!$C$2:$C$2000)))-1)","v":""},null,"-",{"$f":"INDEX(data_absen!$H$2:$H$2000,SUMPRODUCT((data_absen!$B$2:$B$2000=$A34)*(data_absen!$C$2:$C$2000=BJ$3)*(ROW(data_absen!$C$2:$C$2000)))-1)","v":""},null,{"$f":"INDEX(data_absen!$G$2:$G$2000,SUMPRODUCT((data_absen!$B$2:$B$2000=$A34)*(data_absen!$C$2:$C$2000=BO$3)*(ROW(data_absen!$C$2:$C$2000)))-1)","v":""},null,"-",{"$f":"INDEX(data_absen!$H$2:$H$2000,SUMPRODUCT((data_absen!$B$2:$B$2000=$A34)*(data_absen!$C$2:$C$2000=BO$3)*(ROW(data_absen!$C$2:$C$2000)))-1)","v":""}]
[307,null,null,"-",null,null,null,null,"-",null,null,null,null,"-",null,null,null,null,"-",null,null,null,null,"-",null,null,null,null,"-",null,null,null,null,"-",null,null,null,null,"-",null,null,null,null,"-",null,null,null,null,"-",null,null,null,null,"-",null,null,null,null,"-",null,null,null,null,"-",null,null,null,null,"-"]
[null,{"$f":"IFERROR(INDEX(data_absen!$K$2:$K$2000,SUMPRODUCT((data_absen!$B$2:$B$2000=$A34)*(data_absen!$C$2:$C$2000=B$3)*(ROW(data_absen!$C$2:$C$2000)))-1)*1440,\"\")","v":""},{"$f":"IFERROR(INDEX(data_absen!$I$2:$I$2000,SUMPRODUCT((data_absen!$B$2:$B$2000=$A34)*(data_absen!$C$2:$C$2000=B$3)*(ROW(data_absen!$C$2:$C$2000)))-1)*1440,\"\")","v":""},null,null,{"$f":"IFERROR(INDEX(data_absen!$J$2:$J$2000,SUMPRODUCT((data_absen!$B$2:$B$2000=$A34)*(data_absen!$C$2:$C$2000=B$3)*(ROW(data_absen!$C$2:$C$2000)))-1)*1440,\"\")","v":""},{"$f":"IFERROR(INDEX(data_absen!$K$2:$K$2000,SUMPRODUCT((data_absen!$B$2:$B$2000=$A34)*(data_absen!$C$2:$C$2000=G$3)*(ROW(data_absen!$C$2:$C$2000)))-1)*1440,\"\")","v":""},{"$f":"IFERROR(INDEX(data_absen!$I$2:$I$2000,SUMPRODUCT((data_absen!$B$2:$B$2000=$A34)*(data_absen!$C$2:$C$2000=G$3)*(ROW(data_absen!$C$2:$C$2000)))-1)*1440,\"\")","v":""},null,null,{"$f":"IFERROR(INDEX(data_absen!$J$2:$J$2000,SUMPRODUCT((data_absen!$B$2:$B$2000=$A34)*(data_absen!$C$2:$C$2000=G$3)*(ROW(data_absen!$C$2:$C$2000)))-1)*1440,\"\")","v":""},{"$f":"IFERROR(INDEX(data_absen!$K$2:$K$2000,SUMPRODUCT((data_absen!$B$2:$B$2000=$A34)*(data_absen!$C$2:$C$2000=L$3)*(ROW(data_absen!$C$2:$C$2000)))-1)*1440,\"\")","v":""},{"$f":"IFERROR(INDEX(data_absen!$I$2:$I$2000,SUMPRODUCT((data_absen!$B$2:$B$2000=$A34)*(data_absen!$C$2:$C$2000=L$3)*(ROW(data_absen!$C$2:$C$2000)))-1)*1440,\"\")","v":""},null,null,{"$f":"IFERROR(INDEX(data_absen!$J$2:$J$2000,SUMPRODUCT((data_absen!$B$2:$B$2000=$A34)*(data_absen!$C$2:$C$2000=L$3)*(ROW(data_absen!$C$2:$C$2000)))-1)*1440,\"\")","v":""},{"$f":"IFERROR(INDEX(data_absen!$K$2:$K$2000,SUMPRODUCT((data_absen!$B$2:$B$2000=$A34)*(data_absen!$C$2:$C$2000=Q$3)*(ROW(data_absen!$C$2:$C$2000)))-1)*1440,\"\")","v":""},{"$f":"IFERROR(INDEX(data_absen!$I$2:$I$2000,SUMPRODUCT((data_absen!$B$2:$B$2000=$A34)*(data_absen!$C$2:$C$2000=Q$3)*(ROW(data_absen!$C$2:$C$2000)))-1)*1440,\"\")","v":""},null,null,{"$f":"IFERROR(INDEX(data_absen!$J$2:$J$2000,SUMPRODUCT((data_absen!$B$2:$B$2000=$A34)*(data_absen!$C$2:$C$2000=Q$3)*(ROW(data_absen!$C$2:$C$2000)))-1)*1440,\"\")","v":""},{"$f":"IFERROR(INDEX(data_absen!$K$2:$K$2000,SUMPRODUCT((data_absen!$B$2:$B$2000=$A34)*(data_absen!$C$2:$C$2000=V$3)*(ROW(data_absen!$C$2:$C$2000)))-1)*1440,\"\")","v":""},{"$f":"IFERROR(INDEX(data_absen!$I$2:$I$2000,SUMPRODUCT((data_absen!$B$2:$B$2000=$A34)*(data_absen!$C$2:$C$2000=V$3)*(ROW(data_absen!$C$2:$C$2000)))-1)*1440,\"\")","v":""},null,null,{"$f":"IFERROR(INDEX(data_absen!$J$2:$J$2000,SUMPRODUCT((data_absen!$B$2:$B$2000=$A34)*(data_absen!$C$2:$C$2000=V$3)*(ROW(data_absen!$C$2:$C$2000)))-1)*1440,\"\")","v":""},{"$f":"IFERROR(INDEX(data_absen!$K$2:$K$2000,SUMPRODUCT((data_absen!$B$2:$B$2000=$A34)*(data_absen!$C$2:$C$2000=AA$3)*(ROW(data_absen!$C$2:$C$2000)))-1)*1440,\"\")","v":""},{"$f":"IFERROR(INDEX(data_absen!$I$2:$I$2000,SUMPRODUCT((data_absen!$B$2:$B$2000=$A34)*(data_absen!$C$2:$C$2000=AA$3)*(ROW(data_absen!$C$2:$C$2000)))-1)*1440,\"\")","v":""},null,null,{"$f":"IFERROR(INDEX(data_absen!$J$2:$J$2000,SUMPRODUCT((data_absen!$B$2:$B$2000=$A34)*(data_absen!$C$2:$C$2000=AA$3)*(ROW(data_absen!$C$2:$C$2000)))-1)*1440,\"\")","v":""},{"$f":"IFERROR(INDEX(data_absen!$K$2:$K$2000,SUMPRODUCT((data_absen!$B$2:$B$2000=$A34)*(data_absen!$C$2:$C$2000=AF$3)*(ROW(data_absen!$C$2:$C$2000)))-1)*1440,\"\")","v":""},{"$f":"IFERROR(INDEX(data_absen!$I$2:$I$2000,SUMPRODUCT((data_absen!$B$2:$B$2000=$A34)*(data_absen!$C$2:$C$2000=AF$3)*(ROW(data_absen!$C$2:$C$2000)))-1)*1440,\"\")","v":""},null,null,{"$f":"IFERROR(INDEX(data_absen!$J$2:$J$2000,SUMPRODUCT((data_absen!$B$2:$B$2000=$A34)*(data_absen!$C$2:$C$2000=AF$3)*(ROW(data_absen!$C$2:$C$2000)))-1)*1440,\"\")","v":""},{"$f":"IFERROR(INDEX(data_absen!$K$2:$K$2000,SUMPRODUCT((data_absen!$B$2:$B$2000=$A34)*(data_absen!$C$2:$C$2000=AK$3)*(ROW(data_absen!$C$2:$C$2000)))-1)*1440,\"\")","v":""},{"$f":"IFERROR(INDEX(data_absen!$I$2:$I$2000,SUMPRODUCT((data_absen!$B$2:$B$2000=$A34)*(data_absen!$C$2:$C$2000=AK$3)*(ROW(data_absen!$C$2:$C$2000)))-1)*1440,\"\")","v":""},null,null,{"$f":"IFERROR(INDEX(data_absen!$J$2:$J$2000,SUMPRODUCT((data_absen!$B$2:$B$2000=$A34)*(data_absen!$C$2:$C$2000=AK$3)*(ROW(data_absen!$C$2:$C$2000)))-1)*1440,\"\")","v":""},{"$f":"IFERROR(INDEX(data_absen!$K$2:$K$2000,SUMPRODUCT((data_absen!$B$2:$B$2000=$A34)*(data_absen!$C$2:$C$2000=AP$3)*(ROW(data_absen!$C$2:$C$2000)))-1)*1440,\"\")","v":""},{"$f":"IFERROR(INDEX(data_absen!$I$2:$I$2000,SUMPRODUCT((data_absen!$B$2:$B$2000=$A34)*(data_absen!$C$2:$C$2000=AP$3)*(ROW(data_absen!$C$2:$C$2000)))-1)*1440,\"\")","v":""},null,null,{"$f":"IFERROR(INDEX(data_absen!$J$2:$J$2000,SUMPRODUCT((data_absen!$B$2:$B$2000=$A34)*(data_absen!$C$2:$C$2000=AP$3)*(ROW(data_absen!$C$2:$C$2000)))-1)*1440,\"\")","v":""},{"$f":"IFERROR(INDEX(data_absen!$K$2:$K$2000,SUMPRODUCT((data_absen!$B$2:$B$2000=$A34)*(data_absen!$C$2:$C$2000=AU$3)*(ROW(data_absen!$C$2:$C$2000)))-1)*1440,\"\")","v":""},{"$f":"IFERROR(INDEX(data_absen!$I$2:$I$2000,SUMPRODUCT((data_absen!$B$2:$B$2000=$A34)*(data_absen!$C$2:$C$2000=AU$3)*(ROW(data_absen!$C$2:$C$2000)))-1)*1440,\"\")","v":""},null,null,{"$f":"IFERROR(INDEX(data_absen!$J$2:$J$2000,SUMPRODUCT((data_absen!$B$2:$B$2000=$A34)*(data_absen!$C$2:$C$2000=AU$3)*(ROW(data_absen!$C$2:$C$2000)))-1)*1440,\"\")","v":""},{"$f":"IFERROR(INDEX(data_absen!$K$2:$K$2000,SUMPRODUCT((data_absen!$B$2:$B$2000=$A34)*(data_absen!$C$2:$C$2000=AZ$3)*(ROW(data_absen!$C$2:$C$2000)))-1)*1440,\"\")","v":""},{"$f":"IFERROR(INDEX(data_absen!$I$2:$I$2000,SUMPRODUCT((data_absen!$B$2:$B$2000=$A34)*(data_absen!$C$2:$C$2000=AZ$3)*(ROW(data_absen!$C$2:$C$2000)))-1)*1440,\"\")","v":""},null,null,{"$f":"IFERROR(INDEX(data_absen!$J$2:$J$2000,SUMPRODUCT((data_absen!$B$2:$B$2000=$A34)*(data_absen!$C$2:$C$2000=AZ$3)*(ROW(data_absen!$C$2:$C$2000)))-1)*1440,\"\")","v":""},{"$f":"IFERROR(INDEX(data_absen!$K$2:$K$2000,SUMPRODUCT((data_absen!$B$2:$B$2000=$A34)*(data_absen!$C$2:$C$2000=BE$3)*(ROW(data_absen!$C$2:$C$2000)))-1)*1440,\"\")","v":""},{"$f":"IFERROR(INDEX(data_absen!$I$2:$I$2000,SUMPRODUCT((data_absen!$B$2:$B$2000=$A34)*(data_absen!$C$2:$C$2000=BE$3)*(ROW(data_absen!$C$2:$C$2000)))-1)*1440,\"\")","v":""},null,null,{"$f":"IFERROR(INDEX(data_absen!$J$2:$J$2000,SUMPRODUCT((data_absen!$B$2:$B$2000=$A34)*(data_absen!$C$2:$C$2000=BE$3)*(ROW(data_absen!$C$2:$C$2000)))-1)*1440,\"\")","v":""},{"$f":"IFERROR(INDEX(data_absen!$K$2:$K$2000,SUMPRODUCT((data_absen!$B$2:$B$2000=$A34)*(data_absen!$C$2:$C$2000=BJ$3)*(ROW(data_absen!$C$2:$C$2000)))-1)*1440,\"\")","v":""},{"$f":"IFERROR(INDEX(data_absen!$I$2:$I$2000,SUMPRODUCT((data_absen!$B$2:$B$2000=$A34)*(data_absen!$C$2:$C$2000=BJ$3)*(ROW(data_absen!$C$2:$C$2000)))-1)*1440,\"\")","v":""},null,null,{"$f":"IFERROR(INDEX(data_absen!$J$2:$J$2000,SUMPRODUCT((data_absen!$B$2:$B$2000=$A34)*(data_absen!$C$2:$C$2000=BJ$3)*(ROW(data_absen!$C$2:$C$2000)))-1)*1440,\"\")","v":""},{"$f":"IFERROR(INDEX(data_absen!$K$2:$K$2000,SUMPRODUCT((data_absen!$B$2:$B$2000=$A34)*(data_absen!$C$2:$C$2000=BO$3)*(ROW(data_absen!$C$2:$C$2000)))-1)*1440,\"\")","v":""},{"$f":"IFERROR(INDEX(data_absen!$I$2:$I$2000,SUMPRODUCT((data_absen!$B$2:$B$2000=$A34)*(data_absen!$C$2:$C$2000=BO$3)*(ROW(data_absen!$C$2:$C$2000)))-1)*1440,\"\")","v":""},null,null,{"$f":"IFERROR(INDEX(data_absen!$J$2:$J$2000,SUMPRODUCT((data_absen!$B$2:$B$2000=$A34)*(data_absen!$C$2:$C$2000=BO$3)*(ROW(data_absen!$C$2:$C$2000)))-1)*1440,\"\")","v":""},{"$f":"COUNTIFS(data_absen!$B$2:$B$2000,$A34,data_absen!$I$2:$I$2000,\">0\")","v":0}]
["Jum",{"$f":"INDEX(data_absen!$G$2:$G$2000,SUMPRODUCT((data_absen!$B$2:$B$2000=$A37)*(data_absen!$C$2:$C$2000=B$3)*(ROW(data_absen!$C$2:$C$2000)))-1)","v":""},null,"-",{"$f":"INDEX(data_absen!$H$2:$H$2000,SUMPRODUCT((data_absen!$B$2:$B$2000=$A37)*(data_absen!$C$2:$C$2000=B$3)*(ROW(data_absen!$C$2:$C$2000)))-1)","v":""},null,{"$f":"INDEX(data_absen!$G$2:$G$2000,SUMPRODUCT((data_absen!$B$2:$B$2000=$A37)*(data_absen!$C$2:$C$2000=G$3)*(ROW(data_absen!$C$2:$C$2000)))-1)","v":""},null,"-",{"$f":"INDEX(data_absen!$H$2:$H$2000,SUMPRODUCT((data_absen!$B$2:$B$2000=$A37)*(data_absen!$C$2:$C$2000=G$3)*(ROW(data_absen!$C$2:$C$2000)))-1)","v":""},null,{"$f":"INDEX(data_absen!$G$2:$G$2000,SUMPRODUCT((data_absen!$B$2:$B$2000=$A37)*(data_absen!$C$2:$C$2000=L$3)*(ROW(data_absen!$C$2:$C$2000)))-1)","v":""},null,"-",{"$f":"INDEX(data_absen!$H$2:$H$2000,SUMPRODUCT((data_absen!$B$2:$B$2000=$A37)*(data_absen!$C$2:$C$2000=L$3)*(ROW(data_absen!$C$2:$C$2000)))-1)","v":""},null,{"$f":"INDEX(data_absen!$G$2:$G$2000,SUMPRODUCT((data_absen!$B$2:$B$2000=$A37)*(data_absen!$C$2:$C$2000=Q$3)*(ROW(data_absen!$C$2:$C$2000)))-1)","v":""},null,"-",{"$f":"INDEX(data_absen!$H$2:$H$2000,SUMPRODUCT((data_absen!$B$2:$B$2000=$A37)*(data_absen!$C$2:$C$2000=Q$3)*(ROW(data_absen!$C$2:$C$2000)))-1)","v":""},null,{"$f":"INDEX(data_absen!$G$2:$G$2000,SUMPRODUCT((data_absen!$B$2:$B$2000=$A37)*(data_absen!$C$2:$C$2000=V$3)*(ROW(data_absen!$C$2:$C$2000)))-1)","v":""},null,"-",{"$f":"INDEX(data_absen!$H$2:$H$2000,SUMPRODUCT((data_absen!$B$2:$B$2000=$A37)*(data_absen!$C$2:$C$2000=V$3)*(ROW(data_absen!$C$2:$C$2000)))-1)","v":""},null,{"$f":"INDEX(data_absen!$G$2:$G$2000,SUMPRODUCT((data_absen!$B$2:$B$2000=$A37)*(data_absen!$C$2:$C$2000=AA$3)*(ROW(data_absen!$C$2:$C$2000)))-1)","v":""},null,"-",{"$f":"INDEX(data_absen!$H$2:$H$2000,SUMPRODUCT((data_absen!$B$2:$B$2000=$A37)*(data_absen!$C$2:$C$2000=AA$3)*(ROW(data_absen!$C$2:$C$2000)))-1)","v":""},null,{"$f":"INDEX(data_absen!$G$2:$G$2000,SUMPRODUCT((data_absen!$B$2:$B$2000=$A37)*(data_absen!$C$2:$C$2000=AF$3)*(ROW(data_absen!$C$2:$C$2000)))-1)","v":""},null,"-",{"$f":"INDEX(data_absen!$H$2:$H$2000,SUMPRODUCT((data_absen!$B$2:$B$2000=$A37)*(data_absen!$C$2:$C$2000=AF$3)*(ROW(data_absen!$C$2:$C$2000)))-1)","v":""},null,{"$f":"INDEX(data_absen!$G$2:$G$2000,SUMPRODUCT((data_absen!$B$2:$B$2000=$A37)*(data_absen!$C$2:$C$2000=AK$3)*(ROW(data_absen!$C$2:$C$2000)))-1)","v":""},null,"-",{"$f":"INDEX(data_absen!$H$2:$H$2000,SUMPRODUCT((data_absen!$B$2:$B$2000=$A37)*(data_absen!$C$2:$C$2000=AK$3)*(ROW(data_absen!$C$2:$C$2000)))-1)","v":""},null,{"$f":"INDEX(data_absen!$G$2:$G$2000,SUMPRODUCT((data_absen!$B$2:$B$2000=$A37)*(data_absen!$C$2:$C$2000=AP$3)*(ROW(data_absen!$C$2:$C$2000)))-1)","v":""},null,"-",{"$f":"INDEX(data_absen!$H$2:$H$2000,SUMPRODUCT((data_absen!$B$2:$B$2000=$A37)*(data_absen!$C$2:$C$2000=AP$3)*(ROW(data_absen!$C$2:$C$2000)))-1)","v":""},null,{"$f":"INDEX(data_absen!$G$2:$G$2000,SUMPRODUCT((data_absen!$B$2:$B$2000=$A37)*(data_absen!$C$2:$C$2000=AU$3)*(ROW(data_absen!$C$2:$C$2000)))-1)","v":""},null,"-",{"$f":"INDEX(data_absen!$H$2:$H$2000,SUMPRODUCT((data_absen!$B$2:$B$2000=$A37)*(data_absen!$C$2:$C$2000=AU$3)*(ROW(data_absen!$C$2:$C$2000)))-1)","v":""},null,{"$f":"INDEX(data_absen!$G$2:$G$2000,SUMPRODUCT((data_absen!$B$2:$B$2000=$A37)*(data_absen!$C$2:$C$2000=AZ$3)*(ROW(data_absen!$C$2:$C$2000)))-1)","v":""},null,"-",{"$f":"INDEX(data_absen!$H$2:$H$2000,SUMPRODUCT((data_absen!$B$2:$B$2000=$A37)*(data_absen!$C$2:$C$2000=AZ$3)*(ROW(data_absen!$C$2:$C$2000)))-1)","v":""},null,{"$f":"INDEX(data_absen!$G$2:$G$2000,SUMPRODUCT((data_absen!$B$2:$B$2000=$A37)*(data_absen!$C$2:$C$2000=BE$3)*(ROW(data_absen!$C$2:$C$2000)))-1)","v":""},null,"-",{"$f":"INDEX(data_absen!$H$2:$H$2000,SUMPRODUCT((data_absen!$B$2:$B$2000=$A37)*(data_absen!$C$2:$C$2000=BE$3)*(ROW(data_absen!$C$2:$C$2000)))-1)","v":""},null,{"$f":"INDEX(data_absen!$G$2:$G$2000,SUMPRODUCT((data_absen!$B$2:$B$2000=$A37)*(data_absen!$C$2:$C$2000=BJ$3)*(ROW(data_absen!$C$2:$C$2000)))-1)","v":""},null,"-",{"$f":"INDEX(data_absen!$H$2:$H$2000,SUMPRODUCT((data_absen!$B$2:$B$2000=$A37)*(data_absen!$C$2:$C$2000=BJ$3)*(ROW(data_absen!$C$2:$C$2000)))-1)","v":""},null,{"$f":"INDEX(data_absen!$G$2:$G$2000,SUMPRODUCT((data_absen!$B$2:$B$2000=$A37)*(data_absen!$C$2:$C$2000=BO$3)*(ROW(data_absen!$C$2:$C$2000)))-1)","v":""},null,"-",{"$f":"INDEX(data_absen!$H$2:$H$2000,SUMPRODUCT((data_absen!$B$2:$B$2000=$A37)*(data_absen!$C$2:$C$2000=BO$3)*(ROW(data_absen!$C$2:$C$2000)))-1)","v":""}]
[308,null,null,"-",null,null,null,null,"-",null,null,null,null,"-",null,null,null,null,"-",null,null,null,null,"-",null,null,null,null,"-",null,null,null,null,"-",null,null,null,null,"-",null,null,null,null,"-",null,null,null,null,"-",null,null,null,null,"-",null,null,null,null,"-",null,null,null,null,"-",null,null,null,null,"-"]
[null,{"$f":"IFERROR(INDEX(data_absen!$K$2:$K$2000,SUMPRODUCT((data_absen!$B$2:$B$2000=$A37)*(data_absen!$C$2:$C$2000=B$3)*(ROW(data_absen!$C$2:$C$2000)))-1)*1440,\"\")","v":""},{"$f":"IFERROR(INDEX(data_absen!$I$2:$I$2000,SUMPRODUCT((data_absen!$B$2:$B$2000=$A37)*(data_absen!$C$2:$C$2000=B$3)*(ROW(data_absen!$C$2:$C$2000)))-1)*1440,\"\")","v":""},null,null,{"$f":"IFERROR(INDEX(data_absen!$J$2:$J$2000,SUMPRODUCT((data_absen!$B$2:$B$2000=$A37)*(data_absen!$C$2:$C$2000=B$3)*(ROW(data_absen!$C$2:$C$2000)))-1)*1440,\"\")","v":""},{"$f":"IFERROR(INDEX(data_absen!$K$2:$K$2000,SUMPRODUCT((data_absen!$B$2:$B$2000=$A37)*(data_absen!$C$2:$C$2000=G$3)*(ROW(data_absen!$C$2:$C$2000)))-1)*1440,\"\")","v":""},{"$f":"IFERROR(INDEX(data_absen!$I$2:$I$2000,SUMPRODUCT((data_absen!$B$2:$B$2000=$A37)*(data_absen!$C$2:$C$2000=G$3)*(ROW(data_absen!$C$2:$C$2000)))-1)*1440,\"\")","v":""},null,null,{"$f":"IFERROR(INDEX(data_absen!$J$2:$J$2000,SUMPRODUCT((data_absen!$B$2:$B$2000=$A37)*(data_absen!$C$2:$C$2000=G$3)*(ROW(data_absen!$C$2:$C$2000)))-1)*1440,\"\")","v":""},{"$f":"IFERROR(INDEX(data_absen!$K$2:$K$2000,SUMPRODUCT((data_absen!$B$2:$B$2000=$A37)*(data_absen!$C$2:$C$2000=L$3)*(ROW(data_absen!$C$2:$C$2000)))-1)*1440,\"\")","v":""},{"$f":"IFERROR(INDEX(data_absen!$I$2:$I$2000,SUMPRODUCT((data_absen!$B$2:$B$2000=$A37)*(data_absen!$C$2:$C$2000=L$3)*(ROW(data_absen!$C$2:$C$2000)))-1)*1440,\"\")","v":""},null,null,{"$f":"IFERROR(INDEX(data_absen!$J$2:$J$2000,SUMPRODUCT((data_absen!$B$2:$B$2000=$A37)*(data_absen!$C$2:$C$2000=L$3)*(ROW(data_absen!$C$2:$C$2000)))-1)*1440,\"\")","v":""},{"$f":"IFERROR(INDEX(data_absen!$K$2:$K$2000,SUMPRODUCT((data_absen!$B$2:$B$2000=$A37)*(data_absen!$C$2:$C$2000=Q$3)*(ROW(data_absen!$C$2:$C$2000)))-1)*1440,\"\")","v":""},{"$f":"IFERROR(INDEX(data_absen!$I$2:$I$2000,SUMPRODUCT((data_absen!$B$2:$B$2000=$A37)*(data_absen!$C$2:$C$2000=Q$3)*(ROW(data_absen!$C$2:$C$2000)))-1)*1440,\"\")","v":""},null,null,{"$f":"IFERROR(INDEX(data_absen!$J$2:$J$2000,SUMPRODUCT((data_absen!$B$2:$B$2000=$A37)*(data_absen!$C$2:$C$2000=Q$3)*(ROW(data_absen!$C$2:$C$2000)))-1)*1440,\"\")","v":""},{"$f":"IFERROR(INDEX(data_absen!$K$2:$K$2000,SUMPRODUCT((data_absen!$B$2:$B$2000=$A37)*(data_absen!$C$2:$C$2000=V$3)*(ROW(data_absen!$C$2:$C$2000)))-1)*1440,\"\")","v":""},{"$f":"IFERROR(INDEX(data_absen!$I$2:$I$2000,SUMPRODUCT((data_absen!$B$2:$B$2000=$A37)*(data_absen!$C$2:$C$2000=V$3)*(ROW(data_absen!$C$2:$C$2000)))-1)*1440,\"\")","v":""},null,null,{"$f":"IFERROR(INDEX(data_absen!$J$2:$J$2000,SUMPRODUCT((data_absen!$B$2:$B$2000=$A37)*(data_absen!$C$2:$C$2000=V$3)*(ROW(data_absen!$C$2:$C$2000)))-1)*1440,\"\")","v":""},{"$f":"IFERROR(INDEX(data_absen!$K$2:$K$2000,SUMPRODUCT((data_absen!$B$2:$B$2000=$A37)*(data_absen!$C$2:$C$2000=AA$3)*(ROW(data_absen!$C$2:$C$2000)))-1)*1440,\"\")","v":""},{"$f":"IFERROR(INDEX(data_absen!$I$2:$I$2000,SUMPRODUCT((data_absen!$B$2:$B$2000=$A37)*(data_absen!$C$2:$C$2000=AA$3)*(ROW(data_absen!$C$2:$C$2000)))-1)*1440,\"\")","v":""},null,null,{"$f":"IFERROR(INDEX(data_absen!$J$2:$J$2000,SUMPRODUCT((data_absen!$B$2:$B$2000=$A37)*(data_absen!$C$2:$C$2000=AA$3)*(ROW(data_absen!$C$2:$C$2000)))-1)*1440,\"\")","v":""},{"$f":"IFERROR(INDEX(data_absen!$K$2:$K$2000,SUMPRODUCT((data_absen!$B$2:$B$2000=$A37)*(data_absen!$C$2:$C$2000=AF$3)*(ROW(data_absen!$C$2:$C$2000)))-1)*1440,\"\")","v":""},{"$f":"IFERROR(INDEX(data_absen!$I$2:$I$2000,SUMPRODUCT((data_absen!$B$2:$B$2000=$A37)*(data_absen!$C$2:$C$2000=AF$3)*(ROW(data_absen!$C$2:$C$2000)))-1)*1440,\"\")","v":""},null,null,{"$f":"IFERROR(INDEX(data_absen!$J$2:$J$2000,SUMPRODUCT((data_absen!$B$2:$B$2000=$A37)*(data_absen!$C$2:$C$2000=AF$3)*(ROW(data_absen!$C$2:$C$2000)))-1)*1440,\"\")","v":""},{"$f":"IFERROR(INDEX(data_absen!$K$2:$K$2000,SUMPRODUCT((data_absen!$B$2:$B$2000=$A37)*(data_absen!$C$2:$C$2000=AK$3)*(ROW(data_absen!$C$2:$C$2000)))-1)*1440,\"\")","v":""},{"$f":"IFERROR(INDEX(data_absen!$I$2:$I$2000,SUMPRODUCT((data_absen!$B$2:$B$2000=$A37)*(data_absen!$C$2:$C$2000=AK$3)*(ROW(data_absen!$C$2:$C$2000)))-1)*1440,\"\")","v":""},null,null,{"$f":"IFERROR(INDEX(data_absen!$J$2:$J$2000,SUMPRODUCT((data_absen!$B$2:$B$2000=$A37)*(data_absen!$C$2:$C$2000=AK$3)*(ROW(data_absen!$C$2:$C$2000)))-1)*1440,\"\")","v":""},{"$f":"IFERROR(INDEX(data_absen!$K$2:$K$2000,SUMPRODUCT((data_absen!$B$2:$B$2000=$A37)*(data_absen!$C$2:$C$2000=AP$3)*(ROW(data_absen!$C$2:$C$2000)))-1)*1440,\"\")","v":""},{"$f":"IFERROR(INDEX(data_absen!$I$2:$I$2000,SUMPRODUCT((data_absen!$B$2:$B$2000=$A37)*(data_absen!$C$2:$C$2000=AP$3)*(ROW(data_absen!$C$2:$C$2000)))-1)*1440,\"\")","v":""},null,null,{"$f":"IFERROR(INDEX(data_absen!$J$2:$J$2000,SUMPRODUCT((data_absen!$B$2:$B$2000=$A37)*(data_absen!$C$2:$C$2000=AP$3)*(ROW(data_absen!$C$2:$C$2000)))-1)*1440,\"\")","v":""},{"$f":"IFERROR(INDEX(data_absen!$K$2:$K$2000,SUMPRODUCT((data_absen!$B$2:$B$2000=$A37)*(data_absen!$C$2:$C$2000=AU$3)*(ROW(data_absen!$C$2:$C$2000)))-1)*1440,\"\")","v":""},{"$f":"IFERROR(INDEX(data_absen!$I$2:$I$2000,SUMPRODUCT((data_absen!$B$2:$B$2000=$A37)*(data_absen!$C$2:$C$2000=AU$3)*(ROW(data_absen!$C$2:$C$2000)))-1)*1440,\"\")","v":""},null,null,{"$f":"IFERROR(INDEX(data_absen!$J$2:$J$2000,SUMPRODUCT((data_absen!$B$2:$B$2000=$A37)*(data_absen!$C$2:$C$2000=AU$3)*(ROW(data_absen!$C$2:$C$2000)))-1)*1440,\"\")","v":""},{"$f":"IFERROR(INDEX(data_absen!$K$2:$K$2000,SUMPRODUCT((data_absen!$B$2:$B$2000=$A37)*(data_absen!$C$2:$C$2000=AZ$3)*(ROW(data_absen!$C$2:$C$2000)))-1)*1440,\"\")","v":""},{"$f":"IFERROR(INDEX(data_absen!$I$2:$I$2000,SUMPRODUCT((data_absen!$B$2:$B$2000=$A37)*(data_absen!$C$2:$C$2000=AZ$3)*(ROW(data_absen!$C$2:$C$2000)))-1)*1440,\"\")","v":""},null,null,{"$f":"IFERROR(INDEX(data_absen!$J$2:$J$2000,SUMPRODUCT((data_absen!$B$2:$B$2000=$A37)*(data_absen!$C$2:$C$2000=AZ$3)*(ROW(data_absen!$C$2:$C$2000)))-1)*1440,\"\")","v":""},{"$f":"IFERROR(INDEX(data_absen!$K$2:$K$2000,SUMPRODUCT((data_absen!$B$2:$B$2000=$A37)*(data_absen!$C$2:$C$2000=BE$3)*(ROW(data_absen!$C$2:$C$2000)))-1)*1440,\"\")","v":""},{"$f":"IFERROR(INDEX(data_absen!$I$2:$I$2000,SUMPRODUCT((data_absen!$B$2:$B$2000=$A37)*(data_absen!$C$2:$C$2000=BE$3)*(ROW(data_absen!$C$2:$C$2000)))-1)*1440,\"\")","v":""},null,null,{"$f":"IFERROR(INDEX(data_absen!$J$2:$J$2000,SUMPRODUCT((data_absen!$B$2:$B$2000=$A37)*(data_absen!$C$2:$C$2000=BE$3)*(ROW(data_absen!$C$2:$C$2000)))-1)*1440,\"\")","v":""},{"$f":"IFERROR(INDEX(data_absen!$K$2:$K$2000,SUMPRODUCT((data_absen!$B$2:$B$2000=$A37)*(data_absen!$C$2:$C$2000=BJ$3)*(ROW(data_absen!$C$2:$C$2000)))-1)*1440,\"\")","v":""},{"$f":"IFERROR(INDEX(data_absen!$I$2:$I$2000,SUMPRODUCT((data_absen!$B$2:$B$2000=$A37)*(data_absen!$C$2:$C$2000=BJ$3)*(ROW(data_absen!$C$2:$C$2000)))-1)*1440,\"\")","v":""},null,null,{"$f":"IFERROR(INDEX(data_absen!$J$2:$J$2000,SUMPRODUCT((data_absen!$B$2:$B$2000=$A37)*(data_absen!$C$2:$C$2000=BJ$3)*(ROW(data_absen!$C$2:$C$2000)))-1)*1440,\"\")","v":""},{"$f":"IFERROR(INDEX(data_absen!$K$2:$K$2000,SUMPRODUCT((data_absen!$B$2:$B$2000=$A37)*(data_absen!$C$2:$C$2000=BO$3)*(ROW(data_absen!$C$2:$C$2000)))-1)*1440,\"\")","v":""},{"$f":"IFERROR(INDEX(data_absen!$I$2:$I$2000,SUMPRODUCT((data_absen!$B$2:$B$2000=$A37)*(data_absen!$C$2:$C$2000=BO$3)*(ROW(data_absen!$C$2:$C$2000)))-1)*1440,\"\")","v":""},null,null,{"$f":"IFERROR(INDEX(data_absen!$J$2:$J$2000,SUMPRODUCT((data_absen!$B$2:$B$2000=$A37)*(data_absen!$C$2:$C$2000=BO$3)*(ROW(data_absen!$C$2:$C$2000)))-1)*1440,\"\")","v":""},{"$f":"COUNTIFS(data_absen!$B$2:$B$2000,$A37,data_absen!$I$2:$I$2000,\">0\")","v":0}]
["Keterangan : ",null,null,null,null,"Lembur",null,null,null,null,"Datang Telat atau Tdk/ Lupa Absen Masuk",null,null,null,null,null,null,null,null,null,null,null,null,null,null,"Pulang Cepat atau Tdk/Lupa Absen Pulang"]
[]
["NAMA","2019-01-16",null,null,null,null,"2019-01-17",null,null,null,null,"2019-01-18",null,null,null,null,"2019-01-19",null,null,null,null,"2019-01-21",null,null,null,null,"2019-01-22",null,null,null,null,"2019-01-23",null,null,null,null,"2019-01-24",null,null,null,null,"2019-01-25",null,null,null,null,"2019-01-26",null,null,null,null,"2019-01-28",null,null,null,null,"2019-01-29",null,null,null,null,"2019-01-30",null,null,null,null,"2019-01-31",null,null,null,null,"Telat Kali (X)","Lembur Menit"]
["Elin",{"$f":"INDEX(data_absen!$G$2:$G$2000,SUMPRODUCT((data_absen!$B$2:$B$2000=$A43)*(data_absen!$C$2:$C$2000=B$3)*(ROW(data_absen!$C$2:$C$2000)))-1)","v":""},null,"-",{"$f":"INDEX(data_absen!$H$2:$H$2000,SUMPRODUCT((data_absen!$B$2:$B$2000=$A43)*(data_absen!$C$2:$C$2000=B$3)*(ROW(data_absen!$C$2:$C$2000)))-1)","v":""},null,{"$f":"INDEX(data_absen!$G$2:$G$2000,SUMPRODUCT((data_absen!$B$2:$B$2000=$A43)*(data_absen!$C$2:$C$2000=G$3)*(ROW(data_absen!$C$2:$C$2000)))-1)","v":""},null,"-",{"$f":"INDEX(data_absen!$H$2:$H$2000,SUMPRODUCT((data_absen!$B$2:$B$2000=$A43)*(data_absen!$C$2:$C$2000=G$3)*(ROW(data_absen!$C$2:$C$2000)))-1)","v":""},null,{"$f":"INDEX(data_absen!$G$2:$G$2000,SUMPRODUCT((data_absen!$B$2:$B$2000=$A43)*(data_absen!$C$2:$C$2000=L$3)*(ROW(data_absen!$C$2:$C$2000)))-1)","v":"06:44:00"},null,"-",{"$f":"INDEX(data_absen!$H$2:$H$2000,SUMPRODUCT((data_absen!$B$2:$B$2000=$A43)*(data_absen!$C$2:$C$2000=L$3)*(ROW(data_absen!$C$2:$C$2000)))-1)","v":"15:04:00"},null,{"$f":"INDEX(data_absen!$G$2:$G$2000,SUMPRODUCT((data_absen!$B$2:$B$2000=$A43)*(data_absen!$C$2:$C$2000=Q$3)*(ROW(data_absen!$C$2:$C$2000)))-1)","v":""},null,"-",{"$f":"INDEX(data_absen!$H$2:$H$2000,SUMPRODUCT((data_absen!$B$2:$B$2000=$A43)*(data_absen!$C$2:$C$2000=Q$3)*(ROW(data_absen!$C$2:$C$2000)))-1)","v":""},null,{"$f":"INDEX(data_absen!$G$2:$G$2000,SUMPRODUCT((data_absen!$B$2:$B$2000=$A43)*(data_absen!$C$2:$C$2000=V$3)*(ROW(data_absen!$C$2:$C$2000)))-1)","v":""},null,"-",{"$f":"INDEX(data_absen!$H$2:$H$2000,SUMPRODUCT((data_absen!$B$2:$B$2000=$A43)*(data_absen!$C$2:$C$2000=V$3)*(ROW(data_absen!$C$2:$C$2000)))-1)","v":""},null,{"$f":"INDEX(data_absen!$G$2:$G$2000,SUMPRODUCT((data_absen!$B$2:$B$2000=$A43)*(data_absen!$C$2:$C$2000=AA$3)*(ROW(data_absen!$C$2:$C$2000)))-1)","v":""},null,"-",{"$f":"INDEX(data_absen!$H$2:$H$2000,SUMPRODUCT((data_absen!$B$2:$B$2000=$A43)*(data_absen!$C$2:$C$2000=AA$3)*(ROW(data_absen!$C$2:$C$2000)))-1)","v":""},null,{"$f":"INDEX(data_absen!$G$2:$G$2000,SUMPRODUCT((data_absen!$B$2:$B$2000=$A43)*(data_absen!$C$2:$C$2000=AF$3)*(ROW(data_absen!$C$2:$C$2000)))-1)","v":""},null,"-",{"$f":"INDEX(data_absen!$H$2:$H$2000,SUMPRODUCT((data_absen!$B$2:$B$2000=$A43)*(data_absen!$C$2:$C$2000=AF$3)*(ROW(data_absen!$C$2:$C$2000)))-1)","v":""},null,{"$f":"INDEX(data_absen!$G$2:$G$2000,SUMPRODUCT((data_absen!$B$2:$B$2000=$A43)*(data_absen!$C$2:$C$2000=AK$3)*(ROW(data_absen!$C$2:$C$2000)))-1)","v":""},null,"-",{"$f":"INDEX(data_absen!$H$2:$H$2000,SUMPRODUCT((data_absen!$B$2:$B$2000=$A43)*(data_absen!$C$2:$C$2000=AK$3)*(ROW(data_absen!$C$2:$C$2000)))-1)","v":""},null,{"$f":"INDEX(data_absen!$G$2:$G$2000,SUMPRODUCT((data_absen!$B$2:$B$2000=$A43)*(data_absen!$C$2:$C$2000=AP$3)*(ROW(data_absen!$C$2:$C$2000)))-1)","v":""},null,"-",{"$f":"INDEX(data_absen!$H$2:$H$2000,SUMPRODUCT((data_absen!$B$2:$B$2000=$A43)*(data_absen!$C$2:$C$2000=AP$3)*(ROW(data_absen!$C$2:$C$2000)))-1)","v":""},null,{"$f":"INDEX(data_absen!$G$2:$G$2000,SUMPRODUCT((data_absen!$B$2:$B$2000=$A43)*(data_absen!$C$2:$C$2000=AU$3)*(ROW(data_absen!$C$2:$C$2000)))-1)","v":""},null,"-",{"$f":"INDEX(data_absen!$H$2:$H$2000,SUMPRODUCT((data_absen!$B$2:$B$2000=$A43)*(data_absen!$C$2:$C$2000=AU$3)*(ROW(data_absen!$C$2:$C$2000)))-1)","v":""},null,{"$f":"INDEX(data_absen!$G$2:$G$2000,SUMPRODUCT((data_absen!$B$2:$B$2000=$A43)*(data_absen!$C$2:$C$2000=AZ$3)*(ROW(data_absen!$C$2:$C$2000)))-1)","v":""},null,"-",{"$f":"INDEX(data_absen!$H$2:$H$2000,SUMPRODUCT((data_absen!$B$2:$B$2000=$A43)*(data_absen!$C$2:$C$2000=AZ$3)*(ROW(data_absen!$C$2:$C$2000)))-1)","v":""},null,{"$f":"INDEX(data_absen!$G$2:$G$2000,SUMPRODUCT((data_absen!$B$2:$B$2000=$A43)*(data_absen!$C$2:$C$2000=BE$3)*(ROW(data_absen!$C$2:$C$2000)))-1)","v":""},null,"-",{"$f":"INDEX(data_absen!$H$2:$H$2000,SUMPRODUCT((data_absen!$B$2:$B$2000=$A43)*(data_absen!$C$2:$C$2000=BE$3)*(ROW(data_absen!$C$2:$C$2000)))-1)","v":""},null,{"$f":"INDEX(data_absen!$G$2:$G$2000,SUMPRODUCT((data_absen!$B$2:$B$2000=$A43)*(data_absen!$C$2:$C$2000=BJ$3)*(ROW(data_absen!$C$2:$C$2000)))-1)","v":""},null,"-",{"$f":"INDEX(data_absen!$H$2:$H$2000,SUMPRODUCT((data_absen!$B$2:$B$2000=$A43)*(data_absen!$C$2:$C$2000=BJ$3)*(ROW(data_absen!$C$2:$C$2000)))-1)","v":""},null,{"$f":"INDEX(data_absen!$G$2:$G$2000,SUMPRODUCT((data_absen!$B$2:$B$2000=$A43)*(data_absen!$C$2:$C$2000=BO$3)*(ROW(data_absen!$C$2:$C$2000)))-1)","v":""},null,"-",{"$f":"INDEX(data_absen!$H$2:$H$2000,SUMPRODUCT((data_absen!$B$2:$B$2000=$A43)*(data_absen!$C$2:$C$2000=BO$3)*(ROW(data_absen!$C$2:$C$2000)))-1)","v":""}]
[309,null,null,"-",null,null,null,null,"-",null,null,null,null,"-",null,null,null,null,"-",null,null,null,null,"-",null,null,null,null,"-",null,null,null,null,"-",null,null,null,null,"-",null,null,null,null,"-",null,null,null,null,"-",null,null,null,null,"-",null,null,null,null,"-",null,null,null,null,"-",null,null,null,null,"-"]
[null,{"$f":"IFERROR(INDEX(data_absen!$K$2:$K$2000,SUMPRODUCT((data_absen!$B$2:$B$2000=$A43)*(data_absen!$C$2:$C$2000=B$3)*(ROW(data_absen!$C$2:$C$2000)))-1)*1440,\"\")","v":""},{"$f":"IFERROR(INDEX(data_absen!$I$2:$I$2000,SUMPRODUCT((data_absen!$B$2:$B$2000=$A43)*(data_absen!$C$2:$C$2000=B$3)*(ROW(data_absen!$C$2:$C$2000)))-1)*1440,\"\")","v":""},null,null,{"$f":"IFERROR(INDEX(data_absen!$J$2:$J$2000,SUMPRODUCT((data_absen!$B$2:$B$2000=$A43)*(data_absen!$C$2:$C$2000=B$3)*(ROW(data_absen!$C$2:$C$2000)))-1)*1440,\"\")","v":""},{"$f":"IFERROR(INDEX(data_absen!$K$2:$K$2000,SUMPRODUCT((data_absen!$B$2:$B$2000=$A43)*(data_absen!$C$2:$C$2000=G$3)*(ROW(data_absen!$C$2:$C$2000)))-1)*1440,\"\")","v":""},{"$f":"IFERROR(INDEX(data_absen!$I$2:$I$2000,SUMPRODUCT((data_absen!$B$2:$B$2000=$A43)*(data_absen!$C$2:$C$2000=G$3)*(ROW(data_absen!$C$2:$C$2000)))-1)*1440,\"\")","v":""},null,null,{"$f":"IFERROR(INDEX(data_absen!$J$2:$J$2000,SUMPRODUCT((data_absen!$B$2:$B$2000=$A43)*(data_absen!$C$2:$C$2000=G$3)*(ROW(data_absen!$C$2:$C$2000)))-1)*1440,\"\")","v":""},{"$f":"IFERROR(INDEX(data_absen!$K$2:$K$2000,SUMPRODUCT((data_absen!$B$2:$B$2000=$A43)*(data_absen!$C$2:$C$2000=L$3)*(ROW(data_absen!$C$2:$C$2000)))-1)*1440,\"\")","v":""},{"$f":"IFERROR(INDEX(data_absen!$I$2:$I$2000,SUMPRODUCT((data_absen!$B$2:$B$2000=$A43)*(data_absen!$C$2:$C$2000=L$3)*(ROW(data_absen!$C$2:$C$2000)))-1)*1440,\"\")","v":""},null,null,{"$f":"IFERROR(INDEX(data_absen!$J$2:$J$2000,SUMPRODUCT((data_absen!$B$2:$B$2000=$A43)*(data_absen!$C$2:$C$2000=L$3)*(ROW(data_absen!$C$2:$C$2000)))-1)*1440,\"\")","v":116.00000000000001},{"$f":"IFERROR(INDEX(data_absen!$K$2:$K$2000,SUMPRODUCT((data_absen!$B$2:$B$2000=$A43)*(data_absen!$C$2:$C$2000=Q$3)*(ROW(data_absen!$C$2:$C$2000)))-1)*1440,\"\")","v":""},{"$f":"IFERROR(INDEX(data_absen!$I$2:$I$2000,SUMPRODUCT((data_absen!$B$2:$B$2000=$A43)*(data_absen!$C$2:$C$2000=Q$3)*(ROW(data_absen!$C$2:$C$2000)))-1)*1440,\"\")","v":""},null,null,{"$f":"IFERROR(INDEX(data_absen!$J$2:$J$2000,SUMPRODUCT((data_absen!$B$2:$B$2000=$A43)*(data_absen!$C$2:$C$2000=Q$3)*(ROW(data_absen!$C$2:$C$2000)))-1)*1440,\"\")","v":""},{"$f":"IFERROR(INDEX(data_absen!$K$2:$K$2000,SUMPRODUCT((data_absen!$B$2:$B$2000=$A43)*(data_absen!$C$2:$C$2000=V$3)*(ROW(data_absen!$C$2:$C$2000)))-1)*1440,\"\")","v":""},{"$f":"IFERROR(INDEX(data_absen!$I$2:$I$2000,SUMPRODUCT((data_absen!$B$2:$B$2000=$A43)*(data_absen!$C$2:$C$2000=V$3)*(ROW(data_absen!$C$2:$C$2000)))-1)*1440,\"\")","v":""},null,null,{"$f":"IFERROR(INDEX(data_absen!$J$2:$J$2000,SUMPRODUCT((data_absen!$B$2:$B$2000=$A43)*(data_absen!$C$2:$C$2000=V$3)*(ROW(data_absen!$C$2:$C$2000)))-1)*1440,\"\")","v":""},{"$f":"IFERROR(INDEX(data_absen!$K$2:$K$2000,SUMPRODUCT((data_absen!$B$2:$B$2000=$A43)*(data_absen!$C$2:$C$2000=AA$3)*(ROW(data_absen!$C$2:$C$2000)))-1)*1440,\"\")","v":""},{"$f":"IFERROR(INDEX(data_absen!$I$2:$I$2000,SUMPRODUCT((data_absen!$B$2:$B$2000=$A43)*(data_absen!$C$2:$C$2000=AA$3)*(ROW(data_absen!$C$2:$C$2000)))-1)*1440,\"\")","v":""},null,null,{"$f":"IFERROR(INDEX(data_absen!$J$2:$J$2000,SUMPRODUCT((data_absen!$B$2:$B$2000=$A43)*(data_absen!$C$2:$C$2000=AA$3)*(ROW(data_absen!$C$2:$C$2000)))-1)*1440,\"\")","v":""},{"$f":"IFERROR(INDEX(data_absen!$K$2:$K$2000,SUMPRODUCT((data_absen!$B$2:$B$2000=$A43)*(data_absen!$C$2:$C$2000=AF$3)*(ROW(data_absen!$C$2:$C$2000)))-1)*1440,\"\")","v":""},{"$f":"IFERROR(INDEX(data_absen!$I$2:$I$2000,SUMPRODUCT((data_absen!$B$2:$B$2000=$A43)*(data_absen!$C$2:$C$2000=AF$3)*(ROW(data_absen!$C$2:$C$2000)))-1)*1440,\"\")","v":""},null,null,{"$f":"IFERROR(INDEX(data_absen!$J$2:$J$2000,SUMPRODUCT((data_absen!$B$2:$B$2000=$A43)*(data_absen!$C$2:$C$2000=AF$3)*(ROW(data_absen!$C$2:$C$2000)))-1)*1440,\"\")","v":""},{"$f":"IFERROR(INDEX(data_absen!$K$2:$K$2000,SUMPRODUCT((data_absen!$B$2:$B$2000=$A43)*(data_absen!$C$2:$C$2000=AK$3)*(ROW(data_absen!$C$2:$C$2000)))-1)*1440,\"\")","v":""},{"$f":"IFERROR(INDEX(data_absen!$I$2:$I$2000,SUMPRODUCT((data_absen!$B$2:$B$2000=$A43)*(data_absen!$C$2:$C$2000=AK$3)*(ROW(data_absen!$C$2:$C$2000)))-1)*1440,\"\")","v":""},null,null,{"$f":"IFERROR(INDEX(data_absen!$J$2:$J$2000,SUMPRODUCT((data_absen!$B$2:$B$2000=$A43)*(data_absen!$C$2:$C$2000=AK$3)*(ROW(data_absen!$C$2:$C$2000)))-1)*1440,\"\")","v":""},{"$f":"IFERROR(INDEX(data_absen!$K$2:$K$2000,SUMPRODUCT((data_absen!$B$2:$B$2000=$A43)*(data_absen!$C$2:$C$2000=AP$3)*(ROW(data_absen!$C$2:$C$2000)))-1)*1440,\"\")","v":""},{"$f":"IFERROR(INDEX(data_absen!$I$2:$I$2000,SUMPRODUCT((data_absen!$B$2:$B$2000=$A43)*(data_absen!$C$2:$C$2000=AP$3)*(ROW(data_absen!$C$2:$C$2000)))-1)*1440,\"\")","v":""},null,null,{"$f":"IFERROR(INDEX(data_absen!$J$2:$J$2000,SUMPRODUCT((data_absen!$B$2:$B$2000=$A43)*(data_absen!$C$2:$C$2000=AP$3)*(ROW(data_absen!$C$2:$C$2000)))-1)*1440,\"\")","v":""},{"$f":"IFERROR(INDEX(data_absen!$K$2:$K$2000,SUMPRODUCT((data_absen!$B$2:$B$2000=$A43)*(data_absen!$C$2:$C$2000=AU$3)*(ROW(data_absen!$C$2:$C$2000)))-1)*1440,\"\")","v":""},{"$f":"IFERROR(INDEX(data_absen!$I$2:$I$2000,SUMPRODUCT((data_absen!$B$2:$B$2000=$A43)*(data_absen!$C$2:$C$2000=AU$3)*(ROW(data_absen!$C$2:$C$2000)))-1)*1440,\"\")","v":""},null,null,{"$f":"IFERROR(INDEX(data_absen!$J$2:$J$2000,SUMPRODUCT((data_absen!$B$2:$B$2000=$A43)*(data_absen!$C$2:$C$2000=AU$3)*(ROW(data_absen!$C$2:$C$2000)))-1)*1440,\"\")","v":""},{"$f":"IFERROR(INDEX(data_absen!$K$2:$K$2000,SUMPRODUCT((data_absen!$B$2:$B$2000=$A43)*(data_absen!$C$2:$C$2000=AZ$3)*(ROW(data_absen!$C$2:$C$2000)))-1)*1440,\"\")","v":""},{"$f":"IFERROR(INDEX(data_absen!$I$2:$I$2000,SUMPRODUCT((data_absen!$B$2:$B$2000=$A43)*(data_absen!$C$2:$C$2000=AZ$3)*(ROW(data_absen!$C$2:$C$2000)))-1)*1440,\"\")","v":""},null,null,{"$f":"IFERROR(INDEX(data_absen!$J$2:$J$2000,SUMPRODUCT((data_absen!$B$2:$B$2000=$A43)*(data_absen!$C$2:$C$2000=AZ$3)*(ROW(data_absen!$C$2:$C$2000)))-1)*1440,\"\")","v":""},{"$f":"IFERROR(INDEX(data_absen!$K$2:$K$2000,SUMPRODUCT((data_absen!$B$2:$B$2000=$A43)*(data_absen!$C$2:$C$2000=BE$3)*(ROW(data_absen!$C$2:$C$2000)))-1)*1440,\"\")","v":""},{"$f":"IFERROR(INDEX(data_absen!$I$2:$I$2000,SUMPRODUCT((data_absen!$B$2:$B$2000=$A43)*(data_absen!$C$2:$C$2000=BE$3)*(ROW(data_absen!$C$2:$C$2000)))-1)*1440,\"\")","v":""},null,null,{"$f":"IFERROR(INDEX(data_absen!$J$2:$J$2000,SUMPRODUCT((data_absen!$B$2:$B$2000=$A43)*(data_absen!$C$2:$C$2000=BE$3)*(ROW(data_absen!$C$2:$C$2000)))-1)*1440,\"\")","v":""},{"$f":"IFERROR(INDEX(data_absen!$K$2:$K$2000,SUMPRODUCT((data_absen!$B$2:$B$2000=$A43)*(data_absen!$C$2:$C$2000=BJ$3)*(ROW(data_absen!$C$2:$C$2000)))-1)*1440,\"\")","v":""},{"$f":"IFERROR(INDEX(data_absen!$I$2:$I$2000,SUMPRODUCT((data_absen!$B$2:$B$2000=$A43)*(data_absen!$C$2:$C$2000=BJ$3)*(ROW(data_absen!$C$2:$C$2000)))-1)*1440,\"\")","v":""},null,null,{"$f":"IFERROR(INDEX(data_absen!$J$2:$J$2000,SUMPRODUCT((data_absen!$B$2:$B$2000=$A43)*(data_absen!$C$2:$C$2000=BJ$3)*(ROW(data_absen!$C$2:$C$2000)))-1)*1440,\"\")","v":""},{"$f":"IFERROR(INDEX(data_absen!$K$2:$K$2000,SUMPRODUCT((data_absen!$B$2:$B$2000=$A43)*(data_absen!$C$2:$C$2000=BO$3)*(ROW(data_absen!$C$2:$C$2000)))-1)*1440,\"\")","v":""},{"$f":"IFERROR(INDEX(data_absen!$I$2:$I$2000,SUMPRODUCT((data_absen!$B$2:$B$2000=$A43)*(data_absen!$C$2:$C$2000=BO$3)*(ROW(data_absen!$C$2:$C$2000)))-1)*1440,\"\")","v":""},null,null,{"$f":"IFERROR(INDEX(data_absen!$J$2:$J$2000,SUMPRODUCT((data_absen!$B$2:$B$2000=$A43)*(data_absen!$C$2:$C$2000=BO$3)*(ROW(data_absen!$C$2:$C$2000)))-1)*1440,\"\")","v":""},{"$f":"COUNTIFS(data_absen!$B$2:$B$2000,$A44,data_absen!$I$2:$I$2000,\">0\")","v":0}]
["Surti",{"$f":"INDEX(data_absen!$G$2:$G$2000,SUMPRODUCT((data_absen!$B$2:$B$2000=$A46)*(data_absen!$C$2:$C$2000=B$3)*(ROW(data_absen!$C$2:$C$2000)))-1)","v":""},null,"-",{"$f":"INDEX(data_absen!$H$2:$H$2000,SUMPRODUCT((data_absen!$B$2:$B$2000=$A46)*(data_absen!$C$2:$C$2000=B$3)*(ROW(data_absen!$C$2:$C$2000)))-1)","v":""},null,{"$f":"INDEX(data_absen!$G$2:$G$2000,SUMPRODUCT((data_absen!$B$2:$B$2000=$A46)*(data_absen!$C$2:$C$2000=G$3)*(ROW(data_absen!$C$2:$C$2000)))-1)","v":"06:45:00"},null,"-",{"$f":"INDEX(data_absen!$H$2:$H$2000,SUMPRODUCT((data_absen!$B$2:$B$2000=$A46)*(data_absen!$C$2:$C$2000=G$3)*(ROW(data_absen!$C$2:$C$2000)))-1)","v":"14:55:00"},null,{"$f":"INDEX(data_absen!$G$2:$G$2000,SUMPRODUCT((data_absen!$B$2:$B$2000=$A46)*(data_absen!$C$2:$C$2000=L$3)*(ROW(data_absen!$C$2:$C$2000)))-1)","v":""},null,"-",{"$f":"INDEX(data_absen!$H$2:$H$2000,SUMPRODUCT((data_absen!$B$2:$B$2000=$A46)*(data_absen!$C$2:$C$2000=L$3)*(ROW(data_absen!$C$2:$C$2000)))-1)","v":""},null,{"$f":"INDEX(data_absen!$G$2:$G$2000,SUMPRODUCT((data_absen!$B$2:$B$2000=$A46)*(data_absen!$C$2:$C$2000=Q$3)*(ROW(data_absen!$C$2:$C$2000)))-1)","v":""},null,"-",{"$f":"INDEX(data_absen!$H$2:$H$2000,SUMPRODUCT((data_absen!$B$2:$B$2000=$A46)*(data_absen!$C$2:$C$2000=Q$3)*(ROW(data_absen!$C$2:$C$2000)))-1)","v":""},null,{"$f":"INDEX(data_absen!$G$2:$G$2000,SUMPRODUCT((data_absen!$B$2:$B$2000=$A46)*(data_absen!$C$2:$C$2000=V$3)*(ROW(data_absen!$C$2:$C$2000)))-1)","v":""},null,"-",{"$f":"INDEX(data_absen!$H$2:$H$2000,SUMPRODUCT((data_absen!$B$2:$B$2000=$A46)*(data_absen!$C$2:$C$2000=V$3)*(ROW(data_absen!$C$2:$C$2000)))-1)","v":""},null,{"$f":"INDEX(data_absen!$G$2:$G$2000,SUMPRODUCT((data_absen!$B$2:$B$2000=$A46)*(data_absen!$C$2:$C$2000=AA$3)*(ROW(data_absen!$C$2:$C$2000)))-1)","v":""},null,"-",{"$f":"INDEX(data_absen!$H$2:$H$2000,SUMPRODUCT((data_absen!$B$2:$B$2000=$A46)*(data_absen!$C$2:$C$2000=AA$3)*(ROW(data_absen!$C$2:$C$2000)))-1)","v":""},null,{"$f":"INDEX(data_absen!$G$2:$G$2000,SUMPRODUCT((data_absen!$B$2:$B$2000=$A46)*(data_absen!$C$2:$C$2000=AF$3)*(ROW(data_absen!$C$2:$C$2000)))-1)","v":""},null,"-",{"$f":"INDEX(data_absen!$H$2:$H$2000,SUMPRODUCT((data_absen!$B$2:$B$2000=$A46)*(data_absen!$C$2:$C$2000=AF$3)*(ROW(data_absen!$C$2:$C$2000)))-1)","v":""},null,{"$f":"INDEX(data_absen!$G$2:$G$2000,SUMPRODUCT((data_absen!$B$2:$B$2000=$A46)*(data_absen!$C$2:$C$2000=AK$3)*(ROW(data_absen!$C$2:$C$2000)))-1)","v":""},null,"-",{"$f":"INDEX(data_absen!$H$2:$H$2000,SUMPRODUCT((data_absen!$B$2:$B$2000=$A46)*(data_absen!$C$2:$C$2000=AK$3)*(ROW(data_absen!$C$2:$C$2000)))-1)","v":""},null,{"$f":"INDEX(data_absen!$G$2:$G$2000,SUMPRODUCT((data_absen!$B$2:$B$2000=$A46)*(data_absen!$C$2:$C$2000=AP$3)*(ROW(data_absen!$C$2:$C$2000)))-1)","v":""},null,"-",{"$f":"INDEX(data_absen!$H$2:$H$2000,SUMPRODUCT((data_absen!$B$2:$B$2000=$A46)*(data_absen!$C$2:$C$2000=AP$3)*(ROW(data_absen!$C$2:$C$2000)))-1)","v":""},null,{"$f":"INDEX(data_absen!$G$2:$G$2000,SUMPRODUCT((data_absen!$B$2:$B$2000=$A46)*(data_absen!$C$2:$C$2000=AU$3)*(ROW(data_absen!$C$2:$C$2000)))-1)","v":""},null,"-",{"$f":"INDEX(data_absen!$H$2:$H$2000,SUMPRODUCT((data_absen!$B$2:$B$2000=$A46)*(data_absen!$C$2:$C$2000=AU$3)*(ROW(data_absen!$C$2:$C$2000)))-1)","v":""},null,{"$f":"INDEX(data_absen!$G$2:$G$2000,SUMPRODUCT((data_absen!$B$2:$B$2000=$A46)*(data_absen!$C$2:$C$2000=AZ$3)*(ROW(data_absen!$C$2:$C$2000)))-1)","v":""},null,"-",{"$f":"INDEX(data_absen!$H$2:$H$2000,SUMPRODUCT((data_absen!$B$2:$B$2000=$A46)*(data_absen!$C$2:$C$2000=AZ$3)*(ROW(data_absen!$C$2:$C$2000)))-1)","v":""},null,{"$f":"INDEX(data_absen!$G$2:$G$2000,SUMPRODUCT((data_absen!$B$2:$B$2000=$A46)*(data_absen!$C$2:$C$2000=BE$3)*(ROW(data_absen!$C$2:$C$2000)))-1)","v":""},null,"-",{"$f":"INDEX(data_absen!$H$2:$H$2000,SUMPRODUCT((data_absen!$B$2:$B$2000=$A46)*(data_absen!$C$2:$C$2000=BE$3)*(ROW(data_absen!$C$2:$C$2000)))-1)","v":""},null,{"$f":"INDEX(data_absen!$G$2:$G$2000,SUMPRODUCT((data_absen!$B$2:$B$2000=$A46)*(data_absen!$C$2:$C$2000=BJ$3)*(ROW(data_absen!$C$2:$C$2000)))-1)","v":""},null,"-",{"$f":"INDEX(data_absen!$H$2:$H$2000,SUMPRODUCT((data_absen!$B$2:$B$2000=$A46)*(data_absen!$C$2:$C$2000=BJ$3)*(ROW(data_absen!$C$2:$C$2000)))-1)","v":""},null,{"$f":"INDEX(data_absen!$G$2:$G$2000,SUMPRODUCT((data_absen!$B$2:$B$2000=$A46)*(data_absen!$C$2:$C$2000=BO$3)*(ROW(data_absen!$C$2:$C$2000)))-1)","v":""},null,"-",{"$f":"INDEX(data_absen!$H$2:$H$2000,SUMPRODUCT((data_absen!$B$2:$B$2000=$A46)*(data_absen!$C$2:$C$2000=BO$3)*(ROW(data_absen!$C$2:$C$2000)))-1)","v":""}]
[310,null,null,"-",null,null,null,null,"-",null,null,null,null,"-",null,null,null,null,"-",null,null,null,null,"-",null,null,null,null,"-",null,null,null,null,"-",null,null,null,null,"-",null,null,null,null,"-",null,null,null,null,"-",null,null,null,null,"-",null,null,null,null,"-",null,null,null,null,"-",null,null,null,null,"-"]
[null,{"$f":"IFERROR(INDEX(data_absen!$K$2:$K$2000,SUMPRODUCT((data_absen!$B$2:$B$2000=$A46)*(data_absen!$C$2:$C$2000=B$3)*(ROW(data_absen!$C$2:$C$2000)))-1)*1440,\"\")","v":""},{"$f":"IFERROR(INDEX(data_absen!$I$2:$I$2000,SUMPRODUCT((data_absen!$B$2:$B$2000=$A46)*(data_absen!$C$2:$C$2000=B$3)*(ROW(data_absen!$C$2:$C$2000)))-1)*1440,\"\")","v":""},null,null,{"$f":"IFERROR(INDEX(data_absen!$J$2:$J$2000,SUMPRODUCT((data_absen!$B$2:$B$2000=$A46)*(data_absen!$C$2:$C$2000=B$3)*(ROW(data_absen!$C$2:$C$2000)))-1)*1440,\"\")","v":""},{"$f":"IFERROR(INDEX(data_absen!$K$2:$K$2000,SUMPRODUCT((data_absen!$B$2:$B$2000=$A46)*(data_absen!$C$2:$C$2000=G$3)*(ROW(data_absen!$C$2:$C$2000)))-1)*1440,\"\")","v":""},{"$f":"IFERROR(INDEX(data_absen!$I$2:$I$2000,SUMPRODUCT((data_absen!$B$2:$B$2000=$A46)*(data_absen!$C$2:$C$2000=G$3)*(ROW(data_absen!$C$2:$C$2000)))-1)*1440,\"\")","v":""},null,null,{"$f":"IFERROR(INDEX(data_absen!$J$2:$J$2000,SUMPRODUCT((data_absen!$B$2:$B$2000=$A46)*(data_absen!$C$2:$C$2000=G$3)*(ROW(data_absen!$C$2:$C$2000)))-1)*1440,\"\")","v":125.00000000000001},{"$f":"IFERROR(INDEX(data_absen!$K$2:$K$2000,SUMPRODUCT((data_absen!$B$2:$B$2000=$A46)*(data_absen!$C$2:$C$2000=L$3)*(ROW(data_absen!$C$2:$C$2000)))-1)*1440,\"\")","v":""},{"$f":"IFERROR(INDEX(data_absen!$I$2:$I$2000,SUMPRODUCT((data_absen!$B$2:$B$2000=$A46)*(data_absen!$C$2:$C$2000=L$3)*(ROW(data_absen!$C$2:$C$2000)))-1)*1440,\"\")","v":""},null,null,{"$f":"IFERROR(INDEX(data_absen!$J$2:$J$2000,SUMPRODUCT((data_absen!$B$2:$B$2000=$A46)*(data_absen!$C$2:$C$2000=L$3)*(ROW(data_absen!$C$2:$C$2000)))-1)*1440,\"\")","v":""},{"$f":"IFERROR(INDEX(data_absen!$K$2:$K$2000,SUMPRODUCT((data_absen!$B$2:$B$2000=$A46)*(data_absen!$C$2:$C$2000=Q$3)*(ROW(data_absen!$C$2:$C$2000)))-1)*1440,\"\")","v":""},{"$f":"IFERROR(INDEX(data_absen!$I$2:$I$2000,SUMPRODUCT((data_absen!$B$2:$B$2000=$A46)*(data_absen!$C$2:$C$2000=Q$3)*(ROW(data_absen!$C$2:$C$2000)))-1)*1440,\"\")","v":""},null,null,{"$f":"IFERROR(INDEX(data_absen!$J$2:$J$2000,SUMPRODUCT((data_absen!$B$2:$B$2000=$A46)*(data_absen!$C$2:$C$2000=Q$3)*(ROW(data_absen!$C$2:$C$2000)))-1)*1440,\"\")","v":""},{"$f":"IFERROR(INDEX(data_absen!$K$2:$K$2000,SUMPRODUCT((data_absen!$B$2:$B$2000=$A46)*(data_absen!$C$2:$C$2000=V$3)*(ROW(data_absen!$C$2:$C$2000)))-1)*1440,\"\")","v":""},{"$f":"IFERROR(INDEX(data_absen!$I$2:$I$2000,SUMPRODUCT((data_absen!$B$2:$B$2000=$A46)*(data_absen!$C$2:$C$2000=V$3)*(ROW(data_absen!$C$2:$C$2000)))-1)*1440,\"\")","v":""},null,null,{"$f":"IFERROR(INDEX(data_absen!$J$2:$J$2000,SUMPRODUCT((data_absen!$B$2:$B$2000=$A46)*(data_absen!$C$2:$C$2000=V$3)*(ROW(data_absen!$C$2:$C$2000)))-1)*1440,\"\")","v":""},{"$f":"IFERROR(INDEX(data_absen!$K$2:$K$2000,SUMPRODUCT((data_absen!$B$2:$B$2000=$A46)*(data_absen!$C$2:$C$2000=AA$3)*(ROW(data_absen!$C$2:$C$2000)))-1)*1440,\"\")","v":""},{"$f":"IFERROR(INDEX(data_absen!$I$2:$I$2000,SUMPRODUCT((data_absen!$B$2:$B$2000=$A46)*(data_absen!$C$2:$C$2000=AA$3)*(ROW(data_absen!$C$2:$C$2000)))-1)*1440,\"\")","v":""},null,null,{"$f":"IFERROR(INDEX(data_absen!$J$2:$J$2000,SUMPRODUCT((data_absen!$B$2:$B$2000=$A46)*(data_absen!$C$2:$C$2000=AA$3)*(ROW(data_absen!$C$2:$C$2000)))-1)*1440,\"\")","v":""},{"$f":"IFERROR(INDEX(data_absen!$K$2:$K$2000,SUMPRODUCT((data_absen!$B$2:$B$2000=$A46)*(data_absen!$C$2:$C$2000=AF$3)*(ROW(data_absen!$C$2:$C$2000)))-1)*1440,\"\")","v":""},{"$f":"IFERROR(INDEX(data_absen!$I$2:$I$2000,SUMPRODUCT((data_absen!$B$2:$B$2000=$A46)*(data_absen!$C$2:$C$2000=AF$3)*(ROW(data_absen!$C$2:$C$2000)))-1)*1440,\"\")","v":""},null,null,{"$f":"IFERROR(INDEX(data_absen!$J$2:$J$2000,SUMPRODUCT((data_absen!$B$2:$B$2000=$A46)*(data_absen!$C$2:$C$2000=AF$3)*(ROW(data_absen!$C$2:$C$2000)))-1)*1440,\"\")","v":""},{"$f":"IFERROR(INDEX(data_absen!$K$2:$K$2000,SUMPRODUCT((data_absen!$B$2:$B$2000=$A46)*(data_absen!$C$2:$C$2000=AK$3)*(ROW(data_absen!$C$2:$C$2000)))-1)*1440,\"\")","v":""},{"$f":"IFERROR(INDEX(data_absen!$I$2:$I$2000,SUMPRODUCT((data_absen!$B$2:$B$2000=$A46)*(data_absen!$C$2:$C$2000=AK$3)*(ROW(data_absen!$C$2:$C$2000)))-1)*1440,\"\")","v":""},null,null,{"$f":"IFERROR(INDEX(data_absen!$J$2:$J$2000,SUMPRODUCT((data_absen!$B$2:$B$2000=$A46)*(data_absen!$C$2:$C$2000=AK$3)*(ROW(data_absen!$C$2:$C$2000)))-1)*1440,\"\")","v":""},{"$f":"IFERROR(INDEX(data_absen!$K$2:$K$2000,SUMPRODUCT((data_absen!$B$2:$B$2000=$A46)*(data_absen!$C$2:$C$2000=AP$3)*(ROW(data_absen!$C$2:$C$2000)))-1)*1440,\"\")","v":""},{"$f":"IFERROR(INDEX(data_absen!$I$2:$I$2000,SUMPRODUCT((data_absen!$B$2:$B$2000=$A46)*(data_absen!$C$2:$C$2000=AP$3)*(ROW(data_absen!$C$2:$C$2000)))-1)*1440,\"\")","v":""},null,null,{"$f":"IFERROR(INDEX(data_absen!$J$2:$J$2000,SUMPRODUCT((data_absen!$B$2:$B$2000=$A46)*(data_absen!$C$2:$C$2000=AP$3)*(ROW(data_absen!$C$2:$C$2000)))-1)*1440,\"\")","v":""},{"$f":"IFERROR(INDEX(data_absen!$K$2:$K$2000,SUMPRODUCT((data_absen!$B$2:$B$2000=$A46)*(data_absen!$C$2:$C$2000=AU$3)*(ROW(data_absen!$C$2:$C$2000)))-1)*1440,\"\")","v":""},{"$f":"IFERROR(INDEX(data_absen!$I$2:$I$2000,SUMPRODUCT((data_absen!$B$2:$B$2000=$A46)*(data_absen!$C$2:$C$2000=AU$3)*(ROW(data_absen!$C$2:$C$2000)))-1)*1440,\"\")","v":""},null,null,{"$f":"IFERROR(INDEX(data_absen!$J$2:$J$2000,SUMPRODUCT((data_absen!$B$2:$B$2000=$A46)*(data_absen!$C$2:$C$2000=AU$3)*(ROW(data_absen!$C$2:$C$2000)))-1)*1440,\"\")","v":""},{"$f":"IFERROR(INDEX(data_absen!$K$2:$K$2000,SUMPRODUCT((data_absen!$B$2:$B$2000=$A46)*(data_absen!$C$2:$C$2000=AZ$3)*(ROW(data_absen!$C$2:$C$2000)))-1)*1440,\"\")","v":""},{"$f":"IFERROR(INDEX(data_absen!$I$2:$I$2000,SUMPRODUCT((data_absen!$B$2:$B$2000=$A46)*(data_absen!$C$2:$C$2000=AZ$3)*(ROW(data_absen!$C$2:$C$2000)))-1)*1440,\"\")","v":""},null,null,{"$f":"IFERROR(INDEX(data_absen!$J$2:$J$2000,SUMPRODUCT((data_absen!$B$2:$B$2000=$A46)*(data_absen!$C$2:$C$2000=AZ$3)*(ROW(data_absen!$C$2:$C$2000)))-1)*1440,\"\")","v":""},{"$f":"IFERROR(INDEX(data_absen!$K$2:$K$2000,SUMPRODUCT((data_absen!$B$2:$B$2000=$A46)*(data_absen!$C$2:$C$2000=BE$3)*(ROW(data_absen!$C$2:$C$2000)))-1)*1440,\"\")","v":""},{"$f":"IFERROR(INDEX(data_absen!$I$2:$I$2000,SUMPRODUCT((data_absen!$B$2:$B$2000=$A46)*(data_absen!$C$2:$C$2000=BE$3)*(ROW(data_absen!$C$2:$C$2000)))-1)*1440,\"\")","v":""},null,null,{"$f":"IFERROR(INDEX(data_absen!$J$2:$J$2000,SUMPRODUCT((data_absen!$B$2:$B$2000=$A46)*(data_absen!$C$2:$C$2000=BE$3)*(ROW(data_absen!$C$2:$C$2000)))-1)*1440,\"\")","v":""},{"$f":"IFERROR(INDEX(data_absen!$K$2:$K$2000,SUMPRODUCT((data_absen!$B$2:$B$2000=$A46)*(data_absen!$C$2:$C$2000=BJ$3)*(ROW(data_absen!$C$2:$C$2000)))-1)*1440,\"\")","v":""},{"$f":"IFERROR(INDEX(data_absen!$I$2:$I$2000,SUMPRODUCT((data_absen!$B$2:$B$2000=$A46)*(data_absen!$C$2:$C$2000=BJ$3)*(ROW(data_absen!$C$2:$C$2000)))-1)*1440,\"\")","v":""},null,null,{"$f":"IFERROR(INDEX(data_absen!$J$2:$J$2000,SUMPRODUCT((data_absen!$B$2:$B$2000=$A46)*(data_absen!$C$2:$C$2000=BJ$3)*(ROW(data_absen!$C$2:$C$2000)))-1)*1440,\"\")","v":""},{"$f":"IFERROR(INDEX(data_absen!$K$2:$K$2000,SUMPRODUCT((data_absen!$B$2:$B$2000=$A46)*(data_absen!$C$2:$C$2000=BO$3)*(ROW(data_absen!$C$2:$C$2000)))-1)*1440,\"\")","v":""},{"$f":"IFERROR(INDEX(data_absen!$I$2:$I$2000,SUMPRODUCT((data_absen!$B$2:$B$2000=$A46)*(data_absen!$C$2:$C$2000=BO$3)*(ROW(data_absen!$C$2:$C$2000)))-1)*1440,\"\")","v":""},null,null,{"$f":"IFERROR(INDEX(data_absen!$J$2:$J$2000,SUMPRODUCT((data_absen!$B$2:$B$2000=$A46)*(data_absen!$C$2:$C$2000=BO$3)*(ROW(data_absen!$C$2:$C$2000)))-1)*1440,\"\")","v":""},{"$f":"COUNTIFS(data_absen!$B$2:$B$2000,$A46,data_absen!$I$2:$I$2000,\">0\")","v":0}]
["Nova",{"$f":"INDEX(data_absen!$G$2:$G$2000,SUMPRODUCT((data_absen!$B$2:$B$2000=$A49)*(data_absen!$C$2:$C$2000=B$3)*(ROW(data_absen!$C$2:$C$2000)))-1)","v":""},null,"-",{"$f":"INDEX(data_absen!$H$2:$H$2000,SUMPRODUCT((data_absen!$B$2:$B$2000=$A49)*(data_absen!$C$2:$C$2000=B$3)*(ROW(data_absen!$C$2:$C$2000)))-1)","v":""},null,{"$f":"INDEX(data_absen!$G$2:$G$2000,SUMPRODUCT((data_absen!$B$2:$B$2000=$A49)*(data_absen!$C$2:$C$2000=G$3)*(ROW(data_absen!$C$2:$C$2000)))-1)","v":""},null,"-",{"$f":"INDEX(data_absen!$H$2:$H$2000,SUMPRODUCT((data_absen!$B$2:$B$2000=$A49)*(data_absen!$C$2:$C$2000=G$3)*(ROW(data_absen!$C$2:$C$2000)))-1)","v":""},null,{"$f":"INDEX(data_absen!$G$2:$G$2000,SUMPRODUCT((data_absen!$B$2:$B$2000=$A49)*(data_absen!$C$2:$C$2000=L$3)*(ROW(data_absen!$C$2:$C$2000)))-1)","v":""},null,"-",{"$f":"INDEX(data_absen!$H$2:$H$2000,SUMPRODUCT((data_absen!$B$2:$B$2000=$A49)*(data_absen!$C$2:$C$2000=L$3)*(ROW(data_absen!$C$2:$C$2000)))-1)","v":""},null,{"$f":"INDEX(data_absen!$G$2:$G$2000,SUMPRODUCT((data_absen!$B$2:$B$2000=$A49)*(data_absen!$C$2:$C$2000=Q$3)*(ROW(data_absen!$C$2:$C$2000)))-1)","v":""},null,"-",{"$f":"INDEX(data_absen!$H$2:$H$2000,SUMPRODUCT((data_absen!$B$2:$B$2000=$A49)*(data_absen!$C$2:$C$2000=Q$3)*(ROW(data_absen!$C$2:$C$2000)))-1)","v":""},null,{"$f":"INDEX(data_absen!$G$2:$G$2000,SUMPRODUCT((data_absen!$B$2:$B$2000=$A49)*(data_absen!$C$2:$C$2000=V$3)*(ROW(data_absen!$C$2:$C$2000)))-1)","v":""},null,"-",{"$f":"INDEX(data_absen!$H$2:$H$2000,SUMPRODUCT((data_absen!$B$2:$B$2000=$A49)*(data_absen!$C$2:$C$2000=V$3)*(ROW(data_absen!$C$2:$C$2000)))-1)","v":""},null,{"$f":"INDEX(data_absen!$G$2:$G$2000,SUMPRODUCT((data_absen!$B$2:$B$2000=$A49)*(data_absen!$C$2:$C$2000=AA$3)*(ROW(data_absen!$C$2:$C$2000)))-1)","v":""},null,"-",{"$f":"INDEX(data_absen!$H$2:$H$2000,SUMPRODUCT((data_absen!$B$2:$B$2000=$A49)*(data_absen!$C$2:$C$2000=AA$3)*(ROW(data_absen!$C$2:$C$2000)))-1)","v":""},null,{"$f":"INDEX(data_absen!$G$2:$G$2000,SUMPRODUCT((data_absen!$B$2:$B$2000=$A49)*(data_absen!$C$2:$C$2000=AF$3)*(ROW(data_absen!$C$2:$C$2000)))-1)","v":""},null,"-",{"$f":"INDEX(data_absen!$H$2:$H$2000,SUMPRODUCT((data_absen!$B$2:$B$2000=$A49)*(data_absen!$C$2:$C$2000=AF$3)*(ROW(data_absen!$C$2:$C$2000)))-1)","v":""},null,{"$f":"INDEX(data_absen!$G$2:$G$2000,SUMPRODUCT((data_absen!$B$2:$B$2000=$A49)*(data_absen!$C$2:$C$2000=AK$3)*(ROW(data_absen!$C$2:$C$2000)))-1)","v":""},null,"-",{"$f":"INDEX(data_absen!$H$2:$H$2000,SUMPRODUCT((data_absen!$B$2:$B$2000=$A49)*(data_absen!$C$2:$C$2000=AK$3)*(ROW(data_absen!$C$2:$C$2000)))-1)","v":""},null,{"$f":"INDEX(data_absen!$G$2:$G$2000,SUMPRODUCT((data_absen!$B$2:$B$2000=$A49)*(data_absen!$C$2:$C$2000=AP$3)*(ROW(data_absen!$C$2:$C$2000)))-1)","v":""},null,"-",{"$f":"INDEX(data_absen!$H$2:$H$2000,SUMPRODUCT((data_absen!$B$2:$B$2000=$A49)*(data_absen!$C$2:$C$2000=AP$3)*(ROW(data_absen!$C$2:$C$2000)))-1)","v":""},null,{"$f":"INDEX(data_absen!$G$2:$G$2000,SUMPRODUCT((data_absen!$B$2:$B$2000=$A49)*(data_absen!$C$2:$C$2000=AU$3)*(ROW(data_absen!$C$2:$C$2000)))-1)","v":""},null,"-",{"$f":"INDEX(data_absen!$H$2:$H$2000,SUMPRODUCT((data_absen!$B$2:$B$2000=$A49)*(data_absen!$C$2:$C$2000=AU$3)*(ROW(data_absen!$C$2:$C$2000)))-1)","v":""},null,{"$f":"INDEX(data_absen!$G$2:$G$2000,SUMPRODUCT((data_absen!$B$2:$B$2000=$A49)*(data_absen!$C$2:$C$2000=AZ$3)*(ROW(data_absen!$C$2:$C$2000)))-1)","v":""},null,"-",{"$f":"INDEX(data_absen!$H$2:$H$2000,SUMPRODUCT((data_absen!$B$2:$B$2000=$A49)*(data_absen!$C$2:$C$2000=AZ$3)*(ROW(data_absen!$C$2:$C$2000)))-1)","v":""},null,{"$f":"INDEX(data_absen!$G$2:$G$2000,SUMPRODUCT((data_absen!$B$2:$B$2000=$A49)*(data_absen!$C$2:$C$2000=BE$3)*(ROW(data_absen!$C$2:$C$2000)))-1)","v":""},null,"-",{"$f":"INDEX(data_absen!$H$2:$H$2000,SUMPRODUCT((data_absen!$B$2:$B$2000=$A49)*(data_absen!$C$2:$C$2000=BE$3)*(ROW(data_absen!$C$2:$C$2000)))-1)","v":""},null,{"$f":"INDEX(data_absen!$G$2:$G$2000,SUMPRODUCT((data_absen!$B$2:$B$2000=$A49)*(data_absen!$C$2:$C$2000=BJ$3)*(ROW(data_absen!$C$2:$C$2000)))-1)","v":""},null,"-",{"$f":"INDEX(data_absen!$H$2:$H$2000,SUMPRODUCT((data_absen!$B$2:$B$2000=$A49)*(data_absen!$C$2:$C$2000=BJ$3)*(ROW(data_absen!$C$2:$C$2000)))-1)","v":""},null,{"$f":"INDEX(data_absen!$G$2:$G$2000,SUMPRODUCT((data_absen!$B$2:$B$2000=$A49)*(data_absen!$C$2:$C$2000=BO$3)*(ROW(data_absen!$C$2:$C$2000)))-1)","v":""},null,"-",{"$f":"INDEX(data_absen!$H$2:$H$2000,SUMPRODUCT((data_absen!$B$2:$B$2000=$A49)*(data_absen!$C$2:$C$2000=BO$3)*(ROW(data_absen!$C$2:$C$2000)))-1)","v":""}]
[311,null,null,"-",null,null,null,null,"-",null,null,null,null,"-",null,null,null,null,"-",null,null,null,null,"-",null,null,null,null,"-",null,null,null,null,"-",null,null,null,null,"-",null,null,null,null,"-",null,null,null,null,"-",null,null,null,null,"-",null,null,null,null,"-",null,null,null,null,"-",null,null,null,null,"-"]
[null,{"$f":"IFERROR(INDEX(data_absen!$K$2:$K$2000,SUMPRODUCT((data_absen!$B$2:$B$2000=$A49)*(data_absen!$C$2:$C$2000=B$3)*(ROW(data_absen!$C$2:$C$2000)))-1)*1440,\"\")","v":""},{"$f":"IFERROR(INDEX(data_absen!$I$2:$I$2000,SUMPRODUCT((data_absen!$B$2:$B$2000=$A49)*(data_absen!$C$2:$C$2000=B$3)*(ROW(data_absen!$C$2:$C$2000)))-1)*1440,\"\")","v":""},null,null,{"$f":"IFERROR(INDEX(data_absen!$J$2:$J$2000,SUMPRODUCT((data_absen!$B$2:$B$2000=$A49)*(data_absen!$C$2:$C$2000=B$3)*(ROW(data_absen!$C$2:$C$2000)))-1)*1440,\"\")","v":""},{"$f":"IFERROR(INDEX(data_absen!$K$2:$K$2000,SUMPRODUCT((data_absen!$B$2:$B$2000=$A49)*(data_absen!$C$2:$C$2000=G$3)*(ROW(data_absen!$C$2:$C$2000)))-1)*1440,\"\")","v":""},{"$f":"IFERROR(INDEX(data_absen!$I$2:$I$2000,SUMPRODUCT((data_absen!$B$2:$B$2000=$A49)*(data_absen!$C$2:$C$2000=G$3)*(ROW(data_absen!$C$2:$C$2000)))-1)*1440,\"\")","v":""},null,null,{"$f":"IFERROR(INDEX(data_absen!$J$2:$J$2000,SUMPRODUCT((data_absen!$B$2:$B$2000=$A49)*(data_absen!$C$2:$C$2000=G$3)*(ROW(data_absen!$C$2:$C$2000)))-1)*1440,\"\")","v":""},{"$f":"IFERROR(INDEX(data_absen!$K$2:$K$2000,SUMPRODUCT((data_absen!$B$2:$B$2000=$A49)*(data_absen!$C$2:$C$2000=L$3)*(ROW(data_absen!$C$2:$C$2000)))-1)*1440,\"\")","v":""},{"$f":"IFERROR(INDEX(data_absen!$I$2:$I$2000,SUMPRODUCT((data_absen!$B$2:$B$2000=$A49)*(data_absen!$C$2:$C$2000=L$3)*(ROW(data_absen!$C$2:$C$2000)))-1)*1440,\"\")","v":""},null,null,{"$f":"IFERROR(INDEX(data_absen!$J$2:$J$2000,SUMPRODUCT((data_absen!$B$2:$B$2000=$A49)*(data_absen!$C$2:$C$2000=L$3)*(ROW(data_absen!$C$2:$C$2000)))-1)*1440,\"\")","v":""},{"$f":"IFERROR(INDEX(data_absen!$K$2:$K$2000,SUMPRODUCT((data_absen!$B$2:$B$2000=$A49)*(data_absen!$C$2:$C$2000=Q$3)*(ROW(data_absen!$C$2:$C$2000)))-1)*1440,\"\")","v":""},{"$f":"IFERROR(INDEX(data_absen!$I$2:$I$2000,SUMPRODUCT((data_absen!$B$2:$B$2000=$A49)*(data_absen!$C$2:$C$2000=Q$3)*(ROW(data_absen!$C$2:$C$2000)))-1)*1440,\"\")","v":""},null,null,{"$f":"IFERROR(INDEX(data_absen!$J$2:$J$2000,SUMPRODUCT((data_absen!$B$2:$B$2000=$A49)*(data_absen!$C$2:$C$2000=Q$3)*(ROW(data_absen!$C$2:$C$2000)))-1)*1440,\"\")","v":""},{"$f":"IFERROR(INDEX(data_absen!$K$2:$K$2000,SUMPRODUCT((data_absen!$B$2:$B$2000=$A49)*(data_absen!$C$2:$C$2000=V$3)*(ROW(data_absen!$C$2:$C$2000)))-1)*1440,\"\")","v":""},{"$f":"IFERROR(INDEX(data_absen!$I$2:$I$2000,SUMPRODUCT((data_absen!$B$2:$B$2000=$A49)*(data_absen!$C$2:$C$2000=V$3)*(ROW(data_absen!$C$2:$C$2000)))-1)*1440,\"\")","v":""},null,null,{"$f":"IFERROR(INDEX(data_absen!$J$2:$J$2000,SUMPRODUCT((data_absen!$B$2:$B$2000=$A49)*(data_absen!$C$2:$C$2000=V$3)*(ROW(data_absen!$C$2:$C$2000)))-1)*1440,\"\")","v":""},{"$f":"IFERROR(INDEX(data_absen!$K$2:$K$2000,SUMPRODUCT((data_absen!$B$2:$B$2000=$A49)*(data_absen!$C$2:$C$2000=AA$3)*(ROW(data_absen!$C$2:$C$2000)))-1)*1440,\"\")","v":""},{"$f":"IFERROR(INDEX(data_absen!$I$2:$I$2000,SUMPRODUCT((data_absen!$B$2:$B$2000=$A49)*(data_absen!$C$2:$C$2000=AA$3)*(ROW(data_absen!$C$2:$C$2000)))-1)*1440,\"\")","v":""},null,null,{"$f":"IFERROR(INDEX(data_absen!$J$2:$J$2000,SUMPRODUCT((data_absen!$B$2:$B$2000=$A49)*(data_absen!$C$2:$C$2000=AA$3)*(ROW(data_absen!$C$2:$C$2000)))-1)*1440,\"\")","v":""},{"$f":"IFERROR(INDEX(data_absen!$K$2:$K$2000,SUMPRODUCT((data_absen!$B$2:$B$2000=$A49)*(data_absen!$C$2:$C$2000=AF$3)*(ROW(data_absen!$C$2:$C$2000)))-1)*1440,\"\")","v":""},{"$f":"IFERROR(INDEX(data_absen!$I$2:$I$2000,SUMPRODUCT((data_absen!$B$2:$B$2000=$A49)*(data_absen!$C$2:$C$2000=AF$3)*(ROW(data_absen!$C$2:$C$2000)))-1)*1440,\"\")","v":""},null,null,{"$f":"IFERROR(INDEX(data_absen!$J$2:$J$2000,SUMPRODUCT((data_absen!$B$2:$B$2000=$A49)*(data_absen!$C$2:$C$2000=AF$3)*(ROW(data_absen!$C$2:$C$2000)))-1)*1440,\"\")","v":""},{"$f":"IFERROR(INDEX(data_absen!$K$2:$K$2000,SUMPRODUCT((data_absen!$B$2:$B$2000=$A49)*(data_absen!$C$2:$C$2000=AK$3)*(ROW(data_absen!$C$2:$C$2000)))-1)*1440,\"\")","v":""},{"$f":"IFERROR(INDEX(data_absen!$I$2:$I$2000,SUMPRODUCT((data_absen!$B$2:$B$2000=$A49)*(data_absen!$C$2:$C$2000=AK$3)*(ROW(data_absen!$C$2:$C$2000)))-1)*1440,\"\")","v":""},null,null,{"$f":"IFERROR(INDEX(data_absen!$J$2:$J$2000,SUMPRODUCT((data_absen!$B$2:$B$2000=$A49)*(data_absen!$C$2:$C$2000=AK$3)*(ROW(data_absen!$C$2:$C$2000)))-1)*1440,\"\")","v":""},{"$f":"IFERROR(INDEX(data_absen!$K$2:$K$2000,SUMPRODUCT((data_absen!$B$2:$B$2000=$A49)*(data_absen!$C$2:$C$2000=AP$3)*(ROW(data_absen!$C$2:$C$2000)))-1)*1440,\"\")","v":""},{"$f":"IFERROR(INDEX(data_absen!$I$2:$I$2000,SUMPRODUCT((data_absen!$B$2:$B$2000=$A49)*(data_absen!$C$2:$C$2000=AP$3)*(ROW(data_absen!$C$2:$C$2000)))-1)*1440,\"\")","v":""},null,null,{"$f":"IFERROR(INDEX(data_absen!$J$2:$J$2000,SUMPRODUCT((data_absen!$B$2:$B$2000=$A49)*(data_absen!$C$2:$C$2000=AP$3)*(ROW(data_absen!$C$2:$C$2000)))-1)*1440,\"\")","v":""},{"$f":"IFERROR(INDEX(data_absen!$K$2:$K$2000,SUMPRODUCT((data_absen!$B$2:$B$2000=$A49)*(data_absen!$C$2:$C$2000=AU$3)*(ROW(data_absen!$C$2:$C$2000)))-1)*1440,\"\")","v":""},{"$f":"IFERROR(INDEX(data_absen!$I$2:$I$2000,SUMPRODUCT((data_absen!$B$2:$B$2000=$A49)*(data_absen!$C$2:$C$2000=AU$3)*(ROW(data_absen!$C$2:$C$2000)))-1)*1440,\"\")","v":""},null,null,{"$f":"IFERROR(INDEX(data_absen!$J$2:$J$2000,SUMPRODUCT((data_absen!$B$2:$B$2000=$A49)*(data_absen!$C$2:$C$2000=AU$3)*(ROW(data_absen!$C$2:$C$2000)))-1)*1440,\"\")","v":""},{"$f":"IFERROR(INDEX(data_absen!$K$2:$K$2000,SUMPRODUCT((data_absen!$B$2:$B$2000=$A49)*(data_absen!$C$2:$C$2000=AZ$3)*(ROW(data_absen!$C$2:$C$2000)))-1)*1440,\"\")","v":""},{"$f":"IFERROR(INDEX(data_absen!$I$2:$I$2000,SUMPRODUCT((data_absen!$B$2:$B$2000=$A49)*(data_absen!$C$2:$C$2000=AZ$3)*(ROW(data_absen!$C$2:$C$2000)))-1)*1440,\"\")","v":""},null,null,{"$f":"IFERROR(INDEX(data_absen!$J$2:$J$2000,SUMPRODUCT((data_absen!$B$2:$B$2000=$A49)*(data_absen!$C$2:$C$2000=AZ$3)*(ROW(data_absen!$C$2:$C$2000)))-1)*1440,\"\")","v":""},{"$f":"IFERROR(INDEX(data_absen!$K$2:$K$2000,SUMPRODUCT((data_absen!$B$2:$B$2000=$A49)*(data_absen!$C$2:$C$2000=BE$3)*(ROW(data_absen!$C$2:$C$2000)))-1)*1440,\"\")","v":""},{"$f":"IFERROR(INDEX(data_absen!$I$2:$I$2000,SUMPRODUCT((data_absen!$B$2:$B$2000=$A49)*(data_absen!$C$2:$C$2000=BE$3)*(ROW(data_absen!$C$2:$C$2000)))-1)*1440,\"\")","v":""},null,null,{"$f":"IFERROR(INDEX(data_absen!$J$2:$J$2000,SUMPRODUCT((data_absen!$B$2:$B$2000=$A49)*(data_absen!$C$2:$C$2000=BE$3)*(ROW(data_absen!$C$2:$C$2000)))-1)*1440,\"\")","v":""},{"$f":"IFERROR(INDEX(data_absen!$K$2:$K$2000,SUMPRODUCT((data_absen!$B$2:$B$2000=$A49)*(data_absen!$C$2:$C$2000=BJ$3)*(ROW(data_absen!$C$2:$C$2000)))-1)*1440,\"\")","v":""},{"$f":"IFERROR(INDEX(data_absen!$I$2:$I$2000,SUMPRODUCT((data_absen!$B$2:$B$2000=$A49)*(data_absen!$C$2:$C$2000=BJ$3)*(ROW(data_absen!$C$2:$C$2000)))-1)*1440,\"\")","v":""},null,null,{"$f":"IFERROR(INDEX(data_absen!$J$2:$J$2000,SUMPRODUCT((data_absen!$B$2:$B$2000=$A49)*(data_absen!$C$2:$C$2000=BJ$3)*(ROW(data_absen!$C$2:$C$2000)))-1)*1440,\"\")","v":""},{"$f":"IFERROR(INDEX(data_absen!$K$2:$K$2000,SUMPRODUCT((data_absen!$B$2:$B$2000=$A49)*(data_absen!$C$2:$C$2000=BO$3)*(ROW(data_absen!$C$2:$C$2000)))-1)*1440,\"\")","v":""},{"$f":"IFERROR(INDEX(data_absen!$I$2:$I$2000,SUMPRODUCT((data_absen!$B$2:$B$2000=$A49)*(data_absen!$C$2:$C$2000=BO$3)*(ROW(data_absen!$C$2:$C$2000)))-1)*1440,\"\")","v":""},null,null,{"$f":"IFERROR(INDEX(data_absen!$J$2:$J$2000,SUMPRODUCT((data_absen!$B$2:$B$2000=$A49)*(data_absen!$C$2:$C$2000=BO$3)*(ROW(data_absen!$C$2:$C$2000)))-1)*1440,\"\")","v":""},{"$f":"COUNTIFS(data_absen!$B$2:$B$2000,$A49,data_absen!$I$2:$I$2000,\">0\")","v":2}]
["Khasanah",{"$f":"INDEX(data_absen!$G$2:$G$2000,SUMPRODUCT((data_absen!$B$2:$B$2000=$A52)*(data_absen!$C$2:$C$2000=B$3)*(ROW(data_absen!$C$2:$C$2000)))-1)","v":""},null,"-",{"$f":"INDEX(data_absen!$H$2:$H$2000,SUMPRODUCT((data_absen!$B$2:$B$2000=$A52)*(data_absen!$C$2:$C$2000=B$3)*(ROW(data_absen!$C$2:$C$2000)))-1)","v":""},null,{"$f":"INDEX(data_absen!$G$2:$G$2000,SUMPRODUCT((data_absen!$B$2:$B$2000=$A52)*(data_absen!$C$2:$C$2000=G$3)*(ROW(data_absen!$C$2:$C$2000)))-1)","v":""},null,"-",{"$f":"INDEX(data_absen!$H$2:$H$2000,SUMPRODUCT((data_absen!$B$2:$B$2000=$A52)*(data_absen!$C$2:$C$2000=G$3)*(ROW(data_absen!$C$2:$C$2000)))-1)","v":""},null,{"$f":"INDEX(data_absen!$G$2:$G$2000,SUMPRODUCT((data_absen!$B$2:$B$2000=$A52)*(data_absen!$C$2:$C$2000=L$3)*(ROW(data_absen!$C$2:$C$2000)))-1)","v":""},null,"-",{"$f":"INDEX(data_absen!$H$2:$H$2000,SUMPRODUCT((data_absen!$B$2:$B$2000=$A52)*(data_absen!$C$2:$C$2000=L$3)*(ROW(data_absen!$C$2:$C$2000)))-1)","v":""},null,{"$f":"INDEX(data_absen!$G$2:$G$2000,SUMPRODUCT((data_absen!$B$2:$B$2000=$A52)*(data_absen!$C$2:$C$2000=Q$3)*(ROW(data_absen!$C$2:$C$2000)))-1)","v":""},null,"-",{"$f":"INDEX(data_absen!$H$2:$H$2000,SUMPRODUCT((data_absen!$B$2:$B$2000=$A52)*(data_absen!$C$2:$C$2000=Q$3)*(ROW(data_absen!$C$2:$C$2000)))-1)","v":""},null,{"$f":"INDEX(data_absen!$G$2:$G$2000,SUMPRODUCT((data_absen!$B$2:$B$2000=$A52)*(data_absen!$C$2:$C$2000=V$3)*(ROW(data_absen!$C$2:$C$2000)))-1)","v":""},null,"-",{"$f":"INDEX(data_absen!$H$2:$H$2000,SUMPRODUCT((data_absen!$B$2:$B$2000=$A52)*(data_absen!$C$2:$C$2000=V$3)*(ROW(data_absen!$C$2:$C$2000)))-1)","v":""},null,{"$f":"INDEX(data_absen!$G$2:$G$2000,SUMPRODUCT((data_absen!$B$2:$B$2000=$A52)*(data_absen!$C$2:$C$2000=AA$3)*(ROW(data_absen!$C$2:$C$2000)))-1)","v":""},null,"-",{"$f":"INDEX(data_absen!$H$2:$H$2000,SUMPRODUCT((data_absen!$B$2:$B$2000=$A52)*(data_absen!$C$2:$C$2000=AA$3)*(ROW(data_absen!$C$2:$C$2000)))-1)","v":""},null,{"$f":"INDEX(data_absen!$G$2:$G$2000,SUMPRODUCT((data_absen!$B$2:$B$2000=$A52)*(data_absen!$C$2:$C$2000=AF$3)*(ROW(data_absen!$C$2:$C$2000)))-1)","v":""},null,"-",{"$f":"INDEX(data_absen!$H$2:$H$2000,SUMPRODUCT((data_absen!$B$2:$B$2000=$A52)*(data_absen!$C$2:$C$2000=AF$3)*(ROW(data_absen!$C$2:$C$2000)))-1)","v":""},null,{"$f":"INDEX(data_absen!$G$2:$G$2000,SUMPRODUCT((data_absen!$B$2:$B$2000=$A52)*(data_absen!$C$2:$C$2000=AK$3)*(ROW(data_absen!$C$2:$C$2000)))-1)","v":""},null,"-",{"$f":"INDEX(data_absen!$H$2:$H$2000,SUMPRODUCT((data_absen!$B$2:$B$2000=$A52)*(data_absen!$C$2:$C$2000=AK$3)*(ROW(data_absen!$C$2:$C$2000)))-1)","v":""},null,{"$f":"INDEX(data_absen!$G$2:$G$2000,SUMPRODUCT((data_absen!$B$2:$B$2000=$A52)*(data_absen!$C$2:$C$2000=AP$3)*(ROW(data_absen!$C$2:$C$2000)))-1)","v":""},null,"-",{"$f":"INDEX(data_absen!$H$2:$H$2000,SUMPRODUCT((data_absen!$B$2:$B$2000=$A52)*(data_absen!$C$2:$C$2000=AP$3)*(ROW(data_absen!$C$2:$C$2000)))-1)","v":""},null,{"$f":"INDEX(data_absen!$G$2:$G$2000,SUMPRODUCT((data_absen!$B$2:$B$2000=$A52)*(data_absen!$C$2:$C$2000=AU$3)*(ROW(data_absen!$C$2:$C$2000)))-1)","v":""},null,"-",{"$f":"INDEX(data_absen!$H$2:$H$2000,SUMPRODUCT((data_absen!$B$2:$B$2000=$A52)*(data_absen!$C$2:$C$2000=AU$3)*(ROW(data_absen!$C$2:$C$2000)))-1)","v":""},null,{"$f":"INDEX(data_absen!$G$2:$G$2000,SUMPRODUCT((data_absen!$B$2:$B$2000=$A52)*(data_absen!$C$2:$C$2000=AZ$3)*(ROW(data_absen!$C$2:$C$2000)))-1)","v":""},null,"-",{"$f":"INDEX(data_absen!$H$2:$H$2000,SUMPRODUCT((data_absen!$B$2:$B$2000=$A52)*(data_absen!$C$2:$C$2000=AZ$3)*(ROW(data_absen!$C$2:$C$2000)))-1)","v":""},null,{"$f":"INDEX(data_absen!$G$2:$G$2000,SUMPRODUCT((data_absen!$B$2:$B$2000=$A52)*(data_absen!$C$2:$C$2000=BE$3)*(ROW(data_absen!$C$2:$C$2000)))-1)","v":""},null,"-",{"$f":"INDEX(data_absen!$H$2:$H$2000,SUMPRODUCT((data_absen!$B$2:$B$2000=$A52)*(data_absen!$C$2:$C$2000=BE$3)*(ROW(data_absen!$C$2:$C$2000)))-1)","v":""},null,{"$f":"INDEX(data_absen!$G$2:$G$2000,SUMPRODUCT((data_absen!$B$2:$B$2000=$A52)*(data_absen!$C$2:$C$2000=BJ$3)*(ROW(data_absen!$C$2:$C$2000)))-1)","v":""},null,"-",{"$f":"INDEX(data_absen!$H$2:$H$2000,SUMPRODUCT((data_absen!$B$2:$B$2000=$A52)*(data_absen!$C$2:$C$2000=BJ$3)*(ROW(data_absen!$C$2:$C$2000)))-1)","v":""},null,{"$f":"INDEX(data_absen!$G$2:$G$2000,SUMPRODUCT((data_absen!$B$2:$B$2000=$A52)*(data_absen!$C$2:$C$2000=BO$3)*(ROW(data_absen!$C$2:$C$2000)))-1)","v":""},null,"-",{"$f":"INDEX(data_absen!$H$2:$H$2000,SUMPRODUCT((data_absen!$B$2:$B$2000=$A52)*(data_absen!$C$2:$C$2000=BO$3)*(ROW(data_absen!$C$2:$C$2000)))-1)","v":""}]
[312,null,null,"-",null,null,null,null,"-",null,null,null,null,"-",null,null,null,null,"-",null,null,null,null,"-",null,null,null,null,"-",null,null,null,null,"-",null,null,null,null,"-",null,null,null,null,"-",null,null,null,null,"-",null,null,null,null,"-",null,null,null,null,"-",null,null,null,null,"-",null,null,null,null,"-"]
[null,{"$f":"IFERROR(INDEX(data_absen!$K$2:$K$2000,SUMPRODUCT((data_absen!$B$2:$B$2000=$A52)*(data_absen!$C$2:$C$2000=B$3)*(ROW(data_absen!$C$2:$C$2000)))-1)*1440,\"\")","v":""},{"$f":"IFERROR(INDEX(data_absen!$I$2:$I$2000,SUMPRODUCT((data_absen!$B$2:$B$2000=$A52)*(data_absen!$C$2:$C$2000=B$3)*(ROW(data_absen!$C$2:$C$2000)))-1)*1440,\"\")","v":""},null,null,{"$f":"IFERROR(INDEX(data_absen!$J$2:$J$2000,SUMPRODUCT((data_absen!$B$2:$B$2000=$A52)*(data_absen!$C$2:$C$2000=B$3)*(ROW(data_absen!$C$2:$C$2000)))-1)*1440,\"\")","v":""},{"$f":"IFERROR(INDEX(data_absen!$K$2:$K$2000,SUMPRODUCT((data_absen!$B$2:$B$2000=$A52)*(data_absen!$C$2:$C$2000=G$3)*(ROW(data_absen!$C$2:$C$2000)))-1)*1440,\"\")","v":""},{"$f":"IFERROR(INDEX(data_absen!$I$2:$I$2000,SUMPRODUCT((data_absen!$B$2:$B$2000=$A52)*(data_absen!$C$2:$C$2000=G$3)*(ROW(data_absen!$C$2:$C$2000)))-1)*1440,\"\")","v":""},null,null,{"$f":"IFERROR(INDEX(data_absen!$J$2:$J$2000,SUMPRODUCT((data_absen!$B$2:$B$2000=$A52)*(data_absen!$C$2:$C$2000=G$3)*(ROW(data_absen!$C$2:$C$2000)))-1)*1440,\"\")","v":""},{"$f":"IFERROR(INDEX(data_absen!$K$2:$K$2000,SUMPRODUCT((data_absen!$B$2:$B$2000=$A52)*(data_absen!$C$2:$C$2000=L$3)*(ROW(data_absen!$C$2:$C$2000)))-1)*1440,\"\")","v":""},{"$f":"IFERROR(INDEX(data_absen!$I$2:$I$2000,SUMPRODUCT((data_absen!$B$2:$B$2000=$A52)*(data_absen!$C$2:$C$2000=L$3)*(ROW(data_absen!$C$2:$C$2000)))-1)*1440,\"\")","v":""},null,null,{"$f":"IFERROR(INDEX(data_absen!$J$2:$J$2000,SUMPRODUCT((data_absen!$B$2:$B$2000=$A52)*(data_absen!$C$2:$C$2000=L$3)*(ROW(data_absen!$C$2:$C$2000)))-1)*1440,\"\")","v":""},{"$f":"IFERROR(INDEX(data_absen!$K$2:$K$2000,SUMPRODUCT((data_absen!$B$2:$B$2000=$A52)*(data_absen!$C$2:$C$2000=Q$3)*(ROW(data_absen!$C$2:$C$2000)))-1)*1440,\"\")","v":""},{"$f":"IFERROR(INDEX(data_absen!$I$2:$I$2000,SUMPRODUCT((data_absen!$B$2:$B$2000=$A52)*(data_absen!$C$2:$C$2000=Q$3)*(ROW(data_absen!$C$2:$C$2000)))-1)*1440,\"\")","v":""},null,null,{"$f":"IFERROR(INDEX(data_absen!$J$2:$J$2000,SUMPRODUCT((data_absen!$B$2:$B$2000=$A52)*(data_absen!$C$2:$C$2000=Q$3)*(ROW(data_absen!$C$2:$C$2000)))-1)*1440,\"\")","v":""},{"$f":"IFERROR(INDEX(data_absen!$K$2:$K$2000,SUMPRODUCT((data_absen!$B$2:$B$2000=$A52)*(data_absen!$C$2:$C$2000=V$3)*(ROW(data_absen!$C$2:$C$2000)))-1)*1440,\"\")","v":""},{"$f":"IFERROR(INDEX(data_absen!$I$2:$I$2000,SUMPRODUCT((data_absen!$B$2:$B$2000=$A52)*(data_absen!$C$2:$C$2000=V$3)*(ROW(data_absen!$C$2:$C$2000)))-1)*1440,\"\")","v":""},null,null,{"$f":"IFERROR(INDEX(data_absen!$J$2:$J$2000,SUMPRODUCT((data_absen!$B$2:$B$2000=$A52)*(data_absen!$C$2:$C$2000=V$3)*(ROW(data_absen!$C$2:$C$2000)))-1)*1440,\"\")","v":""},{"$f":"IFERROR(INDEX(data_absen!$K$2:$K$2000,SUMPRODUCT((data_absen!$B$2:$B$2000=$A52)*(data_absen!$C$2:$C$2000=AA$3)*(ROW(data_absen!$C$2:$C$2000)))-1)*1440,\"\")","v":""},{"$f":"IFERROR(INDEX(data_absen!$I$2:$I$2000,SUMPRODUCT((data_absen!$B$2:$B$2000=$A52)*(data_absen!$C$2:$C$2000=AA$3)*(ROW(data_absen!$C$2:$C$2000)))-1)*1440,\"\")","v":""},null,null,{"$f":"IFERROR(INDEX(data_absen!$J$2:$J$2000,SUMPRODUCT((data_absen!$B$2:$B$2000=$A52)*(data_absen!$C$2:$C$2000=AA$3)*(ROW(data_absen!$C$2:$C$2000)))-1)*1440,\"\")","v":""},{"$f":"IFERROR(INDEX(data_absen!$K$2:$K$2000,SUMPRODUCT((data_absen!$B$2:$B$2000=$A52)*(data_absen!$C$2:$C$2000=AF$3)*(ROW(data_absen!$C$2:$C$2000)))-1)*1440,\"\")","v":""},{"$f":"IFERROR(INDEX(data_absen!$I$2:$I$2000,SUMPRODUCT((data_absen!$B$2:$B$2000=$A52)*(data_absen!$C$2:$C$2000=AF$3)*(ROW(data_absen!$C$2:$C$2000)))-1)*1440,\"\")","v":""},null,null,{"$f":"IFERROR(INDEX(data_absen!$J$2:$J$2000,SUMPRODUCT((data_absen!$B$2:$B$2000=$A52)*(data_absen!$C$2:$C$2000=AF$3)*(ROW(data_absen!$C$2:$C$2000)))-1)*1440,\"\")","v":""},{"$f":"IFERROR(INDEX(data_absen!$K$2:$K$2000,SUMPRODUCT((data_absen!$B$2:$B$2000=$A52)*(data_absen!$C$2:$C$2000=AK$3)*(ROW(data_absen!$C$2:$C$2000)))-1)*1440,\"\")","v":""},{"$f":"IFERROR(INDEX(data_absen!$I$2:$I$2000,SUMPRODUCT((data_absen!$B$2:$B$2000=$A52)*(data_absen!$C$2:$C$2000=AK$3)*(ROW(data_absen!$C$2:$C$2000)))-1)*1440,\"\")","v":""},null,null,{"$f":"IFERROR(INDEX(data_absen!$J$2:$J$2000,SUMPRODUCT((data_absen!$B$2:$B$2000=$A52)*(data_absen!$C$2:$C$2000=AK$3)*(ROW(data_absen!$C$2:$C$2000)))-1)*1440,\"\")","v":""},{"$f":"IFERROR(INDEX(data_absen!$K$2:$K$2000,SUMPRODUCT((data_absen!$B$2:$B$2000=$A52)*(data_absen!$C$2:$C$2000=AP$3)*(ROW(data_absen!$C$2:$C$2000)))-1)*1440,\"\")","v":""},{"$f":"IFERROR(INDEX(data_absen!$I$2:$I$2000,SUMPRODUCT((data_absen!$B$2:$B$2000=$A52)*(data_absen!$C$2:$C$2000=AP$3)*(ROW(data_absen!$C$2:$C$2000)))-1)*1440,\"\")","v":""},null,null,{"$f":"IFERROR(INDEX(data_absen!$J$2:$J$2000,SUMPRODUCT((data_absen!$B$2:$B$2000=$A52)*(data_absen!$C$2:$C$2000=AP$3)*(ROW(data_absen!$C$2:$C$2000)))-1)*1440,\"\")","v":""},{"$f":"IFERROR(INDEX(data_absen!$K$2:$K$2000,SUMPRODUCT((data_absen!$B$2:$B$2000=$A52)*(data_absen!$C$2:$C$2000=AU$3)*(ROW(data_absen!$C$2:$C$2000)))-1)*1440,\"\")","v":""},{"$f":"IFERROR(INDEX(data_absen!$I$2:$I$2000,SUMPRODUCT((data_absen!$B$2:$B$2000=$A52)*(data_absen!$C$2:$C$2000=AU$3)*(ROW(data_absen!$C$2:$C$2000)))-1)*1440,\"\")","v":""},null,null,{"$f":"IFERROR(INDEX(data_absen!$J$2:$J$2000,SUMPRODUCT((data_absen!$B$2:$B$2000=$A52)*(data_absen!$C$2:$C$2000=AU$3)*(ROW(data_absen!$C$2:$C$2000)))-1)*1440,\"\")","v":""},{"$f":"IFERROR(INDEX(data_absen!$K$2:$K$2000,SUMPRODUCT((data_absen!$B$2:$B$2000=$A52)*(data_absen!$C$2:$C$2000=AZ$3)*(ROW(data_absen!$C$2:$C$2000)))-1)*1440,\"\")","v":""},{"$f":"IFERROR(INDEX(data_absen!$I$2:$I$2000,SUMPRODUCT((data_absen!$B$2:$B$2000=$A52)*(data_absen!$C$2:$C$2000=AZ$3)*(ROW(data_absen!$C$2:$C$2000)))-1)*1440,\"\")","v":""},null,null,{"$f":"IFERROR(INDEX(data_absen!$J$2:$J$2000,SUMPRODUCT((data_absen!$B$2:$B$2000=$A52)*(data_absen!$C$2:$C$2000=AZ$3)*(ROW(data_absen!$C$2:$C$2000)))-1)*1440,\"\")","v":""},{"$f":"IFERROR(INDEX(data_absen!$K$2:$K$2000,SUMPRODUCT((data_absen!$B$2:$B$2000=$A52)*(data_absen!$C$2:$C$2000=BE$3)*(ROW(data_absen!$C$2:$C$2000)))-1)*1440,\"\")","v":""},{"$f":"IFERROR(INDEX(data_absen!$I$2:$I$2000,SUMPRODUCT((data_absen!$B$2:$B$2000=$A52)*(data_absen!$C$2:$C$2000=BE$3)*(ROW(data_absen!$C$2:$C$2000)))-1)*1440,\"\")","v":""},null,null,{"$f":"IFERROR(INDEX(data_absen!$J$2:$J$2000,SUMPRODUCT((data_absen!$B$2:$B$2000=$A52)*(data_absen!$C$2:$C$2000=BE$3)*(ROW(data_absen!$C$2:$C$2000)))-1)*1440,\"\")","v":""},{"$f":"IFERROR(INDEX(data_absen!$K$2:$K$2000,SUMPRODUCT((data_absen!$B$2:$B$2000=$A52)*(data_absen!$C$2:$C$2000=BJ$3)*(ROW(data_absen!$C$2:$C$2000)))-1)*1440,\"\")","v":""},{"$f":"IFERROR(INDEX(data_absen!$I$2:$I$2000,SUMPRODUCT((data_absen!$B$2:$B$2000=$A52)*(data_absen!$C$2:$C$2000=BJ$3)*(ROW(data_absen!$C$2:$C$2000)))-1)*1440,\"\")","v":""},null,null,{"$f":"IFERROR(INDEX(data_absen!$J$2:$J$2000,SUMPRODUCT((data_absen!$B$2:$B$2000=$A52)*(data_absen!$C$2:$C$2000=BJ$3)*(ROW(data_absen!$C$2:$C$2000)))-1)*1440,\"\")","v":""},{"$f":"IFERROR(INDEX(data_absen!$K$2:$K$2000,SUMPRODUCT((data_absen!$B$2:$B$2000=$A52)*(data_absen!$C$2:$C$2000=BO$3)*(ROW(data_absen!$C$2:$C$2000)))-1)*1440,\"\")","v":""},{"$f":"IFERROR(INDEX(data_absen!$I$2:$I$2000,SUMPRODUCT((data_absen!$B$2:$B$2000=$A52)*(data_absen!$C$2:$C$2000=BO$3)*(ROW(data_absen!$C$2:$C$2000)))-1)*1440,\"\")","v":""},null,null,{"$f":"IFERROR(INDEX(data_absen!$J$2:$J$2000,SUMPRODUCT((data_absen!$B$2:$B$2000=$A52)*(data_absen!$C$2:$C$2000=BO$3)*(ROW(data_absen!$C$2:$C$2000)))-1)*1440,\"\")","v":""},{"$f":"COUNTIFS(data_absen!$B$2:$B$2000,$A52,data_absen!$I$2:$I$2000,\">0\")","v":0}]
["Lia",{"$f":"INDEX(data_absen!$G$2:$G$2000,SUMPRODUCT((data_absen!$B$2:$B$2000=$A55)*(data_absen!$C$2:$C$2000=B$3)*(ROW(data_absen!$C$2:$C$2000)))-1)","v":""},null,"-",{"$f":"INDEX(data_absen!$H$2:$H$2000,SUMPRODUCT((data_absen!$B$2:$B$2000=$A55)*(data_absen!$C$2:$C$2000=B$3)*(ROW(data_absen!$C$2:$C$2000)))-1)","v":""},null,{"$f":"INDEX(data_absen!$G$2:$G$2000,SUMPRODUCT((data_absen!$B$2:$B$2000=$A55)*(data_absen!$C$2:$C$2000=G$3)*(ROW(data_absen!$C$2:$C$2000)))-1)","v":""},null,"-",{"$f":"INDEX(data_absen!$H$2:$H$2000,SUMPRODUCT((data_absen!$B$2:$B$2000=$A55)*(data_absen!$C$2:$C$2000=G$3)*(ROW(data_absen!$C$2:$C$2000)))-1)","v":""},null,{"$f":"INDEX(data_absen!$G$2:$G$2000,SUMPRODUCT((data_absen!$B$2:$B$2000=$A55)*(data_absen!$C$2:$C$2000=L$3)*(ROW(data_absen!$C$2:$C$2000)))-1)","v":""},null,"-",{"$f":"INDEX(data_absen!$H$2:$H$2000,SUMPRODUCT((data_absen!$B$2:$B$2000=$A55)*(data_absen!$C$2:$C$2000=L$3)*(ROW(data_absen!$C$2:$C$2000)))-1)","v":""},null,{"$f":"INDEX(data_absen!$G$2:$G$2000,SUMPRODUCT((data_absen!$B$2:$B$2000=$A55)*(data_absen!$C$2:$C$2000=Q$3)*(ROW(data_absen!$C$2:$C$2000)))-1)","v":""},null,"-",{"$f":"INDEX(data_absen!$H$2:$H$2000,SUMPRODUCT((data_absen!$B$2:$B$2000=$A55)*(data_absen!$C$2:$C$2000=Q$3)*(ROW(data_absen!$C$2:$C$2000)))-1)","v":""},null,{"$f":"INDEX(data_absen!$G$2:$G$2000,SUMPRODUCT((data_absen!$B$2:$B$2000=$A55)*(data_absen!$C$2:$C$2000=V$3)*(ROW(data_absen!$C$2:$C$2000)))-1)","v":""},null,"-",{"$f":"INDEX(data_absen!$H$2:$H$2000,SUMPRODUCT((data_absen!$B$2:$B$2000=$A55)*(data_absen!$C$2:$C$2000=V$3)*(ROW(data_absen!$C$2:$C$2000)))-1)","v":""},null,{"$f":"INDEX(data_absen!$G$2:$G$2000,SUMPRODUCT((data_absen!$B$2:$B$2000=$A55)*(data_absen!$C$2:$C$2000=AA$3)*(ROW(data_absen!$C$2:$C$2000)))-1)","v":""},null,"-",{"$f":"INDEX(data_absen!$H$2:$H$2000,SUMPRODUCT((data_absen!$B$2:$B$2000=$A55)*(data_absen!$C$2:$C$2000=AA$3)*(ROW(data_absen!$C$2:$C$2000)))-1)","v":""},null,{"$f":"INDEX(data_absen!$G$2:$G$2000,SUMPRODUCT((data_absen!$B$2:$B$2000=$A55)*(data_absen!$C$2:$C$2000=AF$3)*(ROW(data_absen!$C$2:$C$2000)))-1)","v":""},null,"-",{"$f":"INDEX(data_absen!$H$2:$H$2000,SUMPRODUCT((data_absen!$B$2:$B$2000=$A55)*(data_absen!$C$2:$C$2000=AF$3)*(ROW(data_absen!$C$2:$C$2000)))-1)","v":""},null,{"$f":"INDEX(data_absen!$G$2:$G$2000,SUMPRODUCT((data_absen!$B$2:$B$2000=$A55)*(data_absen!$C$2:$C$2000=AK$3)*(ROW(data_absen!$C$2:$C$2000)))-1)","v":""},null,"-",{"$f":"INDEX(data_absen!$H$2:$H$2000,SUMPRODUCT((data_absen!$B$2:$B$2000=$A55)*(data_absen!$C$2:$C$2000=AK$3)*(ROW(data_absen!$C$2:$C$2000)))-1)","v":""},null,{"$f":"INDEX(data_absen!$G$2:$G$2000,SUMPRODUCT((data_absen!$B$2:$B$2000=$A55)*(data_absen!$C$2:$C$2000=AP$3)*(ROW(data_absen!$C$2:$C$2000)))-1)","v":""},null,"-",{"$f":"INDEX(data_absen!$H$2:$H$2000,SUMPRODUCT((data_absen!$B$2:$B$2000=$A55)*(data_absen!$C$2:$C$2000=AP$3)*(ROW(data_absen!$C$2:$C$2000)))-1)","v":""},null,{"$f":"INDEX(data_absen!$G$2:$G$2000,SUMPRODUCT((data_absen!$B$2:$B$2000=$A55)*(data_absen!$C$2:$C$2000=AU$3)*(ROW(data_absen!$C$2:$C$2000)))-1)","v":""},null,"-",{"$f":"INDEX(data_absen!$H$2:$H$2000,SUMPRODUCT((data_absen!$B$2:$B$2000=$A55)*(data_absen!$C$2:$C$2000=AU$3)*(ROW(data_absen!$C$2:$C$2000)))-1)","v":""},null,{"$f":"INDEX(data_absen!$G$2:$G$2000,SUMPRODUCT((data_absen!$B$2:$B$2000=$A55)*(data_absen!$C$2:$C$2000=AZ$3)*(ROW(data_absen!$C$2:$C$2000)))-1)","v":""},null,"-",{"$f":"INDEX(data_absen!$H$2:$H$2000,SUMPRODUCT((data_absen!$B$2:$B$2000=$A55)*(data_absen!$C$2:$C$2000=AZ$3)*(ROW(data_absen!$C$2:$C$2000)))-1)","v":""},null,{"$f":"INDEX(data_absen!$G$2:$G$2000,SUMPRODUCT((data_absen!$B$2:$B$2000=$A55)*(data_absen!$C$2:$C$2000=BE$3)*(ROW(data_absen!$C$2:$C$2000)))-1)","v":""},null,"-",{"$f":"INDEX(data_absen!$H$2:$H$2000,SUMPRODUCT((data_absen!$B$2:$B$2000=$A55)*(data_absen!$C$2:$C$2000=BE$3)*(ROW(data_absen!$C$2:$C$2000)))-1)","v":""},null,{"$f":"INDEX(data_absen!$G$2:$G$2000,SUMPRODUCT((data_absen!$B$2:$B$2000=$A55)*(data_absen!$C$2:$C$2000=BJ$3)*(ROW(data_absen!$C$2:$C$2000)))-1)","v":""},null,"-",{"$f":"INDEX(data_absen!$H$2:$H$2000,SUMPRODUCT((data_absen!$B$2:$B$2000=$A55)*(data_absen!$C$2:$C$2000=BJ$3)*(ROW(data_absen!$C$2:$C$2000)))-1)","v":""},null,{"$f":"INDEX(data_absen!$G$2:$G$2000,SUMPRODUCT((data_absen!$B$2:$B$2000=$A55)*(data_absen!$C$2:$C$2000=BO$3)*(ROW(data_absen!$C$2:$C$2000)))-1)","v":""},null,"-",{"$f":"INDEX(data_absen!$H$2:$H$2000,SUMPRODUCT((data_absen!$B$2:$B$2000=$A55)*(data_absen!$C$2:$C$2000=BO$3)*(ROW(data_absen!$C$2:$C$2000)))-1)","v":""}]
[313,null,null,"-",null,null,null,null,"-",null,null,null,null,"-",null,null,null,null,"-",null,null,null,null,"-",null,null,null,null,"-",null,null,null,null,"-",null,null,null,null,"-",null,null,null,null,"-",null,null,null,null,"-",null,null,null,null,"-",null,null,null,null,"-",null,null,null,null,"-",null,null,null,null,"-"]
[null,{"$f":"IFERROR(INDEX(data_absen!$K$2:$K$2000,SUMPRODUCT((data_absen!$B$2:$B$2000=$A55)*(data_absen!$C$2:$C$2000=B$3)*(ROW(data_absen!$C$2:$C$2000)))-1)*1440,\"\")","v":""},{"$f":"IFERROR(INDEX(data_absen!$I$2:$I$2000,SUMPRODUCT((data_absen!$B$2:$B$2000=$A55)*(data_absen!$C$2:$C$2000=B$3)*(ROW(data_absen!$C$2:$C$2000)))-1)*1440,\"\")","v":""},null,null,{"$f":"IFERROR(INDEX(data_absen!$J$2:$J$2000,SUMPRODUCT((data_absen!$B$2:$B$2000=$A55)*(data_absen!$C$2:$C$2000=B$3)*(ROW(data_absen!$C$2:$C$2000)))-1)*1440,\"\")","v":""},{"$f":"IFERROR(INDEX(data_absen!$K$2:$K$2000,SUMPRODUCT((data_absen!$B$2:$B$2000=$A55)*(data_absen!$C$2:$C$2000=G$3)*(ROW(data_absen!$C$2:$C$2000)))-1)*1440,\"\")","v":""},{"$f":"IFERROR(INDEX(data_absen!$I$2:$I$2000,SUMPRODUCT((data_absen!$B$2:$B$2000=$A55)*(data_absen!$C$2:$C$2000=G$3)*(ROW(data_absen!$C$2:$C$2000)))-1)*1440,\"\")","v":""},null,null,{"$f":"IFERROR(INDEX(data_absen!$J$2:$J$2000,SUMPRODUCT((data_absen!$B$2:$B$2000=$A55)*(data_absen!$C$2:$C$2000=G$3)*(ROW(data_absen!$C$2:$C$2000)))-1)*1440,\"\")","v":""},{"$f":"IFERROR(INDEX(data_absen!$K$2:$K$2000,SUMPRODUCT((data_absen!$B$2:$B$2000=$A55)*(data_absen!$C$2:$C$2000=L$3)*(ROW(data_absen!$C$2:$C$2000)))-1)*1440,\"\")","v":""},{"$f":"IFERROR(INDEX(data_absen!$I$2:$I$2000,SUMPRODUCT((data_absen!$B$2:$B$2000=$A55)*(data_absen!$C$2:$C$2000=L$3)*(ROW(data_absen!$C$2:$C$2000)))-1)*1440,\"\")","v":""},null,null,{"$f":"IFERROR(INDEX(data_absen!$J$2:$J$2000,SUMPRODUCT((data_absen!$B$2:$B$2000=$A55)*(data_absen!$C$2:$C$2000=L$3)*(ROW(data_absen!$C$2:$C$2000)))-1)*1440,\"\")","v":""},{"$f":"IFERROR(INDEX(data_absen!$K$2:$K$2000,SUMPRODUCT((data_absen!$B$2:$B$2000=$A55)*(data_absen!$C$2:$C$2000=Q$3)*(ROW(data_absen!$C$2:$C$2000)))-1)*1440,\"\")","v":""},{"$f":"IFERROR(INDEX(data_absen!$I$2:$I$2000,SUMPRODUCT((data_absen!$B$2:$B$2000=$A55)*(data_absen!$C$2:$C$2000=Q$3)*(ROW(data_absen!$C$2:$C$2000)))-1)*1440,\"\")","v":""},null,null,{"$f":"IFERROR(INDEX(data_absen!$J$2:$J$2000,SUMPRODUCT((data_absen!$B$2:$B$2000=$A55)*(data_absen!$C$2:$C$2000=Q$3)*(ROW(data_absen!$C$2:$C$2000)))-1)*1440,\"\")","v":""},{"$f":"IFERROR(INDEX(data_absen!$K$2:$K$2000,SUMPRODUCT((data_absen!$B$2:$B$2000=$A55)*(data_absen!$C$2:$C$2000=V$3)*(ROW(data_absen!$C$2:$C$2000)))-1)*1440,\"\")","v":""},{"$f":"IFERROR(INDEX(data_absen!$I$2:$I$2000,SUMPRODUCT((data_absen!$B$2:$B$2000=$A55)*(data_absen!$C$2:$C$2000=V$3)*(ROW(data_absen!$C$2:$C$2000)))-1)*1440,\"\")","v":""},null,null,{"$f":"IFERROR(INDEX(data_absen!$J$2:$J$2000,SUMPRODUCT((data_absen!$B$2:$B$2000=$A55)*(data_absen!$C$2:$C$2000=V$3)*(ROW(data_absen!$C$2:$C$2000)))-1)*1440,\"\")","v":""},{"$f":"IFERROR(INDEX(data_absen!$K$2:$K$2000,SUMPRODUCT((data_absen!$B$2:$B$2000=$A55)*(data_absen!$C$2:$C$2000=AA$3)*(ROW(data_absen!$C$2:$C$2000)))-1)*1440,\"\")","v":""},{"$f":"IFERROR(INDEX(data_absen!$I$2:$I$2000,SUMPRODUCT((data_absen!$B$2:$B$2000=$A55)*(data_absen!$C$2:$C$2000=AA$3)*(ROW(data_absen!$C$2:$C$2000)))-1)*1440,\"\")","v":""},null,null,{"$f":"IFERROR(INDEX(data_absen!$J$2:$J$2000,SUMPRODUCT((data_absen!$B$2:$B$2000=$A55)*(data_absen!$C$2:$C$2000=AA$3)*(ROW(data_absen!$C$2:$C$2000)))-1)*1440,\"\")","v":""},{"$f":"IFERROR(INDEX(data_absen!$K$2:$K$2000,SUMPRODUCT((data_absen!$B$2:$B$2000=$A55)*(data_absen!$C$2:$C$2000=AF$3)*(ROW(data_absen!$C$2:$C$2000)))-1)*1440,\"\")","v":""},{"$f":"IFERROR(INDEX(data_absen!$I$2:$I$2000,SUMPRODUCT((data_absen!$B$2:$B$2000=$A55)*(data_absen!$C$2:$C$2000=AF$3)*(ROW(data_absen!$C$2:$C$2000)))-1)*1440,\"\")","v":""},null,null,{"$f":"IFERROR(INDEX(data_absen!$J$2:$J$2000,SUMPRODUCT((data_absen!$B$2:$B$2000=$A55)*(data_absen!$C$2:$C$2000=AF$3)*(ROW(data_absen!$C$2:$C$2000)))-1)*1440,\"\")","v":""},{"$f":"IFERROR(INDEX(data_absen!$K$2:$K$2000,SUMPRODUCT((data_absen!$B$2:$B$2000=$A55)*(data_absen!$C$2:$C$2000=AK$3)*(ROW(data_absen!$C$2:$C$2000)))-1)*1440,\"\")","v":""},{"$f":"IFERROR(INDEX(data_absen!$I$2:$I$2000,SUMPRODUCT((data_absen!$B$2:$B$2000=$A55)*(data_absen!$C$2:$C$2000=AK$3)*(ROW(data_absen!$C$2:$C$2000)))-1)*1440,\"\")","v":""},null,null,{"$f":"IFERROR(INDEX(data_absen!$J$2:$J$2000,SUMPRODUCT((data_absen!$B$2:$B$2000=$A55)*(data_absen!$C$2:$C$2000=AK$3)*(ROW(data_absen!$C$2:$C$2000)))-1)*1440,\"\")","v":""},{"$f":"IFERROR(INDEX(data_absen!$K$2:$K$2000,SUMPRODUCT((data_absen!$B$2:$B$2000=$A55)*(data_absen!$C$2:$C$2000=AP$3)*(ROW(data_absen!$C$2:$C$2000)))-1)*1440,\"\")","v":""},{"$f":"IFERROR(INDEX(data_absen!$I$2:$I$2000,SUMPRODUCT((data_absen!$B$2:$B$2000=$A55)*(data_absen!$C$2:$C$2000=AP$3)*(ROW(data_absen!$C$2:$C$2000)))-1)*1440,\"\")","v":""},null,null,{"$f":"IFERROR(INDEX(data_absen!$J$2:$J$2000,SUMPRODUCT((data_absen!$B$2:$B$2000=$A55)*(data_absen!$C$2:$C$2000=AP$3)*(ROW(data_absen!$C$2:$C$2000)))-1)*1440,\"\")","v":""},{"$f":"IFERROR(INDEX(data_absen!$K$2:$K$2000,SUMPRODUCT((data_absen!$B$2:$B$2000=$A55)*(data_absen!$C$2:$C$2000=AU$3)*(ROW(data_absen!$C$2:$C$2000)))-1)*1440,\"\")","v":""},{"$f":"IFERROR(INDEX(data_absen!$I$2:$I$2000,SUMPRODUCT((data_absen!$B$2:$B$2000=$A55)*(data_absen!$C$2:$C$2000=AU$3)*(ROW(data_absen!$C$2:$C$2000)))-1)*1440,\"\")","v":""},null,null,{"$f":"IFERROR(INDEX(data_absen!$J$2:$J$2000,SUMPRODUCT((data_absen!$B$2:$B$2000=$A55)*(data_absen!$C$2:$C$2000=AU$3)*(ROW(data_absen!$C$2:$C$2000)))-1)*1440,\"\")","v":""},{"$f":"IFERROR(INDEX(data_absen!$K$2:$K$2000,SUMPRODUCT((data_absen!$B$2:$B$2000=$A55)*(data_absen!$C$2:$C$2000=AZ$3)*(ROW(data_absen!$C$2:$C$2000)))-1)*1440,\"\")","v":""},{"$f":"IFERROR(INDEX(data_absen!$I$2:$I$2000,SUMPRODUCT((data_absen!$B$2:$B$2000=$A55)*(data_absen!$C$2:$C$2000=AZ$3)*(ROW(data_absen!$C$2:$C$2000)))-1)*1440,\"\")","v":""},null,null,{"$f":"IFERROR(INDEX(data_absen!$J$2:$J$2000,SUMPRODUCT((data_absen!$B$2:$B$2000=$A55)*(data_absen!$C$2:$C$2000=AZ$3)*(ROW(data_absen!$C$2:$C$2000)))-1)*1440,\"\")","v":""},{"$f":"IFERROR(INDEX(data_absen!$K$2:$K$2000,SUMPRODUCT((data_absen!$B$2:$B$2000=$A55)*(data_absen!$C$2:$C$2000=BE$3)*(ROW(data_absen!$C$2:$C$2000)))-1)*1440,\"\")","v":""},{"$f":"IFERROR(INDEX(data_absen!$I$2:$I$2000,SUMPRODUCT((data_absen!$B$2:$B$2000=$A55)*(data_absen!$C$2:$C$2000=BE$3)*(ROW(data_absen!$C$2:$C$2000)))-1)*1440,\"\")","v":""},null,null,{"$f":"IFERROR(INDEX(data_absen!$J$2:$J$2000,SUMPRODUCT((data_absen!$B$2:$B$2000=$A55)*(data_absen!$C$2:$C$2000=BE$3)*(ROW(data_absen!$C$2:$C$2000)))-1)*1440,\"\")","v":""},{"$f":"IFERROR(INDEX(data_absen!$K$2:$K$2000,SUMPRODUCT((data_absen!$B$2:$B$2000=$A55)*(data_absen!$C$2:$C$2000=BJ$3)*(ROW(data_absen!$C$2:$C$2000)))-1)*1440,\"\")","v":""},{"$f":"IFERROR(INDEX(data_absen!$I$2:$I$2000,SUMPRODUCT((data_absen!$B$2:$B$2000=$A55)*(data_absen!$C$2:$C$2000=BJ$3)*(ROW(data_absen!$C$2:$C$2000)))-1)*1440,\"\")","v":""},null,null,{"$f":"IFERROR(INDEX(data_absen!$J$2:$J$2000,SUMPRODUCT((data_absen!$B$2:$B$2000=$A55)*(data_absen!$C$2:$C$2000=BJ$3)*(ROW(data_absen!$C$2:$C$2000)))-1)*1440,\"\")","v":""},{"$f":"IFERROR(INDEX(data_absen!$K$2:$K$2000,SUMPRODUCT((data_absen!$B$2:$B$2000=$A55)*(data_absen!$C$2:$C$2000=BO$3)*(ROW(data_absen!$C$2:$C$2000)))-1)*1440,\"\")","v":""},{"$f":"IFERROR(INDEX(data_absen!$I$2:$I$2000,SUMPRODUCT((data_absen!$B$2:$B$2000=$A55)*(data_absen!$C$2:$C$2000=BO$3)*(ROW(data_absen!$C$2:$C$2000)))-1)*1440,\"\")","v":""},null,null,{"$f":"IFERROR(INDEX(data_absen!$J$2:$J$2000,SUMPRODUCT((data_absen!$B$2:$B$2000=$A55)*(data_absen!$C$2:$C$2000=BO$3)*(ROW(data_absen!$C$2:$C$2000)))-1)*1440,\"\")","v":""},{"$f":"COUNTIFS(data_absen!$B$2:$B$2000,$A55,data_absen!$I$2:$I$2000,\">0\")","v":0}]
["Erna",{"$f":"INDEX(data_absen!$G$2:$G$2000,SUMPRODUCT((data_absen!$B$2:$B$2000=$A58)*(data_absen!$C$2:$C$2000=B$3)*(ROW(data_absen!$C$2:$C$2000)))-1)","v":""},null,"-",{"$f":"INDEX(data_absen!$H$2:$H$2000,SUMPRODUCT((data_absen!$B$2:$B$2000=$A58)*(data_absen!$C$2:$C$2000=B$3)*(ROW(data_absen!$C$2:$C$2000)))-1)","v":""},null,{"$f":"INDEX(data_absen!$G$2:$G$2000,SUMPRODUCT((data_absen!$B$2:$B$2000=$A58)*(data_absen!$C$2:$C$2000=G$3)*(ROW(data_absen!$C$2:$C$2000)))-1)","v":""},null,"-",{"$f":"INDEX(data_absen!$H$2:$H$2000,SUMPRODUCT((data_absen!$B$2:$B$2000=$A58)*(data_absen!$C$2:$C$2000=G$3)*(ROW(data_absen!$C$2:$C$2000)))-1)","v":""},null,{"$f":"INDEX(data_absen!$G$2:$G$2000,SUMPRODUCT((data_absen!$B$2:$B$2000=$A58)*(data_absen!$C$2:$C$2000=L$3)*(ROW(data_absen!$C$2:$C$2000)))-1)","v":""},null,"-",{"$f":"INDEX(data_absen!$H$2:$H$2000,SUMPRODUCT((data_absen!$B$2:$B$2000=$A58)*(data_absen!$C$2:$C$2000=L$3)*(ROW(data_absen!$C$2:$C$2000)))-1)","v":""},null,{"$f":"INDEX(data_absen!$G$2:$G$2000,SUMPRODUCT((data_absen!$B$2:$B$2000=$A58)*(data_absen!$C$2:$C$2000=Q$3)*(ROW(data_absen!$C$2:$C$2000)))-1)","v":""},null,"-",{"$f":"INDEX(data_absen!$H$2:$H$2000,SUMPRODUCT((data_absen!$B$2:$B$2000=$A58)*(data_absen!$C$2:$C$2000=Q$3)*(ROW(data_absen!$C$2:$C$2000)))-1)","v":""},null,{"$f":"INDEX(data_absen!$G$2:$G$2000,SUMPRODUCT((data_absen!$B$2:$B$2000=$A58)*(data_absen!$C$2:$C$2000=V$3)*(ROW(data_absen!$C$2:$C$2000)))-1)","v":""},null,"-",{"$f":"INDEX(data_absen!$H$2:$H$2000,SUMPRODUCT((data_absen!$B$2:$B$2000=$A58)*(data_absen!$C$2:$C$2000=V$3)*(ROW(data_absen!$C$2:$C$2000)))-1)","v":""},null,{"$f":"INDEX(data_absen!$G$2:$G$2000,SUMPRODUCT((data_absen!$B$2:$B$2000=$A58)*(data_absen!$C$2:$C$2000=AA$3)*(ROW(data_absen!$C$2:$C$2000)))-1)","v":""},null,"-",{"$f":"INDEX(data_absen!$H$2:$H$2000,SUMPRODUCT((data_absen!$B$2:$B$2000=$A58)*(data_absen!$C$2:$C$2000=AA$3)*(ROW(data_absen!$C$2:$C$2000)))-1)","v":""},null,{"$f":"INDEX(data_absen!$G$2:$G$2000,SUMPRODUCT((data_absen!$B$2:$B$2000=$A58)*(data_absen!$C$2:$C$2000=AF$3)*(ROW(data_absen!$C$2:$C$2000)))-1)","v":""},null,"-",{"$f":"INDEX(data_absen!$H$2:$H$2000,SUMPRODUCT((data_absen!$B$2:$B$2000=$A58)*(data_absen!$C$2:$C$2000=AF$3)*(ROW(data_absen!$C$2:$C$2000)))-1)","v":""},null,{"$f":"INDEX(data_absen!$G$2:$G$2000,SUMPRODUCT((data_absen!$B$2:$B$2000=$A58)*(data_absen!$C$2:$C$2000=AK$3)*(ROW(data_absen!$C$2:$C$2000)))-1)","v":""},null,"-",{"$f":"INDEX(data_absen!$H$2:$H$2000,SUMPRODUCT((data_absen!$B$2:$B$2000=$A58)*(data_absen!$C$2:$C$2000=AK$3)*(ROW(data_absen!$C$2:$C$2000)))-1)","v":""},null,{"$f":"INDEX(data_absen!$G$2:$G$2000,SUMPRODUCT((data_absen!$B$2:$B$2000=$A58)*(data_absen!$C$2:$C$2000=AP$3)*(ROW(data_absen!$C$2:$C$2000)))-1)","v":""},null,"-",{"$f":"INDEX(data_absen!$H$2:$H$2000,SUMPRODUCT((data_absen!$B$2:$B$2000=$A58)*(data_absen!$C$2:$C$2000=AP$3)*(ROW(data_absen!$C$2:$C$2000)))-1)","v":""},null,{"$f":"INDEX(data_absen!$G$2:$G$2000,SUMPRODUCT((data_absen!$B$2:$B$2000=$A58)*(data_absen!$C$2:$C$2000=AU$3)*(ROW(data_absen!$C$2:$C$2000)))-1)","v":""},null,"-",{"$f":"INDEX(data_absen!$H$2:$H$2000,SUMPRODUCT((data_absen!$B$2:$B$2000=$A58)*(data_absen!$C$2:$C$2000=AU$3)*(ROW(data_absen!$C$2:$C$2000)))-1)","v":""},null,{"$f":"INDEX(data_absen!$G$2:$G$2000,SUMPRODUCT((data_absen!$B$2:$B$2000=$A58)*(data_absen!$C$2:$C$2000=AZ$3)*(ROW(data_absen!$C$2:$C$2000)))-1)","v":""},null,"-",{"$f":"INDEX(data_absen!$H$2:$H$2000,SUMPRODUCT((data_absen!$B$2:$B$2000=$A58)*(data_absen!$C$2:$C$2000=AZ$3)*(ROW(data_absen!$C$2:$C$2000)))-1)","v":""},null,{"$f":"INDEX(data_absen!$G$2:$G$2000,SUMPRODUCT((data_absen!$B$2:$B$2000=$A58)*(data_absen!$C$2:$C$2000=BE$3)*(ROW(data_absen!$C$2:$C$2000)))-1)","v":""},null,"-",{"$f":"INDEX(data_absen!$H$2:$H$2000,SUMPRODUCT((data_absen!$B$2:$B$2000=$A58)*(data_absen!$C$2:$C$2000=BE$3)*(ROW(data_absen!$C$2:$C$2000)))-1)","v":""},null,{"$f":"INDEX(data_absen!$G$2:$G$2000,SUMPRODUCT((data_absen!$B$2:$B$2000=$A58)*(data_absen!$C$2:$C$2000=BJ$3)*(ROW(data_absen!$C$2:$C$2000)))-1)","v":""},null,"-",{"$f":"INDEX(data_absen!$H$2:$H$2000,SUMPRODUCT((data_absen!$B$2:$B$2000=$A58)*(data_absen!$C$2:$C$2000=BJ$3)*(ROW(data_absen!$C$2:$C$2000)))-1)","v":""},null,{"$f":"INDEX(data_absen!$G$2:$G$2000,SUMPRODUCT((data_absen!$B$2:$B$2000=$A58)*(data_absen!$C$2:$C$2000=BO$3)*(ROW(data_absen!$C$2:$C$2000)))-1)","v":""},null,"-",{"$f":"INDEX(data_absen!$H$2:$H$2000,SUMPRODUCT((data_absen!$B$2:$B$2000=$A58)*(data_absen!$C$2:$C$2000=BO$3)*(ROW(data_absen!$C$2:$C$2000)))-1)","v":""}]
[314,null,null,"-",null,null,null,null,"-",null,null,null,null,"-",null,null,null,null,"-",null,null,null,null,"-",null,null,null,null,"-",null,null,null,null,"-",null,null,null,null,"-",null,null,null,null,"-",null,null,null,null,"-",null,null,null,null,"-",null,null,null,null,"-",null,null,null,null,"-",null,null,null,null,"-"]
[null,{"$f":"IFERROR(INDEX(data_absen!$K$2:$K$2000,SUMPRODUCT((data_absen!$B$2:$B$2000=$A58)*(data_absen!$C$2:$C$2000=B$3)*(ROW(data_absen!$C$2:$C$2000)))-1)*1440,\"\")","v":""},{"$f":"IFERROR(INDEX(data_absen!$I$2:$I$2000,SUMPRODUCT((data_absen!$B$2:$B$2000=$A58)*(data_absen!$C$2:$C$2000=B$3)*(ROW(data_absen!$C$2:$C$2000)))-1)*1440,\"\")","v":""},null,null,{"$f":"IFERROR(INDEX(data_absen!$J$2:$J$2000,SUMPRODUCT((data_absen!$B$2:$B$2000=$A58)*(data_absen!$C$2:$C$2000=B$3)*(ROW(data_absen!$C$2:$C$2000)))-1)*1440,\"\")","v":""},{"$f":"IFERROR(INDEX(data_absen!$K$2:$K$2000,SUMPRODUCT((data_absen!$B$2:$B$2000=$A58)*(data_absen!$C$2:$C$2000=G$3)*(ROW(data_absen!$C$2:$C$2000)))-1)*1440,\"\")","v":""},{"$f":"IFERROR(INDEX(data_absen!$I$2:$I$2000,SUMPRODUCT((data_absen!$B$2:$B$2000=$A58)*(data_absen!$C$2:$C$2000=G$3)*(ROW(data_absen!$C$2:$C$2000)))-1)*1440,\"\")","v":""},null,null,{"$f":"IFERROR(INDEX(data_absen!$J$2:$J$2000,SUMPRODUCT((data_absen!$B$2:$B$2000=$A58)*(data_absen!$C$2:$C$2000=G$3)*(ROW(data_absen!$C$2:$C$2000)))-1)*1440,\"\")","v":""},{"$f":"IFERROR(INDEX(data_absen!$K$2:$K$2000,SUMPRODUCT((data_absen!$B$2:$B$2000=$A58)*(data_absen!$C$2:$C$2000=L$3)*(ROW(data_absen!$C$2:$C$2000)))-1)*1440,\"\")","v":""},{"$f":"IFERROR(INDEX(data_absen!$I$2:$I$2000,SUMPRODUCT((data_absen!$B$2:$B$2000=$A58)*(data_absen!$C$2:$C$2000=L$3)*(ROW(data_absen!$C$2:$C$2000)))-1)*1440,\"\")","v":""},null,null,{"$f":"IFERROR(INDEX(data_absen!$J$2:$J$2000,SUMPRODUCT((data_absen!$B$2:$B$2000=$A58)*(data_absen!$C$2:$C$2000=L$3)*(ROW(data_absen!$C$2:$C$2000)))-1)*1440,\"\")","v":""},{"$f":"IFERROR(INDEX(data_absen!$K$2:$K$2000,SUMPRODUCT((data_absen!$B$2:$B$2000=$A58)*(data_absen!$C$2:$C$2000=Q$3)*(ROW(data_absen!$C$2:$C$2000)))-1)*1440,\"\")","v":""},{"$f":"IFERROR(INDEX(data_absen!$I$2:$I$2000,SUMPRODUCT((data_absen!$B$2:$B$2000=$A58)*(data_absen!$C$2:$C$2000=Q$3)*(ROW(data_absen!$C$2:$C$2000)))-1)*1440,\"\")","v":""},null,null,{"$f":"IFERROR(INDEX(data_absen!$J$2:$J$2000,SUMPRODUCT((data_absen!$B$2:$B$2000=$A58)*(data_absen!$C$2:$C$2000=Q$3)*(ROW(data_absen!$C$2:$C$2000)))-1)*1440,\"\")","v":""},{"$f":"IFERROR(INDEX(data_absen!$K$2:$K$2000,SUMPRODUCT((data_absen!$B$2:$B$2000=$A58)*(data_absen!$C$2:$C$2000=V$3)*(ROW(data_absen!$C$2:$C$2000)))-1)*1440,\"\")","v":""},{"$f":"IFERROR(INDEX(data_absen!$I$2:$I$2000,SUMPRODUCT((data_absen!$B$2:$B$2000=$A58)*(data_absen!$C$2:$C$2000=V$3)*(ROW(data_absen!$C$2:$C$2000)))-1)*1440,\"\")","v":""},null,null,{"$f":"IFERROR(INDEX(data_absen!$J$2:$J$2000,SUMPRODUCT((data_absen!$B$2:$B$2000=$A58)*(data_absen!$C$2:$C$2000=V$3)*(ROW(data_absen!$C$2:$C$2000)))-1)*1440,\"\")","v":""},{"$f":"IFERROR(INDEX(data_absen!$K$2:$K$2000,SUMPRODUCT((data_absen!$B$2:$B$2000=$A58)*(data_absen!$C$2:$C$2000=AA$3)*(ROW(data_absen!$C$2:$C$2000)))-1)*1440,\"\")","v":""},{"$f":"IFERROR(INDEX(data_absen!$I$2:$I$2000,SUMPRODUCT((data_absen!$B$2:$B$2000=$A58)*(data_absen!$C$2:$C$2000=AA$3)*(ROW(data_absen!$C$2:$C$2000)))-1)*1440,\"\")","v":""},null,null,{"$f":"IFERROR(INDEX(data_absen!$J$2:$J$2000,SUMPRODUCT((data_absen!$B$2:$B$2000=$A58)*(data_absen!$C$2:$C$2000=AA$3)*(ROW(data_absen!$C$2:$C$2000)))-1)*1440,\"\")","v":""},{"$f":"IFERROR(INDEX(data_absen!$K$2:$K$2000,SUMPRODUCT((data_absen!$B$2:$B$2000=$A58)*(data_absen!$C$2:$C$2000=AF$3)*(ROW(data_absen!$C$2:$C$2000)))-1)*1440,\"\")","v":""},{"$f":"IFERROR(INDEX(data_absen!$I$2:$I$2000,SUMPRODUCT((data_absen!$B$2:$B$2000=$A58)*(data_absen!$C$2:$C$2000=AF$3)*(ROW(data_absen!$C$2:$C$2000)))-1)*1440,\"\")","v":""},null,null,{"$f":"IFERROR(INDEX(data_absen!$J$2:$J$2000,SUMPRODUCT((data_absen!$B$2:$B$2000=$A58)*(data_absen!$C$2:$C$2000=AF$3)*(ROW(data_absen!$C$2:$C$2000)))-1)*1440,\"\")","v":""},{"$f":"IFERROR(INDEX(data_absen!$K$2:$K$2000,SUMPRODUCT((data_absen!$B$2:$B$2000=$A58)*(data_absen!$C$2:$C$2000=AK$3)*(ROW(data_absen!$C$2:$C$2000)))-1)*1440,\"\")","v":""},{"$f":"IFERROR(INDEX(data_absen!$I$2:$I$2000,SUMPRODUCT((data_absen!$B$2:$B$2000=$A58)*(data_absen!$C$2:$C$2000=AK$3)*(ROW(data_absen!$C$2:$C$2000)))-1)*1440,\"\")","v":""},null,null,{"$f":"IFERROR(INDEX(data_absen!$J$2:$J$2000,SUMPRODUCT((data_absen!$B$2:$B$2000=$A58)*(data_absen!$C$2:$C$2000=AK$3)*(ROW(data_absen!$C$2:$C$2000)))-1)*1440,\"\")","v":""},{"$f":"IFERROR(INDEX(data_absen!$K$2:$K$2000,SUMPRODUCT((data_absen!$B$2:$B$2000=$A58)*(data_absen!$C$2:$C$2000=AP$3)*(ROW(data_absen!$C$2:$C$2000)))-1)*1440,\"\")","v":""},{"$f":"IFERROR(INDEX(data_absen!$I$2:$I$2000,SUMPRODUCT((data_absen!$B$2:$B$2000=$A58)*(data_absen!$C$2:$C$2000=AP$3)*(ROW(data_absen!$C$2:$C$2000)))-1)*1440,\"\")","v":""},null,null,{"$f":"IFERROR(INDEX(data_absen!$J$2:$J$2000,SUMPRODUCT((data_absen!$B$2:$B$2000=$A58)*(data_absen!$C$2:$C$2000=AP$3)*(ROW(data_absen!$C$2:$C$2000)))-1)*1440,\"\")","v":""},{"$f":"IFERROR(INDEX(data_absen!$K$2:$K$2000,SUMPRODUCT((data_absen!$B$2:$B$2000=$A58)*(data_absen!$C$2:$C$2000=AU$3)*(ROW(data_absen!$C$2:$C$2000)))-1)*1440,\"\")","v":""},{"$f":"IFERROR(INDEX(data_absen!$I$2:$I$2000,SUMPRODUCT((data_absen!$B$2:$B$2000=$A58)*(data_absen!$C$2:$C$2000=AU$3)*(ROW(data_absen!$C$2:$C$2000)))-1)*1440,\"\")","v":""},null,null,{"$f":"IFERROR(INDEX(data_absen!$J$2:$J$2000,SUMPRODUCT((data_absen!$B$2:$B$2000=$A58)*(data_absen!$C$2:$C$2000=AU$3)*(ROW(data_absen!$C$2:$C$2000)))-1)*1440,\"\")","v":""},{"$f":"IFERROR(INDEX(data_absen!$K$2:$K$2000,SUMPRODUCT((data_absen!$B$2:$B$2000=$A58)*(data_absen!$C$2:$C$2000=AZ$3)*(ROW(data_absen!$C$2:$C$2000)))-1)*1440,\"\")","v":""},{"$f":"IFERROR(INDEX(data_absen!$I$2:$I$2000,SUMPRODUCT((data_absen!$B$2:$B$2000=$A58)*(data_absen!$C$2:$C$2000=AZ$3)*(ROW(data_absen!$C$2:$C$2000)))-1)*1440,\"\")","v":""},null,null,{"$f":"IFERROR(INDEX(data_absen!$J$2:$J$2000,SUMPRODUCT((data_absen!$B$2:$B$2000=$A58)*(data_absen!$C$2:$C$2000=AZ$3)*(ROW(data_absen!$C$2:$C$2000)))-1)*1440,\"\")","v":""},{"$f":"IFERROR(INDEX(data_absen!$K$2:$K$2000,SUMPRODUCT((data_absen!$B$2:$B$2000=$A58)*(data_absen!$C$2:$C$2000=BE$3)*(ROW(data_absen!$C$2:$C$2000)))-1)*1440,\"\")","v":""},{"$f":"IFERROR(INDEX(data_absen!$I$2:$I$2000,SUMPRODUCT((data_absen!$B$2:$B$2000=$A58)*(data_absen!$C$2:$C$2000=BE$3)*(ROW(data_absen!$C$2:$C$2000)))-1)*1440,\"\")","v":""},null,null,{"$f":"IFERROR(INDEX(data_absen!$J$2:$J$2000,SUMPRODUCT((data_absen!$B$2:$B$2000=$A58)*(data_absen!$C$2:$C$2000=BE$3)*(ROW(data_absen!$C$2:$C$2000)))-1)*1440,\"\")","v":""},{"$f":"IFERROR(INDEX(data_absen!$K$2:$K$2000,SUMPRODUCT((data_absen!$B$2:$B$2000=$A58)*(data_absen!$C$2:$C$2000=BJ$3)*(ROW(data_absen!$C$2:$C$2000)))-1)*1440,\"\")","v":""},{"$f":"IFERROR(INDEX(data_absen!$I$2:$I$2000,SUMPRODUCT((data_absen!$B$2:$B$2000=$A58)*(data_absen!$C$2:$C$2000=BJ$3)*(ROW(data_absen!$C$2:$C$2000)))-1)*1440,\"\")","v":""},null,null,{"$f":"IFERROR(INDEX(data_absen!$J$2:$J$2000,SUMPRODUCT((data_absen!$B$2:$B$2000=$A58)*(data_absen!$C$2:$C$2000=BJ$3)*(ROW(data_absen!$C$2:$C$2000)))-1)*1440,\"\")","v":""},{"$f":"IFERROR(INDEX(data_absen!$K$2:$K$2000,SUMPRODUCT((data_absen!$B$2:$B$2000=$A58)*(data_absen!$C$2:$C$2000=BO$3)*(ROW(data_absen!$C$2:$C$2000)))-1)*1440,\"\")","v":""},{"$f":"IFERROR(INDEX(data_absen!$I$2:$I$2000,SUMPRODUCT((data_absen!$B$2:$B$2000=$A58)*(data_absen!$C$2:$C$2000=BO$3)*(ROW(data_absen!$C$2:$C$2000)))-1)*1440,\"\")","v":""},null,null,{"$f":"IFERROR(INDEX(data_absen!$J$2:$J$2000,SUMPRODUCT((data_absen!$B$2:$B$2000=$A58)*(data_absen!$C$2:$C$2000=BO$3)*(ROW(data_absen!$C$2:$C$2000)))-1)*1440,\"\")","v":""},{"$f":"COUNTIFS(data_absen!$B$2:$B$2000,$A58,data_absen!$I$2:$I$2000,\">0\")","v":2}]
["Khoir",{"$f":"INDEX(data_absen!$G$2:$G$2000,SUMPRODUCT((data_absen!$B$2:$B$2000=$A61)*(data_absen!$C$2:$C$2000=B$3)*(ROW(data_absen!$C$2:$C$2000)))-1)","v":"06:44:00"},null,"-",{"$f":"INDEX(data_absen!$H$2:$H$2000,SUMPRODUCT((data_absen!$B$2:$B$2000=$A61)*(data_absen!$C$2:$C$2000=B$3)*(ROW(data_absen!$C$2:$C$2000)))-1)","v":"15:08:00"},null,{"$f":"INDEX(data_absen!$G$2:$G$2000,SUMPRODUCT((data_absen!$B$2:$B$2000=$A61)*(data_absen!$C$2:$C$2000=G$3)*(ROW(data_absen!$C$2:$C$2000)))-1)","v":"06:42:00"},null,"-",{"$f":"INDEX(data_absen!$H$2:$H$2000,SUMPRODUCT((data_absen!$B$2:$B$2000=$A61)*(data_absen!$C$2:$C$2000=G$3)*(ROW(data_absen!$C$2:$C$2000)))-1)","v":""},null,{"$f":"INDEX(data_absen!$G$2:$G$2000,SUMPRODUCT((data_absen!$B$2:$B$2000=$A61)*(data_absen!$C$2:$C$2000=L$3)*(ROW(data_absen!$C$2:$C$2000)))-1)","v":""},null,"-",{"$f":"INDEX(data_absen!$H$2:$H$2000,SUMPRODUCT((data_absen!$B$2:$B$2000=$A61)*(data_absen!$C$2:$C$2000=L$3)*(ROW(data_absen!$C$2:$C$2000)))-1)","v":""},null,{"$f":"INDEX(data_absen!$G$2:$G$2000,SUMPRODUCT((data_absen!$B$2:$B$2000=$A61)*(data_absen!$C$2:$C$2000=Q$3)*(ROW(data_absen!$C$2:$C$2000)))-1)","v":""},null,"-",{"$f":"INDEX(data_absen!$H$2:$H$2000,SUMPRODUCT((data_absen!$B$2:$B$2000=$A61)*(data_absen!$C$2:$C$2000=Q$3)*(ROW(data_absen!$C$2:$C$2000)))-1)","v":""},null,{"$f":"INDEX(data_absen!$G$2:$G$2000,SUMPRODUCT((data_absen!$B$2:$B$2000=$A61)*(data_absen!$C$2:$C$2000=V$3)*(ROW(data_absen!$C$2:$C$2000)))-1)","v":""},null,"-",{"$f":"INDEX(data_absen!$H$2:$H$2000,SUMPRODUCT((data_absen!$B$2:$B$2000=$A61)*(data_absen!$C$2:$C$2000=V$3)*(ROW(data_absen!$C$2:$C$2000)))-1)","v":""},null,{"$f":"INDEX(data_absen!$G$2:$G$2000,SUMPRODUCT((data_absen!$B$2:$B$2000=$A61)*(data_absen!$C$2:$C$2000=AA$3)*(ROW(data_absen!$C$2:$C$2000)))-1)","v":""},null,"-",{"$f":"INDEX(data_absen!$H$2:$H$2000,SUMPRODUCT((data_absen!$B$2:$B$2000=$A61)*(data_absen!$C$2:$C$2000=AA$3)*(ROW(data_absen!$C$2:$C$2000)))-1)","v":""},null,{"$f":"INDEX(data_absen!$G$2:$G$2000,SUMPRODUCT((data_absen!$B$2:$B$2000=$A61)*(data_absen!$C$2:$C$2000=AF$3)*(ROW(data_absen!$C$2:$C$2000)))-1)","v":""},null,"-",{"$f":"INDEX(data_absen!$H$2:$H$2000,SUMPRODUCT((data_absen!$B$2:$B$2000=$A61)*(data_absen!$C$2:$C$2000=AF$3)*(ROW(data_absen!$C$2:$C$2000)))-1)","v":""},null,{"$f":"INDEX(data_absen!$G$2:$G$2000,SUMPRODUCT((data_absen!$B$2:$B$2000=$A61)*(data_absen!$C$2:$C$2000=AK$3)*(ROW(data_absen!$C$2:$C$2000)))-1)","v":""},null,"-",{"$f":"INDEX(data_absen!$H$2:$H$2000,SUMPRODUCT((data_absen!$B$2:$B$2000=$A61)*(data_absen!$C$2:$C$2000=AK$3)*(ROW(data_absen!$C$2:$C$2000)))-1)","v":""},null,{"$f":"INDEX(data_absen!$G$2:$G$2000,SUMPRODUCT((data_absen!$B$2:$B$2000=$A61)*(data_absen!$C$2:$C$2000=AP$3)*(ROW(data_absen!$C$2:$C$2000)))-1)","v":""},null,"-",{"$f":"INDEX(data_absen!$H$2:$H$2000,SUMPRODUCT((data_absen!$B$2:$B$2000=$A61)*(data_absen!$C$2:$C$2000=AP$3)*(ROW(data_absen!$C$2:$C$2000)))-1)","v":""},null,{"$f":"INDEX(data_absen!$G$2:$G$2000,SUMPRODUCT((data_absen!$B$2:$B$2000=$A61)*(data_absen!$C$2:$C$2000=AU$3)*(ROW(data_absen!$C$2:$C$2000)))-1)","v":""},null,"-",{"$f":"INDEX(data_absen!$H$2:$H$2000,SUMPRODUCT((data_absen!$B$2:$B$2000=$A61)*(data_absen!$C$2:$C$2000=AU$3)*(ROW(data_absen!$C$2:$C$2000)))-1)","v":""},null,{"$f":"INDEX(data_absen!$G$2:$G$2000,SUMPRODUCT((data_absen!$B$2:$B$2000=$A61)*(data_absen!$C$2:$C$2000=AZ$3)*(ROW(data_absen!$C$2:$C$2000)))-1)","v":""},null,"-",{"$f":"INDEX(data_absen!$H$2:$H$2000,SUMPRODUCT((data_absen!$B$2:$B$2000=$A61)*(data_absen!$C$2:$C$2000=AZ$3)*(ROW(data_absen!$C$2:$C$2000)))-1)","v":""},null,{"$f":"INDEX(data_absen!$G$2:$G$2000,SUMPRODUCT((data_absen!$B$2:$B$2000=$A61)*(data_absen!$C$2:$C$2000=BE$3)*(ROW(data_absen!$C$2:$C$2000)))-1)","v":""},null,"-",{"$f":"INDEX(data_absen!$H$2:$H$2000,SUMPRODUCT((data_absen!$B$2:$B$2000=$A61)*(data_absen!$C$2:$C$2000=BE$3)*(ROW(data_absen!$C$2:$C$2000)))-1)","v":""},null,{"$f":"INDEX(data_absen!$G$2:$G$2000,SUMPRODUCT((data_absen!$B$2:$B$2000=$A61)*(data_absen!$C$2:$C$2000=BJ$3)*(ROW(data_absen!$C$2:$C$2000)))-1)","v":""},null,"-",{"$f":"INDEX(data_absen!$H$2:$H$2000,SUMPRODUCT((data_absen!$B$2:$B$2000=$A61)*(data_absen!$C$2:$C$2000=BJ$3)*(ROW(data_absen!$C$2:$C$2000)))-1)","v":""},null,{"$f":"INDEX(data_absen!$G$2:$G$2000,SUMPRODUCT((data_absen!$B$2:$B$2000=$A61)*(data_absen!$C$2:$C$2000=BO$3)*(ROW(data_absen!$C$2:$C$2000)))-1)","v":""},null,"-",{"$f":"INDEX(data_absen!$H$2:$H$2000,SUMPRODUCT((data_absen!$B$2:$B$2000=$A61)*(data_absen!$C$2:$C$2000=BO$3)*(ROW(data_absen!$C$2:$C$2000)))-1)","v":""}]
[316,null,null,"-",null,null,null,null,"-",null,null,null,null,"-",null,null,null,null,"-",null,null,null,null,"-",null,null,null,null,"-",null,null,null,null,"-",null,null,null,null,"-",null,null,null,null,"-",null,null,null,null,"-",null,null,null,null,"-",null,null,null,null,"-",null,null,null,null,"-",null,null,null,null,"-"]
[null,{"$f":"IFERROR(INDEX(data_absen!$K$2:$K$2000,SUMPRODUCT((data_absen!$B$2:$B$2000=$A61)*(data_absen!$C$2:$C$2000=B$3)*(ROW(data_absen!$C$2:$C$2000)))-1)*1440,\"\")","v":""},{"$f":"IFERROR(INDEX(data_absen!$I$2:$I$2000,SUMPRODUCT((data_absen!$B$2:$B$2000=$A61)*(data_absen!$C$2:$C$2000=B$3)*(ROW(data_absen!$C$2:$C$2000)))-1)*1440,\"\")","v":""},null,null,{"$f":"IFERROR(INDEX(data_absen!$J$2:$J$2000,SUMPRODUCT((data_absen!$B$2:$B$2000=$A61)*(data_absen!$C$2:$C$2000=B$3)*(ROW(data_absen!$C$2:$C$2000)))-1)*1440,\"\")","v":112},{"$f":"IFERROR(INDEX(data_absen!$K$2:$K$2000,SUMPRODUCT((data_absen!$B$2:$B$2000=$A61)*(data_absen!$C$2:$C$2000=G$3)*(ROW(data_absen!$C$2:$C$2000)))-1)*1440,\"\")","v":""},{"$f":"IFERROR(INDEX(data_absen!$I$2:$I$2000,SUMPRODUCT((data_absen!$B$2:$B$2000=$A61)*(data_absen!$C$2:$C$2000=G$3)*(ROW(data_absen!$C$2:$C$2000)))-1)*1440,\"\")","v":""},null,null,{"$f":"IFERROR(INDEX(data_absen!$J$2:$J$2000,SUMPRODUCT((data_absen!$B$2:$B$2000=$A61)*(data_absen!$C$2:$C$2000=G$3)*(ROW(data_absen!$C$2:$C$2000)))-1)*1440,\"\")","v":120},{"$f":"IFERROR(INDEX(data_absen!$K$2:$K$2000,SUMPRODUCT((data_absen!$B$2:$B$2000=$A61)*(data_absen!$C$2:$C$2000=L$3)*(ROW(data_absen!$C$2:$C$2000)))-1)*1440,\"\")","v":""},{"$f":"IFERROR(INDEX(data_absen!$I$2:$I$2000,SUMPRODUCT((data_absen!$B$2:$B$2000=$A61)*(data_absen!$C$2:$C$2000=L$3)*(ROW(data_absen!$C$2:$C$2000)))-1)*1440,\"\")","v":""},null,null,{"$f":"IFERROR(INDEX(data_absen!$J$2:$J$2000,SUMPRODUCT((data_absen!$B$2:$B$2000=$A61)*(data_absen!$C$2:$C$2000=L$3)*(ROW(data_absen!$C$2:$C$2000)))-1)*1440,\"\")","v":""},{"$f":"IFERROR(INDEX(data_absen!$K$2:$K$2000,SUMPRODUCT((data_absen!$B$2:$B$2000=$A61)*(data_absen!$C$2:$C$2000=Q$3)*(ROW(data_absen!$C$2:$C$2000)))-1)*1440,\"\")","v":""},{"$f":"IFERROR(INDEX(data_absen!$I$2:$I$2000,SUMPRODUCT((data_absen!$B$2:$B$2000=$A61)*(data_absen!$C$2:$C$2000=Q$3)*(ROW(data_absen!$C$2:$C$2000)))-1)*1440,\"\")","v":""},null,null,{"$f":"IFERROR(INDEX(data_absen!$J$2:$J$2000,SUMPRODUCT((data_absen!$B$2:$B$2000=$A61)*(data_absen!$C$2:$C$2000=Q$3)*(ROW(data_absen!$C$2:$C$2000)))-1)*1440,\"\")","v":""},{"$f":"IFERROR(INDEX(data_absen!$K$2:$K$2000,SUMPRODUCT((data_absen!$B$2:$B$2000=$A61)*(data_absen!$C$2:$C$2000=V$3)*(ROW(data_absen!$C$2:$C$2000)))-1)*1440,\"\")","v":""},{"$f":"IFERROR(INDEX(data_absen!$I$2:$I$2000,SUMPRODUCT((data_absen!$B$2:$B$2000=$A61)*(data_absen!$C$2:$C$2000=V$3)*(ROW(data_absen!$C$2:$C$2000)))-1)*1440,\"\")","v":""},null,null,{"$f":"IFERROR(INDEX(data_absen!$J$2:$J$2000,SUMPRODUCT((data_absen!$B$2:$B$2000=$A61)*(data_absen!$C$2:$C$2000=V$3)*(ROW(data_absen!$C$2:$C$2000)))-1)*1440,\"\")","v":""},{"$f":"IFERROR(INDEX(data_absen!$K$2:$K$2000,SUMPRODUCT((data_absen!$B$2:$B$2000=$A61)*(data_absen!$C$2:$C$2000=AA$3)*(ROW(data_absen!$C$2:$C$2000)))-1)*1440,\"\")","v":""},{"$f":"IFERROR(INDEX(data_absen!$I$2:$I$2000,SUMPRODUCT((data_absen!$B$2:$B$2000=$A61)*(data_absen!$C$2:$C$2000=AA$3)*(ROW(data_absen!$C$2:$C$2000)))-1)*1440,\"\")","v":""},null,null,{"$f":"IFERROR(INDEX(data_absen!$J$2:$J$2000,SUMPRODUCT((data_absen!$B$2:$B$2000=$A61)*(data_absen!$C$2:$C$2000=AA$3)*(ROW(data_absen!$C$2:$C$2000)))-1)*1440,\"\")","v":""},{"$f":"IFERROR(INDEX(data_absen!$K$2:$K$2000,SUMPRODUCT((data_absen!$B$2:$B$2000=$A61)*(data_absen!$C$2:$C$2000=AF$3)*(ROW(data_absen!$C$2:$C$2000)))-1)*1440,\"\")","v":""},{"$f":"IFERROR(INDEX(data_absen!$I$2:$I$2000,SUMPRODUCT((data_absen!$B$2:$B$2000=$A61)*(data_absen!$C$2:$C$2000=AF$3)*(ROW(data_absen!$C$2:$C$2000)))-1)*1440,\"\")","v":""},null,null,{"$f":"IFERROR(INDEX(data_absen!$J$2:$J$2000,SUMPRODUCT((data_absen!$B$2:$B$2000=$A61)*(data_absen!$C$2:$C$2000=AF$3)*(ROW(data_absen!$C$2:$C$2000)))-1)*1440,\"\")","v":""},{"$f":"IFERROR(INDEX(data_absen!$K$2:$K$2000,SUMPRODUCT((data_absen!$B$2:$B$2000=$A61)*(data_absen!$C$2:$C$2000=AK$3)*(ROW(data_absen!$C$2:$C$2000)))-1)*1440,\"\")","v":""},{"$f":"IFERROR(INDEX(data_absen!$I$2:$I$2000,SUMPRODUCT((data_absen!$B$2:$B$2000=$A61)*(data_absen!$C$2:$C$2000=AK$3)*(ROW(data_absen!$C$2:$C$2000)))-1)*1440,\"\")","v":""},null,null,{"$f":"IFERROR(INDEX(data_absen!$J$2:$J$2000,SUMPRODUCT((data_absen!$B$2:$B$2000=$A61)*(data_absen!$C$2:$C$2000=AK$3)*(ROW(data_absen!$C$2:$C$2000)))-1)*1440,\"\")","v":""},{"$f":"IFERROR(INDEX(data_absen!$K$2:$K$2000,SUMPRODUCT((data_absen!$B$2:$B$2000=$A61)*(data_absen!$C$2:$C$2000=AP$3)*(ROW(data_absen!$C$2:$C$2000)))-1)*1440,\"\")","v":""},{"$f":"IFERROR(INDEX(data_absen!$I$2:$I$2000,SUMPRODUCT((data_absen!$B$2:$B$2000=$A61)*(data_absen!$C$2:$C$2000=AP$3)*(ROW(data_absen!$C$2:$C$2000)))-1)*1440,\"\")","v":""},null,null,{"$f":"IFERROR(INDEX(data_absen!$J$2:$J$2000,SUMPRODUCT((data_absen!$B$2:$B$2000=$A61)*(data_absen!$C$2:$C$2000=AP$3)*(ROW(data_absen!$C$2:$C$2000)))-1)*1440,\"\")","v":""},{"$f":"IFERROR(INDEX(data_absen!$K$2:$K$2000,SUMPRODUCT((data_absen!$B$2:$B$2000=$A61)*(data_absen!$C$2:$C$2000=AU$3)*(ROW(data_absen!$C$2:$C$2000)))-1)*1440,\"\")","v":""},{"$f":"IFERROR(INDEX(data_absen!$I$2:$I$2000,SUMPRODUCT((data_absen!$B$2:$B$2000=$A61)*(data_absen!$C$2:$C$2000=AU$3)*(ROW(data_absen!$C$2:$C$2000)))-1)*1440,\"\")","v":""},null,null,{"$f":"IFERROR(INDEX(data_absen!$J$2:$J$2000,SUMPRODUCT((data_absen!$B$2:$B$2000=$A61)*(data_absen!$C$2:$C$2000=AU$3)*(ROW(data_absen!$C$2:$C$2000)))-1)*1440,\"\")","v":""},{"$f":"IFERROR(INDEX(data_absen!$K$2:$K$2000,SUMPRODUCT((data_absen!$B$2:$B$2000=$A61)*(data_absen!$C$2:$C$2000=AZ$3)*(ROW(data_absen!$C$2:$C$2000)))-1)*1440,\"\")","v":""},{"$f":"IFERROR(INDEX(data_absen!$I$2:$I$2000,SUMPRODUCT((data_absen!$B$2:$B$2000=$A61)*(data_absen!$C$2:$C$2000=AZ$3)*(ROW(data_absen!$C$2:$C$2000)))-1)*1440,\"\")","v":""},null,null,{"$f":"IFERROR(INDEX(data_absen!$J$2:$J$2000,SUMPRODUCT((data_absen!$B$2:$B$2000=$A61)*(data_absen!$C$2:$C$2000=AZ$3)*(ROW(data_absen!$C$2:$C$2000)))-1)*1440,\"\")","v":""},{"$f":"IFERROR(INDEX(data_absen!$K$2:$K$2000,SUMPRODUCT((data_absen!$B$2:$B$2000=$A61)*(data_absen!$C$2:$C$2000=BE$3)*(ROW(data_absen!$C$2:$C$2000)))-1)*1440,\"\")","v":""},{"$f":"IFERROR(INDEX(data_absen!$I$2:$I$2000,SUMPRODUCT((data_absen!$B$2:$B$2000=$A61)*(data_absen!$C$2:$C$2000=BE$3)*(ROW(data_absen!$C$2:$C$2000)))-1)*1440,\"\")","v":""},null,null,{"$f":"IFERROR(INDEX(data_absen!$J$2:$J$2000,SUMPRODUCT((data_absen!$B$2:$B$2000=$A61)*(data_absen!$C$2:$C$2000=BE$3)*(ROW(data_absen!$C$2:$C$2000)))-1)*1440,\"\")","v":""},{"$f":"IFERROR(INDEX(data_absen!$K$2:$K$2000,SUMPRODUCT((data_absen!$B$2:$B$2000=$A61)*(data_absen!$C$2:$C$2000=BJ$3)*(ROW(data_absen!$C$2:$C$2000)))-1)*1440,\"\")","v":""},{"$f":"IFERROR(INDEX(data_absen!$I$2:$I$2000,SUMPRODUCT((data_absen!$B$2:$B$2000=$A61)*(data_absen!$C$2:$C$2000=BJ$3)*(ROW(data_absen!$C$2:$C$2000)))-1)*1440,\"\")","v":""},null,null,{"$f":"IFERROR(INDEX(data_absen!$J$2:$J$2000,SUMPRODUCT((data_absen!$B$2:$B$2000=$A61)*(data_absen!$C$2:$C$2000=BJ$3)*(ROW(data_absen!$C$2:$C$2000)))-1)*1440,\"\")","v":""},{"$f":"IFERROR(INDEX(data_absen!$K$2:$K$2000,SUMPRODUCT((data_absen!$B$2:$B$2000=$A61)*(data_absen!$C$2:$C$2000=BO$3)*(ROW(data_absen!$C$2:$C$2000)))-1)*1440,\"\")","v":""},{"$f":"IFERROR(INDEX(data_absen!$I$2:$I$2000,SUMPRODUCT((data_absen!$B$2:$B$2000=$A61)*(data_absen!$C$2:$C$2000=BO$3)*(ROW(data_absen!$C$2:$C$2000)))-1)*1440,\"\")","v":""},null,null,{"$f":"IFERROR(INDEX(data_absen!$J$2:$J$2000,SUMPRODUCT((data_absen!$B$2:$B$2000=$A61)*(data_absen!$C$2:$C$2000=BO$3)*(ROW(data_absen!$C$2:$C$2000)))-1)*1440,\"\")","v":""},{"$f":"COUNTIFS(data_absen!$B$2:$B$2000,$A61,data_absen!$I$2:$I$2000,\">0\")","v":0}]
["Filda",{"$f":"INDEX(data_absen!$G$2:$G$2000,SUMPRODUCT((data_absen!$B$2:$B$2000=$A64)*(data_absen!$C$2:$C$2000=B$3)*(ROW(data_absen!$C$2:$C$2000)))-1)","v":""},null,"-",{"$f":"INDEX(data_absen!$H$2:$H$2000,SUMPRODUCT((data_absen!$B$2:$B$2000=$A64)*(data_absen!$C$2:$C$2000=B$3)*(ROW(data_absen!$C$2:$C$2000)))-1)","v":""},null,{"$f":"INDEX(data_absen!$G$2:$G$2000,SUMPRODUCT((data_absen!$B$2:$B$2000=$A64)*(data_absen!$C$2:$C$2000=G$3)*(ROW(data_absen!$C$2:$C$2000)))-1)","v":""},null,"-",{"$f":"INDEX(data_absen!$H$2:$H$2000,SUMPRODUCT((data_absen!$B$2:$B$2000=$A64)*(data_absen!$C$2:$C$2000=G$3)*(ROW(data_absen!$C$2:$C$2000)))-1)","v":""},null,{"$f":"INDEX(data_absen!$G$2:$G$2000,SUMPRODUCT((data_absen!$B$2:$B$2000=$A64)*(data_absen!$C$2:$C$2000=L$3)*(ROW(data_absen!$C$2:$C$2000)))-1)","v":""},null,"-",{"$f":"INDEX(data_absen!$H$2:$H$2000,SUMPRODUCT((data_absen!$B$2:$B$2000=$A64)*(data_absen!$C$2:$C$2000=L$3)*(ROW(data_absen!$C$2:$C$2000)))-1)","v":""},null,{"$f":"INDEX(data_absen!$G$2:$G$2000,SUMPRODUCT((data_absen!$B$2:$B$2000=$A64)*(data_absen!$C$2:$C$2000=Q$3)*(ROW(data_absen!$C$2:$C$2000)))-1)","v":""},null,"-",{"$f":"INDEX(data_absen!$H$2:$H$2000,SUMPRODUCT((data_absen!$B$2:$B$2000=$A64)*(data_absen!$C$2:$C$2000=Q$3)*(ROW(data_absen!$C$2:$C$2000)))-1)","v":""},null,{"$f":"INDEX(data_absen!$G$2:$G$2000,SUMPRODUCT((data_absen!$B$2:$B$2000=$A64)*(data_absen!$C$2:$C$2000=V$3)*(ROW(data_absen!$C$2:$C$2000)))-1)","v":""},null,"-",{"$f":"INDEX(data_absen!$H$2:$H$2000,SUMPRODUCT((data_absen!$B$2:$B$2000=$A64)*(data_absen!$C$2:$C$2000=V$3)*(ROW(data_absen!$C$2:$C$2000)))-1)","v":""},null,{"$f":"INDEX(data_absen!$G$2:$G$2000,SUMPRODUCT((data_absen!$B$2:$B$2000=$A64)*(data_absen!$C$2:$C$2000=AA$3)*(ROW(data_absen!$C$2:$C$2000)))-1)","v":""},null,"-",{"$f":"INDEX(data_absen!$H$2:$H$2000,SUMPRODUCT((data_absen!$B$2:$B$2000=$A64)*(data_absen!$C$2:$C$2000=AA$3)*(ROW(data_absen!$C$2:$C$2000)))-1)","v":""},null,{"$f":"INDEX(data_absen!$G$2:$G$2000,SUMPRODUCT((data_absen!$B$2:$B$2000=$A64)*(data_absen!$C$2:$C$2000=AF$3)*(ROW(data_absen!$C$2:$C$2000)))-1)","v":""},null,"-",{"$f":"INDEX(data_absen!$H$2:$H$2000,SUMPRODUCT((data_absen!$B$2:$B$2000=$A64)*(data_absen!$C$2:$C$2000=AF$3)*(ROW(data_absen!$C$2:$C$2000)))-1)","v":""},null,{"$f":"INDEX(data_absen!$G$2:$G$2000,SUMPRODUCT((data_absen!$B$2:$B$2000=$A64)*(data_absen!$C$2:$C$2000=AK$3)*(ROW(data_absen!$C$2:$C$2000)))-1)","v":""},null,"-",{"$f":"INDEX(data_absen!$H$2:$H$2000,SUMPRODUCT((data_absen!$B$2:$B$2000=$A64)*(data_absen!$C$2:$C$2000=AK$3)*(ROW(data_absen!$C$2:$C$2000)))-1)","v":""},null,{"$f":"INDEX(data_absen!$G$2:$G$2000,SUMPRODUCT((data_absen!$B$2:$B$2000=$A64)*(data_absen!$C$2:$C$2000=AP$3)*(ROW(data_absen!$C$2:$C$2000)))-1)","v":""},null,"-",{"$f":"INDEX(data_absen!$H$2:$H$2000,SUMPRODUCT((data_absen!$B$2:$B$2000=$A64)*(data_absen!$C$2:$C$2000=AP$3)*(ROW(data_absen!$C$2:$C$2000)))-1)","v":""},null,{"$f":"INDEX(data_absen!$G$2:$G$2000,SUMPRODUCT((data_absen!$B$2:$B$2000=$A64)*(data_absen!$C$2:$C$2000=AU$3)*(ROW(data_absen!$C$2:$C$2000)))-1)","v":""},null,"-",{"$f":"INDEX(data_absen!$H$2:$H$2000,SUMPRODUCT((data_absen!$B$2:$B$2000=$A64)*(data_absen!$C$2:$C$2000=AU$3)*(ROW(data_absen!$C$2:$C$2000)))-1)","v":""},null,{"$f":"INDEX(data_absen!$G$2:$G$2000,SUMPRODUCT((data_absen!$B$2:$B$2000=$A64)*(data_absen!$C$2:$C$2000=AZ$3)*(ROW(data_absen!$C$2:$C$2000)))-1)","v":""},null,"-",{"$f":"INDEX(data_absen!$H$2:$H$2000,SUMPRODUCT((data_absen!$B$2:$B$2000=$A64)*(data_absen!$C$2:$C$2000=AZ$3)*(ROW(data_absen!$C$2:$C$2000)))-1)","v":""},null,{"$f":"INDEX(data_absen!$G$2:$G$2000,SUMPRODUCT((data_absen!$B$2:$B$2000=$A64)*(data_absen!$C$2:$C$2000=BE$3)*(ROW(data_absen!$C$2:$C$2000)))-1)","v":""},null,"-",{"$f":"INDEX(data_absen!$H$2:$H$2000,SUMPRODUCT((data_absen!$B$2:$B$2000=$A64)*(data_absen!$C$2:$C$2000=BE$3)*(ROW(data_absen!$C$2:$C$2000)))-1)","v":""},null,{"$f":"INDEX(data_absen!$G$2:$G$2000,SUMPRODUCT((data_absen!$B$2:$B$2000=$A64)*(data_absen!$C$2:$C$2000=BJ$3)*(ROW(data_absen!$C$2:$C$2000)))-1)","v":""},null,"-",{"$f":"INDEX(data_absen!$H$2:$H$2000,SUMPRODUCT((data_absen!$B$2:$B$2000=$A64)*(data_absen!$C$2:$C$2000=BJ$3)*(ROW(data_absen!$C$2:$C$2000)))-1)","v":""},null,{"$f":"INDEX(data_absen!$G$2:$G$2000,SUMPRODUCT((data_absen!$B$2:$B$2000=$A64)*(data_absen!$C$2:$C$2000=BO$3)*(ROW(data_absen!$C$2:$C$2000)))-1)","v":""},null,"-",{"$f":"INDEX(data_absen!$H$2:$H$2000,SUMPRODUCT((data_absen!$B$2:$B$2000=$A64)*(data_absen!$C$2:$C$2000=BO$3)*(ROW(data_absen!$C$2:$C$2000)))-1)","v":""}]
[317,null,null,"-",null,null,null,null,"-",null,null,null,null,"-",null,null,null,null,"-",null,null,null,null,"-",null,null,null,null,"-",null,null,null,null,"-",null,null,null,null,"-",null,null,null,null,"-",null,null,null,null,"-",null,null,null,null,"-",null,null,null,null,"-",null,null,null,null,"-",null,null,null,null,"-"]
[null,{"$f":"IFERROR(INDEX(data_absen!$K$2:$K$2000,SUMPRODUCT((data_absen!$B$2:$B$2000=$A64)*(data_absen!$C$2:$C$2000=B$3)*(ROW(data_absen!$C$2:$C$2000)))-1)*1440,\"\")","v":""},{"$f":"IFERROR(INDEX(data_absen!$I$2:$I$2000,SUMPRODUCT((data_absen!$B$2:$B$2000=$A64)*(data_absen!$C$2:$C$2000=B$3)*(ROW(data_absen!$C$2:$C$2000)))-1)*1440,\"\")","v":""},null,null,{"$f":"IFERROR(INDEX(data_absen!$J$2:$J$2000,SUMPRODUCT((data_absen!$B$2:$B$2000=$A64)*(data_absen!$C$2:$C$2000=B$3)*(ROW(data_absen!$C$2:$C$2000)))-1)*1440,\"\")","v":""},{"$f":"IFERROR(INDEX(data_absen!$K$2:$K$2000,SUMPRODUCT((data_absen!$B$2:$B$2000=$A64)*(data_absen!$C$2:$C$2000=G$3)*(ROW(data_absen!$C$2:$C$2000)))-1)*1440,\"\")","v":""},{"$f":"IFERROR(INDEX(data_absen!$I$2:$I$2000,SUMPRODUCT((data_absen!$B$2:$B$2000=$A64)*(data_absen!$C$2:$C$2000=G$3)*(ROW(data_absen!$C$2:$C$2000)))-1)*1440,\"\")","v":""},null,null,{"$f":"IFERROR(INDEX(data_absen!$J$2:$J$2000,SUMPRODUCT((data_absen!$B$2:$B$2000=$A64)*(data_absen!$C$2:$C$2000=G$3)*(ROW(data_absen!$C$2:$C$2000)))-1)*1440,\"\")","v":""},{"$f":"IFERROR(INDEX(data_absen!$K$2:$K$2000,SUMPRODUCT((data_absen!$B$2:$B$2000=$A64)*(data_absen!$C$2:$C$2000=L$3)*(ROW(data_absen!$C$2:$C$2000)))-1)*1440,\"\")","v":""},{"$f":"IFERROR(INDEX(data_absen!$I$2:$I$2000,SUMPRODUCT((data_absen!$B$2:$B$2000=$A64)*(data_absen!$C$2:$C$2000=L$3)*(ROW(data_absen!$C$2:$C$2000)))-1)*1440,\"\")","v":""},null,null,{"$f":"IFERROR(INDEX(data_absen!$J$2:$J$2000,SUMPRODUCT((data_absen!$B$2:$B$2000=$A64)*(data_absen!$C$2:$C$2000=L$3)*(ROW(data_absen!$C$2:$C$2000)))-1)*1440,\"\")","v":""},{"$f":"IFERROR(INDEX(data_absen!$K$2:$K$2000,SUMPRODUCT((data_absen!$B$2:$B$2000=$A64)*(data_absen!$C$2:$C$2000=Q$3)*(ROW(data_absen!$C$2:$C$2000)))-1)*1440,\"\")","v":""},{"$f":"IFERROR(INDEX(data_absen!$I$2:$I$2000,SUMPRODUCT((data_absen!$B$2:$B$2000=$A64)*(data_absen!$C$2:$C$2000=Q$3)*(ROW(data_absen!$C$2:$C$2000)))-1)*1440,\"\")","v":""},null,null,{"$f":"IFERROR(INDEX(data_absen!$J$2:$J$2000,SUMPRODUCT((data_absen!$B$2:$B$2000=$A64)*(data_absen!$C$2:$C$2000=Q$3)*(ROW(data_absen!$C$2:$C$2000)))-1)*1440,\"\")","v":""},{"$f":"IFERROR(INDEX(data_absen!$K$2:$K$2000,SUMPRODUCT((data_absen!$B$2:$B$2000=$A64)*(data_absen!$C$2:$C$2000=V$3)*(ROW(data_absen!$C$2:$C$2000)))-1)*1440,\"\")","v":""},{"$f":"IFERROR(INDEX(data_absen!$I$2:$I$2000,SUMPRODUCT((data_absen!$B$2:$B$2000=$A64)*(data_absen!$C$2:$C$2000=V$3)*(ROW(data_absen!$C$2:$C$2000)))-1)*1440,\"\")","v":""},null,null,{"$f":"IFERROR(INDEX(data_absen!$J$2:$J$2000,SUMPRODUCT((data_absen!$B$2:$B$2000=$A64)*(data_absen!$C$2:$C$2000=V$3)*(ROW(data_absen!$C$2:$C$2000)))-1)*1440,\"\")","v":""},{"$f":"IFERROR(INDEX(data_absen!$K$2:$K$2000,SUMPRODUCT((data_absen!$B$2:$B$2000=$A64)*(data_absen!$C$2:$C$2000=AA$3)*(ROW(data_absen!$C$2:$C$2000)))-1)*1440,\"\")","v":""},{"$f":"IFERROR(INDEX(data_absen!$I$2:$I$2000,SUMPRODUCT((data_absen!$B$2:$B$2000=$A64)*(data_absen!$C$2:$C$2000=AA$3)*(ROW(data_absen!$C$2:$C$2000)))-1)*1440,\"\")","v":""},null,null,{"$f":"IFERROR(INDEX(data_absen!$J$2:$J$2000,SUMPRODUCT((data_absen!$B$2:$B$2000=$A64)*(data_absen!$C$2:$C$2000=AA$3)*(ROW(data_absen!$C$2:$C$2000)))-1)*1440,\"\")","v":""},{"$f":"IFERROR(INDEX(data_absen!$K$2:$K$2000,SUMPRODUCT((data_absen!$B$2:$B$2000=$A64)*(data_absen!$C$2:$C$2000=AF$3)*(ROW(data_absen!$C$2:$C$2000)))-1)*1440,\"\")","v":""},{"$f":"IFERROR(INDEX(data_absen!$I$2:$I$2000,SUMPRODUCT((data_absen!$B$2:$B$2000=$A64)*(data_absen!$C$2:$C$2000=AF$3)*(ROW(data_absen!$C$2:$C$2000)))-1)*1440,\"\")","v":""},null,null,{"$f":"IFERROR(INDEX(data_absen!$J$2:$J$2000,SUMPRODUCT((data_absen!$B$2:$B$2000=$A64)*(data_absen!$C$2:$C$2000=AF$3)*(ROW(data_absen!$C$2:$C$2000)))-1)*1440,\"\")","v":""},{"$f":"IFERROR(INDEX(data_absen!$K$2:$K$2000,SUMPRODUCT((data_absen!$B$2:$B$2000=$A64)*(data_absen!$C$2:$C$2000=AK$3)*(ROW(data_absen!$C$2:$C$2000)))-1)*1440,\"\")","v":""},{"$f":"IFERROR(INDEX(data_absen!$I$2:$I$2000,SUMPRODUCT((data_absen!$B$2:$B$2000=$A64)*(data_absen!$C$2:$C$2000=AK$3)*(ROW(data_absen!$C$2:$C$2000)))-1)*1440,\"\")","v":""},null,null,{"$f":"IFERROR(INDEX(data_absen!$J$2:$J$2000,SUMPRODUCT((data_absen!$B$2:$B$2000=$A64)*(data_absen!$C$2:$C$2000=AK$3)*(ROW(data_absen!$C$2:$C$2000)))-1)*1440,\"\")","v":""},{"$f":"IFERROR(INDEX(data_absen!$K$2:$K$2000,SUMPRODUCT((data_absen!$B$2:$B$2000=$A64)*(data_absen!$C$2:$C$2000=AP$3)*(ROW(data_absen!$C$2:$C$2000)))-1)*1440,\"\")","v":""},{"$f":"IFERROR(INDEX(data_absen!$I$2:$I$2000,SUMPRODUCT((data_absen!$B$2:$B$2000=$A64)*(data_absen!$C$2:$C$2000=AP$3)*(ROW(data_absen!$C$2:$C$2000)))-1)*1440,\"\")","v":""},null,null,{"$f":"IFERROR(INDEX(data_absen!$J$2:$J$2000,SUMPRODUCT((data_absen!$B$2:$B$2000=$A64)*(data_absen!$C$2:$C$2000=AP$3)*(ROW(data_absen!$C$2:$C$2000)))-1)*1440,\"\")","v":""},{"$f":"IFERROR(INDEX(data_absen!$K$2:$K$2000,SUMPRODUCT((data_absen!$B$2:$B$2000=$A64)*(data_absen!$C$2:$C$2000=AU$3)*(ROW(data_absen!$C$2:$C$2000)))-1)*1440,\"\")","v":""},{"$f":"IFERROR(INDEX(data_absen!$I$2:$I$2000,SUMPRODUCT((data_absen!$B$2:$B$2000=$A64)*(data_absen!$C$2:$C$2000=AU$3)*(ROW(data_absen!$C$2:$C$2000)))-1)*1440,\"\")","v":""},null,null,{"$f":"IFERROR(INDEX(data_absen!$J$2:$J$2000,SUMPRODUCT((data_absen!$B$2:$B$2000=$A64)*(data_absen!$C$2:$C$2000=AU$3)*(ROW(data_absen!$C$2:$C$2000)))-1)*1440,\"\")","v":""},{"$f":"IFERROR(INDEX(data_absen!$K$2:$K$2000,SUMPRODUCT((data_absen!$B$2:$B$2000=$A64)*(data_absen!$C$2:$C$2000=AZ$3)*(ROW(data_absen!$C$2:$C$2000)))-1)*1440,\"\")","v":""},{"$f":"IFERROR(INDEX(data_absen!$I$2:$I$2000,SUMPRODUCT((data_absen!$B$2:$B$2000=$A64)*(data_absen!$C$2:$C$2000=AZ$3)*(ROW(data_absen!$C$2:$C$2000)))-1)*1440,\"\")","v":""},null,null,{"$f":"IFERROR(INDEX(data_absen!$J$2:$J$2000,SUMPRODUCT((data_absen!$B$2:$B$2000=$A64)*(data_absen!$C$2:$C$2000=AZ$3)*(ROW(data_absen!$C$2:$C$2000)))-1)*1440,\"\")","v":""},{"$f":"IFERROR(INDEX(data_absen!$K$2:$K$2000,SUMPRODUCT((data_absen!$B$2:$B$2000=$A64)*(data_absen!$C$2:$C$2000=BE$3)*(ROW(data_absen!$C$2:$C$2000)))-1)*1440,\"\")","v":""},{"$f":"IFERROR(INDEX(data_absen!$I$2:$I$2000,SUMPRODUCT((data_absen!$B$2:$B$2000=$A64)*(data_absen!$C$2:$C$2000=BE$3)*(ROW(data_absen!$C$2:$C$2000)))-1)*1440,\"\")","v":""},null,null,{"$f":"IFERROR(INDEX(data_absen!$J$2:$J$2000,SUMPRODUCT((data_absen!$B$2:$B$2000=$A64)*(data_absen!$C$2:$C$2000=BE$3)*(ROW(data_absen!$C$2:$C$2000)))-1)*1440,\"\")","v":""},{"$f":"IFERROR(INDEX(data_absen!$K$2:$K$2000,SUMPRODUCT((data_absen!$B$2:$B$2000=$A64)*(data_absen!$C$2:$C$2000=BJ$3)*(ROW(data_absen!$C$2:$C$2000)))-1)*1440,\"\")","v":""},{"$f":"IFERROR(INDEX(data_absen!$I$2:$I$2000,SUMPRODUCT((data_absen!$B$2:$B$2000=$A64)*(data_absen!$C$2:$C$2000=BJ$3)*(ROW(data_absen!$C$2:$C$2000)))-1)*1440,\"\")","v":""},null,null,{"$f":"IFERROR(INDEX(data_absen!$J$2:$J$2000,SUMPRODUCT((data_absen!$B$2:$B$2000=$A64)*(data_absen!$C$2:$C$2000=BJ$3)*(ROW(data_absen!$C$2:$C$2000)))-1)*1440,\"\")","v":""},{"$f":"IFERROR(INDEX(data_absen!$K$2:$K$2000,SUMPRODUCT((data_absen!$B$2:$B$2000=$A64)*(data_absen!$C$2:$C$2000=BO$3)*(ROW(data_absen!$C$2:$C$2000)))-1)*1440,\"\")","v":""},{"$f":"IFERROR(INDEX(data_absen!$I$2:$I$2000,SUMPRODUCT((data_absen!$B$2:$B$2000=$A64)*(data_absen!$C$2:$C$2000=BO$3)*(ROW(data_absen!$C$2:$C$2000)))-1)*1440,\"\")","v":""},null,null,{"$f":"IFERROR(INDEX(data_absen!$J$2:$J$2000,SUMPRODUCT((data_absen!$B$2:$B$2000=$A64)*(data_absen!$C$2:$C$2000=BO$3)*(ROW(data_absen!$C$2:$C$2000)))-1)*1440,\"\")","v":""},{"$f":"COUNTIFS(data_absen!$B$2:$B$2000,$A64,data_absen!$I$2:$I$2000,\">0\")","v":2}]
["Juma'iyyah",{"$f":"INDEX(data_absen!$G$2:$G$2000,SUMPRODUCT((data_absen!$B$2:$B$2000=$A67)*(data_absen!$C$2:$C$2000=B$3)*(ROW(data_absen!$C$2:$C$2000)))-1)","v":""},null,"-",{"$f":"INDEX(data_absen!$H$2:$H$2000,SUMPRODUCT((data_absen!$B$2:$B$2000=$A67)*(data_absen!$C$2:$C$2000=B$3)*(ROW(data_absen!$C$2:$C$2000)))-1)","v":""},null,{"$f":"INDEX(data_absen!$G$2:$G$2000,SUMPRODUCT((data_absen!$B$2:$B$2000=$A67)*(data_absen!$C$2:$C$2000=G$3)*(ROW(data_absen!$C$2:$C$2000)))-1)","v":""},null,"-",{"$f":"INDEX(data_absen!$H$2:$H$2000,SUMPRODUCT((data_absen!$B$2:$B$2000=$A67)*(data_absen!$C$2:$C$2000=G$3)*(ROW(data_absen!$C$2:$C$2000)))-1)","v":""},null,{"$f":"INDEX(data_absen!$G$2:$G$2000,SUMPRODUCT((data_absen!$B$2:$B$2000=$A67)*(data_absen!$C$2:$C$2000=L$3)*(ROW(data_absen!$C$2:$C$2000)))-1)","v":""},null,"-",{"$f":"INDEX(data_absen!$H$2:$H$2000,SUMPRODUCT((data_absen!$B$2:$B$2000=$A67)*(data_absen!$C$2:$C$2000=L$3)*(ROW(data_absen!$C$2:$C$2000)))-1)","v":""},null,{"$f":"INDEX(data_absen!$G$2:$G$2000,SUMPRODUCT((data_absen!$B$2:$B$2000=$A67)*(data_absen!$C$2:$C$2000=Q$3)*(ROW(data_absen!$C$2:$C$2000)))-1)","v":""},null,"-",{"$f":"INDEX(data_absen!$H$2:$H$2000,SUMPRODUCT((data_absen!$B$2:$B$2000=$A67)*(data_absen!$C$2:$C$2000=Q$3)*(ROW(data_absen!$C$2:$C$2000)))-1)","v":""},null,{"$f":"INDEX(data_absen!$G$2:$G$2000,SUMPRODUCT((data_absen!$B$2:$B$2000=$A67)*(data_absen!$C$2:$C$2000=V$3)*(ROW(data_absen!$C$2:$C$2000)))-1)","v":""},null,"-",{"$f":"INDEX(data_absen!$H$2:$H$2000,SUMPRODUCT((data_absen!$B$2:$B$2000=$A67)*(data_absen!$C$2:$C$2000=V$3)*(ROW(data_absen!$C$2:$C$2000)))-1)","v":""},null,{"$f":"INDEX(data_absen!$G$2:$G$2000,SUMPRODUCT((data_absen!$B$2:$B$2000=$A67)*(data_absen!$C$2:$C$2000=AA$3)*(ROW(data_absen!$C$2:$C$2000)))-1)","v":""},null,"-",{"$f":"INDEX(data_absen!$H$2:$H$2000,SUMPRODUCT((data_absen!$B$2:$B$2000=$A67)*(data_absen!$C$2:$C$2000=AA$3)*(ROW(data_absen!$C$2:$C$2000)))-1)","v":""},null,{"$f":"INDEX(data_absen!$G$2:$G$2000,SUMPRODUCT((data_absen!$B$2:$B$2000=$A67)*(data_absen!$C$2:$C$2000=AF$3)*(ROW(data_absen!$C$2:$C$2000)))-1)","v":""},null,"-",{"$f":"INDEX(data_absen!$H$2:$H$2000,SUMPRODUCT((data_absen!$B$2:$B$2000=$A67)*(data_absen!$C$2:$C$2000=AF$3)*(ROW(data_absen!$C$2:$C$2000)))-1)","v":""},null,{"$f":"INDEX(data_absen!$G$2:$G$2000,SUMPRODUCT((data_absen!$B$2:$B$2000=$A67)*(data_absen!$C$2:$C$2000=AK$3)*(ROW(data_absen!$C$2:$C$2000)))-1)","v":""},null,"-",{"$f":"INDEX(data_absen!$H$2:$H$2000,SUMPRODUCT((data_absen!$B$2:$B$2000=$A67)*(data_absen!$C$2:$C$2000=AK$3)*(ROW(data_absen!$C$2:$C$2000)))-1)","v":""},null,{"$f":"INDEX(data_absen!$G$2:$G$2000,SUMPRODUCT((data_absen!$B$2:$B$2000=$A67)*(data_absen!$C$2:$C$2000=AP$3)*(ROW(data_absen!$C$2:$C$2000)))-1)","v":""},null,"-",{"$f":"INDEX(data_absen!$H$2:$H$2000,SUMPRODUCT((data_absen!$B$2:$B$2000=$A67)*(data_absen!$C$2:$C$2000=AP$3)*(ROW(data_absen!$C$2:$C$2000)))-1)","v":""},null,{"$f":"INDEX(data_absen!$G$2:$G$2000,SUMPRODUCT((data_absen!$B$2:$B$2000=$A67)*(data_absen!$C$2:$C$2000=AU$3)*(ROW(data_absen!$C$2:$C$2000)))-1)","v":""},null,"-",{"$f":"INDEX(data_absen!$H$2:$H$2000,SUMPRODUCT((data_absen!$B$2:$B$2000=$A67)*(data_absen!$C$2:$C$2000=AU$3)*(ROW(data_absen!$C$2:$C$2000)))-1)","v":""},null,{"$f":"INDEX(data_absen!$G$2:$G$2000,SUMPRODUCT((data_absen!$B$2:$B$2000=$A67)*(data_absen!$C$2:$C$2000=AZ$3)*(ROW(data_absen!$C$2:$C$2000)))-1)","v":""},null,"-",{"$f":"INDEX(data_absen!$H$2:$H$2000,SUMPRODUCT((data_absen!$B$2:$B$2000=$A67)*(data_absen!$C$2:$C$2000=AZ$3)*(ROW(data_absen!$C$2:$C$2000)))-1)","v":""},null,{"$f":"INDEX(data_absen!$G$2:$G$2000,SUMPRODUCT((data_absen!$B$2:$B$2000=$A67)*(data_absen!$C$2:$C$2000=BE$3)*(ROW(data_absen!$C$2:$C$2000)))-1)","v":""},null,"-",{"$f":"INDEX(data_absen!$H$2:$H$2000,SUMPRODUCT((data_absen!$B$2:$B$2000=$A67)*(data_absen!$C$2:$C$2000=BE$3)*(ROW(data_absen!$C$2:$C$2000)))-1)","v":""},null,{"$f":"INDEX(data_absen!$G$2:$G$2000,SUMPRODUCT((data_absen!$B$2:$B$2000=$A67)*(data_absen!$C$2:$C$2000=BJ$3)*(ROW(data_absen!$C$2:$C$2000)))-1)","v":""},null,"-",{"$f":"INDEX(data_absen!$H$2:$H$2000,SUMPRODUCT((data_absen!$B$2:$B$2000=$A67)*(data_absen!$C$2:$C$2000=BJ$3)*(ROW(data_absen!$C$2:$C$2000)))-1)","v":""},null,{"$f":"INDEX(data_absen!$G$2:$G$2000,SUMPRODUCT((data_absen!$B$2:$B$2000=$A67)*(data_absen!$C$2:$C$2000=BO$3)*(ROW(data_absen!$C$2:$C$2000)))-1)","v":""},null,"-",{"$f":"INDEX(data_absen!$H$2:$H$2000,SUMPRODUCT((data_absen!$B$2:$B$2000=$A67)*(data_absen!$C$2:$C$2000=BO$3)*(ROW(data_absen!$C$2:$C$2000)))-1)","v":""}]
[319,null,null,"-",null,null,null,null,"-",null,null,null,null,"-",null,null,null,null,"-",null,null,null,null,"-",null,null,null,null,"-",null,null,null,null,"-",null,null,null,null,"-",null,null,null,null,"-",null,null,null,null,"-",null,null,null,null,"-",null,null,null,null,"-",null,null,null,null,"-",null,null,null,null,"-"]
[null,{"$f":"IFERROR(INDEX(data_absen!$K$2:$K$2000,SUMPRODUCT((data_absen!$B$2:$B$2000=$A67)*(data_absen!$C$2:$C$2000=B$3)*(ROW(data_absen!$C$2:$C$2000)))-1)*1440,\"\")","v":""},{"$f":"IFERROR(INDEX(data_absen!$I$2:$I$2000,SUMPRODUCT((data_absen!$B$2:$B$2000=$A67)*(data_absen!$C$2:$C$2000=B$3)*(ROW(data_absen!$C$2:$C$2000)))-1)*1440,\"\")","v":""},null,null,{"$f":"IFERROR(INDEX(data_absen!$J$2:$J$2000,SUMPRODUCT((data_absen!$B$2:$B$2000=$A67)*(data_absen!$C$2:$C$2000=B$3)*(ROW(data_absen!$C$2:$C$2000)))-1)*1440,\"\")","v":""},{"$f":"IFERROR(INDEX(data_absen!$K$2:$K$2000,SUMPRODUCT((data_absen!$B$2:$B$2000=$A67)*(data_absen!$C$2:$C$2000=G$3)*(ROW(data_absen!$C$2:$C$2000)))-1)*1440,\"\")","v":""},{"$f":"IFERROR(INDEX(data_absen!$I$2:$I$2000,SUMPRODUCT((data_absen!$B$2:$B$2000=$A67)*(data_absen!$C$2:$C$2000=G$3)*(ROW(data_absen!$C$2:$C$2000)))-1)*1440,\"\")","v":""},null,null,{"$f":"IFERROR(INDEX(data_absen!$J$2:$J$2000,SUMPRODUCT((data_absen!$B$2:$B$2000=$A67)*(data_absen!$C$2:$C$2000=G$3)*(ROW(data_absen!$C$2:$C$2000)))-1)*1440,\"\")","v":""},{"$f":"IFERROR(INDEX(data_absen!$K$2:$K$2000,SUMPRODUCT((data_absen!$B$2:$B$2000=$A67)*(data_absen!$C$2:$C$2000=L$3)*(ROW(data_absen!$C$2:$C$2000)))-1)*1440,\"\")","v":""},{"$f":"IFERROR(INDEX(data_absen!$I$2:$I$2000,SUMPRODUCT((data_absen!$B$2:$B$2000=$A67)*(data_absen!$C$2:$C$2000=L$3)*(ROW(data_absen!$C$2:$C$2000)))-1)*1440,\"\")","v":""},null,null,{"$f":"IFERROR(INDEX(data_absen!$J$2:$J$2000,SUMPRODUCT((data_absen!$B$2:$B$2000=$A67)*(data_absen!$C$2:$C$2000=L$3)*(ROW(data_absen!$C$2:$C$2000)))-1)*1440,\"\")","v":""},{"$f":"IFERROR(INDEX(data_absen!$K$2:$K$2000,SUMPRODUCT((data_absen!$B$2:$B$2000=$A67)*(data_absen!$C$2:$C$2000=Q$3)*(ROW(data_absen!$C$2:$C$2000)))-1)*1440,\"\")","v":""},{"$f":"IFERROR(INDEX(data_absen!$I$2:$I$2000,SUMPRODUCT((data_absen!$B$2:$B$2000=$A67)*(data_absen!$C$2:$C$2000=Q$3)*(ROW(data_absen!$C$2:$C$2000)))-1)*1440,\"\")","v":""},null,null,{"$f":"IFERROR(INDEX(data_absen!$J$2:$J$2000,SUMPRODUCT((data_absen!$B$2:$B$2000=$A67)*(data_absen!$C$2:$C$2000=Q$3)*(ROW(data_absen!$C$2:$C$2000)))-1)*1440,\"\")","v":""},{"$f":"IFERROR(INDEX(data_absen!$K$2:$K$2000,SUMPRODUCT((data_absen!$B$2:$B$2000=$A67)*(data_absen!$C$2:$C$2000=V$3)*(ROW(data_absen!$C$2:$C$2000)))-1)*1440,\"\")","v":""},{"$f":"IFERROR(INDEX(data_absen!$I$2:$I$2000,SUMPRODUCT((data_absen!$B$2:$B$2000=$A67)*(data_absen!$C$2:$C$2000=V$3)*(ROW(data_absen!$C$2:$C$2000)))-1)*1440,\"\")","v":""},null,null,{"$f":"IFERROR(INDEX(data_absen!$J$2:$J$2000,SUMPRODUCT((data_absen!$B$2:$B$2000=$A67)*(data_absen!$C$2:$C$2000=V$3)*(ROW(data_absen!$C$2:$C$2000)))-1)*1440,\"\")","v":""},{"$f":"IFERROR(INDEX(data_absen!$K$2:$K$2000,SUMPRODUCT((data_absen!$B$2:$B$2000=$A67)*(data_absen!$C$2:$C$2000=AA$3)*(ROW(data_absen!$C$2:$C$2000)))-1)*1440,\"\")","v":""},{"$f":"IFERROR(INDEX(data_absen!$I$2:$I$2000,SUMPRODUCT((data_absen!$B$2:$B$2000=$A67)*(data_absen!$C$2:$C$2000=AA$3)*(ROW(data_absen!$C$2:$C$2000)))-1)*1440,\"\")","v":""},null,null,{"$f":"IFERROR(INDEX(data_absen!$J$2:$J$2000,SUMPRODUCT((data_absen!$B$2:$B$2000=$A67)*(data_absen!$C$2:$C$2000=AA$3)*(ROW(data_absen!$C$2:$C$2000)))-1)*1440,\"\")","v":""},{"$f":"IFERROR(INDEX(data_absen!$K$2:$K$2000,SUMPRODUCT((data_absen!$B$2:$B$2000=$A67)*(data_absen!$C$2:$C$2000=AF$3)*(ROW(data_absen!$C$2:$C$2000)))-1)*1440,\"\")","v":""},{"$f":"IFERROR(INDEX(data_absen!$I$2:$I$2000,SUMPRODUCT((data_absen!$B$2:$B$2000=$A67)*(data_absen!$C$2:$C$2000=AF$3)*(ROW(data_absen!$C$2:$C$2000)))-1)*1440,\"\")","v":""},null,null,{"$f":"IFERROR(INDEX(data_absen!$J$2:$J$2000,SUMPRODUCT((data_absen!$B$2:$B$2000=$A67)*(data_absen!$C$2:$C$2000=AF$3)*(ROW(data_absen!$C$2:$C$2000)))-1)*1440,\"\")","v":""},{"$f":"IFERROR(INDEX(data_absen!$K$2:$K$2000,SUMPRODUCT((data_absen!$B$2:$B$2000=$A67)*(data_absen!$C$2:$C$2000=AK$3)*(ROW(data_absen!$C$2:$C$2000)))-1)*1440,\"\")","v":""},{"$f":"IFERROR(INDEX(data_absen!$I$2:$I$2000,SUMPRODUCT((data_absen!$B$2:$B$2000=$A67)*(data_absen!$C$2:$C$2000=AK$3)*(ROW(data_absen!$C$2:$C$2000)))-1)*1440,\"\")","v":""},null,null,{"$f":"IFERROR(INDEX(data_absen!$J$2:$J$2000,SUMPRODUCT((data_absen!$B$2:$B$2000=$A67)*(data_absen!$C$2:$C$2000=AK$3)*(ROW(data_absen!$C$2:$C$2000)))-1)*1440,\"\")","v":""},{"$f":"IFERROR(INDEX(data_absen!$K$2:$K$2000,SUMPRODUCT((data_absen!$B$2:$B$2000=$A67)*(data_absen!$C$2:$C$2000=AP$3)*(ROW(data_absen!$C$2:$C$2000)))-1)*1440,\"\")","v":""},{"$f":"IFERROR(INDEX(data_absen!$I$2:$I$2000,SUMPRODUCT((data_absen!$B$2:$B$2000=$A67)*(data_absen!$C$2:$C$2000=AP$3)*(ROW(data_absen!$C$2:$C$2000)))-1)*1440,\"\")","v":""},null,null,{"$f":"IFERROR(INDEX(data_absen!$J$2:$J$2000,SUMPRODUCT((data_absen!$B$2:$B$2000=$A67)*(data_absen!$C$2:$C$2000=AP$3)*(ROW(data_absen!$C$2:$C$2000)))-1)*1440,\"\")","v":""},{"$f":"IFERROR(INDEX(data_absen!$K$2:$K$2000,SUMPRODUCT((data_absen!$B$2:$B$2000=$A67)*(data_absen!$C$2:$C$2000=AU$3)*(ROW(data_absen!$C$2:$C$2000)))-1)*1440,\"\")","v":""},{"$f":"IFERROR(INDEX(data_absen!$I$2:$I$2000,SUMPRODUCT((data_absen!$B$2:$B$2000=$A67)*(data_absen!$C$2:$C$2000=AU$3)*(ROW(data_absen!$C$2:$C$2000)))-1)*1440,\"\")","v":""},null,null,{"$f":"IFERROR(INDEX(data_absen!$J$2:$J$2000,SUMPRODUCT((data_absen!$B$2:$B$2000=$A67)*(data_absen!$C$2:$C$2000=AU$3)*(ROW(data_absen!$C$2:$C$2000)))-1)*1440,\"\")","v":""},{"$f":"IFERROR(INDEX(data_absen!$K$2:$K$2000,SUMPRODUCT((data_absen!$B$2:$B$2000=$A67)*(data_absen!$C$2:$C$2000=AZ$3)*(ROW(data_absen!$C$2:$C$2000)))-1)*1440,\"\")","v":""},{"$f":"IFERROR(INDEX(data_absen!$I$2:$I$2000,SUMPRODUCT((data_absen!$B$2:$B$2000=$A67)*(data_absen!$C$2:$C$2000=AZ$3)*(ROW(data_absen!$C$2:$C$2000)))-1)*1440,\"\")","v":""},null,null,{"$f":"IFERROR(INDEX(data_absen!$J$2:$J$2000,SUMPRODUCT((data_absen!$B$2:$B$2000=$A67)*(data_absen!$C$2:$C$2000=AZ$3)*(ROW(data_absen!$C$2:$C$2000)))-1)*1440,\"\")","v":""},{"$f":"IFERROR(INDEX(data_absen!$K$2:$K$2000,SUMPRODUCT((data_absen!$B$2:$B$2000=$A67)*(data_absen!$C$2:$C$2000=BE$3)*(ROW(data_absen!$C$2:$C$2000)))-1)*1440,\"\")","v":""},{"$f":"IFERROR(INDEX(data_absen!$I$2:$I$2000,SUMPRODUCT((data_absen!$B$2:$B$2000=$A67)*(data_absen!$C$2:$C$2000=BE$3)*(ROW(data_absen!$C$2:$C$2000)))-1)*1440,\"\")","v":""},null,null,{"$f":"IFERROR(INDEX(data_absen!$J$2:$J$2000,SUMPRODUCT((data_absen!$B$2:$B$2000=$A67)*(data_absen!$C$2:$C$2000=BE$3)*(ROW(data_absen!$C$2:$C$2000)))-1)*1440,\"\")","v":""},{"$f":"IFERROR(INDEX(data_absen!$K$2:$K$2000,SUMPRODUCT((data_absen!$B$2:$B$2000=$A67)*(data_absen!$C$2:$C$2000=BJ$3)*(ROW(data_absen!$C$2:$C$2000)))-1)*1440,\"\")","v":""},{"$f":"IFERROR(INDEX(data_absen!$I$2:$I$2000,SUMPRODUCT((data_absen!$B$2:$B$2000=$A67)*(data_absen!$C$2:$C$2000=BJ$3)*(ROW(data_absen!$C$2:$C$2000)))-1)*1440,\"\")","v":""},null,null,{"$f":"IFERROR(INDEX(data_absen!$J$2:$J$2000,SUMPRODUCT((data_absen!$B$2:$B$2000=$A67)*(data_absen!$C$2:$C$2000=BJ$3)*(ROW(data_absen!$C$2:$C$2000)))-1)*1440,\"\")","v":""},{"$f":"IFERROR(INDEX(data_absen!$K$2:$K$2000,SUMPRODUCT((data_absen!$B$2:$B$2000=$A67)*(data_absen!$C$2:$C$2000=BO$3)*(ROW(data_absen!$C$2:$C$2000)))-1)*1440,\"\")","v":""},{"$f":"IFERROR(INDEX(data_absen!$I$2:$I$2000,SUMPRODUCT((data_absen!$B$2:$B$2000=$A67)*(data_absen!$C$2:$C$2000=BO$3)*(ROW(data_absen!$C$2:$C$2000)))-1)*1440,\"\")","v":""},null,null,{"$f":"IFERROR(INDEX(data_absen!$J$2:$J$2000,SUMPRODUCT((data_absen!$B$2:$B$2000=$A67)*(data_absen!$C$2:$C$2000=BO$3)*(ROW(data_absen!$C$2:$C$2000)))-1)*1440,\"\")","v":""},{"$f":"COUNTIFS(data_absen!$B$2:$B$2000,$A67,data_absen!$I$2:$I$2000,\">0\")","v":0}]
["Uswatun",{"$f":"INDEX(data_absen!$G$2:$G$2000,SUMPRODUCT((data_absen!$B$2:$B$2000=$A70)*(data_absen!$C$2:$C$2000=B$3)*(ROW(data_absen!$C$2:$C$2000)))-1)","v":""},null,"-",{"$f":"INDEX(data_absen!$H$2:$H$2000,SUMPRODUCT((data_absen!$B$2:$B$2000=$A70)*(data_absen!$C$2:$C$2000=B$3)*(ROW(data_absen!$C$2:$C$2000)))-1)","v":""},null,{"$f":"INDEX(data_absen!$G$2:$G$2000,SUMPRODUCT((data_absen!$B$2:$B$2000=$A70)*(data_absen!$C$2:$C$2000=G$3)*(ROW(data_absen!$C$2:$C$2000)))-1)","v":""},null,"-",{"$f":"INDEX(data_absen!$H$2:$H$2000,SUMPRODUCT((data_absen!$B$2:$B$2000=$A70)*(data_absen!$C$2:$C$2000=G$3)*(ROW(data_absen!$C$2:$C$2000)))-1)","v":""},null,{"$f":"INDEX(data_absen!$G$2:$G$2000,SUMPRODUCT((data_absen!$B$2:$B$2000=$A70)*(data_absen!$C$2:$C$2000=L$3)*(ROW(data_absen!$C$2:$C$2000)))-1)","v":""},null,"-",{"$f":"INDEX(data_absen!$H$2:$H$2000,SUMPRODUCT((data_absen!$B$2:$B$2000=$A70)*(data_absen!$C$2:$C$2000=L$3)*(ROW(data_absen!$C$2:$C$2000)))-1)","v":""},null,{"$f":"INDEX(data_absen!$G$2:$G$2000,SUMPRODUCT((data_absen!$B$2:$B$2000=$A70)*(data_absen!$C$2:$C$2000=Q$3)*(ROW(data_absen!$C$2:$C$2000)))-1)","v":""},null,"-",{"$f":"INDEX(data_absen!$H$2:$H$2000,SUMPRODUCT((data_absen!$B$2:$B$2000=$A70)*(data_absen!$C$2:$C$2000=Q$3)*(ROW(data_absen!$C$2:$C$2000)))-1)","v":""},null,{"$f":"INDEX(data_absen!$G$2:$G$2000,SUMPRODUCT((data_absen!$B$2:$B$2000=$A70)*(data_absen!$C$2:$C$2000=V$3)*(ROW(data_absen!$C$2:$C$2000)))-1)","v":""},null,"-",{"$f":"INDEX(data_absen!$H$2:$H$2000,SUMPRODUCT((data_absen!$B$2:$B$2000=$A70)*(data_absen!$C$2:$C$2000=V$3)*(ROW(data_absen!$C$2:$C$2000)))-1)","v":""},null,{"$f":"INDEX(data_absen!$G$2:$G$2000,SUMPRODUCT((data_absen!$B$2:$B$2000=$A70)*(data_absen!$C$2:$C$2000=AA$3)*(ROW(data_absen!$C$2:$C$2000)))-1)","v":""},null,"-",{"$f":"INDEX(data_absen!$H$2:$H$2000,SUMPRODUCT((data_absen!$B$2:$B$2000=$A70)*(data_absen!$C$2:$C$2000=AA$3)*(ROW(data_absen!$C$2:$C$2000)))-1)","v":""},null,{"$f":"INDEX(data_absen!$G$2:$G$2000,SUMPRODUCT((data_absen!$B$2:$B$2000=$A70)*(data_absen!$C$2:$C$2000=AF$3)*(ROW(data_absen!$C$2:$C$2000)))-1)","v":""},null,"-",{"$f":"INDEX(data_absen!$H$2:$H$2000,SUMPRODUCT((data_absen!$B$2:$B$2000=$A70)*(data_absen!$C$2:$C$2000=AF$3)*(ROW(data_absen!$C$2:$C$2000)))-1)","v":""},null,{"$f":"INDEX(data_absen!$G$2:$G$2000,SUMPRODUCT((data_absen!$B$2:$B$2000=$A70)*(data_absen!$C$2:$C$2000=AK$3)*(ROW(data_absen!$C$2:$C$2000)))-1)","v":""},null,"-",{"$f":"INDEX(data_absen!$H$2:$H$2000,SUMPRODUCT((data_absen!$B$2:$B$2000=$A70)*(data_absen!$C$2:$C$2000=AK$3)*(ROW(data_absen!$C$2:$C$2000)))-1)","v":""},null,{"$f":"INDEX(data_absen!$G$2:$G$2000,SUMPRODUCT((data_absen!$B$2:$B$2000=$A70)*(data_absen!$C$2:$C$2000=AP$3)*(ROW(data_absen!$C$2:$C$2000)))-1)","v":""},null,"-",{"$f":"INDEX(data_absen!$H$2:$H$2000,SUMPRODUCT((data_absen!$B$2:$B$2000=$A70)*(data_absen!$C$2:$C$2000=AP$3)*(ROW(data_absen!$C$2:$C$2000)))-1)","v":""},null,{"$f":"INDEX(data_absen!$G$2:$G$2000,SUMPRODUCT((data_absen!$B$2:$B$2000=$A70)*(data_absen!$C$2:$C$2000=AU$3)*(ROW(data_absen!$C$2:$C$2000)))-1)","v":""},null,"-",{"$f":"INDEX(data_absen!$H$2:$H$2000,SUMPRODUCT((data_absen!$B$2:$B$2000=$A70)*(data_absen!$C$2:$C$2000=AU$3)*(ROW(data_absen!$C$2:$C$2000)))-1)","v":""},null,{"$f":"INDEX(data_absen!$G$2:$G$2000,SUMPRODUCT((data_absen!$B$2:$B$2000=$A70)*(data_absen!$C$2:$C$2000=AZ$3)*(ROW(data_absen!$C$2:$C$2000)))-1)","v":""},null,"-",{"$f":"INDEX(data_absen!$H$2:$H$2000,SUMPRODUCT((data_absen!$B$2:$B$2000=$A70)*(data_absen!$C$2:$C$2000=AZ$3)*(ROW(data_absen!$C$2:$C$2000)))-1)","v":""},null,{"$f":"INDEX(data_absen!$G$2:$G$2000,SUMPRODUCT((data_absen!$B$2:$B$2000=$A70)*(data_absen!$C$2:$C$2000=BE$3)*(ROW(data_absen!$C$2:$C$2000)))-1)","v":""},null,"-",{"$f":"INDEX(data_absen!$H$2:$H$2000,SUMPRODUCT((data_absen!$B$2:$B$2000=$A70)*(data_absen!$C$2:$C$2000=BE$3)*(ROW(data_absen!$C$2:$C$2000)))-1)","v":""},null,{"$f":"INDEX(data_absen!$G$2:$G$2000,SUMPRODUCT((data_absen!$B$2:$B$2000=$A70)*(data_absen!$C$2:$C$2000=BJ$3)*(ROW(data_absen!$C$2:$C$2000)))-1)","v":""},null,"-",{"$f":"INDEX(data_absen!$H$2:$H$2000,SUMPRODUCT((data_absen!$B$2:$B$2000=$A70)*(data_absen!$C$2:$C$2000=BJ$3)*(ROW(data_absen!$C$2:$C$2000)))-1)","v":""},null,{"$f":"INDEX(data_absen!$G$2:$G$2000,SUMPRODUCT((data_absen!$B$2:$B$2000=$A70)*(data_absen!$C$2:$C$2000=BO$3)*(ROW(data_absen!$C$2:$C$2000)))-1)","v":""},null,"-",{"$f":"INDEX(data_absen!$H$2:$H$2000,SUMPRODUCT((data_absen!$B$2:$B$2000=$A70)*(data_absen!$C$2:$C$2000=BO$3)*(ROW(data_absen!$C$2:$C$2000)))-1)","v":""}]
[320,null,null,"-",null,null,null,null,"-",null,null,null,null,"-",null,null,null,null,"-",null,null,null,null,"-",null,null,null,null,"-",null,null,null,null,"-",null,null,null,null,"-",null,null,null,null,"-",null,null,null,null,"-",null,null,null,null,"-",null,null,null,null,"-",null,null,null,null,"-",null,null,null,null,"-"]
[null,{"$f":"IFERROR(INDEX(data_absen!$K$2:$K$2000,SUMPRODUCT((data_absen!$B$2:$B$2000=$A70)*(data_absen!$C$2:$C$2000=B$3)*(ROW(data_absen!$C$2:$C$2000)))-1)*1440,\"\")","v":""},{"$f":"IFERROR(INDEX(data_absen!$I$2:$I$2000,SUMPRODUCT((data_absen!$B$2:$B$2000=$A70)*(data_absen!$C$2:$C$2000=B$3)*(ROW(data_absen!$C$2:$C$2000)))-1)*1440,\"\")","v":""},null,null,{"$f":"IFERROR(INDEX(data_absen!$J$2:$J$2000,SUMPRODUCT((data_absen!$B$2:$B$2000=$A70)*(data_absen!$C$2:$C$2000=B$3)*(ROW(data_absen!$C$2:$C$2000)))-1)*1440,\"\")","v":""},{"$f":"IFERROR(INDEX(data_absen!$K$2:$K$2000,SUMPRODUCT((data_absen!$B$2:$B$2000=$A70)*(data_absen!$C$2:$C$2000=G$3)*(ROW(data_absen!$C$2:$C$2000)))-1)*1440,\"\")","v":""},{"$f":"IFERROR(INDEX(data_absen!$I$2:$I$2000,SUMPRODUCT((data_absen!$B$2:$B$2000=$A70)*(data_absen!$C$2:$C$2000=G$3)*(ROW(data_absen!$C$2:$C$2000)))-1)*1440,\"\")","v":""},null,null,{"$f":"IFERROR(INDEX(data_absen!$J$2:$J$2000,SUMPRODUCT((data_absen!$B$2:$B$2000=$A70)*(data_absen!$C$2:$C$2000=G$3)*(ROW(data_absen!$C$2:$C$2000)))-1)*1440,\"\")","v":""},{"$f":"IFERROR(INDEX(data_absen!$K$2:$K$2000,SUMPRODUCT((data_absen!$B$2:$B$2000=$A70)*(data_absen!$C$2:$C$2000=L$3)*(ROW(data_absen!$C$2:$C$2000)))-1)*1440,\"\")","v":""},{"$f":"IFERROR(INDEX(data_absen!$I$2:$I$2000,SUMPRODUCT((data_absen!$B$2:$B$2000=$A70)*(data_absen!$C$2:$C$2000=L$3)*(ROW(data_absen!$C$2:$C$2000)))-1)*1440,\"\")","v":""},null,null,{"$f":"IFERROR(INDEX(data_absen!$J$2:$J$2000,SUMPRODUCT((data_absen!$B$2:$B$2000=$A70)*(data_absen!$C$2:$C$2000=L$3)*(ROW(data_absen!$C$2:$C$2000)))-1)*1440,\"\")","v":""},{"$f":"IFERROR(INDEX(data_absen!$K$2:$K$2000,SUMPRODUCT((data_absen!$B$2:$B$2000=$A70)*(data_absen!$C$2:$C$2000=Q$3)*(ROW(data_absen!$C$2:$C$2000)))-1)*1440,\"\")","v":""},{"$f":"IFERROR(INDEX(data_absen!$I$2:$I$2000,SUMPRODUCT((data_absen!$B$2:$B$2000=$A70)*(data_absen!$C$2:$C$2000=Q$3)*(ROW(data_absen!$C$2:$C$2000)))-1)*1440,\"\")","v":""},null,null,{"$f":"IFERROR(INDEX(data_absen!$J$2:$J$2000,SUMPRODUCT((data_absen!$B$2:$B$2000=$A70)*(data_absen!$C$2:$C$2000=Q$3)*(ROW(data_absen!$C$2:$C$2000)))-1)*1440,\"\")","v":""},{"$f":"IFERROR(INDEX(data_absen!$K$2:$K$2000,SUMPRODUCT((data_absen!$B$2:$B$2000=$A70)*(data_absen!$C$2:$C$2000=V$3)*(ROW(data_absen!$C$2:$C$2000)))-1)*1440,\"\")","v":""},{"$f":"IFERROR(INDEX(data_absen!$I$2:$I$2000,SUMPRODUCT((data_absen!$B$2:$B$2000=$A70)*(data_absen!$C$2:$C$2000=V$3)*(ROW(data_absen!$C$2:$C$2000)))-1)*1440,\"\")","v":""},null,null,{"$f":"IFERROR(INDEX(data_absen!$J$2:$J$2000,SUMPRODUCT((data_absen!$B$2:$B$2000=$A70)*(data_absen!$C$2:$C$2000=V$3)*(ROW(data_absen!$C$2:$C$2000)))-1)*1440,\"\")","v":""},{"$f":"IFERROR(INDEX(data_absen!$K$2:$K$2000,SUMPRODUCT((data_absen!$B$2:$B$2000=$A70)*(data_absen!$C$2:$C$2000=AA$3)*(ROW(data_absen!$C$2:$C$2000)))-1)*1440,\"\")","v":""},{"$f":"IFERROR(INDEX(data_absen!$I$2:$I$2000,SUMPRODUCT((data_absen!$B$2:$B$2000=$A70)*(data_absen!$C$2:$C$2000=AA$3)*(ROW(data_absen!$C$2:$C$2000)))-1)*1440,\"\")","v":""},null,null,{"$f":"IFERROR(INDEX(data_absen!$J$2:$J$2000,SUMPRODUCT((data_absen!$B$2:$B$2000=$A70)*(data_absen!$C$2:$C$2000=AA$3)*(ROW(data_absen!$C$2:$C$2000)))-1)*1440,\"\")","v":""},{"$f":"IFERROR(INDEX(data_absen!$K$2:$K$2000,SUMPRODUCT((data_absen!$B$2:$B$2000=$A70)*(data_absen!$C$2:$C$2000=AF$3)*(ROW(data_absen!$C$2:$C$2000)))-1)*1440,\"\")","v":""},{"$f":"IFERROR(INDEX(data_absen!$I$2:$I$2000,SUMPRODUCT((data_absen!$B$2:$B$2000=$A70)*(data_absen!$C$2:$C$2000=AF$3)*(ROW(data_absen!$C$2:$C$2000)))-1)*1440,\"\")","v":""},null,null,{"$f":"IFERROR(INDEX(data_absen!$J$2:$J$2000,SUMPRODUCT((data_absen!$B$2:$B$2000=$A70)*(data_absen!$C$2:$C$2000=AF$3)*(ROW(data_absen!$C$2:$C$2000)))-1)*1440,\"\")","v":""},{"$f":"IFERROR(INDEX(data_absen!$K$2:$K$2000,SUMPRODUCT((data_absen!$B$2:$B$2000=$A70)*(data_absen!$C$2:$C$2000=AK$3)*(ROW(data_absen!$C$2:$C$2000)))-1)*1440,\"\")","v":""},{"$f":"IFERROR(INDEX(data_absen!$I$2:$I$2000,SUMPRODUCT((data_absen!$B$2:$B$2000=$A70)*(data_absen!$C$2:$C$2000=AK$3)*(ROW(data_absen!$C$2:$C$2000)))-1)*1440,\"\")","v":""},null,null,{"$f":"IFERROR(INDEX(data_absen!$J$2:$J$2000,SUMPRODUCT((data_absen!$B$2:$B$2000=$A70)*(data_absen!$C$2:$C$2000=AK$3)*(ROW(data_absen!$C$2:$C$2000)))-1)*1440,\"\")","v":""},{"$f":"IFERROR(INDEX(data_absen!$K$2:$K$2000,SUMPRODUCT((data_absen!$B$2:$B$2000=$A70)*(data_absen!$C$2:$C$2000=AP$3)*(ROW(data_absen!$C$2:$C$2000)))-1)*1440,\"\")","v":""},{"$f":"IFERROR(INDEX(data_absen!$I$2:$I$2000,SUMPRODUCT((data_absen!$B$2:$B$2000=$A70)*(data_absen!$C$2:$C$2000=AP$3)*(ROW(data_absen!$C$2:$C$2000)))-1)*1440,\"\")","v":""},null,null,{"$f":"IFERROR(INDEX(data_absen!$J$2:$J$2000,SUMPRODUCT((data_absen!$B$2:$B$2000=$A70)*(data_absen!$C$2:$C$2000=AP$3)*(ROW(data_absen!$C$2:$C$2000)))-1)*1440,\"\")","v":""},{"$f":"IFERROR(INDEX(data_absen!$K$2:$K$2000,SUMPRODUCT((data_absen!$B$2:$B$2000=$A70)*(data_absen!$C$2:$C$2000=AU$3)*(ROW(data_absen!$C$2:$C$2000)))-1)*1440,\"\")","v":""},{"$f":"IFERROR(INDEX(data_absen!$I$2:$I$2000,SUMPRODUCT((data_absen!$B$2:$B$2000=$A70)*(data_absen!$C$2:$C$2000=AU$3)*(ROW(data_absen!$C$2:$C$2000)))-1)*1440,\"\")","v":""},null,null,{"$f":"IFERROR(INDEX(data_absen!$J$2:$J$2000,SUMPRODUCT((data_absen!$B$2:$B$2000=$A70)*(data_absen!$C$2:$C$2000=AU$3)*(ROW(data_absen!$C$2:$C$2000)))-1)*1440,\"\")","v":""},{"$f":"IFERROR(INDEX(data_absen!$K$2:$K$2000,SUMPRODUCT((data_absen!$B$2:$B$2000=$A70)*(data_absen!$C$2:$C$2000=AZ$3)*(ROW(data_absen!$C$2:$C$2000)))-1)*1440,\"\")","v":""},{"$f":"IFERROR(INDEX(data_absen!$I$2:$I$2000,SUMPRODUCT((data_absen!$B$2:$B$2000=$A70)*(data_absen!$C$2:$C$2000=AZ$3)*(ROW(data_absen!$C$2:$C$2000)))-1)*1440,\"\")","v":""},null,null,{"$f":"IFERROR(INDEX(data_absen!$J$2:$J$2000,SUMPRODUCT((data_absen!$B$2:$B$2000=$A70)*(data_absen!$C$2:$C$2000=AZ$3)*(ROW(data_absen!$C$2:$C$2000)))-1)*1440,\"\")","v":""},{"$f":"IFERROR(INDEX(data_absen!$K$2:$K$2000,SUMPRODUCT((data_absen!$B$2:$B$2000=$A70)*(data_absen!$C$2:$C$2000=BE$3)*(ROW(data_absen!$C$2:$C$2000)))-1)*1440,\"\")","v":""},{"$f":"IFERROR(INDEX(data_absen!$I$2:$I$2000,SUMPRODUCT((data_absen!$B$2:$B$2000=$A70)*(data_absen!$C$2:$C$2000=BE$3)*(ROW(data_absen!$C$2:$C$2000)))-1)*1440,\"\")","v":""},null,null,{"$f":"IFERROR(INDEX(data_absen!$J$2:$J$2000,SUMPRODUCT((data_absen!$B$2:$B$2000=$A70)*(data_absen!$C$2:$C$2000=BE$3)*(ROW(data_absen!$C$2:$C$2000)))-1)*1440,\"\")","v":""},{"$f":"IFERROR(INDEX(data_absen!$K$2:$K$2000,SUMPRODUCT((data_absen!$B$2:$B$2000=$A70)*(data_absen!$C$2:$C$2000=BJ$3)*(ROW(data_absen!$C$2:$C$2000)))-1)*1440,\"\")","v":""},{"$f":"IFERROR(INDEX(data_absen!$I$2:$I$2000,SUMPRODUCT((data_absen!$B$2:$B$2000=$A70)*(data_absen!$C$2:$C$2000=BJ$3)*(ROW(data_absen!$C$2:$C$2000)))-1)*1440,\"\")","v":""},null,null,{"$f":"IFERROR(INDEX(data_absen!$J$2:$J$2000,SUMPRODUCT((data_absen!$B$2:$B$2000=$A70)*(data_absen!$C$2:$C$2000=BJ$3)*(ROW(data_absen!$C$2:$C$2000)))-1)*1440,\"\")","v":""},{"$f":"IFERROR(INDEX(data_absen!$K$2:$K$2000,SUMPRODUCT((data_absen!$B$2:$B$2000=$A70)*(data_absen!$C$2:$C$2000=BO$3)*(ROW(data_absen!$C$2:$C$2000)))-1)*1440,\"\")","v":""},{"$f":"IFERROR(INDEX(data_absen!$I$2:$I$2000,SUMPRODUCT((data_absen!$B$2:$B$2000=$A70)*(data_absen!$C$2:$C$2000=BO$3)*(ROW(data_absen!$C$2:$C$2000)))-1)*1440,\"\")","v":""},null,null,{"$f":"IFERROR(INDEX(data_absen!$J$2:$J$2000,SUMPRODUCT((data_absen!$B$2:$B$2000=$A70)*(data_absen!$C$2:$C$2000=BO$3)*(ROW(data_absen!$C$2:$C$2000)))-1)*1440,\"\")","v":""},{"$f":"COUNTIFS(data_absen!$B$2:$B$2000,$A70,data_absen!$I$2:$I$2000,\">0\")","v":0}]
["Deni B",{"$f":"INDEX(data_absen!$G$2:$G$2000,SUMPRODUCT((data_absen!$B$2:$B$2000=$A73)*(data_absen!$C$2:$C$2000=B$3)*(ROW(data_absen!$C$2:$C$2000)))-1)","v":""},null,"-",{"$f":"INDEX(data_absen!$H$2:$H$2000,SUMPRODUCT((data_absen!$B$2:$B$2000=$A73)*(data_absen!$C$2:$C$2000=B$3)*(ROW(data_absen!$C$2:$C$2000)))-1)","v":""},null,{"$f":"INDEX(data_absen!$G$2:$G$2000,SUMPRODUCT((data_absen!$B$2:$B$2000=$A73)*(data_absen!$C$2:$C$2000=G$3)*(ROW(data_absen!$C$2:$C$2000)))-1)","v":"06:53:00"},null,"-",{"$f":"INDEX(data_absen!$H$2:$H$2000,SUMPRODUCT((data_absen!$B$2:$B$2000=$A73)*(data_absen!$C$2:$C$2000=G$3)*(ROW(data_absen!$C$2:$C$2000)))-1)","v":"16:05:00"},null,{"$f":"INDEX(data_absen!$G$2:$G$2000,SUMPRODUCT((data_absen!$B$2:$B$2000=$A73)*(data_absen!$C$2:$C$2000=L$3)*(ROW(data_absen!$C$2:$C$2000)))-1)","v":"06:50:00"},null,"-",{"$f":"INDEX(data_absen!$H$2:$H$2000,SUMPRODUCT((data_absen!$B$2:$B$2000=$A73)*(data_absen!$C$2:$C$2000=L$3)*(ROW(data_absen!$C$2:$C$2000)))-1)","v":""},null,{"$f":"INDEX(data_absen!$G$2:$G$2000,SUMPRODUCT((data_absen!$B$2:$B$2000=$A73)*(data_absen!$C$2:$C$2000=Q$3)*(ROW(data_absen!$C$2:$C$2000)))-1)","v":""},null,"-",{"$f":"INDEX(data_absen!$H$2:$H$2000,SUMPRODUCT((data_absen!$B$2:$B$2000=$A73)*(data_absen!$C$2:$C$2000=Q$3)*(ROW(data_absen!$C$2:$C$2000)))-1)","v":""},null,{"$f":"INDEX(data_absen!$G$2:$G$2000,SUMPRODUCT((data_absen!$B$2:$B$2000=$A73)*(data_absen!$C$2:$C$2000=V$3)*(ROW(data_absen!$C$2:$C$2000)))-1)","v":""},null,"-",{"$f":"INDEX(data_absen!$H$2:$H$2000,SUMPRODUCT((data_absen!$B$2:$B$2000=$A73)*(data_absen!$C$2:$C$2000=V$3)*(ROW(data_absen!$C$2:$C$2000)))-1)","v":""},null,{"$f":"INDEX(data_absen!$G$2:$G$2000,SUMPRODUCT((data_absen!$B$2:$B$2000=$A73)*(data_absen!$C$2:$C$2000=AA$3)*(ROW(data_absen!$C$2:$C$2000)))-1)","v":""},null,"-",{"$f":"INDEX(data_absen!$H$2:$H$2000,SUMPRODUCT((data_absen!$B$2:$B$2000=$A73)*(data_absen!$C$2:$C$2000=AA$3)*(ROW(data_absen!$C$2:$C$2000)))-1)","v":""},null,{"$f":"INDEX(data_absen!$G$2:$G$2000,SUMPRODUCT((data_absen!$B$2:$B$2000=$A73)*(data_absen!$C$2:$C$2000=AF$3)*(ROW(data_absen!$C$2:$C$2000)))-1)","v":""},null,"-",{"$f":"INDEX(data_absen!$H$2:$H$2000,SUMPRODUCT((data_absen!$B$2:$B$2000=$A73)*(data_absen!$C$2:$C$2000=AF$3)*(ROW(data_absen!$C$2:$C$2000)))-1)","v":""},null,{"$f":"INDEX(data_absen!$G$2:$G$2000,SUMPRODUCT((data_absen!$B$2:$B$2000=$A73)*(data_absen!$C$2:$C$2000=AK$3)*(ROW(data_absen!$C$2:$C$2000)))-1)","v":""},null,"-",{"$f":"INDEX(data_absen!$H$2:$H$2000,SUMPRODUCT((data_absen!$B$2:$B$2000=$A73)*(data_absen!$C$2:$C$2000=AK$3)*(ROW(data_absen!$C$2:$C$2000)))-1)","v":""},null,{"$f":"INDEX(data_absen!$G$2:$G$2000,SUMPRODUCT((data_absen!$B$2:$B$2000=$A73)*(data_absen!$C$2:$C$2000=AP$3)*(ROW(data_absen!$C$2:$C$2000)))-1)","v":""},null,"-",{"$f":"INDEX(data_absen!$H$2:$H$2000,SUMPRODUCT((data_absen!$B$2:$B$2000=$A73)*(data_absen!$C$2:$C$2000=AP$3)*(ROW(data_absen!$C$2:$C$2000)))-1)","v":""},null,{"$f":"INDEX(data_absen!$G$2:$G$2000,SUMPRODUCT((data_absen!$B$2:$B$2000=$A73)*(data_absen!$C$2:$C$2000=AU$3)*(ROW(data_absen!$C$2:$C$2000)))-1)","v":""},null,"-",{"$f":"INDEX(data_absen!$H$2:$H$2000,SUMPRODUCT((data_absen!$B$2:$B$2000=$A73)*(data_absen!$C$2:$C$2000=AU$3)*(ROW(data_absen!$C$2:$C$2000)))-1)","v":""},null,{"$f":"INDEX(data_absen!$G$2:$G$2000,SUMPRODUCT((data_absen!$B$2:$B$2000=$A73)*(data_absen!$C$2:$C$2000=AZ$3)*(ROW(data_absen!$C$2:$C$2000)))-1)","v":""},null,"-",{"$f":"INDEX(data_absen!$H$2:$H$2000,SUMPRODUCT((data_absen!$B$2:$B$2000=$A73)*(data_absen!$C$2:$C$2000=AZ$3)*(ROW(data_absen!$C$2:$C$2000)))-1)","v":""},null,{"$f":"INDEX(data_absen!$G$2:$G$2000,SUMPRODUCT((data_absen!$B$2:$B$2000=$A73)*(data_absen!$C$2:$C$2000=BE$3)*(ROW(data_absen!$C$2:$C$2000)))-1)","v":""},null,"-",{"$f":"INDEX(data_absen!$H$2:$H$2000,SUMPRODUCT((data_absen!$B$2:$B$2000=$A73)*(data_absen!$C$2:$C$2000=BE$3)*(ROW(data_absen!$C$2:$C$2000)))-1)","v":""},null,{"$f":"INDEX(data_absen!$G$2:$G$2000,SUMPRODUCT((data_absen!$B$2:$B$2000=$A73)*(data_absen!$C$2:$C$2000=BJ$3)*(ROW(data_absen!$C$2:$C$2000)))-1)","v":""},null,"-",{"$f":"INDEX(data_absen!$H$2:$H$2000,SUMPRODUCT((data_absen!$B$2:$B$2000=$A73)*(data_absen!$C$2:$C$2000=BJ$3)*(ROW(data_absen!$C$2:$C$2000)))-1)","v":""},null,{"$f":"INDEX(data_absen!$G$2:$G$2000,SUMPRODUCT((data_absen!$B$2:$B$2000=$A73)*(data_absen!$C$2:$C$2000=BO$3)*(ROW(data_absen!$C$2:$C$2000)))-1)","v":""},null,"-",{"$f":"INDEX(data_absen!$H$2:$H$2000,SUMPRODUCT((data_absen!$B$2:$B$2000=$A73)*(data_absen!$C$2:$C$2000=BO$3)*(ROW(data_absen!$C$2:$C$2000)))-1)","v":""}]
[321,null,null,"-",null,null,null,null,"-",null,null,null,null,"-",null,null,null,null,"-",null,null,null,null,"-",null,null,null,null,"-",null,null,null,null,"-",null,null,null,null,"-",null,null,null,null,"-",null,null,null,null,"-",null,null,null,null,"-",null,null,null,null,"-",null,null,null,null,"-",null,null,null,null,"-"]
[null,{"$f":"IFERROR(INDEX(data_absen!$K$2:$K$2000,SUMPRODUCT((data_absen!$B$2:$B$2000=$A73)*(data_absen!$C$2:$C$2000=B$3)*(ROW(data_absen!$C$2:$C$2000)))-1)*1440,\"\")","v":""},{"$f":"IFERROR(INDEX(data_absen!$I$2:$I$2000,SUMPRODUCT((data_absen!$B$2:$B$2000=$A73)*(data_absen!$C$2:$C$2000=B$3)*(ROW(data_absen!$C$2:$C$2000)))-1)*1440,\"\")","v":""},null,null,{"$f":"IFERROR(INDEX(data_absen!$J$2:$J$2000,SUMPRODUCT((data_absen!$B$2:$B$2000=$A73)*(data_absen!$C$2:$C$2000=B$3)*(ROW(data_absen!$C$2:$C$2000)))-1)*1440,\"\")","v":""},{"$f":"IFERROR(INDEX(data_absen!$K$2:$K$2000,SUMPRODUCT((data_absen!$B$2:$B$2000=$A73)*(data_absen!$C$2:$C$2000=G$3)*(ROW(data_absen!$C$2:$C$2000)))-1)*1440,\"\")","v":""},{"$f":"IFERROR(INDEX(data_absen!$I$2:$I$2000,SUMPRODUCT((data_absen!$B$2:$B$2000=$A73)*(data_absen!$C$2:$C$2000=G$3)*(ROW(data_absen!$C$2:$C$2000)))-1)*1440,\"\")","v":3},null,null,{"$f":"IFERROR(INDEX(data_absen!$J$2:$J$2000,SUMPRODUCT((data_absen!$B$2:$B$2000=$A73)*(data_absen!$C$2:$C$2000=G$3)*(ROW(data_absen!$C$2:$C$2000)))-1)*1440,\"\")","v":54.999999999999993},{"$f":"IFERROR(INDEX(data_absen!$K$2:$K$2000,SUMPRODUCT((data_absen!$B$2:$B$2000=$A73)*(data_absen!$C$2:$C$2000=L$3)*(ROW(data_absen!$C$2:$C$2000)))-1)*1440,\"\")","v":""},{"$f":"IFERROR(INDEX(data_absen!$I$2:$I$2000,SUMPRODUCT((data_absen!$B$2:$B$2000=$A73)*(data_absen!$C$2:$C$2000=L$3)*(ROW(data_absen!$C$2:$C$2000)))-1)*1440,\"\")","v":0},null,null,{"$f":"IFERROR(INDEX(data_absen!$J$2:$J$2000,SUMPRODUCT((data_absen!$B$2:$B$2000=$A73)*(data_absen!$C$2:$C$2000=L$3)*(ROW(data_absen!$C$2:$C$2000)))-1)*1440,\"\")","v":120},{"$f":"IFERROR(INDEX(data_absen!$K$2:$K$2000,SUMPRODUCT((data_absen!$B$2:$B$2000=$A73)*(data_absen!$C$2:$C$2000=Q$3)*(ROW(data_absen!$C$2:$C$2000)))-1)*1440,\"\")","v":""},{"$f":"IFERROR(INDEX(data_absen!$I$2:$I$2000,SUMPRODUCT((data_absen!$B$2:$B$2000=$A73)*(data_absen!$C$2:$C$2000=Q$3)*(ROW(data_absen!$C$2:$C$2000)))-1)*1440,\"\")","v":""},null,null,{"$f":"IFERROR(INDEX(data_absen!$J$2:$J$2000,SUMPRODUCT((data_absen!$B$2:$B$2000=$A73)*(data_absen!$C$2:$C$2000=Q$3)*(ROW(data_absen!$C$2:$C$2000)))-1)*1440,\"\")","v":""},{"$f":"IFERROR(INDEX(data_absen!$K$2:$K$2000,SUMPRODUCT((data_absen!$B$2:$B$2000=$A73)*(data_absen!$C$2:$C$2000=V$3)*(ROW(data_absen!$C$2:$C$2000)))-1)*1440,\"\")","v":""},{"$f":"IFERROR(INDEX(data_absen!$I$2:$I$2000,SUMPRODUCT((data_absen!$B$2:$B$2000=$A73)*(data_absen!$C$2:$C$2000=V$3)*(ROW(data_absen!$C$2:$C$2000)))-1)*1440,\"\")","v":""},null,null,{"$f":"IFERROR(INDEX(data_absen!$J$2:$J$2000,SUMPRODUCT((data_absen!$B$2:$B$2000=$A73)*(data_absen!$C$2:$C$2000=V$3)*(ROW(data_absen!$C$2:$C$2000)))-1)*1440,\"\")","v":""},{"$f":"IFERROR(INDEX(data_absen!$K$2:$K$2000,SUMPRODUCT((data_absen!$B$2:$B$2000=$A73)*(data_absen!$C$2:$C$2000=AA$3)*(ROW(data_absen!$C$2:$C$2000)))-1)*1440,\"\")","v":""},{"$f":"IFERROR(INDEX(data_absen!$I$2:$I$2000,SUMPRODUCT((data_absen!$B$2:$B$2000=$A73)*(data_absen!$C$2:$C$2000=AA$3)*(ROW(data_absen!$C$2:$C$2000)))-1)*1440,\"\")","v":""},null,null,{"$f":"IFERROR(INDEX(data_absen!$J$2:$J$2000,SUMPRODUCT((data_absen!$B$2:$B$2000=$A73)*(data_absen!$C$2:$C$2000=AA$3)*(ROW(data_absen!$C$2:$C$2000)))-1)*1440,\"\")","v":""},{"$f":"IFERROR(INDEX(data_absen!$K$2:$K$2000,SUMPRODUCT((data_absen!$B$2:$B$2000=$A73)*(data_absen!$C$2:$C$2000=AF$3)*(ROW(data_absen!$C$2:$C$2000)))-1)*1440,\"\")","v":""},{"$f":"IFERROR(INDEX(data_absen!$I$2:$I$2000,SUMPRODUCT((data_absen!$B$2:$B$2000=$A73)*(data_absen!$C$2:$C$2000=AF$3)*(ROW(data_absen!$C$2:$C$2000)))-1)*1440,\"\")","v":""},null,null,{"$f":"IFERROR(INDEX(data_absen!$J$2:$J$2000,SUMPRODUCT((data_absen!$B$2:$B$2000=$A73)*(data_absen!$C$2:$C$2000=AF$3)*(ROW(data_absen!$C$2:$C$2000)))-1)*1440,\"\")","v":""},{"$f":"IFERROR(INDEX(data_absen!$K$2:$K$2000,SUMPRODUCT((data_absen!$B$2:$B$2000=$A73)*(data_absen!$C$2:$C$2000=AK$3)*(ROW(data_absen!$C$2:$C$2000)))-1)*1440,\"\")","v":""},{"$f":"IFERROR(INDEX(data_absen!$I$2:$I$2000,SUMPRODUCT((data_absen!$B$2:$B$2000=$A73)*(data_absen!$C$2:$C$2000=AK$3)*(ROW(data_absen!$C$2:$C$2000)))-1)*1440,\"\")","v":""},null,null,{"$f":"IFERROR(INDEX(data_absen!$J$2:$J$2000,SUMPRODUCT((data_absen!$B$2:$B$2000=$A73)*(data_absen!$C$2:$C$2000=AK$3)*(ROW(data_absen!$C$2:$C$2000)))-1)*1440,\"\")","v":""},{"$f":"IFERROR(INDEX(data_absen!$K$2:$K$2000,SUMPRODUCT((data_absen!$B$2:$B$2000=$A73)*(data_absen!$C$2:$C$2000=AP$3)*(ROW(data_absen!$C$2:$C$2000)))-1)*1440,\"\")","v":""},{"$f":"IFERROR(INDEX(data_absen!$I$2:$I$2000,SUMPRODUCT((data_absen!$B$2:$B$2000=$A73)*(data_absen!$C$2:$C$2000=AP$3)*(ROW(data_absen!$C$2:$C$2000)))-1)*1440,\"\")","v":""},null,null,{"$f":"IFERROR(INDEX(data_absen!$J$2:$J$2000,SUMPRODUCT((data_absen!$B$2:$B$2000=$A73)*(data_absen!$C$2:$C$2000=AP$3)*(ROW(data_absen!$C$2:$C$2000)))-1)*1440,\"\")","v":""},{"$f":"IFERROR(INDEX(data_absen!$K$2:$K$2000,SUMPRODUCT((data_absen!$B$2:$B$2000=$A73)*(data_absen!$C$2:$C$2000=AU$3)*(ROW(data_absen!$C$2:$C$2000)))-1)*1440,\"\")","v":""},{"$f":"IFERROR(INDEX(data_absen!$I$2:$I$2000,SUMPRODUCT((data_absen!$B$2:$B$2000=$A73)*(data_absen!$C$2:$C$2000=AU$3)*(ROW(data_absen!$C$2:$C$2000)))-1)*1440,\"\")","v":""},null,null,{"$f":"IFERROR(INDEX(data_absen!$J$2:$J$2000,SUMPRODUCT((data_absen!$B$2:$B$2000=$A73)*(data_absen!$C$2:$C$2000=AU$3)*(ROW(data_absen!$C$2:$C$2000)))-1)*1440,\"\")","v":""},{"$f":"IFERROR(INDEX(data_absen!$K$2:$K$2000,SUMPRODUCT((data_absen!$B$2:$B$2000=$A73)*(data_absen!$C$2:$C$2000=AZ$3)*(ROW(data_absen!$C$2:$C$2000)))-1)*1440,\"\")","v":""},{"$f":"IFERROR(INDEX(data_absen!$I$2:$I$2000,SUMPRODUCT((data_absen!$B$2:$B$2000=$A73)*(data_absen!$C$2:$C$2000=AZ$3)*(ROW(data_absen!$C$2:$C$2000)))-1)*1440,\"\")","v":""},null,null,{"$f":"IFERROR(INDEX(data_absen!$J$2:$J$2000,SUMPRODUCT((data_absen!$B$2:$B$2000=$A73)*(data_absen!$C$2:$C$2000=AZ$3)*(ROW(data_absen!$C$2:$C$2000)))-1)*1440,\"\")","v":""},{"$f":"IFERROR(INDEX(data_absen!$K$2:$K$2000,SUMPRODUCT((data_absen!$B$2:$B$2000=$A73)*(data_absen!$C$2:$C$2000=BE$3)*(ROW(data_absen!$C$2:$C$2000)))-1)*1440,\"\")","v":""},{"$f":"IFERROR(INDEX(data_absen!$I$2:$I$2000,SUMPRODUCT((data_absen!$B$2:$B$2000=$A73)*(data_absen!$C$2:$C$2000=BE$3)*(ROW(data_absen!$C$2:$C$2000)))-1)*1440,\"\")","v":""},null,null,{"$f":"IFERROR(INDEX(data_absen!$J$2:$J$2000,SUMPRODUCT((data_absen!$B$2:$B$2000=$A73)*(data_absen!$C$2:$C$2000=BE$3)*(ROW(data_absen!$C$2:$C$2000)))-1)*1440,\"\")","v":""},{"$f":"IFERROR(INDEX(data_absen!$K$2:$K$2000,SUMPRODUCT((data_absen!$B$2:$B$2000=$A73)*(data_absen!$C$2:$C$2000=BJ$3)*(ROW(data_absen!$C$2:$C$2000)))-1)*1440,\"\")","v":""},{"$f":"IFERROR(INDEX(data_absen!$I$2:$I$2000,SUMPRODUCT((data_absen!$B$2:$B$2000=$A73)*(data_absen!$C$2:$C$2000=BJ$3)*(ROW(data_absen!$C$2:$C$2000)))-1)*1440,\"\")","v":""},null,null,{"$f":"IFERROR(INDEX(data_absen!$J$2:$J$2000,SUMPRODUCT((data_absen!$B$2:$B$2000=$A73)*(data_absen!$C$2:$C$2000=BJ$3)*(ROW(data_absen!$C$2:$C$2000)))-1)*1440,\"\")","v":""},{"$f":"IFERROR(INDEX(data_absen!$K$2:$K$2000,SUMPRODUCT((data_absen!$B$2:$B$2000=$A73)*(data_absen!$C$2:$C$2000=BO$3)*(ROW(data_absen!$C$2:$C$2000)))-1)*1440,\"\")","v":""},{"$f":"IFERROR(INDEX(data_absen!$I$2:$I$2000,SUMPRODUCT((data_absen!$B$2:$B$2000=$A73)*(data_absen!$C$2:$C$2000=BO$3)*(ROW(data_absen!$C$2:$C$2000)))-1)*1440,\"\")","v":""},null,null,{"$f":"IFERROR(INDEX(data_absen!$J$2:$J$2000,SUMPRODUCT((data_absen!$B$2:$B$2000=$A73)*(data_absen!$C$2:$C$2000=BO$3)*(ROW(data_absen!$C$2:$C$2000)))-1)*1440,\"\")","v":""},{"$f":"COUNTIFS(data_absen!$B$2:$B$2000,$A73,data_absen!$I$2:$I$2000,\">0\")","v":0}]
["Satuni",{"$f":"INDEX(data_absen!$G$2:$G$2000,SUMPRODUCT((data_absen!$B$2:$B$2000=$A76)*(data_absen!$C$2:$C$2000=B$3)*(ROW(data_absen!$C$2:$C$2000)))-1)","v":"06:43:00"},null,"-",{"$f":"INDEX(data_absen!$H$2:$H$2000,SUMPRODUCT((data_absen!$B$2:$B$2000=$A76)*(data_absen!$C$2:$C$2000=B$3)*(ROW(data_absen!$C$2:$C$2000)))-1)","v":"15:05:00"},null,{"$f":"INDEX(data_absen!$G$2:$G$2000,SUMPRODUCT((data_absen!$B$2:$B$2000=$A76)*(data_absen!$C$2:$C$2000=G$3)*(ROW(data_absen!$C$2:$C$2000)))-1)","v":""},null,"-",{"$f":"INDEX(data_absen!$H$2:$H$2000,SUMPRODUCT((data_absen!$B$2:$B$2000=$A76)*(data_absen!$C$2:$C$2000=G$3)*(ROW(data_absen!$C$2:$C$2000)))-1)","v":""},null,{"$f":"INDEX(data_absen!$G$2:$G$2000,SUMPRODUCT((data_absen!$B$2:$B$2000=$A76)*(data_absen!$C$2:$C$2000=L$3)*(ROW(data_absen!$C$2:$C$2000)))-1)","v":""},null,"-",{"$f":"INDEX(data_absen!$H$2:$H$2000,SUMPRODUCT((data_absen!$B$2:$B$2000=$A76)*(data_absen!$C$2:$C$2000=L$3)*(ROW(data_absen!$C$2:$C$2000)))-1)","v":""},null,{"$f":"INDEX(data_absen!$G$2:$G$2000,SUMPRODUCT((data_absen!$B$2:$B$2000=$A76)*(data_absen!$C$2:$C$2000=Q$3)*(ROW(data_absen!$C$2:$C$2000)))-1)","v":""},null,"-",{"$f":"INDEX(data_absen!$H$2:$H$2000,SUMPRODUCT((data_absen!$B$2:$B$2000=$A76)*(data_absen!$C$2:$C$2000=Q$3)*(ROW(data_absen!$C$2:$C$2000)))-1)","v":""},null,{"$f":"INDEX(data_absen!$G$2:$G$2000,SUMPRODUCT((data_absen!$B$2:$B$2000=$A76)*(data_absen!$C$2:$C$2000=V$3)*(ROW(data_absen!$C$2:$C$2000)))-1)","v":""},null,"-",{"$f":"INDEX(data_absen!$H$2:$H$2000,SUMPRODUCT((data_absen!$B$2:$B$2000=$A76)*(data_absen!$C$2:$C$2000=V$3)*(ROW(data_absen!$C$2:$C$2000)))-1)","v":""},null,{"$f":"INDEX(data_absen!$G$2:$G$2000,SUMPRODUCT((data_absen!$B$2:$B$2000=$A76)*(data_absen!$C$2:$C$2000=AA$3)*(ROW(data_absen!$C$2:$C$2000)))-1)","v":""},null,"-",{"$f":"INDEX(data_absen!$H$2:$H$2000,SUMPRODUCT((data_absen!$B$2:$B$2000=$A76)*(data_absen!$C$2:$C$2000=AA$3)*(ROW(data_absen!$C$2:$C$2000)))-1)","v":""},null,{"$f":"INDEX(data_absen!$G$2:$G$2000,SUMPRODUCT((data_absen!$B$2:$B$2000=$A76)*(data_absen!$C$2:$C$2000=AF$3)*(ROW(data_absen!$C$2:$C$2000)))-1)","v":""},null,"-",{"$f":"INDEX(data_absen!$H$2:$H$2000,SUMPRODUCT((data_absen!$B$2:$B$2000=$A76)*(data_absen!$C$2:$C$2000=AF$3)*(ROW(data_absen!$C$2:$C$2000)))-1)","v":""},null,{"$f":"INDEX(data_absen!$G$2:$G$2000,SUMPRODUCT((data_absen!$B$2:$B$2000=$A76)*(data_absen!$C$2:$C$2000=AK$3)*(ROW(data_absen!$C$2:$C$2000)))-1)","v":""},null,"-",{"$f":"INDEX(data_absen!$H$2:$H$2000,SUMPRODUCT((data_absen!$B$2:$B$2000=$A76)*(data_absen!$C$2:$C$2000=AK$3)*(ROW(data_absen!$C$2:$C$2000)))-1)","v":""},null,{"$f":"INDEX(data_absen!$G$2:$G$2000,SUMPRODUCT((data_absen!$B$2:$B$2000=$A76)*(data_absen!$C$2:$C$2000=AP$3)*(ROW(data_absen!$C$2:$C$2000)))-1)","v":""},null,"-",{"$f":"INDEX(data_absen!$H$2:$H$2000,SUMPRODUCT((data_absen!$B$2:$B$2000=$A76)*(data_absen!$C$2:$C$2000=AP$3)*(ROW(data_absen!$C$2:$C$2000)))-1)","v":""},null,{"$f":"INDEX(data_absen!$G$2:$G$2000,SUMPRODUCT((data_absen!$B$2:$B$2000=$A76)*(data_absen!$C$2:$C$2000=AU$3)*(ROW(data_absen!$C$2:$C$2000)))-1)","v":""},null,"-",{"$f":"INDEX(data_absen!$H$2:$H$2000,SUMPRODUCT((data_absen!$B$2:$B$2000=$A76)*(data_absen!$C$2:$C$2000=AU$3)*(ROW(data_absen!$C$2:$C$2000)))-1)","v":""},null,{"$f":"INDEX(data_absen!$G$2:$G$2000,SUMPRODUCT((data_absen!$B$2:$B$2000=$A76)*(data_absen!$C$2:$C$2000=AZ$3)*(ROW(data_absen!$C$2:$C$2000)))-1)","v":""},null,"-",{"$f":"INDEX(data_absen!$H$2:$H$2000,SUMPRODUCT((data_absen!$B$2:$B$2000=$A76)*(data_absen!$C$2:$C$2000=AZ$3)*(ROW(data_absen!$C$2:$C$2000)))-1)","v":""},null,{"$f":"INDEX(data_absen!$G$2:$G$2000,SUMPRODUCT((data_absen!$B$2:$B$2000=$A76)*(data_absen!$C$2:$C$2000=BE$3)*(ROW(data_absen!$C$2:$C$2000)))-1)","v":""},null,"-",{"$f":"INDEX(data_absen!$H$2:$H$2000,SUMPRODUCT((data_absen!$B$2:$B$2000=$A76)*(data_absen!$C$2:$C$2000=BE$3)*(ROW(data_absen!$C$2:$C$2000)))-1)","v":""},null,{"$f":"INDEX(data_absen!$G$2:$G$2000,SUMPRODUCT((data_absen!$B$2:$B$2000=$A76)*(data_absen!$C$2:$C$2000=BJ$3)*(ROW(data_absen!$C$2:$C$2000)))-1)","v":""},null,"-",{"$f":"INDEX(data_absen!$H$2:$H$2000,SUMPRODUCT((data_absen!$B$2:$B$2000=$A76)*(data_absen!$C$2:$C$2000=BJ$3)*(ROW(data_absen!$C$2:$C$2000)))-1)","v":""},null,{"$f":"INDEX(data_absen!$G$2:$G$2000,SUMPRODUCT((data_absen!$B$2:$B$2000=$A76)*(data_absen!$C$2:$C$2000=BO$3)*(ROW(data_absen!$C$2:$C$2000)))-1)","v":""},null,"-",{"$f":"INDEX(data_absen!$H$2:$H$2000,SUMPRODUCT((data_absen!$B$2:$B$2000=$A76)*(data_absen!$C$2:$C$2000=BO$3)*(ROW(data_absen!$C$2:$C$2000)))-1)","v":""}]
[322,null,null,"-",null,null,null,null,"-",null,null,null,null,"-",null,null,null,null,"-",null,null,null,null,"-",null,null,null,null,"-",null,null,null,null,"-",null,null,null,null,"-",null,null,null,null,"-",null,null,null,null,"-",null,null,null,null,"-",null,null,null,null,"-",null,null,null,null,"-",null,null,null,null,"-"]
[null,{"$f":"IFERROR(INDEX(data_absen!$K$2:$K$2000,SUMPRODUCT((data_absen!$B$2:$B$2000=$A76)*(data_absen!$C$2:$C$2000=B$3)*(ROW(data_absen!$C$2:$C$2000)))-1)*1440,\"\")","v":""},{"$f":"IFERROR(INDEX(data_absen!$I$2:$I$2000,SUMPRODUCT((data_absen!$B$2:$B$2000=$A76)*(data_absen!$C$2:$C$2000=B$3)*(ROW(data_absen!$C$2:$C$2000)))-1)*1440,\"\")","v":""},null,null,{"$f":"IFERROR(INDEX(data_absen!$J$2:$J$2000,SUMPRODUCT((data_absen!$B$2:$B$2000=$A76)*(data_absen!$C$2:$C$2000=B$3)*(ROW(data_absen!$C$2:$C$2000)))-1)*1440,\"\")","v":114.99999999999999},{"$f":"IFERROR(INDEX(data_absen!$K$2:$K$2000,SUMPRODUCT((data_absen!$B$2:$B$2000=$A76)*(data_absen!$C$2:$C$2000=G$3)*(ROW(data_absen!$C$2:$C$2000)))-1)*1440,\"\")","v":""},{"$f":"IFERROR(INDEX(data_absen!$I$2:$I$2000,SUMPRODUCT((data_absen!$B$2:$B$2000=$A76)*(data_absen!$C$2:$C$2000=G$3)*(ROW(data_absen!$C$2:$C$2000)))-1)*1440,\"\")","v":""},null,null,{"$f":"IFERROR(INDEX(data_absen!$J$2:$J$2000,SUMPRODUCT((data_absen!$B$2:$B$2000=$A76)*(data_absen!$C$2:$C$2000=G$3)*(ROW(data_absen!$C$2:$C$2000)))-1)*1440,\"\")","v":""},{"$f":"IFERROR(INDEX(data_absen!$K$2:$K$2000,SUMPRODUCT((data_absen!$B$2:$B$2000=$A76)*(data_absen!$C$2:$C$2000=L$3)*(ROW(data_absen!$C$2:$C$2000)))-1)*1440,\"\")","v":""},{"$f":"IFERROR(INDEX(data_absen!$I$2:$I$2000,SUMPRODUCT((data_absen!$B$2:$B$2000=$A76)*(data_absen!$C$2:$C$2000=L$3)*(ROW(data_absen!$C$2:$C$2000)))-1)*1440,\"\")","v":""},null,null,{"$f":"IFERROR(INDEX(data_absen!$J$2:$J$2000,SUMPRODUCT((data_absen!$B$2:$B$2000=$A76)*(data_absen!$C$2:$C$2000=L$3)*(ROW(data_absen!$C$2:$C$2000)))-1)*1440,\"\")","v":""},{"$f":"IFERROR(INDEX(data_absen!$K$2:$K$2000,SUMPRODUCT((data_absen!$B$2:$B$2000=$A76)*(data_absen!$C$2:$C$2000=Q$3)*(ROW(data_absen!$C$2:$C$2000)))-1)*1440,\"\")","v":""},{"$f":"IFERROR(INDEX(data_absen!$I$2:$I$2000,SUMPRODUCT((data_absen!$B$2:$B$2000=$A76)*(data_absen!$C$2:$C$2000=Q$3)*(ROW(data_absen!$C$2:$C$2000)))-1)*1440,\"\")","v":""},null,null,{"$f":"IFERROR(INDEX(data_absen!$J$2:$J$2000,SUMPRODUCT((data_absen!$B$2:$B$2000=$A76)*(data_absen!$C$2:$C$2000=Q$3)*(ROW(data_absen!$C$2:$C$2000)))-1)*1440,\"\")","v":""},{"$f":"IFERROR(INDEX(data_absen!$K$2:$K$2000,SUMPRODUCT((data_absen!$B$2:$B$2000=$A76)*(data_absen!$C$2:$C$2000=V$3)*(ROW(data_absen!$C$2:$C$2000)))-1)*1440,\"\")","v":""},{"$f":"IFERROR(INDEX(data_absen!$I$2:$I$2000,SUMPRODUCT((data_absen!$B$2:$B$2000=$A76)*(data_absen!$C$2:$C$2000=V$3)*(ROW(data_absen!$C$2:$C$2000)))-1)*1440,\"\")","v":""},null,null,{"$f":"IFERROR(INDEX(data_absen!$J$2:$J$2000,SUMPRODUCT((data_absen!$B$2:$B$2000=$A76)*(data_absen!$C$2:$C$2000=V$3)*(ROW(data_absen!$C$2:$C$2000)))-1)*1440,\"\")","v":""},{"$f":"IFERROR(INDEX(data_absen!$K$2:$K$2000,SUMPRODUCT((data_absen!$B$2:$B$2000=$A76)*(data_absen!$C$2:$C$2000=AA$3)*(ROW(data_absen!$C$2:$C$2000)))-1)*1440,\"\")","v":""},{"$f":"IFERROR(INDEX(data_absen!$I$2:$I$2000,SUMPRODUCT((data_absen!$B$2:$B$2000=$A76)*(data_absen!$C$2:$C$2000=AA$3)*(ROW(data_absen!$C$2:$C$2000)))-1)*1440,\"\")","v":""},null,null,{"$f":"IFERROR(INDEX(data_absen!$J$2:$J$2000,SUMPRODUCT((data_absen!$B$2:$B$2000=$A76)*(data_absen!$C$2:$C$2000=AA$3)*(ROW(data_absen!$C$2:$C$2000)))-1)*1440,\"\")","v":""},{"$f":"IFERROR(INDEX(data_absen!$K$2:$K$2000,SUMPRODUCT((data_absen!$B$2:$B$2000=$A76)*(data_absen!$C$2:$C$2000=AF$3)*(ROW(data_absen!$C$2:$C$2000)))-1)*1440,\"\")","v":""},{"$f":"IFERROR(INDEX(data_absen!$I$2:$I$2000,SUMPRODUCT((data_absen!$B$2:$B$2000=$A76)*(data_absen!$C$2:$C$2000=AF$3)*(ROW(data_absen!$C$2:$C$2000)))-1)*1440,\"\")","v":""},null,null,{"$f":"IFERROR(INDEX(data_absen!$J$2:$J$2000,SUMPRODUCT((data_absen!$B$2:$B$2000=$A76)*(data_absen!$C$2:$C$2000=AF$3)*(ROW(data_absen!$C$2:$C$2000)))-1)*1440,\"\")","v":""},{"$f":"IFERROR(INDEX(data_absen!$K$2:$K$2000,SUMPRODUCT((data_absen!$B$2:$B$2000=$A76)*(data_absen!$C$2:$C$2000=AK$3)*(ROW(data_absen!$C$2:$C$2000)))-1)*1440,\"\")","v":""},{"$f":"IFERROR(INDEX(data_absen!$I$2:$I$2000,SUMPRODUCT((data_absen!$B$2:$B$2000=$A76)*(data_absen!$C$2:$C$2000=AK$3)*(ROW(data_absen!$C$2:$C$2000)))-1)*1440,\"\")","v":""},null,null,{"$f":"IFERROR(INDEX(data_absen!$J$2:$J$2000,SUMPRODUCT((data_absen!$B$2:$B$2000=$A76)*(data_absen!$C$2:$C$2000=AK$3)*(ROW(data_absen!$C$2:$C$2000)))-1)*1440,\"\")","v":""},{"$f":"IFERROR(INDEX(data_absen!$K$2:$K$2000,SUMPRODUCT((data_absen!$B$2:$B$2000=$A76)*(data_absen!$C$2:$C$2000=AP$3)*(ROW(data_absen!$C$2:$C$2000)))-1)*1440,\"\")","v":""},{"$f":"IFERROR(INDEX(data_absen!$I$2:$I$2000,SUMPRODUCT((data_absen!$B$2:$B$2000=$A76)*(data_absen!$C$2:$C$2000=AP$3)*(ROW(data_absen!$C$2:$C$2000)))-1)*1440,\"\")","v":""},null,null,{"$f":"IFERROR(INDEX(data_absen!$J$2:$J$2000,SUMPRODUCT((data_absen!$B$2:$B$2000=$A76)*(data_absen!$C$2:$C$2000=AP$3)*(ROW(data_absen!$C$2:$C$2000)))-1)*1440,\"\")","v":""},{"$f":"IFERROR(INDEX(data_absen!$K$2:$K$2000,SUMPRODUCT((data_absen!$B$2:$B$2000=$A76)*(data_absen!$C$2:$C$2000=AU$3)*(ROW(data_absen!$C$2:$C$2000)))-1)*1440,\"\")","v":""},{"$f":"IFERROR(INDEX(data_absen!$I$2:$I$2000,SUMPRODUCT((data_absen!$B$2:$B$2000=$A76)*(data_absen!$C$2:$C$2000=AU$3)*(ROW(data_absen!$C$2:$C$2000)))-1)*1440,\"\")","v":""},null,null,{"$f":"IFERROR(INDEX(data_absen!$J$2:$J$2000,SUMPRODUCT((data_absen!$B$2:$B$2000=$A76)*(data_absen!$C$2:$C$2000=AU$3)*(ROW(data_absen!$C$2:$C$2000)))-1)*1440,\"\")","v":""},{"$f":"IFERROR(INDEX(data_absen!$K$2:$K$2000,SUMPRODUCT((data_absen!$B$2:$B$2000=$A76)*(data_absen!$C$2:$C$2000=AZ$3)*(ROW(data_absen!$C$2:$C$2000)))-1)*1440,\"\")","v":""},{"$f":"IFERROR(INDEX(data_absen!$I$2:$I$2000,SUMPRODUCT((data_absen!$B$2:$B$2000=$A76)*(data_absen!$C$2:$C$2000=AZ$3)*(ROW(data_absen!$C$2:$C$2000)))-1)*1440,\"\")","v":""},null,null,{"$f":"IFERROR(INDEX(data_absen!$J$2:$J$2000,SUMPRODUCT((data_absen!$B$2:$B$2000=$A76)*(data_absen!$C$2:$C$2000=AZ$3)*(ROW(data_absen!$C$2:$C$2000)))-1)*1440,\"\")","v":""},{"$f":"IFERROR(INDEX(data_absen!$K$2:$K$2000,SUMPRODUCT((data_absen!$B$2:$B$2000=$A76)*(data_absen!$C$2:$C$2000=BE$3)*(ROW(data_absen!$C$2:$C$2000)))-1)*1440,\"\")","v":""},{"$f":"IFERROR(INDEX(data_absen!$I$2:$I$2000,SUMPRODUCT((data_absen!$B$2:$B$2000=$A76)*(data_absen!$C$2:$C$2000=BE$3)*(ROW(data_absen!$C$2:$C$2000)))-1)*1440,\"\")","v":""},null,null,{"$f":"IFERROR(INDEX(data_absen!$J$2:$J$2000,SUMPRODUCT((data_absen!$B$2:$B$2000=$A76)*(data_absen!$C$2:$C$2000=BE$3)*(ROW(data_absen!$C$2:$C$2000)))-1)*1440,\"\")","v":""},{"$f":"IFERROR(INDEX(data_absen!$K$2:$K$2000,SUMPRODUCT((data_absen!$B$2:$B$2000=$A76)*(data_absen!$C$2:$C$2000=BJ$3)*(ROW(data_absen!$C$2:$C$2000)))-1)*1440,\"\")","v":""},{"$f":"IFERROR(INDEX(data_absen!$I$2:$I$2000,SUMPRODUCT((data_absen!$B$2:$B$2000=$A76)*(data_absen!$C$2:$C$2000=BJ$3)*(ROW(data_absen!$C$2:$C$2000)))-1)*1440,\"\")","v":""},null,null,{"$f":"IFERROR(INDEX(data_absen!$J$2:$J$2000,SUMPRODUCT((data_absen!$B$2:$B$2000=$A76)*(data_absen!$C$2:$C$2000=BJ$3)*(ROW(data_absen!$C$2:$C$2000)))-1)*1440,\"\")","v":""},{"$f":"IFERROR(INDEX(data_absen!$K$2:$K$2000,SUMPRODUCT((data_absen!$B$2:$B$2000=$A76)*(data_absen!$C$2:$C$2000=BO$3)*(ROW(data_absen!$C$2:$C$2000)))-1)*1440,\"\")","v":""},{"$f":"IFERROR(INDEX(data_absen!$I$2:$I$2000,SUMPRODUCT((data_absen!$B$2:$B$2000=$A76)*(data_absen!$C$2:$C$2000=BO$3)*(ROW(data_absen!$C$2:$C$2000)))-1)*1440,\"\")","v":""},null,null,{"$f":"IFERROR(INDEX(data_absen!$J$2:$J$2000,SUMPRODUCT((data_absen!$B$2:$B$2000=$A76)*(data_absen!$C$2:$C$2000=BO$3)*(ROW(data_absen!$C$2:$C$2000)))-1)*1440,\"\")","v":""},{"$f":"COUNTIFS(data_absen!$B$2:$B$2000,$A76,data_absen!$I$2:$I$2000,\">0\")","v":0}]
["Keterangan : ",null,null,null,null,"Lembur",null,null,null,null,"Datang Telat atau Tdk/ Lupa Absen Masuk",null,null,null,null,null,null,null,null,null,null,null,null,null,null,"Pulang Cepat atau Tdk/Lupa Absen Pulang"]
[]
["NAMA","2019-01-16",null,null,null,null,"2019-01-17",null,null,null,null,"2019-01-18",null,null,null,null,"2019-01-19",null,null,null,null,"2019-01-21",null,null,null,null,"2019-01-22",null,null,null,null,"2019-01-23",null,null,null,null,"2019-01-24",null,null,null,null,"2019-01-25",null,null,null,null,"2019-01-26",null,null,null,null,"2019-01-28",null,null,null,null,"2019-01-29",null,null,null,null,"2019-01-30",null,null,null,null,"2019-01-31",null,null,null,null,"Telat Kali (X)","Lembur Menit"]
["Novi",{"$f":"INDEX(data_absen!$G$2:$G$2000,SUMPRODUCT((data_absen!$B$2:$B$2000=$A82)*(data_absen!$C$2:$C$2000=B$3)*(ROW(data_absen!$C$2:$C$2000)))-1)","v":""},null,"-",{"$f":"INDEX(data_absen!$H$2:$H$2000,SUMPRODUCT((data_absen!$B$2:$B$2000=$A82)*(data_absen!$C$2:$C$2000=B$3)*(ROW(data_absen!$C$2:$C$2000)))-1)","v":""},null,{"$f":"INDEX(data_absen!$G$2:$G$2000,SUMPRODUCT((data_absen!$B$2:$B$2000=$A82)*(data_absen!$C$2:$C$2000=G$3)*(ROW(data_absen!$C$2:$C$2000)))-1)","v":""},null,"-",{"$f":"INDEX(data_absen!$H$2:$H$2000,SUMPRODUCT((data_absen!$B$2:$B$2000=$A82)*(data_absen!$C$2:$C$2000=G$3)*(ROW(data_absen!$C$2:$C$2000)))-1)","v":""},null,{"$f":"INDEX(data_absen!$G$2:$G$2000,SUMPRODUCT((data_absen!$B$2:$B$2000=$A82)*(data_absen!$C$2:$C$2000=L$3)*(ROW(data_absen!$C$2:$C$2000)))-1)","v":""},null,"-",{"$f":"INDEX(data_absen!$H$2:$H$2000,SUMPRODUCT((data_absen!$B$2:$B$2000=$A82)*(data_absen!$C$2:$C$2000=L$3)*(ROW(data_absen!$C$2:$C$2000)))-1)","v":""},null,{"$f":"INDEX(data_absen!$G$2:$G$2000,SUMPRODUCT((data_absen!$B$2:$B$2000=$A82)*(data_absen!$C$2:$C$2000=Q$3)*(ROW(data_absen!$C$2:$C$2000)))-1)","v":""},null,"-",{"$f":"INDEX(data_absen!$H$2:$H$2000,SUMPRODUCT((data_absen!$B$2:$B$2000=$A82)*(data_absen!$C$2:$C$2000=Q$3)*(ROW(data_absen!$C$2:$C$2000)))-1)","v":""},null,{"$f":"INDEX(data_absen!$G$2:$G$2000,SUMPRODUCT((data_absen!$B$2:$B$2000=$A82)*(data_absen!$C$2:$C$2000=V$3)*(ROW(data_absen!$C$2:$C$2000)))-1)","v":""},null,"-",{"$f":"INDEX(data_absen!$H$2:$H$2000,SUMPRODUCT((data_absen!$B$2:$B$2000=$A82)*(data_absen!$C$2:$C$2000=V$3)*(ROW(data_absen!$C$2:$C$2000)))-1)","v":""},null,{"$f":"INDEX(data_absen!$G$2:$G$2000,SUMPRODUCT((data_absen!$B$2:$B$2000=$A82)*(data_absen!$C$2:$C$2000=AA$3)*(ROW(data_absen!$C$2:$C$2000)))-1)","v":""},null,"-",{"$f":"INDEX(data_absen!$H$2:$H$2000,SUMPRODUCT((data_absen!$B$2:$B$2000=$A82)*(data_absen!$C$2:$C$2000=AA$3)*(ROW(data_absen!$C$2:$C$2000)))-1)","v":""},null,{"$f":"INDEX(data_absen!$G$2:$G$2000,SUMPRODUCT((data_absen!$B$2:$B$2000=$A82)*(data_absen!$C$2:$C$2000=AF$3)*(ROW(data_absen!$C$2:$C$2000)))-1)","v":""},null,"-",{"$f":"INDEX(data_absen!$H$2:$H$2000,SUMPRODUCT((data_absen!$B$2:$B$2000=$A82)*(data_absen!$C$2:$C$2000=AF$3)*(ROW(data_absen!$C$2:$C$2000)))-1)","v":""},null,{"$f":"INDEX(data_absen!$G$2:$G$2000,SUMPRODUCT((data_absen!$B$2:$B$2000=$A82)*(data_absen!$C$2:$C$2000=AK$3)*(ROW(data_absen!$C$2:$C$2000)))-1)","v":""},null,"-",{"$f":"INDEX(data_absen!$H$2:$H$2000,SUMPRODUCT((data_absen!$B$2:$B$2000=$A82)*(data_absen!$C$2:$C$2000=AK$3)*(ROW(data_absen!$C$2:$C$2000)))-1)","v":""},null,{"$f":"INDEX(data_absen!$G$2:$G$2000,SUMPRODUCT((data_absen!$B$2:$B$2000=$A82)*(data_absen!$C$2:$C$2000=AP$3)*(ROW(data_absen!$C$2:$C$2000)))-1)","v":""},null,"-",{"$f":"INDEX(data_absen!$H$2:$H$2000,SUMPRODUCT((data_absen!$B$2:$B$2000=$A82)*(data_absen!$C$2:$C$2000=AP$3)*(ROW(data_absen!$C$2:$C$2000)))-1)","v":""},null,{"$f":"INDEX(data_absen!$G$2:$G$2000,SUMPRODUCT((data_absen!$B$2:$B$2000=$A82)*(data_absen!$C$2:$C$2000=AU$3)*(ROW(data_absen!$C$2:$C$2000)))-1)","v":""},null,"-",{"$f":"INDEX(data_absen!$H$2:$H$2000,SUMPRODUCT((data_absen!$B$2:$B$2000=$A82)*(data_absen!$C$2:$C$2000=AU$3)*(ROW(data_absen!$C$2:$C$2000)))-1)","v":""},null,{"$f":"INDEX(data_absen!$G$2:$G$2000,SUMPRODUCT((data_absen!$B$2:$B$2000=$A82)*(data_absen!$C$2:$C$2000=AZ$3)*(ROW(data_absen!$C$2:$C$2000)))-1)","v":""},null,"-",{"$f":"INDEX(data_absen!$H$2:$H$2000,SUMPRODUCT((data_absen!$B$2:$B$2000=$A82)*(data_absen!$C$2:$C$2000=AZ$3)*(ROW(data_absen!$C$2:$C$2000)))-1)","v":""},null,{"$f":"INDEX(data_absen!$G$2:$G$2000,SUMPRODUCT((data_absen!$B$2:$B$2000=$A82)*(data_absen!$C$2:$C$2000=BE$3)*(ROW(data_absen!$C$2:$C$2000)))-1)","v":""},null,"-",{"$f":"INDEX(data_absen!$H$2:$H$2000,SUMPRODUCT((data_absen!$B$2:$B$2000=$A82)*(data_absen!$C$2:$C$2000=BE$3)*(ROW(data_absen!$C$2:$C$2000)))-1)","v":""},null,{"$f":"INDEX(data_absen!$G$2:$G$2000,SUMPRODUCT((data_absen!$B$2:$B$2000=$A82)*(data_absen!$C$2:$C$2000=BJ$3)*(ROW(data_absen!$C$2:$C$2000)))-1)","v":""},null,"-",{"$f":"INDEX(data_absen!$H$2:$H$2000,SUMPRODUCT((data_absen!$B$2:$B$2000=$A82)*(data_absen!$C$2:$C$2000=BJ$3)*(ROW(data_absen!$C$2:$C$2000)))-1)","v":""},null,{"$f":"INDEX(data_absen!$G$2:$G$2000,SUMPRODUCT((data_absen!$B$2:$B$2000=$A82)*(data_absen!$C$2:$C$2000=BO$3)*(ROW(data_absen!$C$2:$C$2000)))-1)","v":""},null,"-",{"$f":"INDEX(data_absen!$H$2:$H$2000,SUMPRODUCT((data_absen!$B$2:$B$2000=$A82)*(data_absen!$C$2:$C$2000=BO$3)*(ROW(data_absen!$C$2:$C$2000)))-1)","v":""}]
[323,null,null,"-",null,null,null,null,"-",null,null,null,null,"-",null,null,null,null,"-",null,null,null,null,"-",null,null,null,null,"-",null,null,null,null,"-",null,null,null,null,"-",null,null,null,null,"-",null,null,null,null,"-",null,null,null,null,"-",null,null,null,null,"-",null,null,null,null,"-",null,null,null,null,"-"]
[null,{"$f":"IFERROR(INDEX(data_absen!$K$2:$K$2000,SUMPRODUCT((data_absen!$B$2:$B$2000=$A82)*(data_absen!$C$2:$C$2000=B$3)*(ROW(data_absen!$C$2:$C$2000)))-1)*1440,\"\")","v":""},{"$f":"IFERROR(INDEX(data_absen!$I$2:$I$2000,SUMPRODUCT((data_absen!$B$2:$B$2000=$A82)*(data_absen!$C$2:$C$2000=B$3)*(ROW(data_absen!$C$2:$C$2000)))-1)*1440,\"\")","v":""},null,null,{"$f":"IFERROR(INDEX(data_absen!$J$2:$J$2000,SUMPRODUCT((data_absen!$B$2:$B$2000=$A82)*(data_absen!$C$2:$C$2000=B$3)*(ROW(data_absen!$C$2:$C$2000)))-1)*1440,\"\")","v":""},{"$f":"IFERROR(INDEX(data_absen!$K$2:$K$2000,SUMPRODUCT((data_absen!$B$2:$B$2000=$A82)*(data_absen!$C$2:$C$2000=G$3)*(ROW(data_absen!$C$2:$C$2000)))-1)*1440,\"\")","v":""},{"$f":"IFERROR(INDEX(data_absen!$I$2:$I$2000,SUMPRODUCT((data_absen!$B$2:$B$2000=$A82)*(data_absen!$C$2:$C$2000=G$3)*(ROW(data_absen!$C$2:$C$2000)))-1)*1440,\"\")","v":""},null,null,{"$f":"IFERROR(INDEX(data_absen!$J$2:$J$2000,SUMPRODUCT((data_absen!$B$2:$B$2000=$A82)*(data_absen!$C$2:$C$2000=G$3)*(ROW(data_absen!$C$2:$C$2000)))-1)*1440,\"\")","v":""},{"$f":"IFERROR(INDEX(data_absen!$K$2:$K$2000,SUMPRODUCT((data_absen!$B$2:$B$2000=$A82)*(data_absen!$C$2:$C$2000=L$3)*(ROW(data_absen!$C$2:$C$2000)))-1)*1440,\"\")","v":""},{"$f":"IFERROR(INDEX(data_absen!$I$2:$I$2000,SUMPRODUCT((data_absen!$B$2:$B$2000=$A82)*(data_absen!$C$2:$C$2000=L$3)*(ROW(data_absen!$C$2:$C$2000)))-1)*1440,\"\")","v":""},null,null,{"$f":"IFERROR(INDEX(data_absen!$J$2:$J$2000,SUMPRODUCT((data_absen!$B$2:$B$2000=$A82)*(data_absen!$C$2:$C$2000=L$3)*(ROW(data_absen!$C$2:$C$2000)))-1)*1440,\"\")","v":""},{"$f":"IFERROR(INDEX(data_absen!$K$2:$K$2000,SUMPRODUCT((data_absen!$B$2:$B$2000=$A82)*(data_absen!$C$2:$C$2000=Q$3)*(ROW(data_absen!$C$2:$C$2000)))-1)*1440,\"\")","v":""},{"$f":"IFERROR(INDEX(data_absen!$I$2:$I$2000,SUMPRODUCT((data_absen!$B$2:$B$2000=$A82)*(data_absen!$C$2:$C$2000=Q$3)*(ROW(data_absen!$C$2:$C$2000)))-1)*1440,\"\")","v":""},null,null,{"$f":"IFERROR(INDEX(data_absen!$J$2:$J$2000,SUMPRODUCT((data_absen!$B$2:$B$2000=$A82)*(data_absen!$C$2:$C$2000=Q$3)*(ROW(data_absen!$C$2:$C$2000)))-1)*1440,\"\")","v":""},{"$f":"IFERROR(INDEX(data_absen!$K$2:$K$2000,SUMPRODUCT((data_absen!$B$2:$B$2000=$A82)*(data_absen!$C$2:$C$2000=V$3)*(ROW(data_absen!$C$2:$C$2000)))-1)*1440,\"\")","v":""},{"$f":"IFERROR(INDEX(data_absen!$I$2:$I$2000,SUMPRODUCT((data_absen!$B$2:$B$2000=$A82)*(data_absen!$C$2:$C$2000=V$3)*(ROW(data_absen!$C$2:$C$2000)))-1)*1440,\"\")","v":""},null,null,{"$f":"IFERROR(INDEX(data_absen!$J$2:$J$2000,SUMPRODUCT((data_absen!$B$2:$B$2000=$A82)*(data_absen!$C$2:$C$2000=V$3)*(ROW(data_absen!$C$2:$C$2000)))-1)*1440,\"\")","v":""},{"$f":"IFERROR(INDEX(data_absen!$K$2:$K$2000,SUMPRODUCT((data_absen!$B$2:$B$2000=$A82)*(data_absen!$C$2:$C$2000=AA$3)*(ROW(data_absen!$C$2:$C$2000)))-1)*1440,\"\")","v":""},{"$f":"IFERROR(INDEX(data_absen!$I$2:$I$2000,SUMPRODUCT((data_absen!$B$2:$B$2000=$A82)*(data_absen!$C$2:$C$2000=AA$3)*(ROW(data_absen!$C$2:$C$2000)))-1)*1440,\"\")","v":""},null,null,{"$f":"IFERROR(INDEX(data_absen!$J$2:$J$2000,SUMPRODUCT((data_absen!$B$2:$B$2000=$A82)*(data_absen!$C$2:$C$2000=AA$3)*(ROW(data_absen!$C$2:$C$2000)))-1)*1440,\"\")","v":""},{"$f":"IFERROR(INDEX(data_absen!$K$2:$K$2000,SUMPRODUCT((data_absen!$B$2:$B$2000=$A82)*(data_absen!$C$2:$C$2000=AF$3)*(ROW(data_absen!$C$2:$C$2000)))-1)*1440,\"\")","v":""},{"$f":"IFERROR(INDEX(data_absen!$I$2:$I$2000,SUMPRODUCT((data_absen!$B$2:$B$2000=$A82)*(data_absen!$C$2:$C$2000=AF$3)*(ROW(data_absen!$C$2:$C$2000)))-1)*1440,\"\")","v":""},null,null,{"$f":"IFERROR(INDEX(data_absen!$J$2:$J$2000,SUMPRODUCT((data_absen!$B$2:$B$2000=$A82)*(data_absen!$C$2:$C$2000=AF$3)*(ROW(data_absen!$C$2:$C$2000)))-1)*1440,\"\")","v":""},{"$f":"IFERROR(INDEX(data_absen!$K$2:$K$2000,SUMPRODUCT((data_absen!$B$2:$B$2000=$A82)*(data_absen!$C$2:$C$2000=AK$3)*(ROW(data_absen!$C$2:$C$2000)))-1)*1440,\"\")","v":""},{"$f":"IFERROR(INDEX(data_absen!$I$2:$I$2000,SUMPRODUCT((data_absen!$B$2:$B$2000=$A82)*(data_absen!$C$2:$C$2000=AK$3)*(ROW(data_absen!$C$2:$C$2000)))-1)*1440,\"\")","v":""},null,null,{"$f":"IFERROR(INDEX(data_absen!$J$2:$J$2000,SUMPRODUCT((data_absen!$B$2:$B$2000=$A82)*(data_absen!$C$2:$C$2000=AK$3)*(ROW(data_absen!$C$2:$C$2000)))-1)*1440,\"\")","v":""},{"$f":"IFERROR(INDEX(data_absen!$K$2:$K$2000,SUMPRODUCT((data_absen!$B$2:$B$2000=$A82)*(data_absen!$C$2:$C$2000=AP$3)*(ROW(data_absen!$C$2:$C$2000)))-1)*1440,\"\")","v":""},{"$f":"IFERROR(INDEX(data_absen!$I$2:$I$2000,SUMPRODUCT((data_absen!$B$2:$B$2000=$A82)*(data_absen!$C$2:$C$2000=AP$3)*(ROW(data_absen!$C$2:$C$2000)))-1)*1440,\"\")","v":""},null,null,{"$f":"IFERROR(INDEX(data_absen!$J$2:$J$2000,SUMPRODUCT((data_absen!$B$2:$B$2000=$A82)*(data_absen!$C$2:$C$2000=AP$3)*(ROW(data_absen!$C$2:$C$2000)))-1)*1440,\"\")","v":""},{"$f":"IFERROR(INDEX(data_absen!$K$2:$K$2000,SUMPRODUCT((data_absen!$B$2:$B$2000=$A82)*(data_absen!$C$2:$C$2000=AU$3)*(ROW(data_absen!$C$2:$C$2000)))-1)*1440,\"\")","v":""},{"$f":"IFERROR(INDEX(data_absen!$I$2:$I$2000,SUMPRODUCT((data_absen!$B$2:$B$2000=$A82)*(data_absen!$C$2:$C$2000=AU$3)*(ROW(data_absen!$C$2:$C$2000)))-1)*1440,\"\")","v":""},null,null,{"$f":"IFERROR(INDEX(data_absen!$J$2:$J$2000,SUMPRODUCT((data_absen!$B$2:$B$2000=$A82)*(data_absen!$C$2:$C$2000=AU$3)*(ROW(data_absen!$C$2:$C$2000)))-1)*1440,\"\")","v":""},{"$f":"IFERROR(INDEX(data_absen!$K$2:$K$2000,SUMPRODUCT((data_absen!$B$2:$B$2000=$A82)*(data_absen!$C$2:$C$2000=AZ$3)*(ROW(data_absen!$C$2:$C$2000)))-1)*1440,\"\")","v":""},{"$f":"IFERROR(INDEX(data_absen!$I$2:$I$2000,SUMPRODUCT((data_absen!$B$2:$B$2000=$A82)*(data_absen!$C$2:$C$2000=AZ$3)*(ROW(data_absen!$C$2:$C$2000)))-1)*1440,\"\")","v":""},null,null,{"$f":"IFERROR(INDEX(data_absen!$J$2:$J$2000,SUMPRODUCT((data_absen!$B$2:$B$2000=$A82)*(data_absen!$C$2:$C$2000=AZ$3)*(ROW(data_absen!$C$2:$C$2000)))-1)*1440,\"\")","v":""},{"$f":"IFERROR(INDEX(data_absen!$K$2:$K$2000,SUMPRODUCT((data_absen!$B$2:$B$2000=$A82)*(data_absen!$C$2:$C$2000=BE$3)*(ROW(data_absen!$C$2:$C$2000)))-1)*1440,\"\")","v":""},{"$f":"IFERROR(INDEX(data_absen!$I$2:$I$2000,SUMPRODUCT((data_absen!$B$2:$B$2000=$A82)*(data_absen!$C$2:$C$2000=BE$3)*(ROW(data_absen!$C$2:$C$2000)))-1)*1440,\"\")","v":""},null,null,{"$f":"IFERROR(INDEX(data_absen!$J$2:$J$2000,SUMPRODUCT((data_absen!$B$2:$B$2000=$A82)*(data_absen!$C$2:$C$2000=BE$3)*(ROW(data_absen!$C$2:$C$2000)))-1)*1440,\"\")","v":""},{"$f":"IFERROR(INDEX(data_absen!$K$2:$K$2000,SUMPRODUCT((data_absen!$B$2:$B$2000=$A82)*(data_absen!$C$2:$C$2000=BJ$3)*(ROW(data_absen!$C$2:$C$2000)))-1)*1440,\"\")","v":""},{"$f":"IFERROR(INDEX(data_absen!$I$2:$I$2000,SUMPRODUCT((data_absen!$B$2:$B$2000=$A82)*(data_absen!$C$2:$C$2000=BJ$3)*(ROW(data_absen!$C$2:$C$2000)))-1)*1440,\"\")","v":""},null,null,{"$f":"IFERROR(INDEX(data_absen!$J$2:$J$2000,SUMPRODUCT((data_absen!$B$2:$B$2000=$A82)*(data_absen!$C$2:$C$2000=BJ$3)*(ROW(data_absen!$C$2:$C$2000)))-1)*1440,\"\")","v":""},{"$f":"IFERROR(INDEX(data_absen!$K$2:$K$2000,SUMPRODUCT((data_absen!$B$2:$B$2000=$A82)*(data_absen!$C$2:$C$2000=BO$3)*(ROW(data_absen!$C$2:$C$2000)))-1)*1440,\"\")","v":""},{"$f":"IFERROR(INDEX(data_absen!$I$2:$I$2000,SUMPRODUCT((data_absen!$B$2:$B$2000=$A82)*(data_absen!$C$2:$C$2000=BO$3)*(ROW(data_absen!$C$2:$C$2000)))-1)*1440,\"\")","v":""},null,null,{"$f":"IFERROR(INDEX(data_absen!$J$2:$J$2000,SUMPRODUCT((data_absen!$B$2:$B$2000=$A82)*(data_absen!$C$2:$C$2000=BO$3)*(ROW(data_absen!$C$2:$C$2000)))-1)*1440,\"\")","v":""},{"$f":"COUNTIFS(data_absen!$B$2:$B$2000,$A82,data_absen!$I$2:$I$2000,\">0\")","v":0}]
["Eka",{"$f":"INDEX(data_absen!$G$2:$G$2000,SUMPRODUCT((data_absen!$B$2:$B$2000=$A85)*(data_absen!$C$2:$C$2000=B$3)*(ROW(data_absen!$C$2:$C$2000)))-1)","v":""},null,"-",{"$f":"INDEX(data_absen!$H$2:$H$2000,SUMPRODUCT((data_absen!$B$2:$B$2000=$A85)*(data_absen!$C$2:$C$2000=B$3)*(ROW(data_absen!$C$2:$C$2000)))-1)","v":""},null,{"$f":"INDEX(data_absen!$G$2:$G$2000,SUMPRODUCT((data_absen!$B$2:$B$2000=$A85)*(data_absen!$C$2:$C$2000=G$3)*(ROW(data_absen!$C$2:$C$2000)))-1)","v":""},null,"-",{"$f":"INDEX(data_absen!$H$2:$H$2000,SUMPRODUCT((data_absen!$B$2:$B$2000=$A85)*(data_absen!$C$2:$C$2000=G$3)*(ROW(data_absen!$C$2:$C$2000)))-1)","v":""},null,{"$f":"INDEX(data_absen!$G$2:$G$2000,SUMPRODUCT((data_absen!$B$2:$B$2000=$A85)*(data_absen!$C$2:$C$2000=L$3)*(ROW(data_absen!$C$2:$C$2000)))-1)","v":""},null,"-",{"$f":"INDEX(data_absen!$H$2:$H$2000,SUMPRODUCT((data_absen!$B$2:$B$2000=$A85)*(data_absen!$C$2:$C$2000=L$3)*(ROW(data_absen!$C$2:$C$2000)))-1)","v":""},null,{"$f":"INDEX(data_absen!$G$2:$G$2000,SUMPRODUCT((data_absen!$B$2:$B$2000=$A85)*(data_absen!$C$2:$C$2000=Q$3)*(ROW(data_absen!$C$2:$C$2000)))-1)","v":""},null,"-",{"$f":"INDEX(data_absen!$H$2:$H$2000,SUMPRODUCT((data_absen!$B$2:$B$2000=$A85)*(data_absen!$C$2:$C$2000=Q$3)*(ROW(data_absen!$C$2:$C$2000)))-1)","v":""},null,{"$f":"INDEX(data_absen!$G$2:$G$2000,SUMPRODUCT((data_absen!$B$2:$B$2000=$A85)*(data_absen!$C$2:$C$2000=V$3)*(ROW(data_absen!$C$2:$C$2000)))-1)","v":""},null,"-",{"$f":"INDEX(data_absen!$H$2:$H$2000,SUMPRODUCT((data_absen!$B$2:$B$2000=$A85)*(data_absen!$C$2:$C$2000=V$3)*(ROW(data_absen!$C$2:$C$2000)))-1)","v":""},null,{"$f":"INDEX(data_absen!$G$2:$G$2000,SUMPRODUCT((data_absen!$B$2:$B$2000=$A85)*(data_absen!$C$2:$C$2000=AA$3)*(ROW(data_absen!$C$2:$C$2000)))-1)","v":""},null,"-",{"$f":"INDEX(data_absen!$H$2:$H$2000,SUMPRODUCT((data_absen!$B$2:$B$2000=$A85)*(data_absen!$C$2:$C$2000=AA$3)*(ROW(data_absen!$C$2:$C$2000)))-1)","v":""},null,{"$f":"INDEX(data_absen!$G$2:$G$2000,SUMPRODUCT((data_absen!$B$2:$B$2000=$A85)*(data_absen!$C$2:$C$2000=AF$3)*(ROW(data_absen!$C$2:$C$2000)))-1)","v":""},null,"-",{"$f":"INDEX(data_absen!$H$2:$H$2000,SUMPRODUCT((data_absen!$B$2:$B$2000=$A85)*(data_absen!$C$2:$C$2000=AF$3)*(ROW(data_absen!$C$2:$C$2000)))-1)","v":""},null,{"$f":"INDEX(data_absen!$G$2:$G$2000,SUMPRODUCT((data_absen!$B$2:$B$2000=$A85)*(data_absen!$C$2:$C$2000=AK$3)*(ROW(data_absen!$C$2:$C$2000)))-1)","v":""},null,"-",{"$f":"INDEX(data_absen!$H$2:$H$2000,SUMPRODUCT((data_absen!$B$2:$B$2000=$A85)*(data_absen!$C$2:$C$2000=AK$3)*(ROW(data_absen!$C$2:$C$2000)))-1)","v":""},null,{"$f":"INDEX(data_absen!$G$2:$G$2000,SUMPRODUCT((data_absen!$B$2:$B$2000=$A85)*(data_absen!$C$2:$C$2000=AP$3)*(ROW(data_absen!$C$2:$C$2000)))-1)","v":""},null,"-",{"$f":"INDEX(data_absen!$H$2:$H$2000,SUMPRODUCT((data_absen!$B$2:$B$2000=$A85)*(data_absen!$C$2:$C$2000=AP$3)*(ROW(data_absen!$C$2:$C$2000)))-1)","v":""},null,{"$f":"INDEX(data_absen!$G$2:$G$2000,SUMPRODUCT((data_absen!$B$2:$B$2000=$A85)*(data_absen!$C$2:$C$2000=AU$3)*(ROW(data_absen!$C$2:$C$2000)))-1)","v":""},null,"-",{"$f":"INDEX(data_absen!$H$2:$H$2000,SUMPRODUCT((data_absen!$B$2:$B$2000=$A85)*(data_absen!$C$2:$C$2000=AU$3)*(ROW(data_absen!$C$2:$C$2000)))-1)","v":""},null,{"$f":"INDEX(data_absen!$G$2:$G$2000,SUMPRODUCT((data_absen!$B$2:$B$2000=$A85)*(data_absen!$C$2:$C$2000=AZ$3)*(ROW(data_absen!$C$2:$C$2000)))-1)","v":""},null,"-",{"$f":"INDEX(data_absen!$H$2:$H$2000,SUMPRODUCT((data_absen!$B$2:$B$2000=$A85)*(data_absen!$C$2:$C$2000=AZ$3)*(ROW(data_absen!$C$2:$C$2000)))-1)","v":""},null,{"$f":"INDEX(data_absen!$G$2:$G$2000,SUMPRODUCT((data_absen!$B$2:$B$2000=$A85)*(data_absen!$C$2:$C$2000=BE$3)*(ROW(data_absen!$C$2:$C$2000)))-1)","v":""},null,"-",{"$f":"INDEX(data_absen!$H$2:$H$2000,SUMPRODUCT((data_absen!$B$2:$B$2000=$A85)*(data_absen!$C$2:$C$2000=BE$3)*(ROW(data_absen!$C$2:$C$2000)))-1)","v":""},null,{"$f":"INDEX(data_absen!$G$2:$G$2000,SUMPRODUCT((data_absen!$B$2:$B$2000=$A85)*(data_absen!$C$2:$C$2000=BJ$3)*(ROW(data_absen!$C$2:$C$2000)))-1)","v":""},null,"-",{"$f":"INDEX(data_absen!$H$2:$H$2000,SUMPRODUCT((data_absen!$B$2:$B$2000=$A85)*(data_absen!$C$2:$C$2000=BJ$3)*(ROW(data_absen!$C$2:$C$2000)))-1)","v":""},null,{"$f":"INDEX(data_absen!$G$2:$G$2000,SUMPRODUCT((data_absen!$B$2:$B$2000=$A85)*(data_absen!$C$2:$C$2000=BO$3)*(ROW(data_absen!$C$2:$C$2000)))-1)","v":""},null,"-",{"$f":"INDEX(data_absen!$H$2:$H$2000,SUMPRODUCT((data_absen!$B$2:$B$2000=$A85)*(data_absen!$C$2:$C$2000=BO$3)*(ROW(data_absen!$C$2:$C$2000)))-1)","v":""}]
[324,null,null,"-",null,null,null,null,"-",null,null,null,null,"-",null,null,null,null,"-",null,null,null,null,"-",null,null,null,null,"-",null,null,null,null,"-",null,null,null,null,"-",null,null,null,null,"-",null,null,null,null,"-",null,null,null,null,"-",null,null,null,null,"-",null,null,null,null,"-",null,null,null,null,"-"]
[null,{"$f":"IFERROR(INDEX(data_absen!$K$2:$K$2000,SUMPRODUCT((data_absen!$B$2:$B$2000=$A85)*(data_absen!$C$2:$C$2000=B$3)*(ROW(data_absen!$C$2:$C$2000)))-1)*1440,\"\")","v":""},{"$f":"IFERROR(INDEX(data_absen!$I$2:$I$2000,SUMPRODUCT((data_absen!$B$2:$B$2000=$A85)*(data_absen!$C$2:$C$2000=B$3)*(ROW(data_absen!$C$2:$C$2000)))-1)*1440,\"\")","v":""},null,null,{"$f":"IFERROR(INDEX(data_absen!$J$2:$J$2000,SUMPRODUCT((data_absen!$B$2:$B$2000=$A85)*(data_absen!$C$2:$C$2000=B$3)*(ROW(data_absen!$C$2:$C$2000)))-1)*1440,\"\")","v":""},{"$f":"IFERROR(INDEX(data_absen!$K$2:$K$2000,SUMPRODUCT((data_absen!$B$2:$B$2000=$A85)*(data_absen!$C$2:$C$2000=G$3)*(ROW(data_absen!$C$2:$C$2000)))-1)*1440,\"\")","v":""},{"$f":"IFERROR(INDEX(data_absen!$I$2:$I$2000,SUMPRODUCT((data_absen!$B$2:$B$2000=$A85)*(data_absen!$C$2:$C$2000=G$3)*(ROW(data_absen!$C$2:$C$2000)))-1)*1440,\"\")","v":""},null,null,{"$f":"IFERROR(INDEX(data_absen!$J$2:$J$2000,SUMPRODUCT((data_absen!$B$2:$B$2000=$A85)*(data_absen!$C$2:$C$2000=G$3)*(ROW(data_absen!$C$2:$C$2000)))-1)*1440,\"\")","v":""},{"$f":"IFERROR(INDEX(data_absen!$K$2:$K$2000,SUMPRODUCT((data_absen!$B$2:$B$2000=$A85)*(data_absen!$C$2:$C$2000=L$3)*(ROW(data_absen!$C$2:$C$2000)))-1)*1440,\"\")","v":""},{"$f":"IFERROR(INDEX(data_absen!$I$2:$I$2000,SUMPRODUCT((data_absen!$B$2:$B$2000=$A85)*(data_absen!$C$2:$C$2000=L$3)*(ROW(data_absen!$C$2:$C$2000)))-1)*1440,\"\")","v":""},null,null,{"$f":"IFERROR(INDEX(data_absen!$J$2:$J$2000,SUMPRODUCT((data_absen!$B$2:$B$2000=$A85)*(data_absen!$C$2:$C$2000=L$3)*(ROW(data_absen!$C$2:$C$2000)))-1)*1440,\"\")","v":""},{"$f":"IFERROR(INDEX(data_absen!$K$2:$K$2000,SUMPRODUCT((data_absen!$B$2:$B$2000=$A85)*(data_absen!$C$2:$C$2000=Q$3)*(ROW(data_absen!$C$2:$C$2000)))-1)*1440,\"\")","v":""},{"$f":"IFERROR(INDEX(data_absen!$I$2:$I$2000,SUMPRODUCT((data_absen!$B$2:$B$2000=$A85)*(data_absen!$C$2:$C$2000=Q$3)*(ROW(data_absen!$C$2:$C$2000)))-1)*1440,\"\")","v":""},null,null,{"$f":"IFERROR(INDEX(data_absen!$J$2:$J$2000,SUMPRODUCT((data_absen!$B$2:$B$2000=$A85)*(data_absen!$C$2:$C$2000=Q$3)*(ROW(data_absen!$C$2:$C$2000)))-1)*1440,\"\")","v":""},{"$f":"IFERROR(INDEX(data_absen!$K$2:$K$2000,SUMPRODUCT((data_absen!$B$2:$B$2000=$A85)*(data_absen!$C$2:$C$2000=V$3)*(ROW(data_absen!$C$2:$C$2000)))-1)*1440,\"\")","v":""},{"$f":"IFERROR(INDEX(data_absen!$I$2:$I$2000,SUMPRODUCT((data_absen!$B$2:$B$2000=$A85)*(data_absen!$C$2:$C$2000=V$3)*(ROW(data_absen!$C$2:$C$2000)))-1)*1440,\"\")","v":""},null,null,{"$f":"IFERROR(INDEX(data_absen!$J$2:$J$2000,SUMPRODUCT((data_absen!$B$2:$B$2000=$A85)*(data_absen!$C$2:$C$2000=V$3)*(ROW(data_absen!$C$2:$C$2000)))-1)*1440,\"\")","v":""},{"$f":"IFERROR(INDEX(data_absen!$K$2:$K$2000,SUMPRODUCT((data_absen!$B$2:$B$2000=$A85)*(data_absen!$C$2:$C$2000=AA$3)*(ROW(data_absen!$C$2:$C$2000)))-1)*1440,\"\")","v":""},{"$f":"IFERROR(INDEX(data_absen!$I$2:$I$2000,SUMPRODUCT((data_absen!$B$2:$B$2000=$A85)*(data_absen!$C$2:$C$2000=AA$3)*(ROW(data_absen!$C$2:$C$2000)))-1)*1440,\"\")","v":""},null,null,{"$f":"IFERROR(INDEX(data_absen!$J$2:$J$2000,SUMPRODUCT((data_absen!$B$2:$B$2000=$A85)*(data_absen!$C$2:$C$2000=AA$3)*(ROW(data_absen!$C$2:$C$2000)))-1)*1440,\"\")","v":""},{"$f":"IFERROR(INDEX(data_absen!$K$2:$K$2000,SUMPRODUCT((data_absen!$B$2:$B$2000=$A85)*(data_absen!$C$2:$C$2000=AF$3)*(ROW(data_absen!$C$2:$C$2000)))-1)*1440,\"\")","v":""},{"$f":"IFERROR(INDEX(data_absen!$I$2:$I$2000,SUMPRODUCT((data_absen!$B$2:$B$2000=$A85)*(data_absen!$C$2:$C$2000=AF$3)*(ROW(data_absen!$C$2:$C$2000)))-1)*1440,\"\")","v":""},null,null,{"$f":"IFERROR(INDEX(data_absen!$J$2:$J$2000,SUMPRODUCT((data_absen!$B$2:$B$2000=$A85)*(data_absen!$C$2:$C$2000=AF$3)*(ROW(data_absen!$C$2:$C$2000)))-1)*1440,\"\")","v":""},{"$f":"IFERROR(INDEX(data_absen!$K$2:$K$2000,SUMPRODUCT((data_absen!$B$2:$B$2000=$A85)*(data_absen!$C$2:$C$2000=AK$3)*(ROW(data_absen!$C$2:$C$2000)))-1)*1440,\"\")","v":""},{"$f":"IFERROR(INDEX(data_absen!$I$2:$I$2000,SUMPRODUCT((data_absen!$B$2:$B$2000=$A85)*(data_absen!$C$2:$C$2000=AK$3)*(ROW(data_absen!$C$2:$C$2000)))-1)*1440,\"\")","v":""},null,null,{"$f":"IFERROR(INDEX(data_absen!$J$2:$J$2000,SUMPRODUCT((data_absen!$B$2:$B$2000=$A85)*(data_absen!$C$2:$C$2000=AK$3)*(ROW(data_absen!$C$2:$C$2000)))-1)*1440,\"\")","v":""},{"$f":"IFERROR(INDEX(data_absen!$K$2:$K$2000,SUMPRODUCT((data_absen!$B$2:$B$2000=$A85)*(data_absen!$C$2:$C$2000=AP$3)*(ROW(data_absen!$C$2:$C$2000)))-1)*1440,\"\")","v":""},{"$f":"IFERROR(INDEX(data_absen!$I$2:$I$2000,SUMPRODUCT((data_absen!$B$2:$B$2000=$A85)*(data_absen!$C$2:$C$2000=AP$3)*(ROW(data_absen!$C$2:$C$2000)))-1)*1440,\"\")","v":""},null,null,{"$f":"IFERROR(INDEX(data_absen!$J$2:$J$2000,SUMPRODUCT((data_absen!$B$2:$B$2000=$A85)*(data_absen!$C$2:$C$2000=AP$3)*(ROW(data_absen!$C$2:$C$2000)))-1)*1440,\"\")","v":""},{"$f":"IFERROR(INDEX(data_absen!$K$2:$K$2000,SUMPRODUCT((data_absen!$B$2:$B$2000=$A85)*(data_absen!$C$2:$C$2000=AU$3)*(ROW(data_absen!$C$2:$C$2000)))-1)*1440,\"\")","v":""},{"$f":"IFERROR(INDEX(data_absen!$I$2:$I$2000,SUMPRODUCT((data_absen!$B$2:$B$2000=$A85)*(data_absen!$C$2:$C$2000=AU$3)*(ROW(data_absen!$C$2:$C$2000)))-1)*1440,\"\")","v":""},null,null,{"$f":"IFERROR(INDEX(data_absen!$J$2:$J$2000,SUMPRODUCT((data_absen!$B$2:$B$2000=$A85)*(data_absen!$C$2:$C$2000=AU$3)*(ROW(data_absen!$C$2:$C$2000)))-1)*1440,\"\")","v":""},{"$f":"IFERROR(INDEX(data_absen!$K$2:$K$2000,SUMPRODUCT((data_absen!$B$2:$B$2000=$A85)*(data_absen!$C$2:$C$2000=AZ$3)*(ROW(data_absen!$C$2:$C$2000)))-1)*1440,\"\")","v":""},{"$f":"IFERROR(INDEX(data_absen!$I$2:$I$2000,SUMPRODUCT((data_absen!$B$2:$B$2000=$A85)*(data_absen!$C$2:$C$2000=AZ$3)*(ROW(data_absen!$C$2:$C$2000)))-1)*1440,\"\")","v":""},null,null,{"$f":"IFERROR(INDEX(data_absen!$J$2:$J$2000,SUMPRODUCT((data_absen!$B$2:$B$2000=$A85)*(data_absen!$C$2:$C$2000=AZ$3)*(ROW(data_absen!$C$2:$C$2000)))-1)*1440,\"\")","v":""},{"$f":"IFERROR(INDEX(data_absen!$K$2:$K$2000,SUMPRODUCT((data_absen!$B$2:$B$2000=$A85)*(data_absen!$C$2:$C$2000=BE$3)*(ROW(data_absen!$C$2:$C$2000)))-1)*1440,\"\")","v":""},{"$f":"IFERROR(INDEX(data_absen!$I$2:$I$2000,SUMPRODUCT((data_absen!$B$2:$B$2000=$A85)*(data_absen!$C$2:$C$2000=BE$3)*(ROW(data_absen!$C$2:$C$2000)))-1)*1440,\"\")","v":""},null,null,{"$f":"IFERROR(INDEX(data_absen!$J$2:$J$2000,SUMPRODUCT((data_absen!$B$2:$B$2000=$A85)*(data_absen!$C$2:$C$2000=BE$3)*(ROW(data_absen!$C$2:$C$2000)))-1)*1440,\"\")","v":""},{"$f":"IFERROR(INDEX(data_absen!$K$2:$K$2000,SUMPRODUCT((data_absen!$B$2:$B$2000=$A85)*(data_absen!$C$2:$C$2000=BJ$3)*(ROW(data_absen!$C$2:$C$2000)))-1)*1440,\"\")","v":""},{"$f":"IFERROR(INDEX(data_absen!$I$2:$I$2000,SUMPRODUCT((data_absen!$B$2:$B$2000=$A85)*(data_absen!$C$2:$C$2000=BJ$3)*(ROW(data_absen!$C$2:$C$2000)))-1)*1440,\"\")","v":""},null,null,{"$f":"IFERROR(INDEX(data_absen!$J$2:$J$2000,SUMPRODUCT((data_absen!$B$2:$B$2000=$A85)*(data_absen!$C$2:$C$2000=BJ$3)*(ROW(data_absen!$C$2:$C$2000)))-1)*1440,\"\")","v":""},{"$f":"IFERROR(INDEX(data_absen!$K$2:$K$2000,SUMPRODUCT((data_absen!$B$2:$B$2000=$A85)*(data_absen!$C$2:$C$2000=BO$3)*(ROW(data_absen!$C$2:$C$2000)))-1)*1440,\"\")","v":""},{"$f":"IFERROR(INDEX(data_absen!$I$2:$I$2000,SUMPRODUCT((data_absen!$B$2:$B$2000=$A85)*(data_absen!$C$2:$C$2000=BO$3)*(ROW(data_absen!$C$2:$C$2000)))-1)*1440,\"\")","v":""},null,null,{"$f":"IFERROR(INDEX(data_absen!$J$2:$J$2000,SUMPRODUCT((data_absen!$B$2:$B$2000=$A85)*(data_absen!$C$2:$C$2000=BO$3)*(ROW(data_absen!$C$2:$C$2000)))-1)*1440,\"\")","v":""},{"$f":"COUNTIFS(data_absen!$B$2:$B$2000,$A85,data_absen!$I$2:$I$2000,\">0\")","v":0}]
["Septin",{"$f":"INDEX(data_absen!$G$2:$G$2000,SUMPRODUCT((data_absen!$B$2:$B$2000=$A88)*(data_absen!$C$2:$C$2000=B$3)*(ROW(data_absen!$C$2:$C$2000)))-1)","v":""},null,"-",{"$f":"INDEX(data_absen!$H$2:$H$2000,SUMPRODUCT((data_absen!$B$2:$B$2000=$A88)*(data_absen!$C$2:$C$2000=B$3)*(ROW(data_absen!$C$2:$C$2000)))-1)","v":""},null,{"$f":"INDEX(data_absen!$G$2:$G$2000,SUMPRODUCT((data_absen!$B$2:$B$2000=$A88)*(data_absen!$C$2:$C$2000=G$3)*(ROW(data_absen!$C$2:$C$2000)))-1)","v":""},null,"-",{"$f":"INDEX(data_absen!$H$2:$H$2000,SUMPRODUCT((data_absen!$B$2:$B$2000=$A88)*(data_absen!$C$2:$C$2000=G$3)*(ROW(data_absen!$C$2:$C$2000)))-1)","v":""},null,{"$f":"INDEX(data_absen!$G$2:$G$2000,SUMPRODUCT((data_absen!$B$2:$B$2000=$A88)*(data_absen!$C$2:$C$2000=L$3)*(ROW(data_absen!$C$2:$C$2000)))-1)","v":"06:48:00"},null,"-",{"$f":"INDEX(data_absen!$H$2:$H$2000,SUMPRODUCT((data_absen!$B$2:$B$2000=$A88)*(data_absen!$C$2:$C$2000=L$3)*(ROW(data_absen!$C$2:$C$2000)))-1)","v":"16:08:00"},null,{"$f":"INDEX(data_absen!$G$2:$G$2000,SUMPRODUCT((data_absen!$B$2:$B$2000=$A88)*(data_absen!$C$2:$C$2000=Q$3)*(ROW(data_absen!$C$2:$C$2000)))-1)","v":""},null,"-",{"$f":"INDEX(data_absen!$H$2:$H$2000,SUMPRODUCT((data_absen!$B$2:$B$2000=$A88)*(data_absen!$C$2:$C$2000=Q$3)*(ROW(data_absen!$C$2:$C$2000)))-1)","v":""},null,{"$f":"INDEX(data_absen!$G$2:$G$2000,SUMPRODUCT((data_absen!$B$2:$B$2000=$A88)*(data_absen!$C$2:$C$2000=V$3)*(ROW(data_absen!$C$2:$C$2000)))-1)","v":""},null,"-",{"$f":"INDEX(data_absen!$H$2:$H$2000,SUMPRODUCT((data_absen!$B$2:$B$2000=$A88)*(data_absen!$C$2:$C$2000=V$3)*(ROW(data_absen!$C$2:$C$2000)))-1)","v":""},null,{"$f":"INDEX(data_absen!$G$2:$G$2000,SUMPRODUCT((data_absen!$B$2:$B$2000=$A88)*(data_absen!$C$2:$C$2000=AA$3)*(ROW(data_absen!$C$2:$C$2000)))-1)","v":""},null,"-",{"$f":"INDEX(data_absen!$H$2:$H$2000,SUMPRODUCT((data_absen!$B$2:$B$2000=$A88)*(data_absen!$C$2:$C$2000=AA$3)*(ROW(data_absen!$C$2:$C$2000)))-1)","v":""},null,{"$f":"INDEX(data_absen!$G$2:$G$2000,SUMPRODUCT((data_absen!$B$2:$B$2000=$A88)*(data_absen!$C$2:$C$2000=AF$3)*(ROW(data_absen!$C$2:$C$2000)))-1)","v":""},null,"-",{"$f":"INDEX(data_absen!$H$2:$H$2000,SUMPRODUCT((data_absen!$B$2:$B$2000=$A88)*(data_absen!$C$2:$C$2000=AF$3)*(ROW(data_absen!$C$2:$C$2000)))-1)","v":""},null,{"$f":"INDEX(data_absen!$G$2:$G$2000,SUMPRODUCT((data_absen!$B$2:$B$2000=$A88)*(data_absen!$C$2:$C$2000=AK$3)*(ROW(data_absen!$C$2:$C$2000)))-1)","v":""},null,"-",{"$f":"INDEX(data_absen!$H$2:$H$2000,SUMPRODUCT((data_absen!$B$2:$B$2000=$A88)*(data_absen!$C$2:$C$2000=AK$3)*(ROW(data_absen!$C$2:$C$2000)))-1)","v":""},null,{"$f":"INDEX(data_absen!$G$2:$G$2000,SUMPRODUCT((data_absen!$B$2:$B$2000=$A88)*(data_absen!$C$2:$C$2000=AP$3)*(ROW(data_absen!$C$2:$C$2000)))-1)","v":""},null,"-",{"$f":"INDEX(data_absen!$H$2:$H$2000,SUMPRODUCT((data_absen!$B$2:$B$2000=$A88)*(data_absen!$C$2:$C$2000=AP$3)*(ROW(data_absen!$C$2:$C$2000)))-1)","v":""},null,{"$f":"INDEX(data_absen!$G$2:$G$2000,SUMPRODUCT((data_absen!$B$2:$B$2000=$A88)*(data_absen!$C$2:$C$2000=AU$3)*(ROW(data_absen!$C$2:$C$2000)))-1)","v":""},null,"-",{"$f":"INDEX(data_absen!$H$2:$H$2000,SUMPRODUCT((data_absen!$B$2:$B$2000=$A88)*(data_absen!$C$2:$C$2000=AU$3)*(ROW(data_absen!$C$2:$C$2000)))-1)","v":""},null,{"$f":"INDEX(data_absen!$G$2:$G$2000,SUMPRODUCT((data_absen!$B$2:$B$2000=$A88)*(data_absen!$C$2:$C$2000=AZ$3)*(ROW(data_absen!$C$2:$C$2000)))-1)","v":""},null,"-",{"$f":"INDEX(data_absen!$H$2:$H$2000,SUMPRODUCT((data_absen!$B$2:$B$2000=$A88)*(data_absen!$C$2:$C$2000=AZ$3)*(ROW(data_absen!$C$2:$C$2000)))-1)","v":""},null,{"$f":"INDEX(data_absen!$G$2:$G$2000,SUMPRODUCT((data_absen!$B$2:$B$2000=$A88)*(data_absen!$C$2:$C$2000=BE$3)*(ROW(data_absen!$C$2:$C$2000)))-1)","v":""},null,"-",{"$f":"INDEX(data_absen!$H$2:$H$2000,SUMPRODUCT((data_absen!$B$2:$B$2000=$A88)*(data_absen!$C$2:$C$2000=BE$3)*(ROW(data_absen!$C$2:$C$2000)))-1)","v":""},null,{"$f":"INDEX(data_absen!$G$2:$G$2000,SUMPRODUCT((data_absen!$B$2:$B$2000=$A88)*(data_absen!$C$2:$C$2000=BJ$3)*(ROW(data_absen!$C$2:$C$2000)))-1)","v":""},null,"-",{"$f":"INDEX(data_absen!$H$2:$H$2000,SUMPRODUCT((data_absen!$B$2:$B$2000=$A88)*(data_absen!$C$2:$C$2000=BJ$3)*(ROW(data_absen!$C$2:$C$2000)))-1)","v":""},null,{"$f":"INDEX(data_absen!$G$2:$G$2000,SUMPRODUCT((data_absen!$B$2:$B$2000=$A88)*(data_absen!$C$2:$C$2000=BO$3)*(ROW(data_absen!$C$2:$C$2000)))-1)","v":""},null,"-",{"$f":"INDEX(data_absen!$H$2:$H$2000,SUMPRODUCT((data_absen!$B$2:$B$2000=$A88)*(data_absen!$C$2:$C$2000=BO$3)*(ROW(data_absen!$C$2:$C$2000)))-1)","v":""}]
[325,null,null,"-",null,null,null,null,"-",null,null,null,null,"-",null,null,null,null,"-",null,null,null,null,"-",null,null,null,null,"-",null,null,null,null,"-",null,null,null,null,"-",null,null,null,null,"-",null,null,null,null,"-",null,null,null,null,"-",null,null,null,null,"-",null,null,null,null,"-",null,null,null,null,"-"]
[null,{"$f":"IFERROR(INDEX(data_absen!$K$2:$K$2000,SUMPRODUCT((data_absen!$B$2:$B$2000=$A88)*(data_absen!$C$2:$C$2000=B$3)*(ROW(data_absen!$C$2:$C$2000)))-1)*1440,\"\")","v":""},{"$f":"IFERROR(INDEX(data_absen!$I$2:$I$2000,SUMPRODUCT((data_absen!$B$2:$B$2000=$A88)*(data_absen!$C$2:$C$2000=B$3)*(ROW(data_absen!$C$2:$C$2000)))-1)*1440,\"\")","v":""},null,null,{"$f":"IFERROR(INDEX(data_absen!$J$2:$J$2000,SUMPRODUCT((data_absen!$B$2:$B$2000=$A88)*(data_absen!$C$2:$C$2000=B$3)*(ROW(data_absen!$C$2:$C$2000)))-1)*1440,\"\")","v":""},{"$f":"IFERROR(INDEX(data_absen!$K$2:$K$2000,SUMPRODUCT((data_absen!$B$2:$B$2000=$A88)*(data_absen!$C$2:$C$2000=G$3)*(ROW(data_absen!$C$2:$C$2000)))-1)*1440,\"\")","v":""},{"$f":"IFERROR(INDEX(data_absen!$I$2:$I$2000,SUMPRODUCT((data_absen!$B$2:$B$2000=$A88)*(data_absen!$C$2:$C$2000=G$3)*(ROW(data_absen!$C$2:$C$2000)))-1)*1440,\"\")","v":""},null,null,{"$f":"IFERROR(INDEX(data_absen!$J$2:$J$2000,SUMPRODUCT((data_absen!$B$2:$B$2000=$A88)*(data_absen!$C$2:$C$2000=G$3)*(ROW(data_absen!$C$2:$C$2000)))-1)*1440,\"\")","v":""},{"$f":"IFERROR(INDEX(data_absen!$K$2:$K$2000,SUMPRODUCT((data_absen!$B$2:$B$2000=$A88)*(data_absen!$C$2:$C$2000=L$3)*(ROW(data_absen!$C$2:$C$2000)))-1)*1440,\"\")","v":""},{"$f":"IFERROR(INDEX(data_absen!$I$2:$I$2000,SUMPRODUCT((data_absen!$B$2:$B$2000=$A88)*(data_absen!$C$2:$C$2000=L$3)*(ROW(data_absen!$C$2:$C$2000)))-1)*1440,\"\")","v":""},null,null,{"$f":"IFERROR(INDEX(data_absen!$J$2:$J$2000,SUMPRODUCT((data_absen!$B$2:$B$2000=$A88)*(data_absen!$C$2:$C$2000=L$3)*(ROW(data_absen!$C$2:$C$2000)))-1)*1440,\"\")","v":52.000000000000007},{"$f":"IFERROR(INDEX(data_absen!$K$2:$K$2000,SUMPRODUCT((data_absen!$B$2:$B$2000=$A88)*(data_absen!$C$2:$C$2000=Q$3)*(ROW(data_absen!$C$2:$C$2000)))-1)*1440,\"\")","v":""},{"$f":"IFERROR(INDEX(data_absen!$I$2:$I$2000,SUMPRODUCT((data_absen!$B$2:$B$2000=$A88)*(data_absen!$C$2:$C$2000=Q$3)*(ROW(data_absen!$C$2:$C$2000)))-1)*1440,\"\")","v":""},null,null,{"$f":"IFERROR(INDEX(data_absen!$J$2:$J$2000,SUMPRODUCT((data_absen!$B$2:$B$2000=$A88)*(data_absen!$C$2:$C$2000=Q$3)*(ROW(data_absen!$C$2:$C$2000)))-1)*1440,\"\")","v":""},{"$f":"IFERROR(INDEX(data_absen!$K$2:$K$2000,SUMPRODUCT((data_absen!$B$2:$B$2000=$A88)*(data_absen!$C$2:$C$2000=V$3)*(ROW(data_absen!$C$2:$C$2000)))-1)*1440,\"\")","v":""},{"$f":"IFERROR(INDEX(data_absen!$I$2:$I$2000,SUMPRODUCT((data_absen!$B$2:$B$2000=$A88)*(data_absen!$C$2:$C$2000=V$3)*(ROW(data_absen!$C$2:$C$2000)))-1)*1440,\"\")","v":""},null,null,{"$f":"IFERROR(INDEX(data_absen!$J$2:$J$2000,SUMPRODUCT((data_absen!$B$2:$B$2000=$A88)*(data_absen!$C$2:$C$2000=V$3)*(ROW(data_absen!$C$2:$C$2000)))-1)*1440,\"\")","v":""},{"$f":"IFERROR(INDEX(data_absen!$K$2:$K$2000,SUMPRODUCT((data_absen!$B$2:$B$2000=$A88)*(data_absen!$C$2:$C$2000=AA$3)*(ROW(data_absen!$C$2:$C$2000)))-1)*1440,\"\")","v":""},{"$f":"IFERROR(INDEX(data_absen!$I$2:$I$2000,SUMPRODUCT((data_absen!$B$2:$B$2000=$A88)*(data_absen!$C$2:$C$2000=AA$3)*(ROW(data_absen!$C$2:$C$2000)))-1)*1440,\"\")","v":""},null,null,{"$f":"IFERROR(INDEX(data_absen!$J$2:$J$2000,SUMPRODUCT((data_absen!$B$2:$B$2000=$A88)*(data_absen!$C$2:$C$2000=AA$3)*(ROW(data_absen!$C$2:$C$2000)))-1)*1440,\"\")","v":""},{"$f":"IFERROR(INDEX(data_absen!$K$2:$K$2000,SUMPRODUCT((data_absen!$B$2:$B$2000=$A88)*(data_absen!$C$2:$C$2000=AF$3)*(ROW(data_absen!$C$2:$C$2000)))-1)*1440,\"\")","v":""},{"$f":"IFERROR(INDEX(data_absen!$I$2:$I$2000,SUMPRODUCT((data_absen!$B$2:$B$2000=$A88)*(data_absen!$C$2:$C$2000=AF$3)*(ROW(data_absen!$C$2:$C$2000)))-1)*1440,\"\")","v":""},null,null,{"$f":"IFERROR(INDEX(data_absen!$J$2:$J$2000,SUMPRODUCT((data_absen!$B$2:$B$2000=$A88)*(data_absen!$C$2:$C$2000=AF$3)*(ROW(data_absen!$C$2:$C$2000)))-1)*1440,\"\")","v":""},{"$f":"IFERROR(INDEX(data_absen!$K$2:$K$2000,SUMPRODUCT((data_absen!$B$2:$B$2000=$A88)*(data_absen!$C$2:$C$2000=AK$3)*(ROW(data_absen!$C$2:$C$2000)))-1)*1440,\"\")","v":""},{"$f":"IFERROR(INDEX(data_absen!$I$2:$I$2000,SUMPRODUCT((data_absen!$B$2:$B$2000=$A88)*(data_absen!$C$2:$C$2000=AK$3)*(ROW(data_absen!$C$2:$C$2000)))-1)*1440,\"\")","v":""},null,null,{"$f":"IFERROR(INDEX(data_absen!$J$2:$J$2000,SUMPRODUCT((data_absen!$B$2:$B$2000=$A88)*(data_absen!$C$2:$C$2000=AK$3)*(ROW(data_absen!$C$2:$C$2000)))-1)*1440,\"\")","v":""},{"$f":"IFERROR(INDEX(data_absen!$K$2:$K$2000,SUMPRODUCT((data_absen!$B$2:$B$2000=$A88)*(data_absen!$C$2:$C$2000=AP$3)*(ROW(data_absen!$C$2:$C$2000)))-1)*1440,\"\")","v":""},{"$f":"IFERROR(INDEX(data_absen!$I$2:$I$2000,SUMPRODUCT((data_absen!$B$2:$B$2000=$A88)*(data_absen!$C$2:$C$2000=AP$3)*(ROW(data_absen!$C$2:$C$2000)))-1)*1440,\"\")","v":""},null,null,{"$f":"IFERROR(INDEX(data_absen!$J$2:$J$2000,SUMPRODUCT((data_absen!$B$2:$B$2000=$A88)*(data_absen!$C$2:$C$2000=AP$3)*(ROW(data_absen!$C$2:$C$2000)))-1)*1440,\"\")","v":""},{"$f":"IFERROR(INDEX(data_absen!$K$2:$K$2000,SUMPRODUCT((data_absen!$B$2:$B$2000=$A88)*(data_absen!$C$2:$C$2000=AU$3)*(ROW(data_absen!$C$2:$C$2000)))-1)*1440,\"\")","v":""},{"$f":"IFERROR(INDEX(data_absen!$I$2:$I$2000,SUMPRODUCT((data_absen!$B$2:$B$2000=$A88)*(data_absen!$C$2:$C$2000=AU$3)*(ROW(data_absen!$C$2:$C$2000)))-1)*1440,\"\")","v":""},null,null,{"$f":"IFERROR(INDEX(data_absen!$J$2:$J$2000,SUMPRODUCT((data_absen!$B$2:$B$2000=$A88)*(data_absen!$C$2:$C$2000=AU$3)*(ROW(data_absen!$C$2:$C$2000)))-1)*1440,\"\")","v":""},{"$f":"IFERROR(INDEX(data_absen!$K$2:$K$2000,SUMPRODUCT((data_absen!$B$2:$B$2000=$A88)*(data_absen!$C$2:$C$2000=AZ$3)*(ROW(data_absen!$C$2:$C$2000)))-1)*1440,\"\")","v":""},{"$f":"IFERROR(INDEX(data_absen!$I$2:$I$2000,SUMPRODUCT((data_absen!$B$2:$B$2000=$A88)*(data_absen!$C$2:$C$2000=AZ$3)*(ROW(data_absen!$C$2:$C$2000)))-1)*1440,\"\")","v":""},null,null,{"$f":"IFERROR(INDEX(data_absen!$J$2:$J$2000,SUMPRODUCT((data_absen!$B$2:$B$2000=$A88)*(data_absen!$C$2:$C$2000=AZ$3)*(ROW(data_absen!$C$2:$C$2000)))-1)*1440,\"\")","v":""},{"$f":"IFERROR(INDEX(data_absen!$K$2:$K$2000,SUMPRODUCT((data_absen!$B$2:$B$2000=$A88)*(data_absen!$C$2:$C$2000=BE$3)*(ROW(data_absen!$C$2:$C$2000)))-1)*1440,\"\")","v":""},{"$f":"IFERROR(INDEX(data_absen!$I$2:$I$2000,SUMPRODUCT((data_absen!$B$2:$B$2000=$A88)*(data_absen!$C$2:$C$2000=BE$3)*(ROW(data_absen!$C$2:$C$2000)))-1)*1440,\"\")","v":""},null,null,{"$f":"IFERROR(INDEX(data_absen!$J$2:$J$2000,SUMPRODUCT((data_absen!$B$2:$B$2000=$A88)*(data_absen!$C$2:$C$2000=BE$3)*(ROW(data_absen!$C$2:$C$2000)))-1)*1440,\"\")","v":""},{"$f":"IFERROR(INDEX(data_absen!$K$2:$K$2000,SUMPRODUCT((data_absen!$B$2:$B$2000=$A88)*(data_absen!$C$2:$C$2000=BJ$3)*(ROW(data_absen!$C$2:$C$2000)))-1)*1440,\"\")","v":""},{"$f":"IFERROR(INDEX(data_absen!$I$2:$I$2000,SUMPRODUCT((data_absen!$B$2:$B$2000=$A88)*(data_absen!$C$2:$C$2000=BJ$3)*(ROW(data_absen!$C$2:$C$2000)))-1)*1440,\"\")","v":""},null,null,{"$f":"IFERROR(INDEX(data_absen!$J$2:$J$2000,SUMPRODUCT((data_absen!$B$2:$B$2000=$A88)*(data_absen!$C$2:$C$2000=BJ$3)*(ROW(data_absen!$C$2:$C$2000)))-1)*1440,\"\")","v":""},{"$f":"IFERROR(INDEX(data_absen!$K$2:$K$2000,SUMPRODUCT((data_absen!$B$2:$B$2000=$A88)*(data_absen!$C$2:$C$2000=BO$3)*(ROW(data_absen!$C$2:$C$2000)))-1)*1440,\"\")","v":""},{"$f":"IFERROR(INDEX(data_absen!$I$2:$I$2000,SUMPRODUCT((data_absen!$B$2:$B$2000=$A88)*(data_absen!$C$2:$C$2000=BO$3)*(ROW(data_absen!$C$2:$C$2000)))-1)*1440,\"\")","v":""},null,null,{"$f":"IFERROR(INDEX(data_absen!$J$2:$J$2000,SUMPRODUCT((data_absen!$B$2:$B$2000=$A88)*(data_absen!$C$2:$C$2000=BO$3)*(ROW(data_absen!$C$2:$C$2000)))-1)*1440,\"\")","v":""}]
["Titin",{"$f":"INDEX(data_absen!$G$2:$G$2000,SUMPRODUCT((data_absen!$B$2:$B$2000=$A91)*(data_absen!$C$2:$C$2000=B$3)*(ROW(data_absen!$C$2:$C$2000)))-1)","v":""},null,"-",{"$f":"INDEX(data_absen!$H$2:$H$2000,SUMPRODUCT((data_absen!$B$2:$B$2000=$A91)*(data_absen!$C$2:$C$2000=B$3)*(ROW(data_absen!$C$2:$C$2000)))-1)","v":""},null,{"$f":"INDEX(data_absen!$G$2:$G$2000,SUMPRODUCT((data_absen!$B$2:$B$2000=$A91)*(data_absen!$C$2:$C$2000=G$3)*(ROW(data_absen!$C$2:$C$2000)))-1)","v":"06:46:00"},null,"-",{"$f":"INDEX(data_absen!$H$2:$H$2000,SUMPRODUCT((data_absen!$B$2:$B$2000=$A91)*(data_absen!$C$2:$C$2000=G$3)*(ROW(data_absen!$C$2:$C$2000)))-1)","v":"15:13:00"},null,{"$f":"INDEX(data_absen!$G$2:$G$2000,SUMPRODUCT((data_absen!$B$2:$B$2000=$A91)*(data_absen!$C$2:$C$2000=L$3)*(ROW(data_absen!$C$2:$C$2000)))-1)","v":""},null,"-",{"$f":"INDEX(data_absen!$H$2:$H$2000,SUMPRODUCT((data_absen!$B$2:$B$2000=$A91)*(data_absen!$C$2:$C$2000=L$3)*(ROW(data_absen!$C$2:$C$2000)))-1)","v":""},null,{"$f":"INDEX(data_absen!$G$2:$G$2000,SUMPRODUCT((data_absen!$B$2:$B$2000=$A91)*(data_absen!$C$2:$C$2000=Q$3)*(ROW(data_absen!$C$2:$C$2000)))-1)","v":""},null,"-",{"$f":"INDEX(data_absen!$H$2:$H$2000,SUMPRODUCT((data_absen!$B$2:$B$2000=$A91)*(data_absen!$C$2:$C$2000=Q$3)*(ROW(data_absen!$C$2:$C$2000)))-1)","v":""},null,{"$f":"INDEX(data_absen!$G$2:$G$2000,SUMPRODUCT((data_absen!$B$2:$B$2000=$A91)*(data_absen!$C$2:$C$2000=V$3)*(ROW(data_absen!$C$2:$C$2000)))-1)","v":""},null,"-",{"$f":"INDEX(data_absen!$H$2:$H$2000,SUMPRODUCT((data_absen!$B$2:$B$2000=$A91)*(data_absen!$C$2:$C$2000=V$3)*(ROW(data_absen!$C$2:$C$2000)))-1)","v":""},null,{"$f":"INDEX(data_absen!$G$2:$G$2000,SUMPRODUCT((data_absen!$B$2:$B$2000=$A91)*(data_absen!$C$2:$C$2000=AA$3)*(ROW(data_absen!$C$2:$C$2000)))-1)","v":""},null,"-",{"$f":"INDEX(data_absen!$H$2:$H$2000,SUMPRODUCT((data_absen!$B$2:$B$2000=$A91)*(data_absen!$C$2:$C$2000=AA$3)*(ROW(data_absen!$C$2:$C$2000)))-1)","v":""},null,{"$f":"INDEX(data_absen!$G$2:$G$2000,SUMPRODUCT((data_absen!$B$2:$B$2000=$A91)*(data_absen!$C$2:$C$2000=AF$3)*(ROW(data_absen!$C$2:$C$2000)))-1)","v":""},null,"-",{"$f":"INDEX(data_absen!$H$2:$H$2000,SUMPRODUCT((data_absen!$B$2:$B$2000=$A91)*(data_absen!$C$2:$C$2000=AF$3)*(ROW(data_absen!$C$2:$C$2000)))-1)","v":""},null,{"$f":"INDEX(data_absen!$G$2:$G$2000,SUMPRODUCT((data_absen!$B$2:$B$2000=$A91)*(data_absen!$C$2:$C$2000=AK$3)*(ROW(data_absen!$C$2:$C$2000)))-1)","v":""},null,"-",{"$f":"INDEX(data_absen!$H$2:$H$2000,SUMPRODUCT((data_absen!$B$2:$B$2000=$A91)*(data_absen!$C$2:$C$2000=AK$3)*(ROW(data_absen!$C$2:$C$2000)))-1)","v":""},null,{"$f":"INDEX(data_absen!$G$2:$G$2000,SUMPRODUCT((data_absen!$B$2:$B$2000=$A91)*(data_absen!$C$2:$C$2000=AP$3)*(ROW(data_absen!$C$2:$C$2000)))-1)","v":""},null,"-",{"$f":"INDEX(data_absen!$H$2:$H$2000,SUMPRODUCT((data_absen!$B$2:$B$2000=$A91)*(data_absen!$C$2:$C$2000=AP$3)*(ROW(data_absen!$C$2:$C$2000)))-1)","v":""},null,{"$f":"INDEX(data_absen!$G$2:$G$2000,SUMPRODUCT((data_absen!$B$2:$B$2000=$A91)*(data_absen!$C$2:$C$2000=AU$3)*(ROW(data_absen!$C$2:$C$2000)))-1)","v":""},null,"-",{"$f":"INDEX(data_absen!$H$2:$H$2000,SUMPRODUCT((data_absen!$B$2:$B$2000=$A91)*(data_absen!$C$2:$C$2000=AU$3)*(ROW(data_absen!$C$2:$C$2000)))-1)","v":""},null,{"$f":"INDEX(data_absen!$G$2:$G$2000,SUMPRODUCT((data_absen!$B$2:$B$2000=$A91)*(data_absen!$C$2:$C$2000=AZ$3)*(ROW(data_absen!$C$2:$C$2000)))-1)","v":""},null,"-",{"$f":"INDEX(data_absen!$H$2:$H$2000,SUMPRODUCT((data_absen!$B$2:$B$2000=$A91)*(data_absen!$C$2:$C$2000=AZ$3)*(ROW(data_absen!$C$2:$C$2000)))-1)","v":""},null,{"$f":"INDEX(data_absen!$G$2:$G$2000,SUMPRODUCT((data_absen!$B$2:$B$2000=$A91)*(data_absen!$C$2:$C$2000=BE$3)*(ROW(data_absen!$C$2:$C$2000)))-1)","v":""},null,"-",{"$f":"INDEX(data_absen!$H$2:$H$2000,SUMPRODUCT((data_absen!$B$2:$B$2000=$A91)*(data_absen!$C$2:$C$2000=BE$3)*(ROW(data_absen!$C$2:$C$2000)))-1)","v":""},null,{"$f":"INDEX(data_absen!$G$2:$G$2000,SUMPRODUCT((data_absen!$B$2:$B$2000=$A91)*(data_absen!$C$2:$C$2000=BJ$3)*(ROW(data_absen!$C$2:$C$2000)))-1)","v":""},null,"-",{"$f":"INDEX(data_absen!$H$2:$H$2000,SUMPRODUCT((data_absen!$B$2:$B$2000=$A91)*(data_absen!$C$2:$C$2000=BJ$3)*(ROW(data_absen!$C$2:$C$2000)))-1)","v":""},null,{"$f":"INDEX(data_absen!$G$2:$G$2000,SUMPRODUCT((data_absen!$B$2:$B$2000=$A91)*(data_absen!$C$2:$C$2000=BO$3)*(ROW(data_absen!$C$2:$C$2000)))-1)","v":""},null,"-",{"$f":"INDEX(data_absen!$H$2:$H$2000,SUMPRODUCT((data_absen!$B$2:$B$2000=$A91)*(data_absen!$C$2:$C$2000=BO$3)*(ROW(data_absen!$C$2:$C$2000)))-1)","v":""}]
[326,null,null,"-",null,null,null,null,"-",null,null,null,null,"-",null,null,null,null,"-",null,null,null,null,"-",null,null,null,null,"-",null,null,null,null,"-",null,null,null,null,"-",null,null,null,null,"-",null,null,null,null,"-",null,null,null,null,"-",null,null,null,null,"-",null,null,null,null,"-",null,null,null,null,"-"]
[null,{"$f":"IFERROR(INDEX(data_absen!$K$2:$K$2000,SUMPRODUCT((data_absen!$B$2:$B$2000=$A91)*(data_absen!$C$2:$C$2000=B$3)*(ROW(data_absen!$C$2:$C$2000)))-1)*1440,\"\")","v":""},{"$f":"IFERROR(INDEX(data_absen!$I$2:$I$2000,SUMPRODUCT((data_absen!$B$2:$B$2000=$A91)*(data_absen!$C$2:$C$2000=B$3)*(ROW(data_absen!$C$2:$C$2000)))-1)*1440,\"\")","v":""},null,null,{"$f":"IFERROR(INDEX(data_absen!$J$2:$J$2000,SUMPRODUCT((data_absen!$B$2:$B$2000=$A91)*(data_absen!$C$2:$C$2000=B$3)*(ROW(data_absen!$C$2:$C$2000)))-1)*1440,\"\")","v":""},{"$f":"IFERROR(INDEX(data_absen!$K$2:$K$2000,SUMPRODUCT((data_absen!$B$2:$B$2000=$A91)*(data_absen!$C$2:$C$2000=G$3)*(ROW(data_absen!$C$2:$C$2000)))-1)*1440,\"\")","v":""},{"$f":"IFERROR(INDEX(data_absen!$I$2:$I$2000,SUMPRODUCT((data_absen!$B$2:$B$2000=$A91)*(data_absen!$C$2:$C$2000=G$3)*(ROW(data_absen!$C$2:$C$2000)))-1)*1440,\"\")","v":""},null,null,{"$f":"IFERROR(INDEX(data_absen!$J$2:$J$2000,SUMPRODUCT((data_absen!$B$2:$B$2000=$A91)*(data_absen!$C$2:$C$2000=G$3)*(ROW(data_absen!$C$2:$C$2000)))-1)*1440,\"\")","v":107},{"$f":"IFERROR(INDEX(data_absen!$K$2:$K$2000,SUMPRODUCT((data_absen!$B$2:$B$2000=$A91)*(data_absen!$C$2:$C$2000=L$3)*(ROW(data_absen!$C$2:$C$2000)))-1)*1440,\"\")","v":""},{"$f":"IFERROR(INDEX(data_absen!$I$2:$I$2000,SUMPRODUCT((data_absen!$B$2:$B$2000=$A91)*(data_absen!$C$2:$C$2000=L$3)*(ROW(data_absen!$C$2:$C$2000)))-1)*1440,\"\")","v":""},null,null,{"$f":"IFERROR(INDEX(data_absen!$J$2:$J$2000,SUMPRODUCT((data_absen!$B$2:$B$2000=$A91)*(data_absen!$C$2:$C$2000=L$3)*(ROW(data_absen!$C$2:$C$2000)))-1)*1440,\"\")","v":""},{"$f":"IFERROR(INDEX(data_absen!$K$2:$K$2000,SUMPRODUCT((data_absen!$B$2:$B$2000=$A91)*(data_absen!$C$2:$C$2000=Q$3)*(ROW(data_absen!$C$2:$C$2000)))-1)*1440,\"\")","v":""},{"$f":"IFERROR(INDEX(data_absen!$I$2:$I$2000,SUMPRODUCT((data_absen!$B$2:$B$2000=$A91)*(data_absen!$C$2:$C$2000=Q$3)*(ROW(data_absen!$C$2:$C$2000)))-1)*1440,\"\")","v":""},null,null,{"$f":"IFERROR(INDEX(data_absen!$J$2:$J$2000,SUMPRODUCT((data_absen!$B$2:$B$2000=$A91)*(data_absen!$C$2:$C$2000=Q$3)*(ROW(data_absen!$C$2:$C$2000)))-1)*1440,\"\")","v":""},{"$f":"IFERROR(INDEX(data_absen!$K$2:$K$2000,SUMPRODUCT((data_absen!$B$2:$B$2000=$A91)*(data_absen!$C$2:$C$2000=V$3)*(ROW(data_absen!$C$2:$C$2000)))-1)*1440,\"\")","v":""},{"$f":"IFERROR(INDEX(data_absen!$I$2:$I$2000,SUMPRODUCT((data_absen!$B$2:$B$2000=$A91)*(data_absen!$C$2:$C$2000=V$3)*(ROW(data_absen!$C$2:$C$2000)))-1)*1440,\"\")","v":""},null,null,{"$f":"IFERROR(INDEX(data_absen!$J$2:$J$2000,SUMPRODUCT((data_absen!$B$2:$B$2000=$A91)*(data_absen!$C$2:$C$2000=V$3)*(ROW(data_absen!$C$2:$C$2000)))-1)*1440,\"\")","v":""},{"$f":"IFERROR(INDEX(data_absen!$K$2:$K$2000,SUMPRODUCT((data_absen!$B$2:$B$2000=$A91)*(data_absen!$C$2:$C$2000=AA$3)*(ROW(data_absen!$C$2:$C$2000)))-1)*1440,\"\")","v":""},{"$f":"IFERROR(INDEX(data_absen!$I$2:$I$2000,SUMPRODUCT((data_absen!$B$2:$B$2000=$A91)*(data_absen!$C$2:$C$2000=AA$3)*(ROW(data_absen!$C$2:$C$2000)))-1)*1440,\"\")","v":""},null,null,{"$f":"IFERROR(INDEX(data_absen!$J$2:$J$2000,SUMPRODUCT((data_absen!$B$2:$B$2000=$A91)*(data_absen!$C$2:$C$2000=AA$3)*(ROW(data_absen!$C$2:$C$2000)))-1)*1440,\"\")","v":""},{"$f":"IFERROR(INDEX(data_absen!$K$2:$K$2000,SUMPRODUCT((data_absen!$B$2:$B$2000=$A91)*(data_absen!$C$2:$C$2000=AF$3)*(ROW(data_absen!$C$2:$C$2000)))-1)*1440,\"\")","v":""},{"$f":"IFERROR(INDEX(data_absen!$I$2:$I$2000,SUMPRODUCT((data_absen!$B$2:$B$2000=$A91)*(data_absen!$C$2:$C$2000=AF$3)*(ROW(data_absen!$C$2:$C$2000)))-1)*1440,\"\")","v":""},null,null,{"$f":"IFERROR(INDEX(data_absen!$J$2:$J$2000,SUMPRODUCT((data_absen!$B$2:$B$2000=$A91)*(data_absen!$C$2:$C$2000=AF$3)*(ROW(data_absen!$C$2:$C$2000)))-1)*1440,\"\")","v":""},{"$f":"IFERROR(INDEX(data_absen!$K$2:$K$2000,SUMPRODUCT((data_absen!$B$2:$B$2000=$A91)*(data_absen!$C$2:$C$2000=AK$3)*(ROW(data_absen!$C$2:$C$2000)))-1)*1440,\"\")","v":""},{"$f":"IFERROR(INDEX(data_absen!$I$2:$I$2000,SUMPRODUCT((data_absen!$B$2:$B$2000=$A91)*(data_absen!$C$2:$C$2000=AK$3)*(ROW(data_absen!$C$2:$C$2000)))-1)*1440,\"\")","v":""},null,null,{"$f":"IFERROR(INDEX(data_absen!$J$2:$J$2000,SUMPRODUCT((data_absen!$B$2:$B$2000=$A91)*(data_absen!$C$2:$C$2000=AK$3)*(ROW(data_absen!$C$2:$C$2000)))-1)*1440,\"\")","v":""},{"$f":"IFERROR(INDEX(data_absen!$K$2:$K$2000,SUMPRODUCT((data_absen!$B$2:$B$2000=$A91)*(data_absen!$C$2:$C$2000=AP$3)*(ROW(data_absen!$C$2:$C$2000)))-1)*1440,\"\")","v":""},{"$f":"IFERROR(INDEX(data_absen!$I$2:$I$2000,SUMPRODUCT((data_absen!$B$2:$B$2000=$A91)*(data_absen!$C$2:$C$2000=AP$3)*(ROW(data_absen!$C$2:$C$2000)))-1)*1440,\"\")","v":""},null,null,{"$f":"IFERROR(INDEX(data_absen!$J$2:$J$2000,SUMPRODUCT((data_absen!$B$2:$B$2000=$A91)*(data_absen!$C$2:$C$2000=AP$3)*(ROW(data_absen!$C$2:$C$2000)))-1)*1440,\"\")","v":""},{"$f":"IFERROR(INDEX(data_absen!$K$2:$K$2000,SUMPRODUCT((data_absen!$B$2:$B$2000=$A91)*(data_absen!$C$2:$C$2000=AU$3)*(ROW(data_absen!$C$2:$C$2000)))-1)*1440,\"\")","v":""},{"$f":"IFERROR(INDEX(data_absen!$I$2:$I$2000,SUMPRODUCT((data_absen!$B$2:$B$2000=$A91)*(data_absen!$C$2:$C$2000=AU$3)*(ROW(data_absen!$C$2:$C$2000)))-1)*1440,\"\")","v":""},null,null,{"$f":"IFERROR(INDEX(data_absen!$J$2:$J$2000,SUMPRODUCT((data_absen!$B$2:$B$2000=$A91)*(data_absen!$C$2:$C$2000=AU$3)*(ROW(data_absen!$C$2:$C$2000)))-1)*1440,\"\")","v":""},{"$f":"IFERROR(INDEX(data_absen!$K$2:$K$2000,SUMPRODUCT((data_absen!$B$2:$B$2000=$A91)*(data_absen!$C$2:$C$2000=AZ$3)*(ROW(data_absen!$C$2:$C$2000)))-1)*1440,\"\")","v":""},{"$f":"IFERROR(INDEX(data_absen!$I$2:$I$2000,SUMPRODUCT((data_absen!$B$2:$B$2000=$A91)*(data_absen!$C$2:$C$2000=AZ$3)*(ROW(data_absen!$C$2:$C$2000)))-1)*1440,\"\")","v":""},null,null,{"$f":"IFERROR(INDEX(data_absen!$J$2:$J$2000,SUMPRODUCT((data_absen!$B$2:$B$2000=$A91)*(data_absen!$C$2:$C$2000=AZ$3)*(ROW(data_absen!$C$2:$C$2000)))-1)*1440,\"\")","v":""},{"$f":"IFERROR(INDEX(data_absen!$K$2:$K$2000,SUMPRODUCT((data_absen!$B$2:$B$2000=$A91)*(data_absen!$C$2:$C$2000=BE$3)*(ROW(data_absen!$C$2:$C$2000)))-1)*1440,\"\")","v":""},{"$f":"IFERROR(INDEX(data_absen!$I$2:$I$2000,SUMPRODUCT((data_absen!$B$2:$B$2000=$A91)*(data_absen!$C$2:$C$2000=BE$3)*(ROW(data_absen!$C$2:$C$2000)))-1)*1440,\"\")","v":""},null,null,{"$f":"IFERROR(INDEX(data_absen!$J$2:$J$2000,SUMPRODUCT((data_absen!$B$2:$B$2000=$A91)*(data_absen!$C$2:$C$2000=BE$3)*(ROW(data_absen!$C$2:$C$2000)))-1)*1440,\"\")","v":""},{"$f":"IFERROR(INDEX(data_absen!$K$2:$K$2000,SUMPRODUCT((data_absen!$B$2:$B$2000=$A91)*(data_absen!$C$2:$C$2000=BJ$3)*(ROW(data_absen!$C$2:$C$2000)))-1)*1440,\"\")","v":""},{"$f":"IFERROR(INDEX(data_absen!$I$2:$I$2000,SUMPRODUCT((data_absen!$B$2:$B$2000=$A91)*(data_absen!$C$2:$C$2000=BJ$3)*(ROW(data_absen!$C$2:$C$2000)))-1)*1440,\"\")","v":""},null,null,{"$f":"IFERROR(INDEX(data_absen!$J$2:$J$2000,SUMPRODUCT((data_absen!$B$2:$B$2000=$A91)*(data_absen!$C$2:$C$2000=BJ$3)*(ROW(data_absen!$C$2:$C$2000)))-1)*1440,\"\")","v":""},{"$f":"IFERROR(INDEX(data_absen!$K$2:$K$2000,SUMPRODUCT((data_absen!$B$2:$B$2000=$A91)*(data_absen!$C$2:$C$2000=BO$3)*(ROW(data_absen!$C$2:$C$2000)))-1)*1440,\"\")","v":""},{"$f":"IFERROR(INDEX(data_absen!$I$2:$I$2000,SUMPRODUCT((data_absen!$B$2:$B$2000=$A91)*(data_absen!$C$2:$C$2000=BO$3)*(ROW(data_absen!$C$2:$C$2000)))-1)*1440,\"\")","v":""},null,null,{"$f":"IFERROR(INDEX(data_absen!$J$2:$J$2000,SUMPRODUCT((data_absen!$B$2:$B$2000=$A91)*(data_absen!$C$2:$C$2000=BO$3)*(ROW(data_absen!$C$2:$C$2000)))-1)*1440,\"\")","v":""},{"$f":"COUNTIFS(data_absen!$B$2:$B$2000,$A91,data_absen!$I$2:$I$2000,\">0\")","v":0}]
["Latifa",{"$f":"INDEX(data_absen!$G$2:$G$2000,SUMPRODUCT((data_absen!$B$2:$B$2000=$A94)*(data_absen!$C$2:$C$2000=B$3)*(ROW(data_absen!$C$2:$C$2000)))-1)","v":"06:43:00"},null,"-",{"$f":"INDEX(data_absen!$H$2:$H$2000,SUMPRODUCT((data_absen!$B$2:$B$2000=$A94)*(data_absen!$C$2:$C$2000=B$3)*(ROW(data_absen!$C$2:$C$2000)))-1)","v":""},null,{"$f":"INDEX(data_absen!$G$2:$G$2000,SUMPRODUCT((data_absen!$B$2:$B$2000=$A94)*(data_absen!$C$2:$C$2000=G$3)*(ROW(data_absen!$C$2:$C$2000)))-1)","v":""},null,"-",{"$f":"INDEX(data_absen!$H$2:$H$2000,SUMPRODUCT((data_absen!$B$2:$B$2000=$A94)*(data_absen!$C$2:$C$2000=G$3)*(ROW(data_absen!$C$2:$C$2000)))-1)","v":""},null,{"$f":"INDEX(data_absen!$G$2:$G$2000,SUMPRODUCT((data_absen!$B$2:$B$2000=$A94)*(data_absen!$C$2:$C$2000=L$3)*(ROW(data_absen!$C$2:$C$2000)))-1)","v":""},null,"-",{"$f":"INDEX(data_absen!$H$2:$H$2000,SUMPRODUCT((data_absen!$B$2:$B$2000=$A94)*(data_absen!$C$2:$C$2000=L$3)*(ROW(data_absen!$C$2:$C$2000)))-1)","v":""},null,{"$f":"INDEX(data_absen!$G$2:$G$2000,SUMPRODUCT((data_absen!$B$2:$B$2000=$A94)*(data_absen!$C$2:$C$2000=Q$3)*(ROW(data_absen!$C$2:$C$2000)))-1)","v":""},null,"-",{"$f":"INDEX(data_absen!$H$2:$H$2000,SUMPRODUCT((data_absen!$B$2:$B$2000=$A94)*(data_absen!$C$2:$C$2000=Q$3)*(ROW(data_absen!$C$2:$C$2000)))-1)","v":""},null,{"$f":"INDEX(data_absen!$G$2:$G$2000,SUMPRODUCT((data_absen!$B$2:$B$2000=$A94)*(data_absen!$C$2:$C$2000=V$3)*(ROW(data_absen!$C$2:$C$2000)))-1)","v":""},null,"-",{"$f":"INDEX(data_absen!$H$2:$H$2000,SUMPRODUCT((data_absen!$B$2:$B$2000=$A94)*(data_absen!$C$2:$C$2000=V$3)*(ROW(data_absen!$C$2:$C$2000)))-1)","v":""},null,{"$f":"INDEX(data_absen!$G$2:$G$2000,SUMPRODUCT((data_absen!$B$2:$B$2000=$A94)*(data_absen!$C$2:$C$2000=AA$3)*(ROW(data_absen!$C$2:$C$2000)))-1)","v":""},null,"-",{"$f":"INDEX(data_absen!$H$2:$H$2000,SUMPRODUCT((data_absen!$B$2:$B$2000=$A94)*(data_absen!$C$2:$C$2000=AA$3)*(ROW(data_absen!$C$2:$C$2000)))-1)","v":""},null,{"$f":"INDEX(data_absen!$G$2:$G$2000,SUMPRODUCT((data_absen!$B$2:$B$2000=$A94)*(data_absen!$C$2:$C$2000=AF$3)*(ROW(data_absen!$C$2:$C$2000)))-1)","v":""},null,"-",{"$f":"INDEX(data_absen!$H$2:$H$2000,SUMPRODUCT((data_absen!$B$2:$B$2000=$A94)*(data_absen!$C$2:$C$2000=AF$3)*(ROW(data_absen!$C$2:$C$2000)))-1)","v":""},null,{"$f":"INDEX(data_absen!$G$2:$G$2000,SUMPRODUCT((data_absen!$B$2:$B$2000=$A94)*(data_absen!$C$2:$C$2000=AK$3)*(ROW(data_absen!$C$2:$C$2000)))-1)","v":""},null,"-",{"$f":"INDEX(data_absen!$H$2:$H$2000,SUMPRODUCT((data_absen!$B$2:$B$2000=$A94)*(data_absen!$C$2:$C$2000=AK$3)*(ROW(data_absen!$C$2:$C$2000)))-1)","v":""},null,{"$f":"INDEX(data_absen!$G$2:$G$2000,SUMPRODUCT((data_absen!$B$2:$B$2000=$A94)*(data_absen!$C$2:$C$2000=AP$3)*(ROW(data_absen!$C$2:$C$2000)))-1)","v":""},null,"-",{"$f":"INDEX(data_absen!$H$2:$H$2000,SUMPRODUCT((data_absen!$B$2:$B$2000=$A94)*(data_absen!$C$2:$C$2000=AP$3)*(ROW(data_absen!$C$2:$C$2000)))-1)","v":""},null,{"$f":"INDEX(data_absen!$G$2:$G$2000,SUMPRODUCT((data_absen!$B$2:$B$2000=$A94)*(data_absen!$C$2:$C$2000=AU$3)*(ROW(data_absen!$C$2:$C$2000)))-1)","v":""},null,"-",{"$f":"INDEX(data_absen!$H$2:$H$2000,SUMPRODUCT((data_absen!$B$2:$B$2000=$A94)*(data_absen!$C$2:$C$2000=AU$3)*(ROW(data_absen!$C$2:$C$2000)))-1)","v":""},null,{"$f":"INDEX(data_absen!$G$2:$G$2000,SUMPRODUCT((data_absen!$B$2:$B$2000=$A94)*(data_absen!$C$2:$C$2000=AZ$3)*(ROW(data_absen!$C$2:$C$2000)))-1)","v":""},null,"-",{"$f":"INDEX(data_absen!$H$2:$H$2000,SUMPRODUCT((data_absen!$B$2:$B$2000=$A94)*(data_absen!$C$2:$C$2000=AZ$3)*(ROW(data_absen!$C$2:$C$2000)))-1)","v":""},null,{"$f":"INDEX(data_absen!$G$2:$G$2000,SUMPRODUCT((data_absen!$B$2:$B$2000=$A94)*(data_absen!$C$2:$C$2000=BE$3)*(ROW(data_absen!$C$2:$C$2000)))-1)","v":""},null,"-",{"$f":"INDEX(data_absen!$H$2:$H$2000,SUMPRODUCT((data_absen!$B$2:$B$2000=$A94)*(data_absen!$C$2:$C$2000=BE$3)*(ROW(data_absen!$C$2:$C$2000)))-1)","v":""},null,{"$f":"INDEX(data_absen!$G$2:$G$2000,SUMPRODUCT((data_absen!$B$2:$B$2000=$A94)*(data_absen!$C$2:$C$2000=BJ$3)*(ROW(data_absen!$C$2:$C$2000)))-1)","v":""},null,"-",{"$f":"INDEX(data_absen!$H$2:$H$2000,SUMPRODUCT((data_absen!$B$2:$B$2000=$A94)*(data_absen!$C$2:$C$2000=BJ$3)*(ROW(data_absen!$C$2:$C$2000)))-1)","v":""},null,{"$f":"INDEX(data_absen!$G$2:$G$2000,SUMPRODUCT((data_absen!$B$2:$B$2000=$A94)*(data_absen!$C$2:$C$2000=BO$3)*(ROW(data_absen!$C$2:$C$2000)))-1)","v":""},null,"-",{"$f":"INDEX(data_absen!$H$2:$H$2000,SUMPRODUCT((data_absen!$B$2:$B$2000=$A94)*(data_absen!$C$2:$C$2000=BO$3)*(ROW(data_absen!$C$2:$C$2000)))-1)","v":""}]
[327,null,null,"-",null,null,null,null,"-",null,null,null,null,"-",null,null,null,null,"-",null,null,null,null,"-",null,null,null,null,"-",null,null,null,null,"-",null,null,null,null,"-",null,null,null,null,"-",null,null,null,null,"-",null,null,null,null,"-",null,null,null,null,"-",null,null,null,null,"-",null,null,null,null,"-"]
[null,{"$f":"IFERROR(INDEX(data_absen!$K$2:$K$2000,SUMPRODUCT((data_absen!$B$2:$B$2000=$A94)*(data_absen!$C$2:$C$2000=B$3)*(ROW(data_absen!$C$2:$C$2000)))-1)*1440,\"\")","v":""},{"$f":"IFERROR(INDEX(data_absen!$I$2:$I$2000,SUMPRODUCT((data_absen!$B$2:$B$2000=$A94)*(data_absen!$C$2:$C$2000=B$3)*(ROW(data_absen!$C$2:$C$2000)))-1)*1440,\"\")","v":""},null,null,{"$f":"IFERROR(INDEX(data_absen!$J$2:$J$2000,SUMPRODUCT((data_absen!$B$2:$B$2000=$A94)*(data_absen!$C$2:$C$2000=B$3)*(ROW(data_absen!$C$2:$C$2000)))-1)*1440,\"\")","v":120},{"$f":"IFERROR(INDEX(data_absen!$K$2:$K$2000,SUMPRODUCT((data_absen!$B$2:$B$2000=$A94)*(data_absen!$C$2:$C$2000=G$3)*(ROW(data_absen!$C$2:$C$2000)))-1)*1440,\"\")","v":""},{"$f":"IFERROR(INDEX(data_absen!$I$2:$I$2000,SUMPRODUCT((data_absen!$B$2:$B$2000=$A94)*(data_absen!$C$2:$C$2000=G$3)*(ROW(data_absen!$C$2:$C$2000)))-1)*1440,\"\")","v":""},null,null,{"$f":"IFERROR(INDEX(data_absen!$J$2:$J$2000,SUMPRODUCT((data_absen!$B$2:$B$2000=$A94)*(data_absen!$C$2:$C$2000=G$3)*(ROW(data_absen!$C$2:$C$2000)))-1)*1440,\"\")","v":""},{"$f":"IFERROR(INDEX(data_absen!$K$2:$K$2000,SUMPRODUCT((data_absen!$B$2:$B$2000=$A94)*(data_absen!$C$2:$C$2000=L$3)*(ROW(data_absen!$C$2:$C$2000)))-1)*1440,\"\")","v":""},{"$f":"IFERROR(INDEX(data_absen!$I$2:$I$2000,SUMPRODUCT((data_absen!$B$2:$B$2000=$A94)*(data_absen!$C$2:$C$2000=L$3)*(ROW(data_absen!$C$2:$C$2000)))-1)*1440,\"\")","v":""},null,null,{"$f":"IFERROR(INDEX(data_absen!$J$2:$J$2000,SUMPRODUCT((data_absen!$B$2:$B$2000=$A94)*(data_absen!$C$2:$C$2000=L$3)*(ROW(data_absen!$C$2:$C$2000)))-1)*1440,\"\")","v":""},{"$f":"IFERROR(INDEX(data_absen!$K$2:$K$2000,SUMPRODUCT((data_absen!$B$2:$B$2000=$A94)*(data_absen!$C$2:$C$2000=Q$3)*(ROW(data_absen!$C$2:$C$2000)))-1)*1440,\"\")","v":""},{"$f":"IFERROR(INDEX(data_absen!$I$2:$I$2000,SUMPRODUCT((data_absen!$B$2:$B$2000=$A94)*(data_absen!$C$2:$C$2000=Q$3)*(ROW(data_absen!$C$2:$C$2000)))-1)*1440,\"\")","v":""},null,null,{"$f":"IFERROR(INDEX(data_absen!$J$2:$J$2000,SUMPRODUCT((data_absen!$B$2:$B$2000=$A94)*(data_absen!$C$2:$C$2000=Q$3)*(ROW(data_absen!$C$2:$C$2000)))-1)*1440,\"\")","v":""},{"$f":"IFERROR(INDEX(data_absen!$K$2:$K$2000,SUMPRODUCT((data_absen!$B$2:$B$2000=$A94)*(data_absen!$C$2:$C$2000=V$3)*(ROW(data_absen!$C$2:$C$2000)))-1)*1440,\"\")","v":""},{"$f":"IFERROR(INDEX(data_absen!$I$2:$I$2000,SUMPRODUCT((data_absen!$B$2:$B$2000=$A94)*(data_absen!$C$2:$C$2000=V$3)*(ROW(data_absen!$C$2:$C$2000)))-1)*1440,\"\")","v":""},null,null,{"$f":"IFERROR(INDEX(data_absen!$J$2:$J$2000,SUMPRODUCT((data_absen!$B$2:$B$2000=$A94)*(data_absen!$C$2:$C$2000=V$3)*(ROW(data_absen!$C$2:$C$2000)))-1)*1440,\"\")","v":""},{"$f":"IFERROR(INDEX(data_absen!$K$2:$K$2000,SUMPRODUCT((data_absen!$B$2:$B$2000=$A94)*(data_absen!$C$2:$C$2000=AA$3)*(ROW(data_absen!$C$2:$C$2000)))-1)*1440,\"\")","v":""},{"$f":"IFERROR(INDEX(data_absen!$I$2:$I$2000,SUMPRODUCT((data_absen!$B$2:$B$2000=$A94)*(data_absen!$C$2:$C$2000=AA$3)*(ROW(data_absen!$C$2:$C$2000)))-1)*1440,\"\")","v":""},null,null,{"$f":"IFERROR(INDEX(data_absen!$J$2:$J$2000,SUMPRODUCT((data_absen!$B$2:$B$2000=$A94)*(data_absen!$C$2:$C$2000=AA$3)*(ROW(data_absen!$C$2:$C$2000)))-1)*1440,\"\")","v":""},{"$f":"IFERROR(INDEX(data_absen!$K$2:$K$2000,SUMPRODUCT((data_absen!$B$2:$B$2000=$A94)*(data_absen!$C$2:$C$2000=AF$3)*(ROW(data_absen!$C$2:$C$2000)))-1)*1440,\"\")","v":""},{"$f":"IFERROR(INDEX(data_absen!$I$2:$I$2000,SUMPRODUCT((data_absen!$B$2:$B$2000=$A94)*(data_absen!$C$2:$C$2000=AF$3)*(ROW(data_absen!$C$2:$C$2000)))-1)*1440,\"\")","v":""},null,null,{"$f":"IFERROR(INDEX(data_absen!$J$2:$J$2000,SUMPRODUCT((data_absen!$B$2:$B$2000=$A94)*(data_absen!$C$2:$C$2000=AF$3)*(ROW(data_absen!$C$2:$C$2000)))-1)*1440,\"\")","v":""},{"$f":"IFERROR(INDEX(data_absen!$K$2:$K$2000,SUMPRODUCT((data_absen!$B$2:$B$2000=$A94)*(data_absen!$C$2:$C$2000=AK$3)*(ROW(data_absen!$C$2:$C$2000)))-1)*1440,\"\")","v":""},{"$f":"IFERROR(INDEX(data_absen!$I$2:$I$2000,SUMPRODUCT((data_absen!$B$2:$B$2000=$A94)*(data_absen!$C$2:$C$2000=AK$3)*(ROW(data_absen!$C$2:$C$2000)))-1)*1440,\"\")","v":""},null,null,{"$f":"IFERROR(INDEX(data_absen!$J$2:$J$2000,SUMPRODUCT((data_absen!$B$2:$B$2000=$A94)*(data_absen!$C$2:$C$2000=AK$3)*(ROW(data_absen!$C$2:$C$2000)))-1)*1440,\"\")","v":""},{"$f":"IFERROR(INDEX(data_absen!$K$2:$K$2000,SUMPRODUCT((data_absen!$B$2:$B$2000=$A94)*(data_absen!$C$2:$C$2000=AP$3)*(ROW(data_absen!$C$2:$C$2000)))-1)*1440,\"\")","v":""},{"$f":"IFERROR(INDEX(data_absen!$I$2:$I$2000,SUMPRODUCT((data_absen!$B$2:$B$2000=$A94)*(data_absen!$C$2:$C$2000=AP$3)*(ROW(data_absen!$C$2:$C$2000)))-1)*1440,\"\")","v":""},null,null,{"$f":"IFERROR(INDEX(data_absen!$J$2:$J$2000,SUMPRODUCT((data_absen!$B$2:$B$2000=$A94)*(data_absen!$C$2:$C$2000=AP$3)*(ROW(data_absen!$C$2:$C$2000)))-1)*1440,\"\")","v":""},{"$f":"IFERROR(INDEX(data_absen!$K$2:$K$2000,SUMPRODUCT((data_absen!$B$2:$B$2000=$A94)*(data_absen!$C$2:$C$2000=AU$3)*(ROW(data_absen!$C$2:$C$2000)))-1)*1440,\"\")","v":""},{"$f":"IFERROR(INDEX(data_absen!$I$2:$I$2000,SUMPRODUCT((data_absen!$B$2:$B$2000=$A94)*(data_absen!$C$2:$C$2000=AU$3)*(ROW(data_absen!$C$2:$C$2000)))-1)*1440,\"\")","v":""},null,null,{"$f":"IFERROR(INDEX(data_absen!$J$2:$J$2000,SUMPRODUCT((data_absen!$B$2:$B$2000=$A94)*(data_absen!$C$2:$C$2000=AU$3)*(ROW(data_absen!$C$2:$C$2000)))-1)*1440,\"\")","v":""},{"$f":"IFERROR(INDEX(data_absen!$K$2:$K$2000,SUMPRODUCT((data_absen!$B$2:$B$2000=$A94)*(data_absen!$C$2:$C$2000=AZ$3)*(ROW(data_absen!$C$2:$C$2000)))-1)*1440,\"\")","v":""},{"$f":"IFERROR(INDEX(data_absen!$I$2:$I$2000,SUMPRODUCT((data_absen!$B$2:$B$2000=$A94)*(data_absen!$C$2:$C$2000=AZ$3)*(ROW(data_absen!$C$2:$C$2000)))-1)*1440,\"\")","v":""},null,null,{"$f":"IFERROR(INDEX(data_absen!$J$2:$J$2000,SUMPRODUCT((data_absen!$B$2:$B$2000=$A94)*(data_absen!$C$2:$C$2000=AZ$3)*(ROW(data_absen!$C$2:$C$2000)))-1)*1440,\"\")","v":""},{"$f":"IFERROR(INDEX(data_absen!$K$2:$K$2000,SUMPRODUCT((data_absen!$B$2:$B$2000=$A94)*(data_absen!$C$2:$C$2000=BE$3)*(ROW(data_absen!$C$2:$C$2000)))-1)*1440,\"\")","v":""},{"$f":"IFERROR(INDEX(data_absen!$I$2:$I$2000,SUMPRODUCT((data_absen!$B$2:$B$2000=$A94)*(data_absen!$C$2:$C$2000=BE$3)*(ROW(data_absen!$C$2:$C$2000)))-1)*1440,\"\")","v":""},null,null,{"$f":"IFERROR(INDEX(data_absen!$J$2:$J$2000,SUMPRODUCT((data_absen!$B$2:$B$2000=$A94)*(data_absen!$C$2:$C$2000=BE$3)*(ROW(data_absen!$C$2:$C$2000)))-1)*1440,\"\")","v":""},{"$f":"IFERROR(INDEX(data_absen!$K$2:$K$2000,SUMPRODUCT((data_absen!$B$2:$B$2000=$A94)*(data_absen!$C$2:$C$2000=BJ$3)*(ROW(data_absen!$C$2:$C$2000)))-1)*1440,\"\")","v":""},{"$f":"IFERROR(INDEX(data_absen!$I$2:$I$2000,SUMPRODUCT((data_absen!$B$2:$B$2000=$A94)*(data_absen!$C$2:$C$2000=BJ$3)*(ROW(data_absen!$C$2:$C$2000)))-1)*1440,\"\")","v":""},null,null,{"$f":"IFERROR(INDEX(data_absen!$J$2:$J$2000,SUMPRODUCT((data_absen!$B$2:$B$2000=$A94)*(data_absen!$C$2:$C$2000=BJ$3)*(ROW(data_absen!$C$2:$C$2000)))-1)*1440,\"\")","v":""},{"$f":"IFERROR(INDEX(data_absen!$K$2:$K$2000,SUMPRODUCT((data_absen!$B$2:$B$2000=$A94)*(data_absen!$C$2:$C$2000=BO$3)*(ROW(data_absen!$C$2:$C$2000)))-1)*1440,\"\")","v":""},{"$f":"IFERROR(INDEX(data_absen!$I$2:$I$2000,SUMPRODUCT((data_absen!$B$2:$B$2000=$A94)*(data_absen!$C$2:$C$2000=BO$3)*(ROW(data_absen!$C$2:$C$2000)))-1)*1440,\"\")","v":""},null,null,{"$f":"IFERROR(INDEX(data_absen!$J$2:$J$2000,SUMPRODUCT((data_absen!$B$2:$B$2000=$A94)*(data_absen!$C$2:$C$2000=BO$3)*(ROW(data_absen!$C$2:$C$2000)))-1)*1440,\"\")","v":""},{"$f":"COUNTIFS(data_absen!$B$2:$B$2000,$A94,data_absen!$I$2:$I$2000,\">0\")","v":0}]
["Sri Wati",{"$f":"INDEX(data_absen!$G$2:$G$2000,SUMPRODUCT((data_absen!$B$2:$B$2000=$A97)*(data_absen!$C$2:$C$2000=B$3)*(ROW(data_absen!$C$2:$C$2000)))-1)","v":""},null,"-",{"$f":"INDEX(data_absen!$H$2:$H$2000,SUMPRODUCT((data_absen!$B$2:$B$2000=$A97)*(data_absen!$C$2:$C$2000=B$3)*(ROW(data_absen!$C$2:$C$2000)))-1)","v":""},null,{"$f":"INDEX(data_absen!$G$2:$G$2000,SUMPRODUCT((data_absen!$B$2:$B$2000=$A97)*(data_absen!$C$2:$C$2000=G$3)*(ROW(data_absen!$C$2:$C$2000)))-1)","v":""},null,"-",{"$f":"INDEX(data_absen!$H$2:$H$2000,SUMPRODUCT((data_absen!$B$2:$B$2000=$A97)*(data_absen!$C$2:$C$2000=G$3)*(ROW(data_absen!$C$2:$C$2000)))-1)","v":""},null,{"$f":"INDEX(data_absen!$G$2:$G$2000,SUMPRODUCT((data_absen!$B$2:$B$2000=$A97)*(data_absen!$C$2:$C$2000=L$3)*(ROW(data_absen!$C$2:$C$2000)))-1)","v":""},null,"-",{"$f":"INDEX(data_absen!$H$2:$H$2000,SUMPRODUCT((data_absen!$B$2:$B$2000=$A97)*(data_absen!$C$2:$C$2000=L$3)*(ROW(data_absen!$C$2:$C$2000)))-1)","v":""},null,{"$f":"INDEX(data_absen!$G$2:$G$2000,SUMPRODUCT((data_absen!$B$2:$B$2000=$A97)*(data_absen!$C$2:$C$2000=Q$3)*(ROW(data_absen!$C$2:$C$2000)))-1)","v":""},null,"-",{"$f":"INDEX(data_absen!$H$2:$H$2000,SUMPRODUCT((data_absen!$B$2:$B$2000=$A97)*(data_absen!$C$2:$C$2000=Q$3)*(ROW(data_absen!$C$2:$C$2000)))-1)","v":""},null,{"$f":"INDEX(data_absen!$G$2:$G$2000,SUMPRODUCT((data_absen!$B$2:$B$2000=$A97)*(data_absen!$C$2:$C$2000=V$3)*(ROW(data_absen!$C$2:$C$2000)))-1)","v":""},null,"-",{"$f":"INDEX(data_absen!$H$2:$H$2000,SUMPRODUCT((data_absen!$B$2:$B$2000=$A97)*(data_absen!$C$2:$C$2000=V$3)*(ROW(data_absen!$C$2:$C$2000)))-1)","v":""},null,{"$f":"INDEX(data_absen!$G$2:$G$2000,SUMPRODUCT((data_absen!$B$2:$B$2000=$A97)*(data_absen!$C$2:$C$2000=AA$3)*(ROW(data_absen!$C$2:$C$2000)))-1)","v":""},null,"-",{"$f":"INDEX(data_absen!$H$2:$H$2000,SUMPRODUCT((data_absen!$B$2:$B$2000=$A97)*(data_absen!$C$2:$C$2000=AA$3)*(ROW(data_absen!$C$2:$C$2000)))-1)","v":""},null,{"$f":"INDEX(data_absen!$G$2:$G$2000,SUMPRODUCT((data_absen!$B$2:$B$2000=$A97)*(data_absen!$C$2:$C$2000=AF$3)*(ROW(data_absen!$C$2:$C$2000)))-1)","v":""},null,"-",{"$f":"INDEX(data_absen!$H$2:$H$2000,SUMPRODUCT((data_absen!$B$2:$B$2000=$A97)*(data_absen!$C$2:$C$2000=AF$3)*(ROW(data_absen!$C$2:$C$2000)))-1)","v":""},null,{"$f":"INDEX(data_absen!$G$2:$G$2000,SUMPRODUCT((data_absen!$B$2:$B$2000=$A97)*(data_absen!$C$2:$C$2000=AK$3)*(ROW(data_absen!$C$2:$C$2000)))-1)","v":""},null,"-",{"$f":"INDEX(data_absen!$H$2:$H$2000,SUMPRODUCT((data_absen!$B$2:$B$2000=$A97)*(data_absen!$C$2:$C$2000=AK$3)*(ROW(data_absen!$C$2:$C$2000)))-1)","v":""},null,{"$f":"INDEX(data_absen!$G$2:$G$2000,SUMPRODUCT((data_absen!$B$2:$B$2000=$A97)*(data_absen!$C$2:$C$2000=AP$3)*(ROW(data_absen!$C$2:$C$2000)))-1)","v":""},null,"-",{"$f":"INDEX(data_absen!$H$2:$H$2000,SUMPRODUCT((data_absen!$B$2:$B$2000=$A97)*(data_absen!$C$2:$C$2000=AP$3)*(ROW(data_absen!$C$2:$C$2000)))-1)","v":""},null,{"$f":"INDEX(data_absen!$G$2:$G$2000,SUMPRODUCT((data_absen!$B$2:$B$2000=$A97)*(data_absen!$C$2:$C$2000=AU$3)*(ROW(data_absen!$C$2:$C$2000)))-1)","v":""},null,"-",{"$f":"INDEX(data_absen!$H$2:$H$2000,SUMPRODUCT((data_absen!$B$2:$B$2000=$A97)*(data_absen!$C$2:$C$2000=AU$3)*(ROW(data_absen!$C$2:$C$2000)))-1)","v":""},null,{"$f":"INDEX(data_absen!$G$2:$G$2000,SUMPRODUCT((data_absen!$B$2:$B$2000=$A97)*(data_absen!$C$2:$C$2000=AZ$3)*(ROW(data_absen!$C$2:$C$2000)))-1)","v":""},null,"-",{"$f":"INDEX(data_absen!$H$2:$H$2000,SUMPRODUCT((data_absen!$B$2:$B$2000=$A97)*(data_absen!$C$2:$C$2000=AZ$3)*(ROW(data_absen!$C$2:$C$2000)))-1)","v":""},null,{"$f":"INDEX(data_absen!$G$2:$G$2000,SUMPRODUCT((data_absen!$B$2:$B$2000=$A97)*(data_absen!$C$2:$C$2000=BE$3)*(ROW(data_absen!$C$2:$C$2000)))-1)","v":""},null,"-",{"$f":"INDEX(data_absen!$H$2:$H$2000,SUMPRODUCT((data_absen!$B$2:$B$2000=$A97)*(data_absen!$C$2:$C$2000=BE$3)*(ROW(data_absen!$C$2:$C$2000)))-1)","v":""},null,{"$f":"INDEX(data_absen!$G$2:$G$2000,SUMPRODUCT((data_absen!$B$2:$B$2000=$A97)*(data_absen!$C$2:$C$2000=BJ$3)*(ROW(data_absen!$C$2:$C$2000)))-1)","v":""},null,"-",{"$f":"INDEX(data_absen!$H$2:$H$2000,SUMPRODUCT((data_absen!$B$2:$B$2000=$A97)*(data_absen!$C$2:$C$2000=BJ$3)*(ROW(data_absen!$C$2:$C$2000)))-1)","v":""},null,{"$f":"INDEX(data_absen!$G$2:$G$2000,SUMPRODUCT((data_absen!$B$2:$B$2000=$A97)*(data_absen!$C$2:$C$2000=BO$3)*(ROW(data_absen!$C$2:$C$2000)))-1)","v":""},null,"-",{"$f":"INDEX(data_absen!$H$2:$H$2000,SUMPRODUCT((data_absen!$B$2:$B$2000=$A97)*(data_absen!$C$2:$C$2000=BO$3)*(ROW(data_absen!$C$2:$C$2000)))-1)","v":""}]
[328,null,null,"-",null,null,null,null,"-",null,null,null,null,"-",null,null,null,null,"-",null,null,null,null,"-",null,null,null,null,"-",null,null,null,null,"-",null,null,null,null,"-",null,null,null,null,"-",null,null,null,null,"-",null,null,null,null,"-",null,null,null,null,"-",null,null,null,null,"-",null,null,null,null,"-"]
[null,{"$f":"IFERROR(INDEX(data_absen!$K$2:$K$2000,SUMPRODUCT((data_absen!$B$2:$B$2000=$A97)*(data_absen!$C$2:$C$2000=B$3)*(ROW(data_absen!$C$2:$C$2000)))-1)*1440,\"\")","v":""},{"$f":"IFERROR(INDEX(data_absen!$I$2:$I$2000,SUMPRODUCT((data_absen!$B$2:$B$2000=$A97)*(data_absen!$C$2:$C$2000=B$3)*(ROW(data_absen!$C$2:$C$2000)))-1)*1440,\"\")","v":""},null,null,{"$f":"IFERROR(INDEX(data_absen!$J$2:$J$2000,SUMPRODUCT((data_absen!$B$2:$B$2000=$A97)*(data_absen!$C$2:$C$2000=B$3)*(ROW(data_absen!$C$2:$C$2000)))-1)*1440,\"\")","v":""},{"$f":"IFERROR(INDEX(data_absen!$K$2:$K$2000,SUMPRODUCT((data_absen!$B$2:$B$2000=$A97)*(data_absen!$C$2:$C$2000=G$3)*(ROW(data_absen!$C$2:$C$2000)))-1)*1440,\"\")","v":""},{"$f":"IFERROR(INDEX(data_absen!$I$2:$I$2000,SUMPRODUCT((data_absen!$B$2:$B$2000=$A97)*(data_absen!$C$2:$C$2000=G$3)*(ROW(data_absen!$C$2:$C$2000)))-1)*1440,\"\")","v":""},null,null,{"$f":"IFERROR(INDEX(data_absen!$J$2:$J$2000,SUMPRODUCT((data_absen!$B$2:$B$2000=$A97)*(data_absen!$C$2:$C$2000=G$3)*(ROW(data_absen!$C$2:$C$2000)))-1)*1440,\"\")","v":""},{"$f":"IFERROR(INDEX(data_absen!$K$2:$K$2000,SUMPRODUCT((data_absen!$B$2:$B$2000=$A97)*(data_absen!$C$2:$C$2000=L$3)*(ROW(data_absen!$C$2:$C$2000)))-1)*1440,\"\")","v":""},{"$f":"IFERROR(INDEX(data_absen!$I$2:$I$2000,SUMPRODUCT((data_absen!$B$2:$B$2000=$A97)*(data_absen!$C$2:$C$2000=L$3)*(ROW(data_absen!$C$2:$C$2000)))-1)*1440,\"\")","v":""},null,null,{"$f":"IFERROR(INDEX(data_absen!$J$2:$J$2000,SUMPRODUCT((data_absen!$B$2:$B$2000=$A97)*(data_absen!$C$2:$C$2000=L$3)*(ROW(data_absen!$C$2:$C$2000)))-1)*1440,\"\")","v":""},{"$f":"IFERROR(INDEX(data_absen!$K$2:$K$2000,SUMPRODUCT((data_absen!$B$2:$B$2000=$A97)*(data_absen!$C$2:$C$2000=Q$3)*(ROW(data_absen!$C$2:$C$2000)))-1)*1440,\"\")","v":""},{"$f":"IFERROR(INDEX(data_absen!$I$2:$I$2000,SUMPRODUCT((data_absen!$B$2:$B$2000=$A97)*(data_absen!$C$2:$C$2000=Q$3)*(ROW(data_absen!$C$2:$C$2000)))-1)*1440,\"\")","v":""},null,null,{"$f":"IFERROR(INDEX(data_absen!$J$2:$J$2000,SUMPRODUCT((data_absen!$B$2:$B$2000=$A97)*(data_absen!$C$2:$C$2000=Q$3)*(ROW(data_absen!$C$2:$C$2000)))-1)*1440,\"\")","v":""},{"$f":"IFERROR(INDEX(data_absen!$K$2:$K$2000,SUMPRODUCT((data_absen!$B$2:$B$2000=$A97)*(data_absen!$C$2:$C$2000=V$3)*(ROW(data_absen!$C$2:$C$2000)))-1)*1440,\"\")","v":""},{"$f":"IFERROR(INDEX(data_absen!$I$2:$I$2000,SUMPRODUCT((data_absen!$B$2:$B$2000=$A97)*(data_absen!$C$2:$C$2000=V$3)*(ROW(data_absen!$C$2:$C$2000)))-1)*1440,\"\")","v":""},null,null,{"$f":"IFERROR(INDEX(data_absen!$J$2:$J$2000,SUMPRODUCT((data_absen!$B$2:$B$2000=$A97)*(data_absen!$C$2:$C$2000=V$3)*(ROW(data_absen!$C$2:$C$2000)))-1)*1440,\"\")","v":""},{"$f":"IFERROR(INDEX(data_absen!$K$2:$K$2000,SUMPRODUCT((data_absen!$B$2:$B$2000=$A97)*(data_absen!$C$2:$C$2000=AA$3)*(ROW(data_absen!$C$2:$C$2000)))-1)*1440,\"\")","v":""},{"$f":"IFERROR(INDEX(data_absen!$I$2:$I$2000,SUMPRODUCT((data_absen!$B$2:$B$2000=$A97)*(data_absen!$C$2:$C$2000=AA$3)*(ROW(data_absen!$C$2:$C$2000)))-1)*1440,\"\")","v":""},null,null,{"$f":"IFERROR(INDEX(data_absen!$J$2:$J$2000,SUMPRODUCT((data_absen!$B$2:$B$2000=$A97)*(data_absen!$C$2:$C$2000=AA$3)*(ROW(data_absen!$C$2:$C$2000)))-1)*1440,\"\")","v":""},{"$f":"IFERROR(INDEX(data_absen!$K$2:$K$2000,SUMPRODUCT((data_absen!$B$2:$B$2000=$A97)*(data_absen!$C$2:$C$2000=AF$3)*(ROW(data_absen!$C$2:$C$2000)))-1)*1440,\"\")","v":""},{"$f":"IFERROR(INDEX(data_absen!$I$2:$I$2000,SUMPRODUCT((data_absen!$B$2:$B$2000=$A97)*(data_absen!$C$2:$C$2000=AF$3)*(ROW(data_absen!$C$2:$C$2000)))-1)*1440,\"\")","v":""},null,null,{"$f":"IFERROR(INDEX(data_absen!$J$2:$J$2000,SUMPRODUCT((data_absen!$B$2:$B$2000=$A97)*(data_absen!$C$2:$C$2000=AF$3)*(ROW(data_absen!$C$2:$C$2000)))-1)*1440,\"\")","v":""},{"$f":"IFERROR(INDEX(data_absen!$K$2:$K$2000,SUMPRODUCT((data_absen!$B$2:$B$2000=$A97)*(data_absen!$C$2:$C$2000=AK$3)*(ROW(data_absen!$C$2:$C$2000)))-1)*1440,\"\")","v":""},{"$f":"IFERROR(INDEX(data_absen!$I$2:$I$2000,SUMPRODUCT((data_absen!$B$2:$B$2000=$A97)*(data_absen!$C$2:$C$2000=AK$3)*(ROW(data_absen!$C$2:$C$2000)))-1)*1440,\"\")","v":""},null,null,{"$f":"IFERROR(INDEX(data_absen!$J$2:$J$2000,SUMPRODUCT((data_absen!$B$2:$B$2000=$A97)*(data_absen!$C$2:$C$2000=AK$3)*(ROW(data_absen!$C$2:$C$2000)))-1)*1440,\"\")","v":""},{"$f":"IFERROR(INDEX(data_absen!$K$2:$K$2000,SUMPRODUCT((data_absen!$B$2:$B$2000=$A97)*(data_absen!$C$2:$C$2000=AP$3)*(ROW(data_absen!$C$2:$C$2000)))-1)*1440,\"\")","v":""},{"$f":"IFERROR(INDEX(data_absen!$I$2:$I$2000,SUMPRODUCT((data_absen!$B$2:$B$2000=$A97)*(data_absen!$C$2:$C$2000=AP$3)*(ROW(data_absen!$C$2:$C$2000)))-1)*1440,\"\")","v":""},null,null,{"$f":"IFERROR(INDEX(data_absen!$J$2:$J$2000,SUMPRODUCT((data_absen!$B$2:$B$2000=$A97)*(data_absen!$C$2:$C$2000=AP$3)*(ROW(data_absen!$C$2:$C$2000)))-1)*1440,\"\")","v":""},{"$f":"IFERROR(INDEX(data_absen!$K$2:$K$2000,SUMPRODUCT((data_absen!$B$2:$B$2000=$A97)*(data_absen!$C$2:$C$2000=AU$3)*(ROW(data_absen!$C$2:$C$2000)))-1)*1440,\"\")","v":""},{"$f":"IFERROR(INDEX(data_absen!$I$2:$I$2000,SUMPRODUCT((data_absen!$B$2:$B$2000=$A97)*(data_absen!$C$2:$C$2000=AU$3)*(ROW(data_absen!$C$2:$C$2000)))-1)*1440,\"\")","v":""},null,null,{"$f":"IFERROR(INDEX(data_absen!$J$2:$J$2000,SUMPRODUCT((data_absen!$B$2:$B$2000=$A97)*(data_absen!$C$2:$C$2000=AU$3)*(ROW(data_absen!$C$2:$C$2000)))-1)*1440,\"\")","v":""},{"$f":"IFERROR(INDEX(data_absen!$K$2:$K$2000,SUMPRODUCT((data_absen!$B$2:$B$2000=$A97)*(data_absen!$C$2:$C$2000=AZ$3)*(ROW(data_absen!$C$2:$C$2000)))-1)*1440,\"\")","v":""},{"$f":"IFERROR(INDEX(data_absen!$I$2:$I$2000,SUMPRODUCT((data_absen!$B$2:$B$2000=$A97)*(data_absen!$C$2:$C$2000=AZ$3)*(ROW(data_absen!$C$2:$C$2000)))-1)*1440,\"\")","v":""},null,null,{"$f":"IFERROR(INDEX(data_absen!$J$2:$J$2000,SUMPRODUCT((data_absen!$B$2:$B$2000=$A97)*(data_absen!$C$2:$C$2000=AZ$3)*(ROW(data_absen!$C$2:$C$2000)))-1)*1440,\"\")","v":""},{"$f":"IFERROR(INDEX(data_absen!$K$2:$K$2000,SUMPRODUCT((data_absen!$B$2:$B$2000=$A97)*(data_absen!$C$2:$C$2000=BE$3)*(ROW(data_absen!$C$2:$C$2000)))-1)*1440,\"\")","v":""},{"$f":"IFERROR(INDEX(data_absen!$I$2:$I$2000,SUMPRODUCT((data_absen!$B$2:$B$2000=$A97)*(data_absen!$C$2:$C$2000=BE$3)*(ROW(data_absen!$C$2:$C$2000)))-1)*1440,\"\")","v":""},null,null,{"$f":"IFERROR(INDEX(data_absen!$J$2:$J$2000,SUMPRODUCT((data_absen!$B$2:$B$2000=$A97)*(data_absen!$C$2:$C$2000=BE$3)*(ROW(data_absen!$C$2:$C$2000)))-1)*1440,\"\")","v":""},{"$f":"IFERROR(INDEX(data_absen!$K$2:$K$2000,SUMPRODUCT((data_absen!$B$2:$B$2000=$A97)*(data_absen!$C$2:$C$2000=BJ$3)*(ROW(data_absen!$C$2:$C$2000)))-1)*1440,\"\")","v":""},{"$f":"IFERROR(INDEX(data_absen!$I$2:$I$2000,SUMPRODUCT((data_absen!$B$2:$B$2000=$A97)*(data_absen!$C$2:$C$2000=BJ$3)*(ROW(data_absen!$C$2:$C$2000)))-1)*1440,\"\")","v":""},null,null,{"$f":"IFERROR(INDEX(data_absen!$J$2:$J$2000,SUMPRODUCT((data_absen!$B$2:$B$2000=$A97)*(data_absen!$C$2:$C$2000=BJ$3)*(ROW(data_absen!$C$2:$C$2000)))-1)*1440,\"\")","v":""},{"$f":"IFERROR(INDEX(data_absen!$K$2:$K$2000,SUMPRODUCT((data_absen!$B$2:$B$2000=$A97)*(data_absen!$C$2:$C$2000=BO$3)*(ROW(data_absen!$C$2:$C$2000)))-1)*1440,\"\")","v":""},{"$f":"IFERROR(INDEX(data_absen!$I$2:$I$2000,SUMPRODUCT((data_absen!$B$2:$B$2000=$A97)*(data_absen!$C$2:$C$2000=BO$3)*(ROW(data_absen!$C$2:$C$2000)))-1)*1440,\"\")","v":""},null,null,{"$f":"IFERROR(INDEX(data_absen!$J$2:$J$2000,SUMPRODUCT((data_absen!$B$2:$B$2000=$A97)*(data_absen!$C$2:$C$2000=BO$3)*(ROW(data_absen!$C$2:$C$2000)))-1)*1440,\"\")","v":""},{"$f":"COUNTIFS(data_absen!$B$2:$B$2000,$A97,data_absen!$I$2:$I$2000,\">0\")","v":0}]
["Indah",{"$f":"INDEX(data_absen!$G$2:$G$2000,SUMPRODUCT((data_absen!$B$2:$B$2000=$A100)*(data_absen!$C$2:$C$2000=B$3)*(ROW(data_absen!$C$2:$C$2000)))-1)","v":""},null,"-",{"$f":"INDEX(data_absen!$H$2:$H$2000,SUMPRODUCT((data_absen!$B$2:$B$2000=$A100)*(data_absen!$C$2:$C$2000=B$3)*(ROW(data_absen!$C$2:$C$2000)))-1)","v":""},null,{"$f":"INDEX(data_absen!$G$2:$G$2000,SUMPRODUCT((data_absen!$B$2:$B$2000=$A100)*(data_absen!$C$2:$C$2000=G$3)*(ROW(data_absen!$C$2:$C$2000)))-1)","v":""},null,"-",{"$f":"INDEX(data_absen!$H$2:$H$2000,SUMPRODUCT((data_absen!$B$2:$B$2000=$A100)*(data_absen!$C$2:$C$2000=G$3)*(ROW(data_absen!$C$2:$C$2000)))-1)","v":""},null,{"$f":"INDEX(data_absen!$G$2:$G$2000,SUMPRODUCT((data_absen!$B$2:$B$2000=$A100)*(data_absen!$C$2:$C$2000=L$3)*(ROW(data_absen!$C$2:$C$2000)))-1)","v":""},null,"-",{"$f":"INDEX(data_absen!$H$2:$H$2000,SUMPRODUCT((data_absen!$B$2:$B$2000=$A100)*(data_absen!$C$2:$C$2000=L$3)*(ROW(data_absen!$C$2:$C$2000)))-1)","v":""},null,{"$f":"INDEX(data_absen!$G$2:$G$2000,SUMPRODUCT((data_absen!$B$2:$B$2000=$A100)*(data_absen!$C$2:$C$2000=Q$3)*(ROW(data_absen!$C$2:$C$2000)))-1)","v":""},null,"-",{"$f":"INDEX(data_absen!$H$2:$H$2000,SUMPRODUCT((data_absen!$B$2:$B$2000=$A100)*(data_absen!$C$2:$C$2000=Q$3)*(ROW(data_absen!$C$2:$C$2000)))-1)","v":""},null,{"$f":"INDEX(data_absen!$G$2:$G$2000,SUMPRODUCT((data_absen!$B$2:$B$2000=$A100)*(data_absen!$C$2:$C$2000=V$3)*(ROW(data_absen!$C$2:$C$2000)))-1)","v":""},null,"-",{"$f":"INDEX(data_absen!$H$2:$H$2000,SUMPRODUCT((data_absen!$B$2:$B$2000=$A100)*(data_absen!$C$2:$C$2000=V$3)*(ROW(data_absen!$C$2:$C$2000)))-1)","v":""},null,{"$f":"INDEX(data_absen!$G$2:$G$2000,SUMPRODUCT((data_absen!$B$2:$B$2000=$A100)*(data_absen!$C$2:$C$2000=AA$3)*(ROW(data_absen!$C$2:$C$2000)))-1)","v":""},null,"-",{"$f":"INDEX(data_absen!$H$2:$H$2000,SUMPRODUCT((data_absen!$B$2:$B$2000=$A100)*(data_absen!$C$2:$C$2000=AA$3)*(ROW(data_absen!$C$2:$C$2000)))-1)","v":""},null,{"$f":"INDEX(data_absen!$G$2:$G$2000,SUMPRODUCT((data_absen!$B$2:$B$2000=$A100)*(data_absen!$C$2:$C$2000=AF$3)*(ROW(data_absen!$C$2:$C$2000)))-1)","v":""},null,"-",{"$f":"INDEX(data_absen!$H$2:$H$2000,SUMPRODUCT((data_absen!$B$2:$B$2000=$A100)*(data_absen!$C$2:$C$2000=AF$3)*(ROW(data_absen!$C$2:$C$2000)))-1)","v":""},null,{"$f":"INDEX(data_absen!$G$2:$G$2000,SUMPRODUCT((data_absen!$B$2:$B$2000=$A100)*(data_absen!$C$2:$C$2000=AK$3)*(ROW(data_absen!$C$2:$C$2000)))-1)","v":""},null,"-",{"$f":"INDEX(data_absen!$H$2:$H$2000,SUMPRODUCT((data_absen!$B$2:$B$2000=$A100)*(data_absen!$C$2:$C$2000=AK$3)*(ROW(data_absen!$C$2:$C$2000)))-1)","v":""},null,{"$f":"INDEX(data_absen!$G$2:$G$2000,SUMPRODUCT((data_absen!$B$2:$B$2000=$A100)*(data_absen!$C$2:$C$2000=AP$3)*(ROW(data_absen!$C$2:$C$2000)))-1)","v":""},null,"-",{"$f":"INDEX(data_absen!$H$2:$H$2000,SUMPRODUCT((data_absen!$B$2:$B$2000=$A100)*(data_absen!$C$2:$C$2000=AP$3)*(ROW(data_absen!$C$2:$C$2000)))-1)","v":""},null,{"$f":"INDEX(data_absen!$G$2:$G$2000,SUMPRODUCT((data_absen!$B$2:$B$2000=$A100)*(data_absen!$C$2:$C$2000=AU$3)*(ROW(data_absen!$C$2:$C$2000)))-1)","v":""},null,"-",{"$f":"INDEX(data_absen!$H$2:$H$2000,SUMPRODUCT((data_absen!$B$2:$B$2000=$A100)*(data_absen!$C$2:$C$2000=AU$3)*(ROW(data_absen!$C$2:$C$2000)))-1)","v":""},null,{"$f":"INDEX(data_absen!$G$2:$G$2000,SUMPRODUCT((data_absen!$B$2:$B$2000=$A100)*(data_absen!$C$2:$C$2000=AZ$3)*(ROW(data_absen!$C$2:$C$2000)))-1)","v":""},null,"-",{"$f":"INDEX(data_absen!$H$2:$H$2000,SUMPRODUCT((data_absen!$B$2:$B$2000=$A100)*(data_absen!$C$2:$C$2000=AZ$3)*(ROW(data_absen!$C$2:$C$2000)))-1)","v":""},null,{"$f":"INDEX(data_absen!$G$2:$G$2000,SUMPRODUCT((data_absen!$B$2:$B$2000=$A100)*(data_absen!$C$2:$C$2000=BE$3)*(ROW(data_absen!$C$2:$C$2000)))-1)","v":""},null,"-",{"$f":"INDEX(data_absen!$H$2:$H$2000,SUMPRODUCT((data_absen!$B$2:$B$2000=$A100)*(data_absen!$C$2:$C$2000=BE$3)*(ROW(data_absen!$C$2:$C$2000)))-1)","v":""},null,{"$f":"INDEX(data_absen!$G$2:$G$2000,SUMPRODUCT((data_absen!$B$2:$B$2000=$A100)*(data_absen!$C$2:$C$2000=BJ$3)*(ROW(data_absen!$C$2:$C$2000)))-1)","v":""},null,"-",{"$f":"INDEX(data_absen!$H$2:$H$2000,SUMPRODUCT((data_absen!$B$2:$B$2000=$A100)*(data_absen!$C$2:$C$2000=BJ$3)*(ROW(data_absen!$C$2:$C$2000)))-1)","v":""},null,{"$f":"INDEX(data_absen!$G$2:$G$2000,SUMPRODUCT((data_absen!$B$2:$B$2000=$A100)*(data_absen!$C$2:$C$2000=BO$3)*(ROW(data_absen!$C$2:$C$2000)))-1)","v":""},null,"-",{"$f":"INDEX(data_absen!$H$2:$H$2000,SUMPRODUCT((data_absen!$B$2:$B$2000=$A100)*(data_absen!$C$2:$C$2000=BO$3)*(ROW(data_absen!$C$2:$C$2000)))-1)","v":""}]
[329,null,null,"-",null,null,null,null,"-",null,null,null,null,"-",null,null,null,null,"-",null,null,null,null,"-",null,null,null,null,"-",null,null,null,null,"-",null,null,null,null,"-",null,null,null,null,"-",null,null,null,null,"-",null,null,null,null,"-",null,null,null,null,"-",null,null,null,null,"-",null,null,null,null,"-"]
[null,{"$f":"IFERROR(INDEX(data_absen!$K$2:$K$2000,SUMPRODUCT((data_absen!$B$2:$B$2000=$A100)*(data_absen!$C$2:$C$2000=B$3)*(ROW(data_absen!$C$2:$C$2000)))-1)*1440,\"\")","v":""},{"$f":"IFERROR(INDEX(data_absen!$I$2:$I$2000,SUMPRODUCT((data_absen!$B$2:$B$2000=$A100)*(data_absen!$C$2:$C$2000=B$3)*(ROW(data_absen!$C$2:$C$2000)))-1)*1440,\"\")","v":""},null,null,{"$f":"IFERROR(INDEX(data_absen!$J$2:$J$2000,SUMPRODUCT((data_absen!$B$2:$B$2000=$A100)*(data_absen!$C$2:$C$2000=B$3)*(ROW(data_absen!$C$2:$C$2000)))-1)*1440,\"\")","v":""},{"$f":"IFERROR(INDEX(data_absen!$K$2:$K$2000,SUMPRODUCT((data_absen!$B$2:$B$2000=$A100)*(data_absen!$C$2:$C$2000=G$3)*(ROW(data_absen!$C$2:$C$2000)))-1)*1440,\"\")","v":""},{"$f":"IFERROR(INDEX(data_absen!$I$2:$I$2000,SUMPRODUCT((data_absen!$B$2:$B$2000=$A100)*(data_absen!$C$2:$C$2000=G$3)*(ROW(data_absen!$C$2:$C$2000)))-1)*1440,\"\")","v":""},null,null,{"$f":"IFERROR(INDEX(data_absen!$J$2:$J$2000,SUMPRODUCT((data_absen!$B$2:$B$2000=$A100)*(data_absen!$C$2:$C$2000=G$3)*(ROW(data_absen!$C$2:$C$2000)))-1)*1440,\"\")","v":""},{"$f":"IFERROR(INDEX(data_absen!$K$2:$K$2000,SUMPRODUCT((data_absen!$B$2:$B$2000=$A100)*(data_absen!$C$2:$C$2000=L$3)*(ROW(data_absen!$C$2:$C$2000)))-1)*1440,\"\")","v":""},{"$f":"IFERROR(INDEX(data_absen!$I$2:$I$2000,SUMPRODUCT((data_absen!$B$2:$B$2000=$A100)*(data_absen!$C$2:$C$2000=L$3)*(ROW(data_absen!$C$2:$C$2000)))-1)*1440,\"\")","v":""},null,null,{"$f":"IFERROR(INDEX(data_absen!$J$2:$J$2000,SUMPRODUCT((data_absen!$B$2:$B$2000=$A100)*(data_absen!$C$2:$C$2000=L$3)*(ROW(data_absen!$C$2:$C$2000)))-1)*1440,\"\")","v":""},{"$f":"IFERROR(INDEX(data_absen!$K$2:$K$2000,SUMPRODUCT((data_absen!$B$2:$B$2000=$A100)*(data_absen!$C$2:$C$2000=Q$3)*(ROW(data_absen!$C$2:$C$2000)))-1)*1440,\"\")","v":""},{"$f":"IFERROR(INDEX(data_absen!$I$2:$I$2000,SUMPRODUCT((data_absen!$B$2:$B$2000=$A100)*(data_absen!$C$2:$C$2000=Q$3)*(ROW(data_absen!$C$2:$C$2000)))-1)*1440,\"\")","v":""},null,null,{"$f":"IFERROR(INDEX(data_absen!$J$2:$J$2000,SUMPRODUCT((data_absen!$B$2:$B$2000=$A100)*(data_absen!$C$2:$C$2000=Q$3)*(ROW(data_absen!$C$2:$C$2000)))-1)*1440,\"\")","v":""},{"$f":"IFERROR(INDEX(data_absen!$K$2:$K$2000,SUMPRODUCT((data_absen!$B$2:$B$2000=$A100)*(data_absen!$C$2:$C$2000=V$3)*(ROW(data_absen!$C$2:$C$2000)))-1)*1440,\"\")","v":""},{"$f":"IFERROR(INDEX(data_absen!$I$2:$I$2000,SUMPRODUCT((data_absen!$B$2:$B$2000=$A100)*(data_absen!$C$2:$C$2000=V$3)*(ROW(data_absen!$C$2:$C$2000)))-1)*1440,\"\")","v":""},null,null,{"$f":"IFERROR(INDEX(data_absen!$J$2:$J$2000,SUMPRODUCT((data_absen!$B$2:$B$2000=$A100)*(data_absen!$C$2:$C$2000=V$3)*(ROW(data_absen!$C$2:$C$2000)))-1)*1440,\"\")","v":""},{"$f":"IFERROR(INDEX(data_absen!$K$2:$K$2000,SUMPRODUCT((data_absen!$B$2:$B$2000=$A100)*(data_absen!$C$2:$C$2000=AA$3)*(ROW(data_absen!$C$2:$C$2000)))-1)*1440,\"\")","v":""},{"$f":"IFERROR(INDEX(data_absen!$I$2:$I$2000,SUMPRODUCT((data_absen!$B$2:$B$2000=$A100)*(data_absen!$C$2:$C$2000=AA$3)*(ROW(data_absen!$C$2:$C$2000)))-1)*1440,\"\")","v":""},null,null,{"$f":"IFERROR(INDEX(data_absen!$J$2:$J$2000,SUMPRODUCT((data_absen!$B$2:$B$2000=$A100)*(data_absen!$C$2:$C$2000=AA$3)*(ROW(data_absen!$C$2:$C$2000)))-1)*1440,\"\")","v":""},{"$f":"IFERROR(INDEX(data_absen!$K$2:$K$2000,SUMPRODUCT((data_absen!$B$2:$B$2000=$A100)*(data_absen!$C$2:$C$2000=AF$3)*(ROW(data_absen!$C$2:$C$2000)))-1)*1440,\"\")","v":""},{"$f":"IFERROR(INDEX(data_absen!$I$2:$I$2000,SUMPRODUCT((data_absen!$B$2:$B$2000=$A100)*(data_absen!$C$2:$C$2000=AF$3)*(ROW(data_absen!$C$2:$C$2000)))-1)*1440,\"\")","v":""},null,null,{"$f":"IFERROR(INDEX(data_absen!$J$2:$J$2000,SUMPRODUCT((data_absen!$B$2:$B$2000=$A100)*(data_absen!$C$2:$C$2000=AF$3)*(ROW(data_absen!$C$2:$C$2000)))-1)*1440,\"\")","v":""},{"$f":"IFERROR(INDEX(data_absen!$K$2:$K$2000,SUMPRODUCT((data_absen!$B$2:$B$2000=$A100)*(data_absen!$C$2:$C$2000=AK$3)*(ROW(data_absen!$C$2:$C$2000)))-1)*1440,\"\")","v":""},{"$f":"IFERROR(INDEX(data_absen!$I$2:$I$2000,SUMPRODUCT((data_absen!$B$2:$B$2000=$A100)*(data_absen!$C$2:$C$2000=AK$3)*(ROW(data_absen!$C$2:$C$2000)))-1)*1440,\"\")","v":""},null,null,{"$f":"IFERROR(INDEX(data_absen!$J$2:$J$2000,SUMPRODUCT((data_absen!$B$2:$B$2000=$A100)*(data_absen!$C$2:$C$2000=AK$3)*(ROW(data_absen!$C$2:$C$2000)))-1)*1440,\"\")","v":""},{"$f":"IFERROR(INDEX(data_absen!$K$2:$K$2000,SUMPRODUCT((data_absen!$B$2:$B$2000=$A100)*(data_absen!$C$2:$C$2000=AP$3)*(ROW(data_absen!$C$2:$C$2000)))-1)*1440,\"\")","v":""},{"$f":"IFERROR(INDEX(data_absen!$I$2:$I$2000,SUMPRODUCT((data_absen!$B$2:$B$2000=$A100)*(data_absen!$C$2:$C$2000=AP$3)*(ROW(data_absen!$C$2:$C$2000)))-1)*1440,\"\")","v":""},null,null,{"$f":"IFERROR(INDEX(data_absen!$J$2:$J$2000,SUMPRODUCT((data_absen!$B$2:$B$2000=$A100)*(data_absen!$C$2:$C$2000=AP$3)*(ROW(data_absen!$C$2:$C$2000)))-1)*1440,\"\")","v":""},{"$f":"IFERROR(INDEX(data_absen!$K$2:$K$2000,SUMPRODUCT((data_absen!$B$2:$B$2000=$A100)*(data_absen!$C$2:$C$2000=AU$3)*(ROW(data_absen!$C$2:$C$2000)))-1)*1440,\"\")","v":""},{"$f":"IFERROR(INDEX(data_absen!$I$2:$I$2000,SUMPRODUCT((data_absen!$B$2:$B$2000=$A100)*(data_absen!$C$2:$C$2000=AU$3)*(ROW(data_absen!$C$2:$C$2000)))-1)*1440,\"\")","v":""},null,null,{"$f":"IFERROR(INDEX(data_absen!$J$2:$J$2000,SUMPRODUCT((data_absen!$B$2:$B$2000=$A100)*(data_absen!$C$2:$C$2000=AU$3)*(ROW(data_absen!$C$2:$C$2000)))-1)*1440,\"\")","v":""},{"$f":"IFERROR(INDEX(data_absen!$K$2:$K$2000,SUMPRODUCT((data_absen!$B$2:$B$2000=$A100)*(data_absen!$C$2:$C$2000=AZ$3)*(ROW(data_absen!$C$2:$C$2000)))-1)*1440,\"\")","v":""},{"$f":"IFERROR(INDEX(data_absen!$I$2:$I$2000,SUMPRODUCT((data_absen!$B$2:$B$2000=$A100)*(data_absen!$C$2:$C$2000=AZ$3)*(ROW(data_absen!$C$2:$C$2000)))-1)*1440,\"\")","v":""},null,null,{"$f":"IFERROR(INDEX(data_absen!$J$2:$J$2000,SUMPRODUCT((data_absen!$B$2:$B$2000=$A100)*(data_absen!$C$2:$C$2000=AZ$3)*(ROW(data_absen!$C$2:$C$2000)))-1)*1440,\"\")","v":""},{"$f":"IFERROR(INDEX(data_absen!$K$2:$K$2000,SUMPRODUCT((data_absen!$B$2:$B$2000=$A100)*(data_absen!$C$2:$C$2000=BE$3)*(ROW(data_absen!$C$2:$C$2000)))-1)*1440,\"\")","v":""},{"$f":"IFERROR(INDEX(data_absen!$I$2:$I$2000,SUMPRODUCT((data_absen!$B$2:$B$2000=$A100)*(data_absen!$C$2:$C$2000=BE$3)*(ROW(data_absen!$C$2:$C$2000)))-1)*1440,\"\")","v":""},null,null,{"$f":"IFERROR(INDEX(data_absen!$J$2:$J$2000,SUMPRODUCT((data_absen!$B$2:$B$2000=$A100)*(data_absen!$C$2:$C$2000=BE$3)*(ROW(data_absen!$C$2:$C$2000)))-1)*1440,\"\")","v":""},{"$f":"IFERROR(INDEX(data_absen!$K$2:$K$2000,SUMPRODUCT((data_absen!$B$2:$B$2000=$A100)*(data_absen!$C$2:$C$2000=BJ$3)*(ROW(data_absen!$C$2:$C$2000)))-1)*1440,\"\")","v":""},{"$f":"IFERROR(INDEX(data_absen!$I$2:$I$2000,SUMPRODUCT((data_absen!$B$2:$B$2000=$A100)*(data_absen!$C$2:$C$2000=BJ$3)*(ROW(data_absen!$C$2:$C$2000)))-1)*1440,\"\")","v":""},null,null,{"$f":"IFERROR(INDEX(data_absen!$J$2:$J$2000,SUMPRODUCT((data_absen!$B$2:$B$2000=$A100)*(data_absen!$C$2:$C$2000=BJ$3)*(ROW(data_absen!$C$2:$C$2000)))-1)*1440,\"\")","v":""},{"$f":"IFERROR(INDEX(data_absen!$K$2:$K$2000,SUMPRODUCT((data_absen!$B$2:$B$2000=$A100)*(data_absen!$C$2:$C$2000=BO$3)*(ROW(data_absen!$C$2:$C$2000)))-1)*1440,\"\")","v":""},{"$f":"IFERROR(INDEX(data_absen!$I$2:$I$2000,SUMPRODUCT((data_absen!$B$2:$B$2000=$A100)*(data_absen!$C$2:$C$2000=BO$3)*(ROW(data_absen!$C$2:$C$2000)))-1)*1440,\"\")","v":""},null,null,{"$f":"IFERROR(INDEX(data_absen!$J$2:$J$2000,SUMPRODUCT((data_absen!$B$2:$B$2000=$A100)*(data_absen!$C$2:$C$2000=BO$3)*(ROW(data_absen!$C$2:$C$2000)))-1)*1440,\"\")","v":""},{"$f":"COUNTIFS(data_absen!$B$2:$B$2000,$A100,data_absen!$I$2:$I$2000,\">0\")","v":0}]
["Khoiri",{"$f":"INDEX(data_absen!$G$2:$G$2000,SUMPRODUCT((data_absen!$B$2:$B$2000=$A103)*(data_absen!$C$2:$C$2000=B$3)*(ROW(data_absen!$C$2:$C$2000)))-1)","v":""},null,"-",{"$f":"INDEX(data_absen!$H$2:$H$2000,SUMPRODUCT((data_absen!$B$2:$B$2000=$A103)*(data_absen!$C$2:$C$2000=B$3)*(ROW(data_absen!$C$2:$C$2000)))-1)","v":""},null,{"$f":"INDEX(data_absen!$G$2:$G$2000,SUMPRODUCT((data_absen!$B$2:$B$2000=$A103)*(data_absen!$C$2:$C$2000=G$3)*(ROW(data_absen!$C$2:$C$2000)))-1)","v":""},null,"-",{"$f":"INDEX(data_absen!$H$2:$H$2000,SUMPRODUCT((data_absen!$B$2:$B$2000=$A103)*(data_absen!$C$2:$C$2000=G$3)*(ROW(data_absen!$C$2:$C$2000)))-1)","v":""},null,{"$f":"INDEX(data_absen!$G$2:$G$2000,SUMPRODUCT((data_absen!$B$2:$B$2000=$A103)*(data_absen!$C$2:$C$2000=L$3)*(ROW(data_absen!$C$2:$C$2000)))-1)","v":"06:45:00"},null,"-",{"$f":"INDEX(data_absen!$H$2:$H$2000,SUMPRODUCT((data_absen!$B$2:$B$2000=$A103)*(data_absen!$C$2:$C$2000=L$3)*(ROW(data_absen!$C$2:$C$2000)))-1)","v":"15:02:00"},null,{"$f":"INDEX(data_absen!$G$2:$G$2000,SUMPRODUCT((data_absen!$B$2:$B$2000=$A103)*(data_absen!$C$2:$C$2000=Q$3)*(ROW(data_absen!$C$2:$C$2000)))-1)","v":""},null,"-",{"$f":"INDEX(data_absen!$H$2:$H$2000,SUMPRODUCT((data_absen!$B$2:$B$2000=$A103)*(data_absen!$C$2:$C$2000=Q$3)*(ROW(data_absen!$C$2:$C$2000)))-1)","v":""},null,{"$f":"INDEX(data_absen!$G$2:$G$2000,SUMPRODUCT((data_absen!$B$2:$B$2000=$A103)*(data_absen!$C$2:$C$2000=V$3)*(ROW(data_absen!$C$2:$C$2000)))-1)","v":""},null,"-",{"$f":"INDEX(data_absen!$H$2:$H$2000,SUMPRODUCT((data_absen!$B$2:$B$2000=$A103)*(data_absen!$C$2:$C$2000=V$3)*(ROW(data_absen!$C$2:$C$2000)))-1)","v":""},null,{"$f":"INDEX(data_absen!$G$2:$G$2000,SUMPRODUCT((data_absen!$B$2:$B$2000=$A103)*(data_absen!$C$2:$C$2000=AA$3)*(ROW(data_absen!$C$2:$C$2000)))-1)","v":""},null,"-",{"$f":"INDEX(data_absen!$H$2:$H$2000,SUMPRODUCT((data_absen!$B$2:$B$2000=$A103)*(data_absen!$C$2:$C$2000=AA$3)*(ROW(data_absen!$C$2:$C$2000)))-1)","v":""},null,{"$f":"INDEX(data_absen!$G$2:$G$2000,SUMPRODUCT((data_absen!$B$2:$B$2000=$A103)*(data_absen!$C$2:$C$2000=AF$3)*(ROW(data_absen!$C$2:$C$2000)))-1)","v":""},null,"-",{"$f":"INDEX(data_absen!$H$2:$H$2000,SUMPRODUCT((data_absen!$B$2:$B$2000=$A103)*(data_absen!$C$2:$C$2000=AF$3)*(ROW(data_absen!$C$2:$C$2000)))-1)","v":""},null,{"$f":"INDEX(data_absen!$G$2:$G$2000,SUMPRODUCT((data_absen!$B$2:$B$2000=$A103)*(data_absen!$C$2:$C$2000=AK$3)*(ROW(data_absen!$C$2:$C$2000)))-1)","v":""},null,"-",{"$f":"INDEX(data_absen!$H$2:$H$2000,SUMPRODUCT((data_absen!$B$2:$B$2000=$A103)*(data_absen!$C$2:$C$2000=AK$3)*(ROW(data_absen!$C$2:$C$2000)))-1)","v":""},null,{"$f":"INDEX(data_absen!$G$2:$G$2000,SUMPRODUCT((data_absen!$B$2:$B$2000=$A103)*(data_absen!$C$2:$C$2000=AP$3)*(ROW(data_absen!$C$2:$C$2000)))-1)","v":""},null,"-",{"$f":"INDEX(data_absen!$H$2:$H$2000,SUMPRODUCT((data_absen!$B$2:$B$2000=$A103)*(data_absen!$C$2:$C$2000=AP$3)*(ROW(data_absen!$C$2:$C$2000)))-1)","v":""},null,{"$f":"INDEX(data_absen!$G$2:$G$2000,SUMPRODUCT((data_absen!$B$2:$B$2000=$A103)*(data_absen!$C$2:$C$2000=AU$3)*(ROW(data_absen!$C$2:$C$2000)))-1)","v":""},null,"-",{"$f":"INDEX(data_absen!$H$2:$H$2000,SUMPRODUCT((data_absen!$B$2:$B$2000=$A103)*(data_absen!$C$2:$C$2000=AU$3)*(ROW(data_absen!$C$2:$C$2000)))-1)","v":""},null,{"$f":"INDEX(data_absen!$G$2:$G$2000,SUMPRODUCT((data_absen!$B$2:$B$2000=$A103)*(data_absen!$C$2:$C$2000=AZ$3)*(ROW(data_absen!$C$2:$C$2000)))-1)","v":""},null,"-",{"$f":"INDEX(data_absen!$H$2:$H$2000,SUMPRODUCT((data_absen!$B$2:$B$2000=$A103)*(data_absen!$C$2:$C$2000=AZ$3)*(ROW(data_absen!$C$2:$C$2000)))-1)","v":""},null,{"$f":"INDEX(data_absen!$G$2:$G$2000,SUMPRODUCT((data_absen!$B$2:$B$2000=$A103)*(data_absen!$C$2:$C$2000=BE$3)*(ROW(data_absen!$C$2:$C$2000)))-1)","v":""},null,"-",{"$f":"INDEX(data_absen!$H$2:$H$2000,SUMPRODUCT((data_absen!$B$2:$B$2000=$A103)*(data_absen!$C$2:$C$2000=BE$3)*(ROW(data_absen!$C$2:$C$2000)))-1)","v":""},null,{"$f":"INDEX(data_absen!$G$2:$G$2000,SUMPRODUCT((data_absen!$B$2:$B$2000=$A103)*(data_absen!$C$2:$C$2000=BJ$3)*(ROW(data_absen!$C$2:$C$2000)))-1)","v":""},null,"-",{"$f":"INDEX(data_absen!$H$2:$H$2000,SUMPRODUCT((data_absen!$B$2:$B$2000=$A103)*(data_absen!$C$2:$C$2000=BJ$3)*(ROW(data_absen!$C$2:$C$2000)))-1)","v":""},null,{"$f":"INDEX(data_absen!$G$2:$G$2000,SUMPRODUCT((data_absen!$B$2:$B$2000=$A103)*(data_absen!$C$2:$C$2000=BO$3)*(ROW(data_absen!$C$2:$C$2000)))-1)","v":""},null,"-",{"$f":"INDEX(data_absen!$H$2:$H$2000,SUMPRODUCT((data_absen!$B$2:$B$2000=$A103)*(data_absen!$C$2:$C$2000=BO$3)*(ROW(data_absen!$C$2:$C$2000)))-1)","v":""}]
[401,null,null,"-",null,null,null,null,"-",null,null,null,null,"-",null,null,null,null,"-",null,null,null,null,"-",null,null,null,null,"-",null,null,null,null,"-",null,null,null,null,"-",null,null,null,null,"-",null,null,null,null,"-",null,null,null,null,"-",null,null,null,null,"-",null,null,null,null,"-",null,null,null,null,"-"]
[null,{"$f":"IFERROR(INDEX(data_absen!$K$2:$K$2000,SUMPRODUCT((data_absen!$B$2:$B$2000=$A103)*(data_absen!$C$2:$C$2000=B$3)*(ROW(data_absen!$C$2:$C$2000)))-1)*1440,\"\")","v":""},{"$f":"IFERROR(INDEX(data_absen!$I$2:$I$2000,SUMPRODUCT((data_absen!$B$2:$B$2000=$A103)*(data_absen!$C$2:$C$2000=B$3)*(ROW(data_absen!$C$2:$C$2000)))-1)*1440,\"\")","v":""},null,null,{"$f":"IFERROR(INDEX(data_absen!$J$2:$J$2000,SUMPRODUCT((data_absen!$B$2:$B$2000=$A103)*(data_absen!$C$2:$C$2000=B$3)*(ROW(data_absen!$C$2:$C$2000)))-1)*1440,\"\")","v":""},{"$f":"IFERROR(INDEX(data_absen!$K$2:$K$2000,SUMPRODUCT((data_absen!$B$2:$B$2000=$A103)*(data_absen!$C$2:$C$2000=G$3)*(ROW(data_absen!$C$2:$C$2000)))-1)*1440,\"\")","v":""},{"$f":"IFERROR(INDEX(data_absen!$I$2:$I$2000,SUMPRODUCT((data_absen!$B$2:$B$2000=$A103)*(data_absen!$C$2:$C$2000=G$3)*(ROW(data_absen!$C$2:$C$2000)))-1)*1440,\"\")","v":""},null,null,{"$f":"IFERROR(INDEX(data_absen!$J$2:$J$2000,SUMPRODUCT((data_absen!$B$2:$B$2000=$A103)*(data_absen!$C$2:$C$2000=G$3)*(ROW(data_absen!$C$2:$C$2000)))-1)*1440,\"\")","v":""},{"$f":"IFERROR(INDEX(data_absen!$K$2:$K$2000,SUMPRODUCT((data_absen!$B$2:$B$2000=$A103)*(data_absen!$C$2:$C$2000=L$3)*(ROW(data_absen!$C$2:$C$2000)))-1)*1440,\"\")","v":""},{"$f":"IFERROR(INDEX(data_absen!$I$2:$I$2000,SUMPRODUCT((data_absen!$B$2:$B$2000=$A103)*(data_absen!$C$2:$C$2000=L$3)*(ROW(data_absen!$C$2:$C$2000)))-1)*1440,\"\")","v":""},null,null,{"$f":"IFERROR(INDEX(data_absen!$J$2:$J$2000,SUMPRODUCT((data_absen!$B$2:$B$2000=$A103)*(data_absen!$C$2:$C$2000=L$3)*(ROW(data_absen!$C$2:$C$2000)))-1)*1440,\"\")","v":118},{"$f":"IFERROR(INDEX(data_absen!$K$2:$K$2000,SUMPRODUCT((data_absen!$B$2:$B$2000=$A103)*(data_absen!$C$2:$C$2000=Q$3)*(ROW(data_absen!$C$2:$C$2000)))-1)*1440,\"\")","v":""},{"$f":"IFERROR(INDEX(data_absen!$I$2:$I$2000,SUMPRODUCT((data_absen!$B$2:$B$2000=$A103)*(data_absen!$C$2:$C$2000=Q$3)*(ROW(data_absen!$C$2:$C$2000)))-1)*1440,\"\")","v":""},null,null,{"$f":"IFERROR(INDEX(data_absen!$J$2:$J$2000,SUMPRODUCT((data_absen!$B$2:$B$2000=$A103)*(data_absen!$C$2:$C$2000=Q$3)*(ROW(data_absen!$C$2:$C$2000)))-1)*1440,\"\")","v":""},{"$f":"IFERROR(INDEX(data_absen!$K$2:$K$2000,SUMPRODUCT((data_absen!$B$2:$B$2000=$A103)*(data_absen!$C$2:$C$2000=V$3)*(ROW(data_absen!$C$2:$C$2000)))-1)*1440,\"\")","v":""},{"$f":"IFERROR(INDEX(data_absen!$I$2:$I$2000,SUMPRODUCT((data_absen!$B$2:$B$2000=$A103)*(data_absen!$C$2:$C$2000=V$3)*(ROW(data_absen!$C$2:$C$2000)))-1)*1440,\"\")","v":""},null,null,{"$f":"IFERROR(INDEX(data_absen!$J$2:$J$2000,SUMPRODUCT((data_absen!$B$2:$B$2000=$A103)*(data_absen!$C$2:$C$2000=V$3)*(ROW(data_absen!$C$2:$C$2000)))-1)*1440,\"\")","v":""},{"$f":"IFERROR(INDEX(data_absen!$K$2:$K$2000,SUMPRODUCT((data_absen!$B$2:$B$2000=$A103)*(data_absen!$C$2:$C$2000=AA$3)*(ROW(data_absen!$C$2:$C$2000)))-1)*1440,\"\")","v":""},{"$f":"IFERROR(INDEX(data_absen!$I$2:$I$2000,SUMPRODUCT((data_absen!$B$2:$B$2000=$A103)*(data_absen!$C$2:$C$2000=AA$3)*(ROW(data_absen!$C$2:$C$2000)))-1)*1440,\"\")","v":""},null,null,{"$f":"IFERROR(INDEX(data_absen!$J$2:$J$2000,SUMPRODUCT((data_absen!$B$2:$B$2000=$A103)*(data_absen!$C$2:$C$2000=AA$3)*(ROW(data_absen!$C$2:$C$2000)))-1)*1440,\"\")","v":""},{"$f":"IFERROR(INDEX(data_absen!$K$2:$K$2000,SUMPRODUCT((data_absen!$B$2:$B$2000=$A103)*(data_absen!$C$2:$C$2000=AF$3)*(ROW(data_absen!$C$2:$C$2000)))-1)*1440,\"\")","v":""},{"$f":"IFERROR(INDEX(data_absen!$I$2:$I$2000,SUMPRODUCT((data_absen!$B$2:$B$2000=$A103)*(data_absen!$C$2:$C$2000=AF$3)*(ROW(data_absen!$C$2:$C$2000)))-1)*1440,\"\")","v":""},null,null,{"$f":"IFERROR(INDEX(data_absen!$J$2:$J$2000,SUMPRODUCT((data_absen!$B$2:$B$2000=$A103)*(data_absen!$C$2:$C$2000=AF$3)*(ROW(data_absen!$C$2:$C$2000)))-1)*1440,\"\")","v":""},{"$f":"IFERROR(INDEX(data_absen!$K$2:$K$2000,SUMPRODUCT((data_absen!$B$2:$B$2000=$A103)*(data_absen!$C$2:$C$2000=AK$3)*(ROW(data_absen!$C$2:$C$2000)))-1)*1440,\"\")","v":""},{"$f":"IFERROR(INDEX(data_absen!$I$2:$I$2000,SUMPRODUCT((data_absen!$B$2:$B$2000=$A103)*(data_absen!$C$2:$C$2000=AK$3)*(ROW(data_absen!$C$2:$C$2000)))-1)*1440,\"\")","v":""},null,null,{"$f":"IFERROR(INDEX(data_absen!$J$2:$J$2000,SUMPRODUCT((data_absen!$B$2:$B$2000=$A103)*(data_absen!$C$2:$C$2000=AK$3)*(ROW(data_absen!$C$2:$C$2000)))-1)*1440,\"\")","v":""},{"$f":"IFERROR(INDEX(data_absen!$K$2:$K$2000,SUMPRODUCT((data_absen!$B$2:$B$2000=$A103)*(data_absen!$C$2:$C$2000=AP$3)*(ROW(data_absen!$C$2:$C$2000)))-1)*1440,\"\")","v":""},{"$f":"IFERROR(INDEX(data_absen!$I$2:$I$2000,SUMPRODUCT((data_absen!$B$2:$B$2000=$A103)*(data_absen!$C$2:$C$2000=AP$3)*(ROW(data_absen!$C$2:$C$2000)))-1)*1440,\"\")","v":""},null,null,{"$f":"IFERROR(INDEX(data_absen!$J$2:$J$2000,SUMPRODUCT((data_absen!$B$2:$B$2000=$A103)*(data_absen!$C$2:$C$2000=AP$3)*(ROW(data_absen!$C$2:$C$2000)))-1)*1440,\"\")","v":""},{"$f":"IFERROR(INDEX(data_absen!$K$2:$K$2000,SUMPRODUCT((data_absen!$B$2:$B$2000=$A103)*(data_absen!$C$2:$C$2000=AU$3)*(ROW(data_absen!$C$2:$C$2000)))-1)*1440,\"\")","v":""},{"$f":"IFERROR(INDEX(data_absen!$I$2:$I$2000,SUMPRODUCT((data_absen!$B$2:$B$2000=$A103)*(data_absen!$C$2:$C$2000=AU$3)*(ROW(data_absen!$C$2:$C$2000)))-1)*1440,\"\")","v":""},null,null,{"$f":"IFERROR(INDEX(data_absen!$J$2:$J$2000,SUMPRODUCT((data_absen!$B$2:$B$2000=$A103)*(data_absen!$C$2:$C$2000=AU$3)*(ROW(data_absen!$C$2:$C$2000)))-1)*1440,\"\")","v":""},{"$f":"IFERROR(INDEX(data_absen!$K$2:$K$2000,SUMPRODUCT((data_absen!$B$2:$B$2000=$A103)*(data_absen!$C$2:$C$2000=AZ$3)*(ROW(data_absen!$C$2:$C$2000)))-1)*1440,\"\")","v":""},{"$f":"IFERROR(INDEX(data_absen!$I$2:$I$2000,SUMPRODUCT((data_absen!$B$2:$B$2000=$A103)*(data_absen!$C$2:$C$2000=AZ$3)*(ROW(data_absen!$C$2:$C$2000)))-1)*1440,\"\")","v":""},null,null,{"$f":"IFERROR(INDEX(data_absen!$J$2:$J$2000,SUMPRODUCT((data_absen!$B$2:$B$2000=$A103)*(data_absen!$C$2:$C$2000=AZ$3)*(ROW(data_absen!$C$2:$C$2000)))-1)*1440,\"\")","v":""},{"$f":"IFERROR(INDEX(data_absen!$K$2:$K$2000,SUMPRODUCT((data_absen!$B$2:$B$2000=$A103)*(data_absen!$C$2:$C$2000=BE$3)*(ROW(data_absen!$C$2:$C$2000)))-1)*1440,\"\")","v":""},{"$f":"IFERROR(INDEX(data_absen!$I$2:$I$2000,SUMPRODUCT((data_absen!$B$2:$B$2000=$A103)*(data_absen!$C$2:$C$2000=BE$3)*(ROW(data_absen!$C$2:$C$2000)))-1)*1440,\"\")","v":""},null,null,{"$f":"IFERROR(INDEX(data_absen!$J$2:$J$2000,SUMPRODUCT((data_absen!$B$2:$B$2000=$A103)*(data_absen!$C$2:$C$2000=BE$3)*(ROW(data_absen!$C$2:$C$2000)))-1)*1440,\"\")","v":""},{"$f":"IFERROR(INDEX(data_absen!$K$2:$K$2000,SUMPRODUCT((data_absen!$B$2:$B$2000=$A103)*(data_absen!$C$2:$C$2000=BJ$3)*(ROW(data_absen!$C$2:$C$2000)))-1)*1440,\"\")","v":""},{"$f":"IFERROR(INDEX(data_absen!$I$2:$I$2000,SUMPRODUCT((data_absen!$B$2:$B$2000=$A103)*(data_absen!$C$2:$C$2000=BJ$3)*(ROW(data_absen!$C$2:$C$2000)))-1)*1440,\"\")","v":""},null,null,{"$f":"IFERROR(INDEX(data_absen!$J$2:$J$2000,SUMPRODUCT((data_absen!$B$2:$B$2000=$A103)*(data_absen!$C$2:$C$2000=BJ$3)*(ROW(data_absen!$C$2:$C$2000)))-1)*1440,\"\")","v":""},{"$f":"IFERROR(INDEX(data_absen!$K$2:$K$2000,SUMPRODUCT((data_absen!$B$2:$B$2000=$A103)*(data_absen!$C$2:$C$2000=BO$3)*(ROW(data_absen!$C$2:$C$2000)))-1)*1440,\"\")","v":""},{"$f":"IFERROR(INDEX(data_absen!$I$2:$I$2000,SUMPRODUCT((data_absen!$B$2:$B$2000=$A103)*(data_absen!$C$2:$C$2000=BO$3)*(ROW(data_absen!$C$2:$C$2000)))-1)*1440,\"\")","v":""},null,null,{"$f":"IFERROR(INDEX(data_absen!$J$2:$J$2000,SUMPRODUCT((data_absen!$B$2:$B$2000=$A103)*(data_absen!$C$2:$C$2000=BO$3)*(ROW(data_absen!$C$2:$C$2000)))-1)*1440,\"\")","v":""},{"$f":"COUNTIFS(data_absen!$B$2:$B$2000,$A103,data_absen!$I$2:$I$2000,\">0\")","v":2}]
["Khoirul",{"$f":"INDEX(data_absen!$G$2:$G$2000,SUMPRODUCT((data_absen!$B$2:$B$2000=$A106)*(data_absen!$C$2:$C$2000=B$3)*(ROW(data_absen!$C$2:$C$2000)))-1)","v":"06:46:00"},null,"-",{"$f":"INDEX(data_absen!$H$2:$H$2000,SUMPRODUCT((data_absen!$B$2:$B$2000=$A106)*(data_absen!$C$2:$C$2000=B$3)*(ROW(data_absen!$C$2:$C$2000)))-1)","v":""},null,{"$f":"INDEX(data_absen!$G$2:$G$2000,SUMPRODUCT((data_absen!$B$2:$B$2000=$A106)*(data_absen!$C$2:$C$2000=G$3)*(ROW(data_absen!$C$2:$C$2000)))-1)","v":"06:46:00"},null,"-",{"$f":"INDEX(data_absen!$H$2:$H$2000,SUMPRODUCT((data_absen!$B$2:$B$2000=$A106)*(data_absen!$C$2:$C$2000=G$3)*(ROW(data_absen!$C$2:$C$2000)))-1)","v":""},null,{"$f":"INDEX(data_absen!$G$2:$G$2000,SUMPRODUCT((data_absen!$B$2:$B$2000=$A106)*(data_absen!$C$2:$C$2000=L$3)*(ROW(data_absen!$C$2:$C$2000)))-1)","v":""},null,"-",{"$f":"INDEX(data_absen!$H$2:$H$2000,SUMPRODUCT((data_absen!$B$2:$B$2000=$A106)*(data_absen!$C$2:$C$2000=L$3)*(ROW(data_absen!$C$2:$C$2000)))-1)","v":""},null,{"$f":"INDEX(data_absen!$G$2:$G$2000,SUMPRODUCT((data_absen!$B$2:$B$2000=$A106)*(data_absen!$C$2:$C$2000=Q$3)*(ROW(data_absen!$C$2:$C$2000)))-1)","v":""},null,"-",{"$f":"INDEX(data_absen!$H$2:$H$2000,SUMPRODUCT((data_absen!$B$2:$B$2000=$A106)*(data_absen!$C$2:$C$2000=Q$3)*(ROW(data_absen!$C$2:$C$2000)))-1)","v":""},null,{"$f":"INDEX(data_absen!$G$2:$G$2000,SUMPRODUCT((data_absen!$B$2:$B$2000=$A106)*(data_absen!$C$2:$C$2000=V$3)*(ROW(data_absen!$C$2:$C$2000)))-1)","v":""},null,"-",{"$f":"INDEX(data_absen!$H$2:$H$2000,SUMPRODUCT((data_absen!$B$2:$B$2000=$A106)*(data_absen!$C$2:$C$2000=V$3)*(ROW(data_absen!$C$2:$C$2000)))-1)","v":""},null,{"$f":"INDEX(data_absen!$G$2:$G$2000,SUMPRODUCT((data_absen!$B$2:$B$2000=$A106)*(data_absen!$C$2:$C$2000=AA$3)*(ROW(data_absen!$C$2:$C$2000)))-1)","v":""},null,"-",{"$f":"INDEX(data_absen!$H$2:$H$2000,SUMPRODUCT((data_absen!$B$2:$B$2000=$A106)*(data_absen!$C$2:$C$2000=AA$3)*(ROW(data_absen!$C$2:$C$2000)))-1)","v":""},null,{"$f":"INDEX(data_absen!$G$2:$G$2000,SUMPRODUCT((data_absen!$B$2:$B$2000=$A106)*(data_absen!$C$2:$C$2000=AF$3)*(ROW(data_absen!$C$2:$C$2000)))-1)","v":""},null,"-",{"$f":"INDEX(data_absen!$H$2:$H$2000,SUMPRODUCT((data_absen!$B$2:$B$2000=$A106)*(data_absen!$C$2:$C$2000=AF$3)*(ROW(data_absen!$C$2:$C$2000)))-1)","v":""},null,{"$f":"INDEX(data_absen!$G$2:$G$2000,SUMPRODUCT((data_absen!$B$2:$B$2000=$A106)*(data_absen!$C$2:$C$2000=AK$3)*(ROW(data_absen!$C$2:$C$2000)))-1)","v":""},null,"-",{"$f":"INDEX(data_absen!$H$2:$H$2000,SUMPRODUCT((data_absen!$B$2:$B$2000=$A106)*(data_absen!$C$2:$C$2000=AK$3)*(ROW(data_absen!$C$2:$C$2000)))-1)","v":""},null,{"$f":"INDEX(data_absen!$G$2:$G$2000,SUMPRODUCT((data_absen!$B$2:$B$2000=$A106)*(data_absen!$C$2:$C$2000=AP$3)*(ROW(data_absen!$C$2:$C$2000)))-1)","v":""},null,"-",{"$f":"INDEX(data_absen!$H$2:$H$2000,SUMPRODUCT((data_absen!$B$2:$B$2000=$A106)*(data_absen!$C$2:$C$2000=AP$3)*(ROW(data_absen!$C$2:$C$2000)))-1)","v":""},null,{"$f":"INDEX(data_absen!$G$2:$G$2000,SUMPRODUCT((data_absen!$B$2:$B$2000=$A106)*(data_absen!$C$2:$C$2000=AU$3)*(ROW(data_absen!$C$2:$C$2000)))-1)","v":""},null,"-",{"$f":"INDEX(data_absen!$H$2:$H$2000,SUMPRODUCT((data_absen!$B$2:$B$2000=$A106)*(data_absen!$C$2:$C$2000=AU$3)*(ROW(data_absen!$C$2:$C$2000)))-1)","v":""},null,{"$f":"INDEX(data_absen!$G$2:$G$2000,SUMPRODUCT((data_absen!$B$2:$B$2000=$A106)*(data_absen!$C$2:$C$2000=AZ$3)*(ROW(data_absen!$C$2:$C$2000)))-1)","v":""},null,"-",{"$f":"INDEX(data_absen!$H$2:$H$2000,SUMPRODUCT((data_absen!$B$2:$B$2000=$A106)*(data_absen!$C$2:$C$2000=AZ$3)*(ROW(data_absen!$C$2:$C$2000)))-1)","v":""},null,{"$f":"INDEX(data_absen!$G$2:$G$2000,SUMPRODUCT((data_absen!$B$2:$B$2000=$A106)*(data_absen!$C$2:$C$2000=BE$3)*(ROW(data_absen!$C$2:$C$2000)))-1)","v":""},null,"-",{"$f":"INDEX(data_absen!$H$2:$H$2000,SUMPRODUCT((data_absen!$B$2:$B$2000=$A106)*(data_absen!$C$2:$C$2000=BE$3)*(ROW(data_absen!$C$2:$C$2000)))-1)","v":""},null,{"$f":"INDEX(data_absen!$G$2:$G$2000,SUMPRODUCT((data_absen!$B$2:$B$2000=$A106)*(data_absen!$C$2:$C$2000=BJ$3)*(ROW(data_absen!$C$2:$C$2000)))-1)","v":""},null,"-",{"$f":"INDEX(data_absen!$H$2:$H$2000,SUMPRODUCT((data_absen!$B$2:$B$2000=$A106)*(data_absen!$C$2:$C$2000=BJ$3)*(ROW(data_absen!$C$2:$C$2000)))-1)","v":""},null,{"$f":"INDEX(data_absen!$G$2:$G$2000,SUMPRODUCT((data_absen!$B$2:$B$2000=$A106)*(data_absen!$C$2:$C$2000=BO$3)*(ROW(data_absen!$C$2:$C$2000)))-1)","v":""},null,"-",{"$f":"INDEX(data_absen!$H$2:$H$2000,SUMPRODUCT((data_absen!$B$2:$B$2000=$A106)*(data_absen!$C$2:$C$2000=BO$3)*(ROW(data_absen!$C$2:$C$2000)))-1)","v":""}]
[402,null,null,"-",null,null,null,null,"-",null,null,null,null,"-",null,null,null,null,"-",null,null,null,null,"-",null,null,null,null,"-",null,null,null,null,"-",null,null,null,null,"-",null,null,null,null,"-",null,null,null,null,"-",null,null,null,null,"-",null,null,null,null,"-",null,null,null,null,"-",null,null,null,null,"-"]
[null,{"$f":"IFERROR(INDEX(data_absen!$K$2:$K$2000,SUMPRODUCT((data_absen!$B$2:$B$2000=$A106)*(data_absen!$C$2:$C$2000=B$3)*(ROW(data_absen!$C$2:$C$2000)))-1)*1440,\"\")","v":""},{"$f":"IFERROR(INDEX(data_absen!$I$2:$I$2000,SUMPRODUCT((data_absen!$B$2:$B$2000=$A106)*(data_absen!$C$2:$C$2000=B$3)*(ROW(data_absen!$C$2:$C$2000)))-1)*1440,\"\")","v":""},null,null,{"$f":"IFERROR(INDEX(data_absen!$J$2:$J$2000,SUMPRODUCT((data_absen!$B$2:$B$2000=$A106)*(data_absen!$C$2:$C$2000=B$3)*(ROW(data_absen!$C$2:$C$2000)))-1)*1440,\"\")","v":120},{"$f":"IFERROR(INDEX(data_absen!$K$2:$K$2000,SUMPRODUCT((data_absen!$B$2:$B$2000=$A106)*(data_absen!$C$2:$C$2000=G$3)*(ROW(data_absen!$C$2:$C$2000)))-1)*1440,\"\")","v":""},{"$f":"IFERROR(INDEX(data_absen!$I$2:$I$2000,SUMPRODUCT((data_absen!$B$2:$B$2000=$A106)*(data_absen!$C$2:$C$2000=G$3)*(ROW(data_absen!$C$2:$C$2000)))-1)*1440,\"\")","v":""},null,null,{"$f":"IFERROR(INDEX(data_absen!$J$2:$J$2000,SUMPRODUCT((data_absen!$B$2:$B$2000=$A106)*(data_absen!$C$2:$C$2000=G$3)*(ROW(data_absen!$C$2:$C$2000)))-1)*1440,\"\")","v":120},{"$f":"IFERROR(INDEX(data_absen!$K$2:$K$2000,SUMPRODUCT((data_absen!$B$2:$B$2000=$A106)*(data_absen!$C$2:$C$2000=L$3)*(ROW(data_absen!$C$2:$C$2000)))-1)*1440,\"\")","v":""},{"$f":"IFERROR(INDEX(data_absen!$I$2:$I$2000,SUMPRODUCT((data_absen!$B$2:$B$2000=$A106)*(data_absen!$C$2:$C$2000=L$3)*(ROW(data_absen!$C$2:$C$2000)))-1)*1440,\"\")","v":""},null,null,{"$f":"IFERROR(INDEX(data_absen!$J$2:$J$2000,SUMPRODUCT((data_absen!$B$2:$B$2000=$A106)*(data_absen!$C$2:$C$2000=L$3)*(ROW(data_absen!$C$2:$C$2000)))-1)*1440,\"\")","v":""},{"$f":"IFERROR(INDEX(data_absen!$K$2:$K$2000,SUMPRODUCT((data_absen!$B$2:$B$2000=$A106)*(data_absen!$C$2:$C$2000=Q$3)*(ROW(data_absen!$C$2:$C$2000)))-1)*1440,\"\")","v":""},{"$f":"IFERROR(INDEX(data_absen!$I$2:$I$2000,SUMPRODUCT((data_absen!$B$2:$B$2000=$A106)*(data_absen!$C$2:$C$2000=Q$3)*(ROW(data_absen!$C$2:$C$2000)))-1)*1440,\"\")","v":""},null,null,{"$f":"IFERROR(INDEX(data_absen!$J$2:$J$2000,SUMPRODUCT((data_absen!$B$2:$B$2000=$A106)*(data_absen!$C$2:$C$2000=Q$3)*(ROW(data_absen!$C$2:$C$2000)))-1)*1440,\"\")","v":""},{"$f":"IFERROR(INDEX(data_absen!$K$2:$K$2000,SUMPRODUCT((data_absen!$B$2:$B$2000=$A106)*(data_absen!$C$2:$C$2000=V$3)*(ROW(data_absen!$C$2:$C$2000)))-1)*1440,\"\")","v":""},{"$f":"IFERROR(INDEX(data_absen!$I$2:$I$2000,SUMPRODUCT((data_absen!$B$2:$B$2000=$A106)*(data_absen!$C$2:$C$2000=V$3)*(ROW(data_absen!$C$2:$C$2000)))-1)*1440,\"\")","v":""},null,null,{"$f":"IFERROR(INDEX(data_absen!$J$2:$J$2000,SUMPRODUCT((data_absen!$B$2:$B$2000=$A106)*(data_absen!$C$2:$C$2000=V$3)*(ROW(data_absen!$C$2:$C$2000)))-1)*1440,\"\")","v":""},{"$f":"IFERROR(INDEX(data_absen!$K$2:$K$2000,SUMPRODUCT((data_absen!$B$2:$B$2000=$A106)*(data_absen!$C$2:$C$2000=AA$3)*(ROW(data_absen!$C$2:$C$2000)))-1)*1440,\"\")","v":""},{"$f":"IFERROR(INDEX(data_absen!$I$2:$I$2000,SUMPRODUCT((data_absen!$B$2:$B$2000=$A106)*(data_absen!$C$2:$C$2000=AA$3)*(ROW(data_absen!$C$2:$C$2000)))-1)*1440,\"\")","v":""},null,null,{"$f":"IFERROR(INDEX(data_absen!$J$2:$J$2000,SUMPRODUCT((data_absen!$B$2:$B$2000=$A106)*(data_absen!$C$2:$C$2000=AA$3)*(ROW(data_absen!$C$2:$C$2000)))-1)*1440,\"\")","v":""},{"$f":"IFERROR(INDEX(data_absen!$K$2:$K$2000,SUMPRODUCT((data_absen!$B$2:$B$2000=$A106)*(data_absen!$C$2:$C$2000=AF$3)*(ROW(data_absen!$C$2:$C$2000)))-1)*1440,\"\")","v":""},{"$f":"IFERROR(INDEX(data_absen!$I$2:$I$2000,SUMPRODUCT((data_absen!$B$2:$B$2000=$A106)*(data_absen!$C$2:$C$2000=AF$3)*(ROW(data_absen!$C$2:$C$2000)))-1)*1440,\"\")","v":""},null,null,{"$f":"IFERROR(INDEX(data_absen!$J$2:$J$2000,SUMPRODUCT((data_absen!$B$2:$B$2000=$A106)*(data_absen!$C$2:$C$2000=AF$3)*(ROW(data_absen!$C$2:$C$2000)))-1)*1440,\"\")","v":""},{"$f":"IFERROR(INDEX(data_absen!$K$2:$K$2000,SUMPRODUCT((data_absen!$B$2:$B$2000=$A106)*(data_absen!$C$2:$C$2000=AK$3)*(ROW(data_absen!$C$2:$C$2000)))-1)*1440,\"\")","v":""},{"$f":"IFERROR(INDEX(data_absen!$I$2:$I$2000,SUMPRODUCT((data_absen!$B$2:$B$2000=$A106)*(data_absen!$C$2:$C$2000=AK$3)*(ROW(data_absen!$C$2:$C$2000)))-1)*1440,\"\")","v":""},null,null,{"$f":"IFERROR(INDEX(data_absen!$J$2:$J$2000,SUMPRODUCT((data_absen!$B$2:$B$2000=$A106)*(data_absen!$C$2:$C$2000=AK$3)*(ROW(data_absen!$C$2:$C$2000)))-1)*1440,\"\")","v":""},{"$f":"IFERROR(INDEX(data_absen!$K$2:$K$2000,SUMPRODUCT((data_absen!$B$2:$B$2000=$A106)*(data_absen!$C$2:$C$2000=AP$3)*(ROW(data_absen!$C$2:$C$2000)))-1)*1440,\"\")","v":""},{"$f":"IFERROR(INDEX(data_absen!$I$2:$I$2000,SUMPRODUCT((data_absen!$B$2:$B$2000=$A106)*(data_absen!$C$2:$C$2000=AP$3)*(ROW(data_absen!$C$2:$C$2000)))-1)*1440,\"\")","v":""},null,null,{"$f":"IFERROR(INDEX(data_absen!$J$2:$J$2000,SUMPRODUCT((data_absen!$B$2:$B$2000=$A106)*(data_absen!$C$2:$C$2000=AP$3)*(ROW(data_absen!$C$2:$C$2000)))-1)*1440,\"\")","v":""},{"$f":"IFERROR(INDEX(data_absen!$K$2:$K$2000,SUMPRODUCT((data_absen!$B$2:$B$2000=$A106)*(data_absen!$C$2:$C$2000=AU$3)*(ROW(data_absen!$C$2:$C$2000)))-1)*1440,\"\")","v":""},{"$f":"IFERROR(INDEX(data_absen!$I$2:$I$2000,SUMPRODUCT((data_absen!$B$2:$B$2000=$A106)*(data_absen!$C$2:$C$2000=AU$3)*(ROW(data_absen!$C$2:$C$2000)))-1)*1440,\"\")","v":""},null,null,{"$f":"IFERROR(INDEX(data_absen!$J$2:$J$2000,SUMPRODUCT((data_absen!$B$2:$B$2000=$A106)*(data_absen!$C$2:$C$2000=AU$3)*(ROW(data_absen!$C$2:$C$2000)))-1)*1440,\"\")","v":""},{"$f":"IFERROR(INDEX(data_absen!$K$2:$K$2000,SUMPRODUCT((data_absen!$B$2:$B$2000=$A106)*(data_absen!$C$2:$C$2000=AZ$3)*(ROW(data_absen!$C$2:$C$2000)))-1)*1440,\"\")","v":""},{"$f":"IFERROR(INDEX(data_absen!$I$2:$I$2000,SUMPRODUCT((data_absen!$B$2:$B$2000=$A106)*(data_absen!$C$2:$C$2000=AZ$3)*(ROW(data_absen!$C$2:$C$2000)))-1)*1440,\"\")","v":""},null,null,{"$f":"IFERROR(INDEX(data_absen!$J$2:$J$2000,SUMPRODUCT((data_absen!$B$2:$B$2000=$A106)*(data_absen!$C$2:$C$2000=AZ$3)*(ROW(data_absen!$C$2:$C$2000)))-1)*1440,\"\")","v":""},{"$f":"IFERROR(INDEX(data_absen!$K$2:$K$2000,SUMPRODUCT((data_absen!$B$2:$B$2000=$A106)*(data_absen!$C$2:$C$2000=BE$3)*(ROW(data_absen!$C$2:$C$2000)))-1)*1440,\"\")","v":""},{"$f":"IFERROR(INDEX(data_absen!$I$2:$I$2000,SUMPRODUCT((data_absen!$B$2:$B$2000=$A106)*(data_absen!$C$2:$C$2000=BE$3)*(ROW(data_absen!$C$2:$C$2000)))-1)*1440,\"\")","v":""},null,null,{"$f":"IFERROR(INDEX(data_absen!$J$2:$J$2000,SUMPRODUCT((data_absen!$B$2:$B$2000=$A106)*(data_absen!$C$2:$C$2000=BE$3)*(ROW(data_absen!$C$2:$C$2000)))-1)*1440,\"\")","v":""},{"$f":"IFERROR(INDEX(data_absen!$K$2:$K$2000,SUMPRODUCT((data_absen!$B$2:$B$2000=$A106)*(data_absen!$C$2:$C$2000=BJ$3)*(ROW(data_absen!$C$2:$C$2000)))-1)*1440,\"\")","v":""},{"$f":"IFERROR(INDEX(data_absen!$I$2:$I$2000,SUMPRODUCT((data_absen!$B$2:$B$2000=$A106)*(data_absen!$C$2:$C$2000=BJ$3)*(ROW(data_absen!$C$2:$C$2000)))-1)*1440,\"\")","v":""},null,null,{"$f":"IFERROR(INDEX(data_absen!$J$2:$J$2000,SUMPRODUCT((data_absen!$B$2:$B$2000=$A106)*(data_absen!$C$2:$C$2000=BJ$3)*(ROW(data_absen!$C$2:$C$2000)))-1)*1440,\"\")","v":""},{"$f":"IFERROR(INDEX(data_absen!$K$2:$K$2000,SUMPRODUCT((data_absen!$B$2:$B$2000=$A106)*(data_absen!$C$2:$C$2000=BO$3)*(ROW(data_absen!$C$2:$C$2000)))-1)*1440,\"\")","v":""},{"$f":"IFERROR(INDEX(data_absen!$I$2:$I$2000,SUMPRODUCT((data_absen!$B$2:$B$2000=$A106)*(data_absen!$C$2:$C$2000=BO$3)*(ROW(data_absen!$C$2:$C$2000)))-1)*1440,\"\")","v":""},null,null,{"$f":"IFERROR(INDEX(data_absen!$J$2:$J$2000,SUMPRODUCT((data_absen!$B$2:$B$2000=$A106)*(data_absen!$C$2:$C$2000=BO$3)*(ROW(data_absen!$C$2:$C$2000)))-1)*1440,\"\")","v":""},{"$f":"COUNTIFS(data_absen!$B$2:$B$2000,$A106,data_absen!$I$2:$I$2000,\">0\")","v":4}]
["Via",{"$f":"INDEX(data_absen!$G$2:$G$2000,SUMPRODUCT((data_absen!$B$2:$B$2000=$A109)*(data_absen!$C$2:$C$2000=B$3)*(ROW(data_absen!$C$2:$C$2000)))-1)","v":""},null,"-",{"$f":"INDEX(data_absen!$H$2:$H$2000,SUMPRODUCT((data_absen!$B$2:$B$2000=$A109)*(data_absen!$C$2:$C$2000=B$3)*(ROW(data_absen!$C$2:$C$2000)))-1)","v":""},null,{"$f":"INDEX(data_absen!$G$2:$G$2000,SUMPRODUCT((data_absen!$B$2:$B$2000=$A109)*(data_absen!$C$2:$C$2000=G$3)*(ROW(data_absen!$C$2:$C$2000)))-1)","v":""},null,"-",{"$f":"INDEX(data_absen!$H$2:$H$2000,SUMPRODUCT((data_absen!$B$2:$B$2000=$A109)*(data_absen!$C$2:$C$2000=G$3)*(ROW(data_absen!$C$2:$C$2000)))-1)","v":""},null,{"$f":"INDEX(data_absen!$G$2:$G$2000,SUMPRODUCT((data_absen!$B$2:$B$2000=$A109)*(data_absen!$C$2:$C$2000=L$3)*(ROW(data_absen!$C$2:$C$2000)))-1)","v":""},null,"-",{"$f":"INDEX(data_absen!$H$2:$H$2000,SUMPRODUCT((data_absen!$B$2:$B$2000=$A109)*(data_absen!$C$2:$C$2000=L$3)*(ROW(data_absen!$C$2:$C$2000)))-1)","v":""},null,{"$f":"INDEX(data_absen!$G$2:$G$2000,SUMPRODUCT((data_absen!$B$2:$B$2000=$A109)*(data_absen!$C$2:$C$2000=Q$3)*(ROW(data_absen!$C$2:$C$2000)))-1)","v":""},null,"-",{"$f":"INDEX(data_absen!$H$2:$H$2000,SUMPRODUCT((data_absen!$B$2:$B$2000=$A109)*(data_absen!$C$2:$C$2000=Q$3)*(ROW(data_absen!$C$2:$C$2000)))-1)","v":""},null,{"$f":"INDEX(data_absen!$G$2:$G$2000,SUMPRODUCT((data_absen!$B$2:$B$2000=$A109)*(data_absen!$C$2:$C$2000=V$3)*(ROW(data_absen!$C$2:$C$2000)))-1)","v":""},null,"-",{"$f":"INDEX(data_absen!$H$2:$H$2000,SUMPRODUCT((data_absen!$B$2:$B$2000=$A109)*(data_absen!$C$2:$C$2000=V$3)*(ROW(data_absen!$C$2:$C$2000)))-1)","v":""},null,{"$f":"INDEX(data_absen!$G$2:$G$2000,SUMPRODUCT((data_absen!$B$2:$B$2000=$A109)*(data_absen!$C$2:$C$2000=AA$3)*(ROW(data_absen!$C$2:$C$2000)))-1)","v":""},null,"-",{"$f":"INDEX(data_absen!$H$2:$H$2000,SUMPRODUCT((data_absen!$B$2:$B$2000=$A109)*(data_absen!$C$2:$C$2000=AA$3)*(ROW(data_absen!$C$2:$C$2000)))-1)","v":""},null,{"$f":"INDEX(data_absen!$G$2:$G$2000,SUMPRODUCT((data_absen!$B$2:$B$2000=$A109)*(data_absen!$C$2:$C$2000=AF$3)*(ROW(data_absen!$C$2:$C$2000)))-1)","v":""},null,"-",{"$f":"INDEX(data_absen!$H$2:$H$2000,SUMPRODUCT((data_absen!$B$2:$B$2000=$A109)*(data_absen!$C$2:$C$2000=AF$3)*(ROW(data_absen!$C$2:$C$2000)))-1)","v":""},null,{"$f":"INDEX(data_absen!$G$2:$G$2000,SUMPRODUCT((data_absen!$B$2:$B$2000=$A109)*(data_absen!$C$2:$C$2000=AK$3)*(ROW(data_absen!$C$2:$C$2000)))-1)","v":""},null,"-",{"$f":"INDEX(data_absen!$H$2:$H$2000,SUMPRODUCT((data_absen!$B$2:$B$2000=$A109)*(data_absen!$C$2:$C$2000=AK$3)*(ROW(data_absen!$C$2:$C$2000)))-1)","v":""},null,{"$f":"INDEX(data_absen!$G$2:$G$2000,SUMPRODUCT((data_absen!$B$2:$B$2000=$A109)*(data_absen!$C$2:$C$2000=AP$3)*(ROW(data_absen!$C$2:$C$2000)))-1)","v":""},null,"-",{"$f":"INDEX(data_absen!$H$2:$H$2000,SUMPRODUCT((data_absen!$B$2:$B$2000=$A109)*(data_absen!$C$2:$C$2000=AP$3)*(ROW(data_absen!$C$2:$C$2000)))-1)","v":""},null,{"$f":"INDEX(data_absen!$G$2:$G$2000,SUMPRODUCT((data_absen!$B$2:$B$2000=$A109)*(data_absen!$C$2:$C$2000=AU$3)*(ROW(data_absen!$C$2:$C$2000)))-1)","v":""},null,"-",{"$f":"INDEX(data_absen!$H$2:$H$2000,SUMPRODUCT((data_absen!$B$2:$B$2000=$A109)*(data_absen!$C$2:$C$2000=AU$3)*(ROW(data_absen!$C$2:$C$2000)))-1)","v":""},null,{"$f":"INDEX(data_absen!$G$2:$G$2000,SUMPRODUCT((data_absen!$B$2:$B$2000=$A109)*(data_absen!$C$2:$C$2000=AZ$3)*(ROW(data_absen!$C$2:$C$2000)))-1)","v":""},null,"-",{"$f":"INDEX(data_absen!$H$2:$H$2000,SUMPRODUCT((data_absen!$B$2:$B$2000=$A109)*(data_absen!$C$2:$C$2000=AZ$3)*(ROW(data_absen!$C$2:$C$2000)))-1)","v":""},null,{"$f":"INDEX(data_absen!$G$2:$G$2000,SUMPRODUCT((data_absen!$B$2:$B$2000=$A109)*(data_absen!$C$2:$C$2000=BE$3)*(ROW(data_absen!$C$2:$C$2000)))-1)","v":""},null,"-",{"$f":"INDEX(data_absen!$H$2:$H$2000,SUMPRODUCT((data_absen!$B$2:$B$2000=$A109)*(data_absen!$C$2:$C$2000=BE$3)*(ROW(data_absen!$C$2:$C$2000)))-1)","v":""},null,{"$f":"INDEX(data_absen!$G$2:$G$2000,SUMPRODUCT((data_absen!$B$2:$B$2000=$A109)*(data_absen!$C$2:$C$2000=BJ$3)*(ROW(data_absen!$C$2:$C$2000)))-1)","v":""},null,"-",{"$f":"INDEX(data_absen!$H$2:$H$2000,SUMPRODUCT((data_absen!$B$2:$B$2000=$A109)*(data_absen!$C$2:$C$2000=BJ$3)*(ROW(data_absen!$C$2:$C$2000)))-1)","v":""},null,{"$f":"INDEX(data_absen!$G$2:$G$2000,SUMPRODUCT((data_absen!$B$2:$B$2000=$A109)*(data_absen!$C$2:$C$2000=BO$3)*(ROW(data_absen!$C$2:$C$2000)))-1)","v":""},null,"-",{"$f":"INDEX(data_absen!$H$2:$H$2000,SUMPRODUCT((data_absen!$B$2:$B$2000=$A109)*(data_absen!$C$2:$C$2000=BO$3)*(ROW(data_absen!$C$2:$C$2000)))-1)","v":""}]
[403,null,null,"-",null,null,null,null,"-",null,null,null,null,"-",null,null,null,null,"-",null,null,null,null,"-",null,null,null,null,"-",null,null,null,null,"-",null,null,null,null,"-",null,null,null,null,"-",null,null,null,null,"-",null,null,null,null,"-",null,null,null,null,"-",null,null,null,null,"-",null,null,null,null,"-"]
[null,{"$f":"IFERROR(INDEX(data_absen!$K$2:$K$2000,SUMPRODUCT((data_absen!$B$2:$B$2000=$A109)*(data_absen!$C$2:$C$2000=B$3)*(ROW(data_absen!$C$2:$C$2000)))-1)*1440,\"\")","v":""},{"$f":"IFERROR(INDEX(data_absen!$I$2:$I$2000,SUMPRODUCT((data_absen!$B$2:$B$2000=$A109)*(data_absen!$C$2:$C$2000=B$3)*(ROW(data_absen!$C$2:$C$2000)))-1)*1440,\"\")","v":""},null,null,{"$f":"IFERROR(INDEX(data_absen!$J$2:$J$2000,SUMPRODUCT((data_absen!$B$2:$B$2000=$A109)*(data_absen!$C$2:$C$2000=B$3)*(ROW(data_absen!$C$2:$C$2000)))-1)*1440,\"\")","v":""},{"$f":"IFERROR(INDEX(data_absen!$K$2:$K$2000,SUMPRODUCT((data_absen!$B$2:$B$2000=$A109)*(data_absen!$C$2:$C$2000=G$3)*(ROW(data_absen!$C$2:$C$2000)))-1)*1440,\"\")","v":""},{"$f":"IFERROR(INDEX(data_absen!$I$2:$I$2000,SUMPRODUCT((data_absen!$B$2:$B$2000=$A109)*(data_absen!$C$2:$C$2000=G$3)*(ROW(data_absen!$C$2:$C$2000)))-1)*1440,\"\")","v":""},null,null,{"$f":"IFERROR(INDEX(data_absen!$J$2:$J$2000,SUMPRODUCT((data_absen!$B$2:$B$2000=$A109)*(data_absen!$C$2:$C$2000=G$3)*(ROW(data_absen!$C$2:$C$2000)))-1)*1440,\"\")","v":""},{"$f":"IFERROR(INDEX(data_absen!$K$2:$K$2000,SUMPRODUCT((data_absen!$B$2:$B$2000=$A109)*(data_absen!$C$2:$C$2000=L$3)*(ROW(data_absen!$C$2:$C$2000)))-1)*1440,\"\")","v":""},{"$f":"IFERROR(INDEX(data_absen!$I$2:$I$2000,SUMPRODUCT((data_absen!$B$2:$B$2000=$A109)*(data_absen!$C$2:$C$2000=L$3)*(ROW(data_absen!$C$2:$C$2000)))-1)*1440,\"\")","v":""},null,null,{"$f":"IFERROR(INDEX(data_absen!$J$2:$J$2000,SUMPRODUCT((data_absen!$B$2:$B$2000=$A109)*(data_absen!$C$2:$C$2000=L$3)*(ROW(data_absen!$C$2:$C$2000)))-1)*1440,\"\")","v":""},{"$f":"IFERROR(INDEX(data_absen!$K$2:$K$2000,SUMPRODUCT((data_absen!$B$2:$B$2000=$A109)*(data_absen!$C$2:$C$2000=Q$3)*(ROW(data_absen!$C$2:$C$2000)))-1)*1440,\"\")","v":""},{"$f":"IFERROR(INDEX(data_absen!$I$2:$I$2000,SUMPRODUCT((data_absen!$B$2:$B$2000=$A109)*(data_absen!$C$2:$C$2000=Q$3)*(ROW(data_absen!$C$2:$C$2000)))-1)*1440,\"\")","v":""},null,null,{"$f":"IFERROR(INDEX(data_absen!$J$2:$J$2000,SUMPRODUCT((data_absen!$B$2:$B$2000=$A109)*(data_absen!$C$2:$C$2000=Q$3)*(ROW(data_absen!$C$2:$C$2000)))-1)*1440,\"\")","v":""},{"$f":"IFERROR(INDEX(data_absen!$K$2:$K$2000,SUMPRODUCT((data_absen!$B$2:$B$2000=$A109)*(data_absen!$C$2:$C$2000=V$3)*(ROW(data_absen!$C$2:$C$2000)))-1)*1440,\"\")","v":""},{"$f":"IFERROR(INDEX(data_absen!$I$2:$I$2000,SUMPRODUCT((data_absen!$B$2:$B$2000=$A109)*(data_absen!$C$2:$C$2000=V$3)*(ROW(data_absen!$C$2:$C$2000)))-1)*1440,\"\")","v":""},null,null,{"$f":"IFERROR(INDEX(data_absen!$J$2:$J$2000,SUMPRODUCT((data_absen!$B$2:$B$2000=$A109)*(data_absen!$C$2:$C$2000=V$3)*(ROW(data_absen!$C$2:$C$2000)))-1)*1440,\"\")","v":""},{"$f":"IFERROR(INDEX(data_absen!$K$2:$K$2000,SUMPRODUCT((data_absen!$B$2:$B$2000=$A109)*(data_absen!$C$2:$C$2000=AA$3)*(ROW(data_absen!$C$2:$C$2000)))-1)*1440,\"\")","v":""},{"$f":"IFERROR(INDEX(data_absen!$I$2:$I$2000,SUMPRODUCT((data_absen!$B$2:$B$2000=$A109)*(data_absen!$C$2:$C$2000=AA$3)*(ROW(data_absen!$C$2:$C$2000)))-1)*1440,\"\")","v":""},null,null,{"$f":"IFERROR(INDEX(data_absen!$J$2:$J$2000,SUMPRODUCT((data_absen!$B$2:$B$2000=$A109)*(data_absen!$C$2:$C$2000=AA$3)*(ROW(data_absen!$C$2:$C$2000)))-1)*1440,\"\")","v":""},{"$f":"IFERROR(INDEX(data_absen!$K$2:$K$2000,SUMPRODUCT((data_absen!$B$2:$B$2000=$A109)*(data_absen!$C$2:$C$2000=AF$3)*(ROW(data_absen!$C$2:$C$2000)))-1)*1440,\"\")","v":""},{"$f":"IFERROR(INDEX(data_absen!$I$2:$I$2000,SUMPRODUCT((data_absen!$B$2:$B$2000=$A109)*(data_absen!$C$2:$C$2000=AF$3)*(ROW(data_absen!$C$2:$C$2000)))-1)*1440,\"\")","v":""},null,null,{"$f":"IFERROR(INDEX(data_absen!$J$2:$J$2000,SUMPRODUCT((data_absen!$B$2:$B$2000=$A109)*(data_absen!$C$2:$C$2000=AF$3)*(ROW(data_absen!$C$2:$C$2000)))-1)*1440,\"\")","v":""},{"$f":"IFERROR(INDEX(data_absen!$K$2:$K$2000,SUMPRODUCT((data_absen!$B$2:$B$2000=$A109)*(data_absen!$C$2:$C$2000=AK$3)*(ROW(data_absen!$C$2:$C$2000)))-1)*1440,\"\")","v":""},{"$f":"IFERROR(INDEX(data_absen!$I$2:$I$2000,SUMPRODUCT((data_absen!$B$2:$B$2000=$A109)*(data_absen!$C$2:$C$2000=AK$3)*(ROW(data_absen!$C$2:$C$2000)))-1)*1440,\"\")","v":""},null,null,{"$f":"IFERROR(INDEX(data_absen!$J$2:$J$2000,SUMPRODUCT((data_absen!$B$2:$B$2000=$A109)*(data_absen!$C$2:$C$2000=AK$3)*(ROW(data_absen!$C$2:$C$2000)))-1)*1440,\"\")","v":""},{"$f":"IFERROR(INDEX(data_absen!$K$2:$K$2000,SUMPRODUCT((data_absen!$B$2:$B$2000=$A109)*(data_absen!$C$2:$C$2000=AP$3)*(ROW(data_absen!$C$2:$C$2000)))-1)*1440,\"\")","v":""},{"$f":"IFERROR(INDEX(data_absen!$I$2:$I$2000,SUMPRODUCT((data_absen!$B$2:$B$2000=$A109)*(data_absen!$C$2:$C$2000=AP$3)*(ROW(data_absen!$C$2:$C$2000)))-1)*1440,\"\")","v":""},null,null,{"$f":"IFERROR(INDEX(data_absen!$J$2:$J$2000,SUMPRODUCT((data_absen!$B$2:$B$2000=$A109)*(data_absen!$C$2:$C$2000=AP$3)*(ROW(data_absen!$C$2:$C$2000)))-1)*1440,\"\")","v":""},{"$f":"IFERROR(INDEX(data_absen!$K$2:$K$2000,SUMPRODUCT((data_absen!$B$2:$B$2000=$A109)*(data_absen!$C$2:$C$2000=AU$3)*(ROW(data_absen!$C$2:$C$2000)))-1)*1440,\"\")","v":""},{"$f":"IFERROR(INDEX(data_absen!$I$2:$I$2000,SUMPRODUCT((data_absen!$B$2:$B$2000=$A109)*(data_absen!$C$2:$C$2000=AU$3)*(ROW(data_absen!$C$2:$C$2000)))-1)*1440,\"\")","v":""},null,null,{"$f":"IFERROR(INDEX(data_absen!$J$2:$J$2000,SUMPRODUCT((data_absen!$B$2:$B$2000=$A109)*(data_absen!$C$2:$C$2000=AU$3)*(ROW(data_absen!$C$2:$C$2000)))-1)*1440,\"\")","v":""},{"$f":"IFERROR(INDEX(data_absen!$K$2:$K$2000,SUMPRODUCT((data_absen!$B$2:$B$2000=$A109)*(data_absen!$C$2:$C$2000=AZ$3)*(ROW(data_absen!$C$2:$C$2000)))-1)*1440,\"\")","v":""},{"$f":"IFERROR(INDEX(data_absen!$I$2:$I$2000,SUMPRODUCT((data_absen!$B$2:$B$2000=$A109)*(data_absen!$C$2:$C$2000=AZ$3)*(ROW(data_absen!$C$2:$C$2000)))-1)*1440,\"\")","v":""},null,null,{"$f":"IFERROR(INDEX(data_absen!$J$2:$J$2000,SUMPRODUCT((data_absen!$B$2:$B$2000=$A109)*(data_absen!$C$2:$C$2000=AZ$3)*(ROW(data_absen!$C$2:$C$2000)))-1)*1440,\"\")","v":""},{"$f":"IFERROR(INDEX(data_absen!$K$2:$K$2000,SUMPRODUCT((data_absen!$B$2:$B$2000=$A109)*(data_absen!$C$2:$C$2000=BE$3)*(ROW(data_absen!$C$2:$C$2000)))-1)*1440,\"\")","v":""},{"$f":"IFERROR(INDEX(data_absen!$I$2:$I$2000,SUMPRODUCT((data_absen!$B$2:$B$2000=$A109)*(data_absen!$C$2:$C$2000=BE$3)*(ROW(data_absen!$C$2:$C$2000)))-1)*1440,\"\")","v":""},null,null,{"$f":"IFERROR(INDEX(data_absen!$J$2:$J$2000,SUMPRODUCT((data_absen!$B$2:$B$2000=$A109)*(data_absen!$C$2:$C$2000=BE$3)*(ROW(data_absen!$C$2:$C$2000)))-1)*1440,\"\")","v":""},{"$f":"IFERROR(INDEX(data_absen!$K$2:$K$2000,SUMPRODUCT((data_absen!$B$2:$B$2000=$A109)*(data_absen!$C$2:$C$2000=BJ$3)*(ROW(data_absen!$C$2:$C$2000)))-1)*1440,\"\")","v":""},{"$f":"IFERROR(INDEX(data_absen!$I$2:$I$2000,SUMPRODUCT((data_absen!$B$2:$B$2000=$A109)*(data_absen!$C$2:$C$2000=BJ$3)*(ROW(data_absen!$C$2:$C$2000)))-1)*1440,\"\")","v":""},null,null,{"$f":"IFERROR(INDEX(data_absen!$J$2:$J$2000,SUMPRODUCT((data_absen!$B$2:$B$2000=$A109)*(data_absen!$C$2:$C$2000=BJ$3)*(ROW(data_absen!$C$2:$C$2000)))-1)*1440,\"\")","v":""},{"$f":"IFERROR(INDEX(data_absen!$K$2:$K$2000,SUMPRODUCT((data_absen!$B$2:$B$2000=$A109)*(data_absen!$C$2:$C$2000=BO$3)*(ROW(data_absen!$C$2:$C$2000)))-1)*1440,\"\")","v":""},{"$f":"IFERROR(INDEX(data_absen!$I$2:$I$2000,SUMPRODUCT((data_absen!$B$2:$B$2000=$A109)*(data_absen!$C$2:$C$2000=BO$3)*(ROW(data_absen!$C$2:$C$2000)))-1)*1440,\"\")","v":""},null,null,{"$f":"IFERROR(INDEX(data_absen!$J$2:$J$2000,SUMPRODUCT((data_absen!$B$2:$B$2000=$A109)*(data_absen!$C$2:$C$2000=BO$3)*(ROW(data_absen!$C$2:$C$2000)))-1)*1440,\"\")","v":""},{"$f":"COUNTIFS(data_absen!$B$2:$B$2000,$A109,data_absen!$I$2:$I$2000,\">0\")","v":2}]
["Fifi",{"$f":"INDEX(data_absen!$G$2:$G$2000,SUMPRODUCT((data_absen!$B$2:$B$2000=$A112)*(data_absen!$C$2:$C$2000=B$3)*(ROW(data_absen!$C$2:$C$2000)))-1)","v":""},null,"-",{"$f":"INDEX(data_absen!$H$2:$H$2000,SUMPRODUCT((data_absen!$B$2:$B$2000=$A112)*(data_absen!$C$2:$C$2000=B$3)*(ROW(data_absen!$C$2:$C$2000)))-1)","v":""},null,{"$f":"INDEX(data_absen!$G$2:$G$2000,SUMPRODUCT((data_absen!$B$2:$B$2000=$A112)*(data_absen!$C$2:$C$2000=G$3)*(ROW(data_absen!$C$2:$C$2000)))-1)","v":""},null,"-",{"$f":"INDEX(data_absen!$H$2:$H$2000,SUMPRODUCT((data_absen!$B$2:$B$2000=$A112)*(data_absen!$C$2:$C$2000=G$3)*(ROW(data_absen!$C$2:$C$2000)))-1)","v":""},null,{"$f":"INDEX(data_absen!$G$2:$G$2000,SUMPRODUCT((data_absen!$B$2:$B$2000=$A112)*(data_absen!$C$2:$C$2000=L$3)*(ROW(data_absen!$C$2:$C$2000)))-1)","v":""},null,"-",{"$f":"INDEX(data_absen!$H$2:$H$2000,SUMPRODUCT((data_absen!$B$2:$B$2000=$A112)*(data_absen!$C$2:$C$2000=L$3)*(ROW(data_absen!$C$2:$C$2000)))-1)","v":""},null,{"$f":"INDEX(data_absen!$G$2:$G$2000,SUMPRODUCT((data_absen!$B$2:$B$2000=$A112)*(data_absen!$C$2:$C$2000=Q$3)*(ROW(data_absen!$C$2:$C$2000)))-1)","v":""},null,"-",{"$f":"INDEX(data_absen!$H$2:$H$2000,SUMPRODUCT((data_absen!$B$2:$B$2000=$A112)*(data_absen!$C$2:$C$2000=Q$3)*(ROW(data_absen!$C$2:$C$2000)))-1)","v":""},null,{"$f":"INDEX(data_absen!$G$2:$G$2000,SUMPRODUCT((data_absen!$B$2:$B$2000=$A112)*(data_absen!$C$2:$C$2000=V$3)*(ROW(data_absen!$C$2:$C$2000)))-1)","v":""},null,"-",{"$f":"INDEX(data_absen!$H$2:$H$2000,SUMPRODUCT((data_absen!$B$2:$B$2000=$A112)*(data_absen!$C$2:$C$2000=V$3)*(ROW(data_absen!$C$2:$C$2000)))-1)","v":""},null,{"$f":"INDEX(data_absen!$G$2:$G$2000,SUMPRODUCT((data_absen!$B$2:$B$2000=$A112)*(data_absen!$C$2:$C$2000=AA$3)*(ROW(data_absen!$C$2:$C$2000)))-1)","v":""},null,"-",{"$f":"INDEX(data_absen!$H$2:$H$2000,SUMPRODUCT((data_absen!$B$2:$B$2000=$A112)*(data_absen!$C$2:$C$2000=AA$3)*(ROW(data_absen!$C$2:$C$2000)))-1)","v":""},null,{"$f":"INDEX(data_absen!$G$2:$G$2000,SUMPRODUCT((data_absen!$B$2:$B$2000=$A112)*(data_absen!$C$2:$C$2000=AF$3)*(ROW(data_absen!$C$2:$C$2000)))-1)","v":""},null,"-",{"$f":"INDEX(data_absen!$H$2:$H$2000,SUMPRODUCT((data_absen!$B$2:$B$2000=$A112)*(data_absen!$C$2:$C$2000=AF$3)*(ROW(data_absen!$C$2:$C$2000)))-1)","v":""},null,{"$f":"INDEX(data_absen!$G$2:$G$2000,SUMPRODUCT((data_absen!$B$2:$B$2000=$A112)*(data_absen!$C$2:$C$2000=AK$3)*(ROW(data_absen!$C$2:$C$2000)))-1)","v":""},null,"-",{"$f":"INDEX(data_absen!$H$2:$H$2000,SUMPRODUCT((data_absen!$B$2:$B$2000=$A112)*(data_absen!$C$2:$C$2000=AK$3)*(ROW(data_absen!$C$2:$C$2000)))-1)","v":""},null,{"$f":"INDEX(data_absen!$G$2:$G$2000,SUMPRODUCT((data_absen!$B$2:$B$2000=$A112)*(data_absen!$C$2:$C$2000=AP$3)*(ROW(data_absen!$C$2:$C$2000)))-1)","v":""},null,"-",{"$f":"INDEX(data_absen!$H$2:$H$2000,SUMPRODUCT((data_absen!$B$2:$B$2000=$A112)*(data_absen!$C$2:$C$2000=AP$3)*(ROW(data_absen!$C$2:$C$2000)))-1)","v":""},null,{"$f":"INDEX(data_absen!$G$2:$G$2000,SUMPRODUCT((data_absen!$B$2:$B$2000=$A112)*(data_absen!$C$2:$C$2000=AU$3)*(ROW(data_absen!$C$2:$C$2000)))-1)","v":""},null,"-",{"$f":"INDEX(data_absen!$H$2:$H$2000,SUMPRODUCT((data_absen!$B$2:$B$2000=$A112)*(data_absen!$C$2:$C$2000=AU$3)*(ROW(data_absen!$C$2:$C$2000)))-1)","v":""},null,{"$f":"INDEX(data_absen!$G$2:$G$2000,SUMPRODUCT((data_absen!$B$2:$B$2000=$A112)*(data_absen!$C$2:$C$2000=AZ$3)*(ROW(data_absen!$C$2:$C$2000)))-1)","v":""},null,"-",{"$f":"INDEX(data_absen!$H$2:$H$2000,SUMPRODUCT((data_absen!$B$2:$B$2000=$A112)*(data_absen!$C$2:$C$2000=AZ$3)*(ROW(data_absen!$C$2:$C$2000)))-1)","v":""},null,{"$f":"INDEX(data_absen!$G$2:$G$2000,SUMPRODUCT((data_absen!$B$2:$B$2000=$A112)*(data_absen!$C$2:$C$2000=BE$3)*(ROW(data_absen!$C$2:$C$2000)))-1)","v":""},null,"-",{"$f":"INDEX(data_absen!$H$2:$H$2000,SUMPRODUCT((data_absen!$B$2:$B$2000=$A112)*(data_absen!$C$2:$C$2000=BE$3)*(ROW(data_absen!$C$2:$C$2000)))-1)","v":""},null,{"$f":"INDEX(data_absen!$G$2:$G$2000,SUMPRODUCT((data_absen!$B$2:$B$2000=$A112)*(data_absen!$C$2:$C$2000=BJ$3)*(ROW(data_absen!$C$2:$C$2000)))-1)","v":""},null,"-",{"$f":"INDEX(data_absen!$H$2:$H$2000,SUMPRODUCT((data_absen!$B$2:$B$2000=$A112)*(data_absen!$C$2:$C$2000=BJ$3)*(ROW(data_absen!$C$2:$C$2000)))-1)","v":""},null,{"$f":"INDEX(data_absen!$G$2:$G$2000,SUMPRODUCT((data_absen!$B$2:$B$2000=$A112)*(data_absen!$C$2:$C$2000=BO$3)*(ROW(data_absen!$C$2:$C$2000)))-1)","v":""},null,"-",{"$f":"INDEX(data_absen!$H$2:$H$2000,SUMPRODUCT((data_absen!$B$2:$B$2000=$A112)*(data_absen!$C$2:$C$2000=BO$3)*(ROW(data_absen!$C$2:$C$2000)))-1)","v":""}]
[404,null,null,"-",null,null,null,null,"-",null,null,null,null,"-",null,null,null,null,"-",null,null,null,null,"-",null,null,null,null,"-",null,null,null,null,"-",null,null,null,null,"-",null,null,null,null,"-",null,null,null,null,"-",null,null,null,null,"-",null,null,null,null,"-",null,null,null,null,"-",null,null,null,null,"-"]
[null,{"$f":"IFERROR(INDEX(data_absen!$K$2:$K$2000,SUMPRODUCT((data_absen!$B$2:$B$2000=$A112)*(data_absen!$C$2:$C$2000=B$3)*(ROW(data_absen!$C$2:$C$2000)))-1)*1440,\"\")","v":""},{"$f":"IFERROR(INDEX(data_absen!$I$2:$I$2000,SUMPRODUCT((data_absen!$B$2:$B$2000=$A112)*(data_absen!$C$2:$C$2000=B$3)*(ROW(data_absen!$C$2:$C$2000)))-1)*1440,\"\")","v":""},null,null,{"$f":"IFERROR(INDEX(data_absen!$J$2:$J$2000,SUMPRODUCT((data_absen!$B$2:$B$2000=$A112)*(data_absen!$C$2:$C$2000=B$3)*(ROW(data_absen!$C$2:$C$2000)))-1)*1440,\"\")","v":""},{"$f":"IFERROR(INDEX(data_absen!$K$2:$K$2000,SUMPRODUCT((data_absen!$B$2:$B$2000=$A112)*(data_absen!$C$2:$C$2000=G$3)*(ROW(data_absen!$C$2:$C$2000)))-1)*1440,\"\")","v":""},{"$f":"IFERROR(INDEX(data_absen!$I$2:$I$2000,SUMPRODUCT((data_absen!$B$2:$B$2000=$A112)*(data_absen!$C$2:$C$2000=G$3)*(ROW(data_absen!$C$2:$C$2000)))-1)*1440,\"\")","v":""},null,null,{"$f":"IFERROR(INDEX(data_absen!$J$2:$J$2000,SUMPRODUCT((data_absen!$B$2:$B$2000=$A112)*(data_absen!$C$2:$C$2000=G$3)*(ROW(data_absen!$C$2:$C$2000)))-1)*1440,\"\")","v":""},{"$f":"IFERROR(INDEX(data_absen!$K$2:$K$2000,SUMPRODUCT((data_absen!$B$2:$B$2000=$A112)*(data_absen!$C$2:$C$2000=L$3)*(ROW(data_absen!$C$2:$C$2000)))-1)*1440,\"\")","v":""},{"$f":"IFERROR(INDEX(data_absen!$I$2:$I$2000,SUMPRODUCT((data_absen!$B$2:$B$2000=$A112)*(data_absen!$C$2:$C$2000=L$3)*(ROW(data_absen!$C$2:$C$2000)))-1)*1440,\"\")","v":""},null,null,{"$f":"IFERROR(INDEX(data_absen!$J$2:$J$2000,SUMPRODUCT((data_absen!$B$2:$B$2000=$A112)*(data_absen!$C$2:$C$2000=L$3)*(ROW(data_absen!$C$2:$C$2000)))-1)*1440,\"\")","v":""},{"$f":"IFERROR(INDEX(data_absen!$K$2:$K$2000,SUMPRODUCT((data_absen!$B$2:$B$2000=$A112)*(data_absen!$C$2:$C$2000=Q$3)*(ROW(data_absen!$C$2:$C$2000)))-1)*1440,\"\")","v":""},{"$f":"IFERROR(INDEX(data_absen!$I$2:$I$2000,SUMPRODUCT((data_absen!$B$2:$B$2000=$A112)*(data_absen!$C$2:$C$2000=Q$3)*(ROW(data_absen!$C$2:$C$2000)))-1)*1440,\"\")","v":""},null,null,{"$f":"IFERROR(INDEX(data_absen!$J$2:$J$2000,SUMPRODUCT((data_absen!$B$2:$B$2000=$A112)*(data_absen!$C$2:$C$2000=Q$3)*(ROW(data_absen!$C$2:$C$2000)))-1)*1440,\"\")","v":""},{"$f":"IFERROR(INDEX(data_absen!$K$2:$K$2000,SUMPRODUCT((data_absen!$B$2:$B$2000=$A112)*(data_absen!$C$2:$C$2000=V$3)*(ROW(data_absen!$C$2:$C$2000)))-1)*1440,\"\")","v":""},{"$f":"IFERROR(INDEX(data_absen!$I$2:$I$2000,SUMPRODUCT((data_absen!$B$2:$B$2000=$A112)*(data_absen!$C$2:$C$2000=V$3)*(ROW(data_absen!$C$2:$C$2000)))-1)*1440,\"\")","v":""},null,null,{"$f":"IFERROR(INDEX(data_absen!$J$2:$J$2000,SUMPRODUCT((data_absen!$B$2:$B$2000=$A112)*(data_absen!$C$2:$C$2000=V$3)*(ROW(data_absen!$C$2:$C$2000)))-1)*1440,\"\")","v":""},{"$f":"IFERROR(INDEX(data_absen!$K$2:$K$2000,SUMPRODUCT((data_absen!$B$2:$B$2000=$A112)*(data_absen!$C$2:$C$2000=AA$3)*(ROW(data_absen!$C$2:$C$2000)))-1)*1440,\"\")","v":""},{"$f":"IFERROR(INDEX(data_absen!$I$2:$I$2000,SUMPRODUCT((data_absen!$B$2:$B$2000=$A112)*(data_absen!$C$2:$C$2000=AA$3)*(ROW(data_absen!$C$2:$C$2000)))-1)*1440,\"\")","v":""},null,null,{"$f":"IFERROR(INDEX(data_absen!$J$2:$J$2000,SUMPRODUCT((data_absen!$B$2:$B$2000=$A112)*(data_absen!$C$2:$C$2000=AA$3)*(ROW(data_absen!$C$2:$C$2000)))-1)*1440,\"\")","v":""},{"$f":"IFERROR(INDEX(data_absen!$K$2:$K$2000,SUMPRODUCT((data_absen!$B$2:$B$2000=$A112)*(data_absen!$C$2:$C$2000=AF$3)*(ROW(data_absen!$C$2:$C$2000)))-1)*1440,\"\")","v":""},{"$f":"IFERROR(INDEX(data_absen!$I$2:$I$2000,SUMPRODUCT((data_absen!$B$2:$B$2000=$A112)*(data_absen!$C$2:$C$2000=AF$3)*(ROW(data_absen!$C$2:$C$2000)))-1)*1440,\"\")","v":""},null,null,{"$f":"IFERROR(INDEX(data_absen!$J$2:$J$2000,SUMPRODUCT((data_absen!$B$2:$B$2000=$A112)*(data_absen!$C$2:$C$2000=AF$3)*(ROW(data_absen!$C$2:$C$2000)))-1)*1440,\"\")","v":""},{"$f":"IFERROR(INDEX(data_absen!$K$2:$K$2000,SUMPRODUCT((data_absen!$B$2:$B$2000=$A112)*(data_absen!$C$2:$C$2000=AK$3)*(ROW(data_absen!$C$2:$C$2000)))-1)*1440,\"\")","v":""},{"$f":"IFERROR(INDEX(data_absen!$I$2:$I$2000,SUMPRODUCT((data_absen!$B$2:$B$2000=$A112)*(data_absen!$C$2:$C$2000=AK$3)*(ROW(data_absen!$C$2:$C$2000)))-1)*1440,\"\")","v":""},null,null,{"$f":"IFERROR(INDEX(data_absen!$J$2:$J$2000,SUMPRODUCT((data_absen!$B$2:$B$2000=$A112)*(data_absen!$C$2:$C$2000=AK$3)*(ROW(data_absen!$C$2:$C$2000)))-1)*1440,\"\")","v":""},{"$f":"IFERROR(INDEX(data_absen!$K$2:$K$2000,SUMPRODUCT((data_absen!$B$2:$B$2000=$A112)*(data_absen!$C$2:$C$2000=AP$3)*(ROW(data_absen!$C$2:$C$2000)))-1)*1440,\"\")","v":""},{"$f":"IFERROR(INDEX(data_absen!$I$2:$I$2000,SUMPRODUCT((data_absen!$B$2:$B$2000=$A112)*(data_absen!$C$2:$C$2000=AP$3)*(ROW(data_absen!$C$2:$C$2000)))-1)*1440,\"\")","v":""},null,null,{"$f":"IFERROR(INDEX(data_absen!$J$2:$J$2000,SUMPRODUCT((data_absen!$B$2:$B$2000=$A112)*(data_absen!$C$2:$C$2000=AP$3)*(ROW(data_absen!$C$2:$C$2000)))-1)*1440,\"\")","v":""},{"$f":"IFERROR(INDEX(data_absen!$K$2:$K$2000,SUMPRODUCT((data_absen!$B$2:$B$2000=$A112)*(data_absen!$C$2:$C$2000=AU$3)*(ROW(data_absen!$C$2:$C$2000)))-1)*1440,\"\")","v":""},{"$f":"IFERROR(INDEX(data_absen!$I$2:$I$2000,SUMPRODUCT((data_absen!$B$2:$B$2000=$A112)*(data_absen!$C$2:$C$2000=AU$3)*(ROW(data_absen!$C$2:$C$2000)))-1)*1440,\"\")","v":""},null,null,{"$f":"IFERROR(INDEX(data_absen!$J$2:$J$2000,SUMPRODUCT((data_absen!$B$2:$B$2000=$A112)*(data_absen!$C$2:$C$2000=AU$3)*(ROW(data_absen!$C$2:$C$2000)))-1)*1440,\"\")","v":""},{"$f":"IFERROR(INDEX(data_absen!$K$2:$K$2000,SUMPRODUCT((data_absen!$B$2:$B$2000=$A112)*(data_absen!$C$2:$C$2000=AZ$3)*(ROW(data_absen!$C$2:$C$2000)))-1)*1440,\"\")","v":""},{"$f":"IFERROR(INDEX(data_absen!$I$2:$I$2000,SUMPRODUCT((data_absen!$B$2:$B$2000=$A112)*(data_absen!$C$2:$C$2000=AZ$3)*(ROW(data_absen!$C$2:$C$2000)))-1)*1440,\"\")","v":""},null,null,{"$f":"IFERROR(INDEX(data_absen!$J$2:$J$2000,SUMPRODUCT((data_absen!$B$2:$B$2000=$A112)*(data_absen!$C$2:$C$2000=AZ$3)*(ROW(data_absen!$C$2:$C$2000)))-1)*1440,\"\")","v":""},{"$f":"IFERROR(INDEX(data_absen!$K$2:$K$2000,SUMPRODUCT((data_absen!$B$2:$B$2000=$A112)*(data_absen!$C$2:$C$2000=BE$3)*(ROW(data_absen!$C$2:$C$2000)))-1)*1440,\"\")","v":""},{"$f":"IFERROR(INDEX(data_absen!$I$2:$I$2000,SUMPRODUCT((data_absen!$B$2:$B$2000=$A112)*(data_absen!$C$2:$C$2000=BE$3)*(ROW(data_absen!$C$2:$C$2000)))-1)*1440,\"\")","v":""},null,null,{"$f":"IFERROR(INDEX(data_absen!$J$2:$J$2000,SUMPRODUCT((data_absen!$B$2:$B$2000=$A112)*(data_absen!$C$2:$C$2000=BE$3)*(ROW(data_absen!$C$2:$C$2000)))-1)*1440,\"\")","v":""},{"$f":"IFERROR(INDEX(data_absen!$K$2:$K$2000,SUMPRODUCT((data_absen!$B$2:$B$2000=$A112)*(data_absen!$C$2:$C$2000=BJ$3)*(ROW(data_absen!$C$2:$C$2000)))-1)*1440,\"\")","v":""},{"$f":"IFERROR(INDEX(data_absen!$I$2:$I$2000,SUMPRODUCT((data_absen!$B$2:$B$2000=$A112)*(data_absen!$C$2:$C$2000=BJ$3)*(ROW(data_absen!$C$2:$C$2000)))-1)*1440,\"\")","v":""},null,null,{"$f":"IFERROR(INDEX(data_absen!$J$2:$J$2000,SUMPRODUCT((data_absen!$B$2:$B$2000=$A112)*(data_absen!$C$2:$C$2000=BJ$3)*(ROW(data_absen!$C$2:$C$2000)))-1)*1440,\"\")","v":""},{"$f":"IFERROR(INDEX(data_absen!$K$2:$K$2000,SUMPRODUCT((data_absen!$B$2:$B$2000=$A112)*(data_absen!$C$2:$C$2000=BO$3)*(ROW(data_absen!$C$2:$C$2000)))-1)*1440,\"\")","v":""},{"$f":"IFERROR(INDEX(data_absen!$I$2:$I$2000,SUMPRODUCT((data_absen!$B$2:$B$2000=$A112)*(data_absen!$C$2:$C$2000=BO$3)*(ROW(data_absen!$C$2:$C$2000)))-1)*1440,\"\")","v":""},null,null,{"$f":"IFERROR(INDEX(data_absen!$J$2:$J$2000,SUMPRODUCT((data_absen!$B$2:$B$2000=$A112)*(data_absen!$C$2:$C$2000=BO$3)*(ROW(data_absen!$C$2:$C$2000)))-1)*1440,\"\")","v":""},{"$f":"COUNTIFS(data_absen!$B$2:$B$2000,$A112,data_absen!$I$2:$I$2000,\">0\")","v":0}]
["Zubaidah",{"$f":"INDEX(data_absen!$G$2:$G$2000,SUMPRODUCT((data_absen!$B$2:$B$2000=$A115)*(data_absen!$C$2:$C$2000=B$3)*(ROW(data_absen!$C$2:$C$2000)))-1)","v":""},null,"-",{"$f":"INDEX(data_absen!$H$2:$H$2000,SUMPRODUCT((data_absen!$B$2:$B$2000=$A115)*(data_absen!$C$2:$C$2000=B$3)*(ROW(data_absen!$C$2:$C$2000)))-1)","v":""},null,{"$f":"INDEX(data_absen!$G$2:$G$2000,SUMPRODUCT((data_absen!$B$2:$B$2000=$A115)*(data_absen!$C$2:$C$2000=G$3)*(ROW(data_absen!$C$2:$C$2000)))-1)","v":""},null,"-",{"$f":"INDEX(data_absen!$H$2:$H$2000,SUMPRODUCT((data_absen!$B$2:$B$2000=$A115)*(data_absen!$C$2:$C$2000=G$3)*(ROW(data_absen!$C$2:$C$2000)))-1)","v":""},null,{"$f":"INDEX(data_absen!$G$2:$G$2000,SUMPRODUCT((data_absen!$B$2:$B$2000=$A115)*(data_absen!$C$2:$C$2000=L$3)*(ROW(data_absen!$C$2:$C$2000)))-1)","v":""},null,"-",{"$f":"INDEX(data_absen!$H$2:$H$2000,SUMPRODUCT((data_absen!$B$2:$B$2000=$A115)*(data_absen!$C$2:$C$2000=L$3)*(ROW(data_absen!$C$2:$C$2000)))-1)","v":""},null,{"$f":"INDEX(data_absen!$G$2:$G$2000,SUMPRODUCT((data_absen!$B$2:$B$2000=$A115)*(data_absen!$C$2:$C$2000=Q$3)*(ROW(data_absen!$C$2:$C$2000)))-1)","v":""},null,"-",{"$f":"INDEX(data_absen!$H$2:$H$2000,SUMPRODUCT((data_absen!$B$2:$B$2000=$A115)*(data_absen!$C$2:$C$2000=Q$3)*(ROW(data_absen!$C$2:$C$2000)))-1)","v":""},null,{"$f":"INDEX(data_absen!$G$2:$G$2000,SUMPRODUCT((data_absen!$B$2:$B$2000=$A115)*(data_absen!$C$2:$C$2000=V$3)*(ROW(data_absen!$C$2:$C$2000)))-1)","v":""},null,"-",{"$f":"INDEX(data_absen!$H$2:$H$2000,SUMPRODUCT((data_absen!$B$2:$B$2000=$A115)*(data_absen!$C$2:$C$2000=V$3)*(ROW(data_absen!$C$2:$C$2000)))-1)","v":""},null,{"$f":"INDEX(data_absen!$G$2:$G$2000,SUMPRODUCT((data_absen!$B$2:$B$2000=$A115)*(data_absen!$C$2:$C$2000=AA$3)*(ROW(data_absen!$C$2:$C$2000)))-1)","v":""},null,"-",{"$f":"INDEX(data_absen!$H$2:$H$2000,SUMPRODUCT((data_absen!$B$2:$B$2000=$A115)*(data_absen!$C$2:$C$2000=AA$3)*(ROW(data_absen!$C$2:$C$2000)))-1)","v":""},null,{"$f":"INDEX(data_absen!$G$2:$G$2000,SUMPRODUCT((data_absen!$B$2:$B$2000=$A115)*(data_absen!$C$2:$C$2000=AF$3)*(ROW(data_absen!$C$2:$C$2000)))-1)","v":""},null,"-",{"$f":"INDEX(data_absen!$H$2:$H$2000,SUMPRODUCT((data_absen!$B$2:$B$2000=$A115)*(data_absen!$C$2:$C$2000=AF$3)*(ROW(data_absen!$C$2:$C$2000)))-1)","v":""},null,{"$f":"INDEX(data_absen!$G$2:$G$2000,SUMPRODUCT((data_absen!$B$2:$B$2000=$A115)*(data_absen!$C$2:$C$2000=AK$3)*(ROW(data_absen!$C$2:$C$2000)))-1)","v":""},null,"-",{"$f":"INDEX(data_absen!$H$2:$H$2000,SUMPRODUCT((data_absen!$B$2:$B$2000=$A115)*(data_absen!$C$2:$C$2000=AK$3)*(ROW(data_absen!$C$2:$C$2000)))-1)","v":""},null,{"$f":"INDEX(data_absen!$G$2:$G$2000,SUMPRODUCT((data_absen!$B$2:$B$2000=$A115)*(data_absen!$C$2:$C$2000=AP$3)*(ROW(data_absen!$C$2:$C$2000)))-1)","v":""},null,"-",{"$f":"INDEX(data_absen!$H$2:$H$2000,SUMPRODUCT((data_absen!$B$2:$B$2000=$A115)*(data_absen!$C$2:$C$2000=AP$3)*(ROW(data_absen!$C$2:$C$2000)))-1)","v":""},null,{"$f":"INDEX(data_absen!$G$2:$G$2000,SUMPRODUCT((data_absen!$B$2:$B$2000=$A115)*(data_absen!$C$2:$C$2000=AU$3)*(ROW(data_absen!$C$2:$C$2000)))-1)","v":""},null,"-",{"$f":"INDEX(data_absen!$H$2:$H$2000,SUMPRODUCT((data_absen!$B$2:$B$2000=$A115)*(data_absen!$C$2:$C$2000=AU$3)*(ROW(data_absen!$C$2:$C$2000)))-1)","v":""},null,{"$f":"INDEX(data_absen!$G$2:$G$2000,SUMPRODUCT((data_absen!$B$2:$B$2000=$A115)*(data_absen!$C$2:$C$2000=AZ$3)*(ROW(data_absen!$C$2:$C$2000)))-1)","v":""},null,"-",{"$f":"INDEX(data_absen!$H$2:$H$2000,SUMPRODUCT((data_absen!$B$2:$B$2000=$A115)*(data_absen!$C$2:$C$2000=AZ$3)*(ROW(data_absen!$C$2:$C$2000)))-1)","v":""},null,{"$f":"INDEX(data_absen!$G$2:$G$2000,SUMPRODUCT((data_absen!$B$2:$B$2000=$A115)*(data_absen!$C$2:$C$2000=BE$3)*(ROW(data_absen!$C$2:$C$2000)))-1)","v":""},null,"-",{"$f":"INDEX(data_absen!$H$2:$H$2000,SUMPRODUCT((data_absen!$B$2:$B$2000=$A115)*(data_absen!$C$2:$C$2000=BE$3)*(ROW(data_absen!$C$2:$C$2000)))-1)","v":""},null,{"$f":"INDEX(data_absen!$G$2:$G$2000,SUMPRODUCT((data_absen!$B$2:$B$2000=$A115)*(data_absen!$C$2:$C$2000=BJ$3)*(ROW(data_absen!$C$2:$C$2000)))-1)","v":""},null,"-",{"$f":"INDEX(data_absen!$H$2:$H$2000,SUMPRODUCT((data_absen!$B$2:$B$2000=$A115)*(data_absen!$C$2:$C$2000=BJ$3)*(ROW(data_absen!$C$2:$C$2000)))-1)","v":""},null,{"$f":"INDEX(data_absen!$G$2:$G$2000,SUMPRODUCT((data_absen!$B$2:$B$2000=$A115)*(data_absen!$C$2:$C$2000=BO$3)*(ROW(data_absen!$C$2:$C$2000)))-1)","v":""},null,"-",{"$f":"INDEX(data_absen!$H$2:$H$2000,SUMPRODUCT((data_absen!$B$2:$B$2000=$A115)*(data_absen!$C$2:$C$2000=BO$3)*(ROW(data_absen!$C$2:$C$2000)))-1)","v":""}]
[405,null,null,"-",null,null,null,null,"-",null,null,null,null,"-",null,null,null,null,"-",null,null,null,null,"-",null,null,null,null,"-",null,null,null,null,"-",null,null,null,null,"-",null,null,null,null,"-",null,null,null,null,"-",null,null,null,null,"-",null,null,null,null,"-",null,null,null,null,"-",null,null,null,null,"-"]
[null,{"$f":"IFERROR(INDEX(data_absen!$K$2:$K$2000,SUMPRODUCT((data_absen!$B$2:$B$2000=$A115)*(data_absen!$C$2:$C$2000=B$3)*(ROW(data_absen!$C$2:$C$2000)))-1)*1440,\"\")","v":""},{"$f":"IFERROR(INDEX(data_absen!$I$2:$I$2000,SUMPRODUCT((data_absen!$B$2:$B$2000=$A115)*(data_absen!$C$2:$C$2000=B$3)*(ROW(data_absen!$C$2:$C$2000)))-1)*1440,\"\")","v":""},null,null,{"$f":"IFERROR(INDEX(data_absen!$J$2:$J$2000,SUMPRODUCT((data_absen!$B$2:$B$2000=$A115)*(data_absen!$C$2:$C$2000=B$3)*(ROW(data_absen!$C$2:$C$2000)))-1)*1440,\"\")","v":""},{"$f":"IFERROR(INDEX(data_absen!$K$2:$K$2000,SUMPRODUCT((data_absen!$B$2:$B$2000=$A115)*(data_absen!$C$2:$C$2000=G$3)*(ROW(data_absen!$C$2:$C$2000)))-1)*1440,\"\")","v":""},{"$f":"IFERROR(INDEX(data_absen!$I$2:$I$2000,SUMPRODUCT((data_absen!$B$2:$B$2000=$A115)*(data_absen!$C$2:$C$2000=G$3)*(ROW(data_absen!$C$2:$C$2000)))-1)*1440,\"\")","v":""},null,null,{"$f":"IFERROR(INDEX(data_absen!$J$2:$J$2000,SUMPRODUCT((data_absen!$B$2:$B$2000=$A115)*(data_absen!$C$2:$C$2000=G$3)*(ROW(data_absen!$C$2:$C$2000)))-1)*1440,\"\")","v":""},{"$f":"IFERROR(INDEX(data_absen!$K$2:$K$2000,SUMPRODUCT((data_absen!$B$2:$B$2000=$A115)*(data_absen!$C$2:$C$2000=L$3)*(ROW(data_absen!$C$2:$C$2000)))-1)*1440,\"\")","v":""},{"$f":"IFERROR(INDEX(data_absen!$I$2:$I$2000,SUMPRODUCT((data_absen!$B$2:$B$2000=$A115)*(data_absen!$C$2:$C$2000=L$3)*(ROW(data_absen!$C$2:$C$2000)))-1)*1440,\"\")","v":""},null,null,{"$f":"IFERROR(INDEX(data_absen!$J$2:$J$2000,SUMPRODUCT((data_absen!$B$2:$B$2000=$A115)*(data_absen!$C$2:$C$2000=L$3)*(ROW(data_absen!$C$2:$C$2000)))-1)*1440,\"\")","v":""},{"$f":"IFERROR(INDEX(data_absen!$K$2:$K$2000,SUMPRODUCT((data_absen!$B$2:$B$2000=$A115)*(data_absen!$C$2:$C$2000=Q$3)*(ROW(data_absen!$C$2:$C$2000)))-1)*1440,\"\")","v":""},{"$f":"IFERROR(INDEX(data_absen!$I$2:$I$2000,SUMPRODUCT((data_absen!$B$2:$B$2000=$A115)*(data_absen!$C$2:$C$2000=Q$3)*(ROW(data_absen!$C$2:$C$2000)))-1)*1440,\"\")","v":""},null,null,{"$f":"IFERROR(INDEX(data_absen!$J$2:$J$2000,SUMPRODUCT((data_absen!$B$2:$B$2000=$A115)*(data_absen!$C$2:$C$2000=Q$3)*(ROW(data_absen!$C$2:$C$2000)))-1)*1440,\"\")","v":""},{"$f":"IFERROR(INDEX(data_absen!$K$2:$K$2000,SUMPRODUCT((data_absen!$B$2:$B$2000=$A115)*(data_absen!$C$2:$C$2000=V$3)*(ROW(data_absen!$C$2:$C$2000)))-1)*1440,\"\")","v":""},{"$f":"IFERROR(INDEX(data_absen!$I$2:$I$2000,SUMPRODUCT((data_absen!$B$2:$B$2000=$A115)*(data_absen!$C$2:$C$2000=V$3)*(ROW(data_absen!$C$2:$C$2000)))-1)*1440,\"\")","v":""},null,null,{"$f":"IFERROR(INDEX(data_absen!$J$2:$J$2000,SUMPRODUCT((data_absen!$B$2:$B$2000=$A115)*(data_absen!$C$2:$C$2000=V$3)*(ROW(data_absen!$C$2:$C$2000)))-1)*1440,\"\")","v":""},{"$f":"IFERROR(INDEX(data_absen!$K$2:$K$2000,SUMPRODUCT((data_absen!$B$2:$B$2000=$A115)*(data_absen!$C$2:$C$2000=AA$3)*(ROW(data_absen!$C$2:$C$2000)))-1)*1440,\"\")","v":""},{"$f":"IFERROR(INDEX(data_absen!$I$2:$I$2000,SUMPRODUCT((data_absen!$B$2:$B$2000=$A115)*(data_absen!$C$2:$C$2000=AA$3)*(ROW(data_absen!$C$2:$C$2000)))-1)*1440,\"\")","v":""},null,null,{"$f":"IFERROR(INDEX(data_absen!$J$2:$J$2000,SUMPRODUCT((data_absen!$B$2:$B$2000=$A115)*(data_absen!$C$2:$C$2000=AA$3)*(ROW(data_absen!$C$2:$C$2000)))-1)*1440,\"\")","v":""},{"$f":"IFERROR(INDEX(data_absen!$K$2:$K$2000,SUMPRODUCT((data_absen!$B$2:$B$2000=$A115)*(data_absen!$C$2:$C$2000=AF$3)*(ROW(data_absen!$C$2:$C$2000)))-1)*1440,\"\")","v":""},{"$f":"IFERROR(INDEX(data_absen!$I$2:$I$2000,SUMPRODUCT((data_absen!$B$2:$B$2000=$A115)*(data_absen!$C$2:$C$2000=AF$3)*(ROW(data_absen!$C$2:$C$2000)))-1)*1440,\"\")","v":""},null,null,{"$f":"IFERROR(INDEX(data_absen!$J$2:$J$2000,SUMPRODUCT((data_absen!$B$2:$B$2000=$A115)*(data_absen!$C$2:$C$2000=AF$3)*(ROW(data_absen!$C$2:$C$2000)))-1)*1440,\"\")","v":""},{"$f":"IFERROR(INDEX(data_absen!$K$2:$K$2000,SUMPRODUCT((data_absen!$B$2:$B$2000=$A115)*(data_absen!$C$2:$C$2000=AK$3)*(ROW(data_absen!$C$2:$C$2000)))-1)*1440,\"\")","v":""},{"$f":"IFERROR(INDEX(data_absen!$I$2:$I$2000,SUMPRODUCT((data_absen!$B$2:$B$2000=$A115)*(data_absen!$C$2:$C$2000=AK$3)*(ROW(data_absen!$C$2:$C$2000)))-1)*1440,\"\")","v":""},null,null,{"$f":"IFERROR(INDEX(data_absen!$J$2:$J$2000,SUMPRODUCT((data_absen!$B$2:$B$2000=$A115)*(data_absen!$C$2:$C$2000=AK$3)*(ROW(data_absen!$C$2:$C$2000)))-1)*1440,\"\")","v":""},{"$f":"IFERROR(INDEX(data_absen!$K$2:$K$2000,SUMPRODUCT((data_absen!$B$2:$B$2000=$A115)*(data_absen!$C$2:$C$2000=AP$3)*(ROW(data_absen!$C$2:$C$2000)))-1)*1440,\"\")","v":""},{"$f":"IFERROR(INDEX(data_absen!$I$2:$I$2000,SUMPRODUCT((data_absen!$B$2:$B$2000=$A115)*(data_absen!$C$2:$C$2000=AP$3)*(ROW(data_absen!$C$2:$C$2000)))-1)*1440,\"\")","v":""},null,null,{"$f":"IFERROR(INDEX(data_absen!$J$2:$J$2000,SUMPRODUCT((data_absen!$B$2:$B$2000=$A115)*(data_absen!$C$2:$C$2000=AP$3)*(ROW(data_absen!$C$2:$C$2000)))-1)*1440,\"\")","v":""},{"$f":"IFERROR(INDEX(data_absen!$K$2:$K$2000,SUMPRODUCT((data_absen!$B$2:$B$2000=$A115)*(data_absen!$C$2:$C$2000=AU$3)*(ROW(data_absen!$C$2:$C$2000)))-1)*1440,\"\")","v":""},{"$f":"IFERROR(INDEX(data_absen!$I$2:$I$2000,SUMPRODUCT((data_absen!$B$2:$B$2000=$A115)*(data_absen!$C$2:$C$2000=AU$3)*(ROW(data_absen!$C$2:$C$2000)))-1)*1440,\"\")","v":""},null,null,{"$f":"IFERROR(INDEX(data_absen!$J$2:$J$2000,SUMPRODUCT((data_absen!$B$2:$B$2000=$A115)*(data_absen!$C$2:$C$2000=AU$3)*(ROW(data_absen!$C$2:$C$2000)))-1)*1440,\"\")","v":""},{"$f":"IFERROR(INDEX(data_absen!$K$2:$K$2000,SUMPRODUCT((data_absen!$B$2:$B$2000=$A115)*(data_absen!$C$2:$C$2000=AZ$3)*(ROW(data_absen!$C$2:$C$2000)))-1)*1440,\"\")","v":""},{"$f":"IFERROR(INDEX(data_absen!$I$2:$I$2000,SUMPRODUCT((data_absen!$B$2:$B$2000=$A115)*(data_absen!$C$2:$C$2000=AZ$3)*(ROW(data_absen!$C$2:$C$2000)))-1)*1440,\"\")","v":""},null,null,{"$f":"IFERROR(INDEX(data_absen!$J$2:$J$2000,SUMPRODUCT((data_absen!$B$2:$B$2000=$A115)*(data_absen!$C$2:$C$2000=AZ$3)*(ROW(data_absen!$C$2:$C$2000)))-1)*1440,\"\")","v":""},{"$f":"IFERROR(INDEX(data_absen!$K$2:$K$2000,SUMPRODUCT((data_absen!$B$2:$B$2000=$A115)*(data_absen!$C$2:$C$2000=BE$3)*(ROW(data_absen!$C$2:$C$2000)))-1)*1440,\"\")","v":""},{"$f":"IFERROR(INDEX(data_absen!$I$2:$I$2000,SUMPRODUCT((data_absen!$B$2:$B$2000=$A115)*(data_absen!$C$2:$C$2000=BE$3)*(ROW(data_absen!$C$2:$C$2000)))-1)*1440,\"\")","v":""},null,null,{"$f":"IFERROR(INDEX(data_absen!$J$2:$J$2000,SUMPRODUCT((data_absen!$B$2:$B$2000=$A115)*(data_absen!$C$2:$C$2000=BE$3)*(ROW(data_absen!$C$2:$C$2000)))-1)*1440,\"\")","v":""},{"$f":"IFERROR(INDEX(data_absen!$K$2:$K$2000,SUMPRODUCT((data_absen!$B$2:$B$2000=$A115)*(data_absen!$C$2:$C$2000=BJ$3)*(ROW(data_absen!$C$2:$C$2000)))-1)*1440,\"\")","v":""},{"$f":"IFERROR(INDEX(data_absen!$I$2:$I$2000,SUMPRODUCT((data_absen!$B$2:$B$2000=$A115)*(data_absen!$C$2:$C$2000=BJ$3)*(ROW(data_absen!$C$2:$C$2000)))-1)*1440,\"\")","v":""},null,null,{"$f":"IFERROR(INDEX(data_absen!$J$2:$J$2000,SUMPRODUCT((data_absen!$B$2:$B$2000=$A115)*(data_absen!$C$2:$C$2000=BJ$3)*(ROW(data_absen!$C$2:$C$2000)))-1)*1440,\"\")","v":""},{"$f":"IFERROR(INDEX(data_absen!$K$2:$K$2000,SUMPRODUCT((data_absen!$B$2:$B$2000=$A115)*(data_absen!$C$2:$C$2000=BO$3)*(ROW(data_absen!$C$2:$C$2000)))-1)*1440,\"\")","v":""},{"$f":"IFERROR(INDEX(data_absen!$I$2:$I$2000,SUMPRODUCT((data_absen!$B$2:$B$2000=$A115)*(data_absen!$C$2:$C$2000=BO$3)*(ROW(data_absen!$C$2:$C$2000)))-1)*1440,\"\")","v":""},null,null,{"$f":"IFERROR(INDEX(data_absen!$J$2:$J$2000,SUMPRODUCT((data_absen!$B$2:$B$2000=$A115)*(data_absen!$C$2:$C$2000=BO$3)*(ROW(data_absen!$C$2:$C$2000)))-1)*1440,\"\")","v":""},{"$f":"COUNTIFS(data_absen!$B$2:$B$2000,$A115,data_absen!$I$2:$I$2000,\">0\")","v":0}]
["Keterangan : ",null,null,null,null,"Lembur",null,null,null,null,"Datang Telat atau Tdk/ Lupa Absen Masuk",null,null,null,null,null,null,null,null,null,null,null,null,null,null,"Pulang Cepat atau Tdk/Lupa Absen Pulang"]
[]
["NAMA","2019-01-16",null,null,null,null,"2019-01-17",null,null,null,null,"2019-01-18",null,null,null,null,"2019-01-19",null,null,null,null,"2019-01-21",null,null,null,null,"2019-01-22",null,null,null,null,"2019-01-23",null,null,null,null,"2019-01-24",null,null,null,null,"2019-01-25",null,null,null,null,"2019-01-26",null,null,null,null,"2019-01-28",null,null,null,null,"2019-01-29",null,null,null,null,"2019-01-30",null,null,null,null,"2019-01-31",null,null,null,null,"Telat Kali (X)","Lembur Menit"]
["Rika",{"$f":"INDEX(data_absen!$G$2:$G$2000,SUMPRODUCT((data_absen!$B$2:$B$2000=$A121)*(data_absen!$C$2:$C$2000=B$3)*(ROW(data_absen!$C$2:$C$2000)))-1)","v":""},null,"-",{"$f":"INDEX(data_absen!$H$2:$H$2000,SUMPRODUCT((data_absen!$B$2:$B$2000=$A121)*(data_absen!$C$2:$C$2000=B$3)*(ROW(data_absen!$C$2:$C$2000)))-1)","v":""},null,{"$f":"INDEX(data_absen!$G$2:$G$2000,SUMPRODUCT((data_absen!$B$2:$B$2000=$A121)*(data_absen!$C$2:$C$2000=G$3)*(ROW(data_absen!$C$2:$C$2000)))-1)","v":"00:00:00"},null,"-",{"$f":"INDEX(data_absen!$H$2:$H$2000,SUMPRODUCT((data_absen!$B$2:$B$2000=$A121)*(data_absen!$C$2:$C$2000=G$3)*(ROW(data_absen!$C$2:$C$2000)))-1)","v":"00:00:00"},null,{"$f":"INDEX(data_absen!$G$2:$G$2000,SUMPRODUCT((data_absen!$B$2:$B$2000=$A121)*(data_absen!$C$2:$C$2000=L$3)*(ROW(data_absen!$C$2:$C$2000)))-1)","v":"00:00:00"},null,"-",{"$f":"INDEX(data_absen!$H$2:$H$2000,SUMPRODUCT((data_absen!$B$2:$B$2000=$A121)*(data_absen!$C$2:$C$2000=L$3)*(ROW(data_absen!$C$2:$C$2000)))-1)","v":"00:00:00"},null,{"$f":"INDEX(data_absen!$G$2:$G$2000,SUMPRODUCT((data_absen!$B$2:$B$2000=$A121)*(data_absen!$C$2:$C$2000=Q$3)*(ROW(data_absen!$C$2:$C$2000)))-1)","v":""},null,"-",{"$f":"INDEX(data_absen!$H$2:$H$2000,SUMPRODUCT((data_absen!$B$2:$B$2000=$A121)*(data_absen!$C$2:$C$2000=Q$3)*(ROW(data_absen!$C$2:$C$2000)))-1)","v":""},null,{"$f":"INDEX(data_absen!$G$2:$G$2000,SUMPRODUCT((data_absen!$B$2:$B$2000=$A121)*(data_absen!$C$2:$C$2000=V$3)*(ROW(data_absen!$C$2:$C$2000)))-1)","v":""},null,"-",{"$f":"INDEX(data_absen!$H$2:$H$2000,SUMPRODUCT((data_absen!$B$2:$B$2000=$A121)*(data_absen!$C$2:$C$2000=V$3)*(ROW(data_absen!$C$2:$C$2000)))-1)","v":""},null,{"$f":"INDEX(data_absen!$G$2:$G$2000,SUMPRODUCT((data_absen!$B$2:$B$2000=$A121)*(data_absen!$C$2:$C$2000=AA$3)*(ROW(data_absen!$C$2:$C$2000)))-1)","v":""},null,"-",{"$f":"INDEX(data_absen!$H$2:$H$2000,SUMPRODUCT((data_absen!$B$2:$B$2000=$A121)*(data_absen!$C$2:$C$2000=AA$3)*(ROW(data_absen!$C$2:$C$2000)))-1)","v":""},null,{"$f":"INDEX(data_absen!$G$2:$G$2000,SUMPRODUCT((data_absen!$B$2:$B$2000=$A121)*(data_absen!$C$2:$C$2000=AF$3)*(ROW(data_absen!$C$2:$C$2000)))-1)","v":""},null,"-",{"$f":"INDEX(data_absen!$H$2:$H$2000,SUMPRODUCT((data_absen!$B$2:$B$2000=$A121)*(data_absen!$C$2:$C$2000=AF$3)*(ROW(data_absen!$C$2:$C$2000)))-1)","v":""},null,{"$f":"INDEX(data_absen!$G$2:$G$2000,SUMPRODUCT((data_absen!$B$2:$B$2000=$A121)*(data_absen!$C$2:$C$2000=AK$3)*(ROW(data_absen!$C$2:$C$2000)))-1)","v":""},null,"-",{"$f":"INDEX(data_absen!$H$2:$H$2000,SUMPRODUCT((data_absen!$B$2:$B$2000=$A121)*(data_absen!$C$2:$C$2000=AK$3)*(ROW(data_absen!$C$2:$C$2000)))-1)","v":""},null,{"$f":"INDEX(data_absen!$G$2:$G$2000,SUMPRODUCT((data_absen!$B$2:$B$2000=$A121)*(data_absen!$C$2:$C$2000=AP$3)*(ROW(data_absen!$C$2:$C$2000)))-1)","v":""},null,"-",{"$f":"INDEX(data_absen!$H$2:$H$2000,SUMPRODUCT((data_absen!$B$2:$B$2000=$A121)*(data_absen!$C$2:$C$2000=AP$3)*(ROW(data_absen!$C$2:$C$2000)))-1)","v":""},null,{"$f":"INDEX(data_absen!$G$2:$G$2000,SUMPRODUCT((data_absen!$B$2:$B$2000=$A121)*(data_absen!$C$2:$C$2000=AU$3)*(ROW(data_absen!$C$2:$C$2000)))-1)","v":""},null,"-",{"$f":"INDEX(data_absen!$H$2:$H$2000,SUMPRODUCT((data_absen!$B$2:$B$2000=$A121)*(data_absen!$C$2:$C$2000=AU$3)*(ROW(data_absen!$C$2:$C$2000)))-1)","v":""},null,{"$f":"INDEX(data_absen!$G$2:$G$2000,SUMPRODUCT((data_absen!$B$2:$B$2000=$A121)*(data_absen!$C$2:$C$2000=AZ$3)*(ROW(data_absen!$C$2:$C$2000)))-1)","v":""},null,"-",{"$f":"INDEX(data_absen!$H$2:$H$2000,SUMPRODUCT((data_absen!$B$2:$B$2000=$A121)*(data_absen!$C$2:$C$2000=AZ$3)*(ROW(data_absen!$C$2:$C$2000)))-1)","v":""},null,{"$f":"INDEX(data_absen!$G$2:$G$2000,SUMPRODUCT((data_absen!$B$2:$B$2000=$A121)*(data_absen!$C$2:$C$2000=BE$3)*(ROW(data_absen!$C$2:$C$2000)))-1)","v":""},null,"-",{"$f":"INDEX(data_absen!$H$2:$H$2000,SUMPRODUCT((data_absen!$B$2:$B$2000=$A121)*(data_absen!$C$2:$C$2000=BE$3)*(ROW(data_absen!$C$2:$C$2000)))-1)","v":""},null,{"$f":"INDEX(data_absen!$G$2:$G$2000,SUMPRODUCT((data_absen!$B$2:$B$2000=$A121)*(data_absen!$C$2:$C$2000=BJ$3)*(ROW(data_absen!$C$2:$C$2000)))-1)","v":""},null,"-",{"$f":"INDEX(data_absen!$H$2:$H$2000,SUMPRODUCT((data_absen!$B$2:$B$2000=$A121)*(data_absen!$C$2:$C$2000=BJ$3)*(ROW(data_absen!$C$2:$C$2000)))-1)","v":""},null,{"$f":"INDEX(data_absen!$G$2:$G$2000,SUMPRODUCT((data_absen!$B$2:$B$2000=$A121)*(data_absen!$C$2:$C$2000=BO$3)*(ROW(data_absen!$C$2:$C$2000)))-1)","v":""},null,"-",{"$f":"INDEX(data_absen!$H$2:$H$2000,SUMPRODUCT((data_absen!$B$2:$B$2000=$A121)*(data_absen!$C$2:$C$2000=BO$3)*(ROW(data_absen!$C$2:$C$2000)))-1)","v":""}]
[406,null,null,"-",null,null,null,null,"-",null,null,null,null,"-",null,null,null,null,"-",null,null,null,null,"-",null,null,null,null,"-",null,null,null,null,"-",null,null,null,null,"-",null,null,null,null,"-",null,null,null,null,"-",null,null,null,null,"-",null,null,null,null,"-",null,null,null,null,"-",null,null,null,null,"-"]
[null,{"$f":"IFERROR(INDEX(data_absen!$K$2:$K$2000,SUMPRODUCT((data_absen!$B$2:$B$2000=$A121)*(data_absen!$C$2:$C$2000=B$3)*(ROW(data_absen!$C$2:$C$2000)))-1)*1440,\"\")","v":""},{"$f":"IFERROR(INDEX(data_absen!$I$2:$I$2000,SUMPRODUCT((data_absen!$B$2:$B$2000=$A121)*(data_absen!$C$2:$C$2000=B$3)*(ROW(data_absen!$C$2:$C$2000)))-1)*1440,\"\")","v":""},null,null,{"$f":"IFERROR(INDEX(data_absen!$J$2:$J$2000,SUMPRODUCT((data_absen!$B$2:$B$2000=$A121)*(data_absen!$C$2:$C$2000=B$3)*(ROW(data_absen!$C$2:$C$2000)))-1)*1440,\"\")","v":""},{"$f":"IFERROR(INDEX(data_absen!$K$2:$K$2000,SUMPRODUCT((data_absen!$B$2:$B$2000=$A121)*(data_absen!$C$2:$C$2000=G$3)*(ROW(data_absen!$C$2:$C$2000)))-1)*1440,\"\")","v":0},{"$f":"IFERROR(INDEX(data_absen!$I$2:$I$2000,SUMPRODUCT((data_absen!$B$2:$B$2000=$A121)*(data_absen!$C$2:$C$2000=G$3)*(ROW(data_absen!$C$2:$C$2000)))-1)*1440,\"\")","v":0},null,null,{"$f":"IFERROR(INDEX(data_absen!$J$2:$J$2000,SUMPRODUCT((data_absen!$B$2:$B$2000=$A121)*(data_absen!$C$2:$C$2000=G$3)*(ROW(data_absen!$C$2:$C$2000)))-1)*1440,\"\")","v":0},{"$f":"IFERROR(INDEX(data_absen!$K$2:$K$2000,SUMPRODUCT((data_absen!$B$2:$B$2000=$A121)*(data_absen!$C$2:$C$2000=L$3)*(ROW(data_absen!$C$2:$C$2000)))-1)*1440,\"\")","v":0},{"$f":"IFERROR(INDEX(data_absen!$I$2:$I$2000,SUMPRODUCT((data_absen!$B$2:$B$2000=$A121)*(data_absen!$C$2:$C$2000=L$3)*(ROW(data_absen!$C$2:$C$2000)))-1)*1440,\"\")","v":0},null,null,{"$f":"IFERROR(INDEX(data_absen!$J$2:$J$2000,SUMPRODUCT((data_absen!$B$2:$B$2000=$A121)*(data_absen!$C$2:$C$2000=L$3)*(ROW(data_absen!$C$2:$C$2000)))-1)*1440,\"\")","v":0},{"$f":"IFERROR(INDEX(data_absen!$K$2:$K$2000,SUMPRODUCT((data_absen!$B$2:$B$2000=$A121)*(data_absen!$C$2:$C$2000=Q$3)*(ROW(data_absen!$C$2:$C$2000)))-1)*1440,\"\")","v":""},{"$f":"IFERROR(INDEX(data_absen!$I$2:$I$2000,SUMPRODUCT((data_absen!$B$2:$B$2000=$A121)*(data_absen!$C$2:$C$2000=Q$3)*(ROW(data_absen!$C$2:$C$2000)))-1)*1440,\"\")","v":""},null,null,{"$f":"IFERROR(INDEX(data_absen!$J$2:$J$2000,SUMPRODUCT((data_absen!$B$2:$B$2000=$A121)*(data_absen!$C$2:$C$2000=Q$3)*(ROW(data_absen!$C$2:$C$2000)))-1)*1440,\"\")","v":""},{"$f":"IFERROR(INDEX(data_absen!$K$2:$K$2000,SUMPRODUCT((data_absen!$B$2:$B$2000=$A121)*(data_absen!$C$2:$C$2000=V$3)*(ROW(data_absen!$C$2:$C$2000)))-1)*1440,\"\")","v":""},{"$f":"IFERROR(INDEX(data_absen!$I$2:$I$2000,SUMPRODUCT((data_absen!$B$2:$B$2000=$A121)*(data_absen!$C$2:$C$2000=V$3)*(ROW(data_absen!$C$2:$C$2000)))-1)*1440,\"\")","v":""},null,null,{"$f":"IFERROR(INDEX(data_absen!$J$2:$J$2000,SUMPRODUCT((data_absen!$B$2:$B$2000=$A121)*(data_absen!$C$2:$C$2000=V$3)*(ROW(data_absen!$C$2:$C$2000)))-1)*1440,\"\")","v":""},{"$f":"IFERROR(INDEX(data_absen!$K$2:$K$2000,SUMPRODUCT((data_absen!$B$2:$B$2000=$A121)*(data_absen!$C$2:$C$2000=AA$3)*(ROW(data_absen!$C$2:$C$2000)))-1)*1440,\"\")","v":""},{"$f":"IFERROR(INDEX(data_absen!$I$2:$I$2000,SUMPRODUCT((data_absen!$B$2:$B$2000=$A121)*(data_absen!$C$2:$C$2000=AA$3)*(ROW(data_absen!$C$2:$C$2000)))-1)*1440,\"\")","v":""},null,null,{"$f":"IFERROR(INDEX(data_absen!$J$2:$J$2000,SUMPRODUCT((data_absen!$B$2:$B$2000=$A121)*(data_absen!$C$2:$C$2000=AA$3)*(ROW(data_absen!$C$2:$C$2000)))-1)*1440,\"\")","v":""},{"$f":"IFERROR(INDEX(data_absen!$K$2:$K$2000,SUMPRODUCT((data_absen!$B$2:$B$2000=$A121)*(data_absen!$C$2:$C$2000=AF$3)*(ROW(data_absen!$C$2:$C$2000)))-1)*1440,\"\")","v":""},{"$f":"IFERROR(INDEX(data_absen!$I$2:$I$2000,SUMPRODUCT((data_absen!$B$2:$B$2000=$A121)*(data_absen!$C$2:$C$2000=AF$3)*(ROW(data_absen!$C$2:$C$2000)))-1)*1440,\"\")","v":""},null,null,{"$f":"IFERROR(INDEX(data_absen!$J$2:$J$2000,SUMPRODUCT((data_absen!$B$2:$B$2000=$A121)*(data_absen!$C$2:$C$2000=AF$3)*(ROW(data_absen!$C$2:$C$2000)))-1)*1440,\"\")","v":""},{"$f":"IFERROR(INDEX(data_absen!$K$2:$K$2000,SUMPRODUCT((data_absen!$B$2:$B$2000=$A121)*(data_absen!$C$2:$C$2000=AK$3)*(ROW(data_absen!$C$2:$C$2000)))-1)*1440,\"\")","v":""},{"$f":"IFERROR(INDEX(data_absen!$I$2:$I$2000,SUMPRODUCT((data_absen!$B$2:$B$2000=$A121)*(data_absen!$C$2:$C$2000=AK$3)*(ROW(data_absen!$C$2:$C$2000)))-1)*1440,\"\")","v":""},null,null,{"$f":"IFERROR(INDEX(data_absen!$J$2:$J$2000,SUMPRODUCT((data_absen!$B$2:$B$2000=$A121)*(data_absen!$C$2:$C$2000=AK$3)*(ROW(data_absen!$C$2:$C$2000)))-1)*1440,\"\")","v":""},{"$f":"IFERROR(INDEX(data_absen!$K$2:$K$2000,SUMPRODUCT((data_absen!$B$2:$B$2000=$A121)*(data_absen!$C$2:$C$2000=AP$3)*(ROW(data_absen!$C$2:$C$2000)))-1)*1440,\"\")","v":""},{"$f":"IFERROR(INDEX(data_absen!$I$2:$I$2000,SUMPRODUCT((data_absen!$B$2:$B$2000=$A121)*(data_absen!$C$2:$C$2000=AP$3)*(ROW(data_absen!$C$2:$C$2000)))-1)*1440,\"\")","v":""},null,null,{"$f":"IFERROR(INDEX(data_absen!$J$2:$J$2000,SUMPRODUCT((data_absen!$B$2:$B$2000=$A121)*(data_absen!$C$2:$C$2000=AP$3)*(ROW(data_absen!$C$2:$C$2000)))-1)*1440,\"\")","v":""},{"$f":"IFERROR(INDEX(data_absen!$K$2:$K$2000,SUMPRODUCT((data_absen!$B$2:$B$2000=$A121)*(data_absen!$C$2:$C$2000=AU$3)*(ROW(data_absen!$C$2:$C$2000)))-1)*1440,\"\")","v":""},{"$f":"IFERROR(INDEX(data_absen!$I$2:$I$2000,SUMPRODUCT((data_absen!$B$2:$B$2000=$A121)*(data_absen!$C$2:$C$2000=AU$3)*(ROW(data_absen!$C$2:$C$2000)))-1)*1440,\"\")","v":""},null,null,{"$f":"IFERROR(INDEX(data_absen!$J$2:$J$2000,SUMPRODUCT((data_absen!$B$2:$B$2000=$A121)*(data_absen!$C$2:$C$2000=AU$3)*(ROW(data_absen!$C$2:$C$2000)))-1)*1440,\"\")","v":""},{"$f":"IFERROR(INDEX(data_absen!$K$2:$K$2000,SUMPRODUCT((data_absen!$B$2:$B$2000=$A121)*(data_absen!$C$2:$C$2000=AZ$3)*(ROW(data_absen!$C$2:$C$2000)))-1)*1440,\"\")","v":""},{"$f":"IFERROR(INDEX(data_absen!$I$2:$I$2000,SUMPRODUCT((data_absen!$B$2:$B$2000=$A121)*(data_absen!$C$2:$C$2000=AZ$3)*(ROW(data_absen!$C$2:$C$2000)))-1)*1440,\"\")","v":""},null,null,{"$f":"IFERROR(INDEX(data_absen!$J$2:$J$2000,SUMPRODUCT((data_absen!$B$2:$B$2000=$A121)*(data_absen!$C$2:$C$2000=AZ$3)*(ROW(data_absen!$C$2:$C$2000)))-1)*1440,\"\")","v":""},{"$f":"IFERROR(INDEX(data_absen!$K$2:$K$2000,SUMPRODUCT((data_absen!$B$2:$B$2000=$A121)*(data_absen!$C$2:$C$2000=BE$3)*(ROW(data_absen!$C$2:$C$2000)))-1)*1440,\"\")","v":""},{"$f":"IFERROR(INDEX(data_absen!$I$2:$I$2000,SUMPRODUCT((data_absen!$B$2:$B$2000=$A121)*(data_absen!$C$2:$C$2000=BE$3)*(ROW(data_absen!$C$2:$C$2000)))-1)*1440,\"\")","v":""},null,null,{"$f":"IFERROR(INDEX(data_absen!$J$2:$J$2000,SUMPRODUCT((data_absen!$B$2:$B$2000=$A121)*(data_absen!$C$2:$C$2000=BE$3)*(ROW(data_absen!$C$2:$C$2000)))-1)*1440,\"\")","v":""},{"$f":"IFERROR(INDEX(data_absen!$K$2:$K$2000,SUMPRODUCT((data_absen!$B$2:$B$2000=$A121)*(data_absen!$C$2:$C$2000=BJ$3)*(ROW(data_absen!$C$2:$C$2000)))-1)*1440,\"\")","v":""},{"$f":"IFERROR(INDEX(data_absen!$I$2:$I$2000,SUMPRODUCT((data_absen!$B$2:$B$2000=$A121)*(data_absen!$C$2:$C$2000=BJ$3)*(ROW(data_absen!$C$2:$C$2000)))-1)*1440,\"\")","v":""},null,null,{"$f":"IFERROR(INDEX(data_absen!$J$2:$J$2000,SUMPRODUCT((data_absen!$B$2:$B$2000=$A121)*(data_absen!$C$2:$C$2000=BJ$3)*(ROW(data_absen!$C$2:$C$2000)))-1)*1440,\"\")","v":""},{"$f":"IFERROR(INDEX(data_absen!$K$2:$K$2000,SUMPRODUCT((data_absen!$B$2:$B$2000=$A121)*(data_absen!$C$2:$C$2000=BO$3)*(ROW(data_absen!$C$2:$C$2000)))-1)*1440,\"\")","v":""},{"$f":"IFERROR(INDEX(data_absen!$I$2:$I$2000,SUMPRODUCT((data_absen!$B$2:$B$2000=$A121)*(data_absen!$C$2:$C$2000=BO$3)*(ROW(data_absen!$C$2:$C$2000)))-1)*1440,\"\")","v":""},null,null,{"$f":"IFERROR(INDEX(data_absen!$J$2:$J$2000,SUMPRODUCT((data_absen!$B$2:$B$2000=$A121)*(data_absen!$C$2:$C$2000=BO$3)*(ROW(data_absen!$C$2:$C$2000)))-1)*1440,\"\")","v":""},{"$f":"COUNTIFS(data_absen!$B$2:$B$2000,$A121,data_absen!$I$2:$I$2000,\">0\")","v":0}]
["Ima",{"$f":"INDEX(data_absen!$G$2:$G$2000,SUMPRODUCT((data_absen!$B$2:$B$2000=$A124)*(data_absen!$C$2:$C$2000=B$3)*(ROW(data_absen!$C$2:$C$2000)))-1)","v":"00:00:00"},null,"-",{"$f":"INDEX(data_absen!$H$2:$H$2000,SUMPRODUCT((data_absen!$B$2:$B$2000=$A124)*(data_absen!$C$2:$C$2000=B$3)*(ROW(data_absen!$C$2:$C$2000)))-1)","v":"00:00:00"},null,{"$f":"INDEX(data_absen!$G$2:$G$2000,SUMPRODUCT((data_absen!$B$2:$B$2000=$A124)*(data_absen!$C$2:$C$2000=G$3)*(ROW(data_absen!$C$2:$C$2000)))-1)","v":"00:00:00"},null,"-",{"$f":"INDEX(data_absen!$H$2:$H$2000,SUMPRODUCT((data_absen!$B$2:$B$2000=$A124)*(data_absen!$C$2:$C$2000=G$3)*(ROW(data_absen!$C$2:$C$2000)))-1)","v":"00:00:00"},null,{"$f":"INDEX(data_absen!$G$2:$G$2000,SUMPRODUCT((data_absen!$B$2:$B$2000=$A124)*(data_absen!$C$2:$C$2000=L$3)*(ROW(data_absen!$C$2:$C$2000)))-1)","v":"00:00:00"},null,"-",{"$f":"INDEX(data_absen!$H$2:$H$2000,SUMPRODUCT((data_absen!$B$2:$B$2000=$A124)*(data_absen!$C$2:$C$2000=L$3)*(ROW(data_absen!$C$2:$C$2000)))-1)","v":"00:00:00"},null,{"$f":"INDEX(data_absen!$G$2:$G$2000,SUMPRODUCT((data_absen!$B$2:$B$2000=$A124)*(data_absen!$C$2:$C$2000=Q$3)*(ROW(data_absen!$C$2:$C$2000)))-1)","v":""},null,"-",{"$f":"INDEX(data_absen!$H$2:$H$2000,SUMPRODUCT((data_absen!$B$2:$B$2000=$A124)*(data_absen!$C$2:$C$2000=Q$3)*(ROW(data_absen!$C$2:$C$2000)))-1)","v":""},null,{"$f":"INDEX(data_absen!$G$2:$G$2000,SUMPRODUCT((data_absen!$B$2:$B$2000=$A124)*(data_absen!$C$2:$C$2000=V$3)*(ROW(data_absen!$C$2:$C$2000)))-1)","v":""},null,"-",{"$f":"INDEX(data_absen!$H$2:$H$2000,SUMPRODUCT((data_absen!$B$2:$B$2000=$A124)*(data_absen!$C$2:$C$2000=V$3)*(ROW(data_absen!$C$2:$C$2000)))-1)","v":""},null,{"$f":"INDEX(data_absen!$G$2:$G$2000,SUMPRODUCT((data_absen!$B$2:$B$2000=$A124)*(data_absen!$C$2:$C$2000=AA$3)*(ROW(data_absen!$C$2:$C$2000)))-1)","v":""},null,"-",{"$f":"INDEX(data_absen!$H$2:$H$2000,SUMPRODUCT((data_absen!$B$2:$B$2000=$A124)*(data_absen!$C$2:$C$2000=AA$3)*(ROW(data_absen!$C$2:$C$2000)))-1)","v":""},null,{"$f":"INDEX(data_absen!$G$2:$G$2000,SUMPRODUCT((data_absen!$B$2:$B$2000=$A124)*(data_absen!$C$2:$C$2000=AF$3)*(ROW(data_absen!$C$2:$C$2000)))-1)","v":""},null,"-",{"$f":"INDEX(data_absen!$H$2:$H$2000,SUMPRODUCT((data_absen!$B$2:$B$2000=$A124)*(data_absen!$C$2:$C$2000=AF$3)*(ROW(data_absen!$C$2:$C$2000)))-1)","v":""},null,{"$f":"INDEX(data_absen!$G$2:$G$2000,SUMPRODUCT((data_absen!$B$2:$B$2000=$A124)*(data_absen!$C$2:$C$2000=AK$3)*(ROW(data_absen!$C$2:$C$2000)))-1)","v":""},null,"-",{"$f":"INDEX(data_absen!$H$2:$H$2000,SUMPRODUCT((data_absen!$B$2:$B$2000=$A124)*(data_absen!$C$2:$C$2000=AK$3)*(ROW(data_absen!$C$2:$C$2000)))-1)","v":""},null,{"$f":"INDEX(data_absen!$G$2:$G$2000,SUMPRODUCT((data_absen!$B$2:$B$2000=$A124)*(data_absen!$C$2:$C$2000=AP$3)*(ROW(data_absen!$C$2:$C$2000)))-1)","v":""},null,"-",{"$f":"INDEX(data_absen!$H$2:$H$2000,SUMPRODUCT((data_absen!$B$2:$B$2000=$A124)*(data_absen!$C$2:$C$2000=AP$3)*(ROW(data_absen!$C$2:$C$2000)))-1)","v":""},null,{"$f":"INDEX(data_absen!$G$2:$G$2000,SUMPRODUCT((data_absen!$B$2:$B$2000=$A124)*(data_absen!$C$2:$C$2000=AU$3)*(ROW(data_absen!$C$2:$C$2000)))-1)","v":""},null,"-",{"$f":"INDEX(data_absen!$H$2:$H$2000,SUMPRODUCT((data_absen!$B$2:$B$2000=$A124)*(data_absen!$C$2:$C$2000=AU$3)*(ROW(data_absen!$C$2:$C$2000)))-1)","v":""},null,{"$f":"INDEX(data_absen!$G$2:$G$2000,SUMPRODUCT((data_absen!$B$2:$B$2000=$A124)*(data_absen!$C$2:$C$2000=AZ$3)*(ROW(data_absen!$C$2:$C$2000)))-1)","v":""},null,"-",{"$f":"INDEX(data_absen!$H$2:$H$2000,SUMPRODUCT((data_absen!$B$2:$B$2000=$A124)*(data_absen!$C$2:$C$2000=AZ$3)*(ROW(data_absen!$C$2:$C$2000)))-1)","v":""},null,{"$f":"INDEX(data_absen!$G$2:$G$2000,SUMPRODUCT((data_absen!$B$2:$B$2000=$A124)*(data_absen!$C$2:$C$2000=BE$3)*(ROW(data_absen!$C$2:$C$2000)))-1)","v":""},null,"-",{"$f":"INDEX(data_absen!$H$2:$H$2000,SUMPRODUCT((data_absen!$B$2:$B$2000=$A124)*(data_absen!$C$2:$C$2000=BE$3)*(ROW(data_absen!$C$2:$C$2000)))-1)","v":""},null,{"$f":"INDEX(data_absen!$G$2:$G$2000,SUMPRODUCT((data_absen!$B$2:$B$2000=$A124)*(data_absen!$C$2:$C$2000=BJ$3)*(ROW(data_absen!$C$2:$C$2000)))-1)","v":""},null,"-",{"$f":"INDEX(data_absen!$H$2:$H$2000,SUMPRODUCT((data_absen!$B$2:$B$2000=$A124)*(data_absen!$C$2:$C$2000=BJ$3)*(ROW(data_absen!$C$2:$C$2000)))-1)","v":""},null,{"$f":"INDEX(data_absen!$G$2:$G$2000,SUMPRODUCT((data_absen!$B$2:$B$2000=$A124)*(data_absen!$C$2:$C$2000=BO$3)*(ROW(data_absen!$C$2:$C$2000)))-1)","v":""},null,"-",{"$f":"INDEX(data_absen!$H$2:$H$2000,SUMPRODUCT((data_absen!$B$2:$B$2000=$A124)*(data_absen!$C$2:$C$2000=BO$3)*(ROW(data_absen!$C$2:$C$2000)))-1)","v":""}]
[407,null,null,"-",null,null,null,null,"-",null,null,null,null,"-",null,null,null,null,"-",null,null,null,null,"-",null,null,null,null,"-",null,null,null,null,"-",null,null,null,null,"-",null,null,null,null,"-",null,null,null,null,"-",null,null,null,null,"-",null,null,null,null,"-",null,null,null,null,"-",null,null,null,null,"-"]
[null,{"$f":"IFERROR(INDEX(data_absen!$K$2:$K$2000,SUMPRODUCT((data_absen!$B$2:$B$2000=$A124)*(data_absen!$C$2:$C$2000=B$3)*(ROW(data_absen!$C$2:$C$2000)))-1)*1440,\"\")","v":0},{"$f":"IFERROR(INDEX(data_absen!$I$2:$I$2000,SUMPRODUCT((data_absen!$B$2:$B$2000=$A124)*(data_absen!$C$2:$C$2000=B$3)*(ROW(data_absen!$C$2:$C$2000)))-1)*1440,\"\")","v":0},null,null,{"$f":"IFERROR(INDEX(data_absen!$J$2:$J$2000,SUMPRODUCT((data_absen!$B$2:$B$2000=$A124)*(data_absen!$C$2:$C$2000=B$3)*(ROW(data_absen!$C$2:$C$2000)))-1)*1440,\"\")","v":0},{"$f":"IFERROR(INDEX(data_absen!$K$2:$K$2000,SUMPRODUCT((data_absen!$B$2:$B$2000=$A124)*(data_absen!$C$2:$C$2000=G$3)*(ROW(data_absen!$C$2:$C$2000)))-1)*1440,\"\")","v":0},{"$f":"IFERROR(INDEX(data_absen!$I$2:$I$2000,SUMPRODUCT((data_absen!$B$2:$B$2000=$A124)*(data_absen!$C$2:$C$2000=G$3)*(ROW(data_absen!$C$2:$C$2000)))-1)*1440,\"\")","v":0},null,null,{"$f":"IFERROR(INDEX(data_absen!$J$2:$J$2000,SUMPRODUCT((data_absen!$B$2:$B$2000=$A124)*(data_absen!$C$2:$C$2000=G$3)*(ROW(data_absen!$C$2:$C$2000)))-1)*1440,\"\")","v":0},{"$f":"IFERROR(INDEX(data_absen!$K$2:$K$2000,SUMPRODUCT((data_absen!$B$2:$B$2000=$A124)*(data_absen!$C$2:$C$2000=L$3)*(ROW(data_absen!$C$2:$C$2000)))-1)*1440,\"\")","v":0},{"$f":"IFERROR(INDEX(data_absen!$I$2:$I$2000,SUMPRODUCT((data_absen!$B$2:$B$2000=$A124)*(data_absen!$C$2:$C$2000=L$3)*(ROW(data_absen!$C$2:$C$2000)))-1)*1440,\"\")","v":0},null,null,{"$f":"IFERROR(INDEX(data_absen!$J$2:$J$2000,SUMPRODUCT((data_absen!$B$2:$B$2000=$A124)*(data_absen!$C$2:$C$2000=L$3)*(ROW(data_absen!$C$2:$C$2000)))-1)*1440,\"\")","v":0},{"$f":"IFERROR(INDEX(data_absen!$K$2:$K$2000,SUMPRODUCT((data_absen!$B$2:$B$2000=$A124)*(data_absen!$C$2:$C$2000=Q$3)*(ROW(data_absen!$C$2:$C$2000)))-1)*1440,\"\")","v":""},{"$f":"IFERROR(INDEX(data_absen!$I$2:$I$2000,SUMPRODUCT((data_absen!$B$2:$B$2000=$A124)*(data_absen!$C$2:$C$2000=Q$3)*(ROW(data_absen!$C$2:$C$2000)))-1)*1440,\"\")","v":""},null,null,{"$f":"IFERROR(INDEX(data_absen!$J$2:$J$2000,SUMPRODUCT((data_absen!$B$2:$B$2000=$A124)*(data_absen!$C$2:$C$2000=Q$3)*(ROW(data_absen!$C$2:$C$2000)))-1)*1440,\"\")","v":""},{"$f":"IFERROR(INDEX(data_absen!$K$2:$K$2000,SUMPRODUCT((data_absen!$B$2:$B$2000=$A124)*(data_absen!$C$2:$C$2000=V$3)*(ROW(data_absen!$C$2:$C$2000)))-1)*1440,\"\")","v":""},{"$f":"IFERROR(INDEX(data_absen!$I$2:$I$2000,SUMPRODUCT((data_absen!$B$2:$B$2000=$A124)*(data_absen!$C$2:$C$2000=V$3)*(ROW(data_absen!$C$2:$C$2000)))-1)*1440,\"\")","v":""},null,null,{"$f":"IFERROR(INDEX(data_absen!$J$2:$J$2000,SUMPRODUCT((data_absen!$B$2:$B$2000=$A124)*(data_absen!$C$2:$C$2000=V$3)*(ROW(data_absen!$C$2:$C$2000)))-1)*1440,\"\")","v":""},{"$f":"IFERROR(INDEX(data_absen!$K$2:$K$2000,SUMPRODUCT((data_absen!$B$2:$B$2000=$A124)*(data_absen!$C$2:$C$2000=AA$3)*(ROW(data_absen!$C$2:$C$2000)))-1)*1440,\"\")","v":""},{"$f":"IFERROR(INDEX(data_absen!$I$2:$I$2000,SUMPRODUCT((data_absen!$B$2:$B$2000=$A124)*(data_absen!$C$2:$C$2000=AA$3)*(ROW(data_absen!$C$2:$C$2000)))-1)*1440,\"\")","v":""},null,null,{"$f":"IFERROR(INDEX(data_absen!$J$2:$J$2000,SUMPRODUCT((data_absen!$B$2:$B$2000=$A124)*(data_absen!$C$2:$C$2000=AA$3)*(ROW(data_absen!$C$2:$C$2000)))-1)*1440,\"\")","v":""},{"$f":"IFERROR(INDEX(data_absen!$K$2:$K$2000,SUMPRODUCT((data_absen!$B$2:$B$2000=$A124)*(data_absen!$C$2:$C$2000=AF$3)*(ROW(data_absen!$C$2:$C$2000)))-1)*1440,\"\")","v":""},{"$f":"IFERROR(INDEX(data_absen!$I$2:$I$2000,SUMPRODUCT((data_absen!$B$2:$B$2000=$A124)*(data_absen!$C$2:$C$2000=AF$3)*(ROW(data_absen!$C$2:$C$2000)))-1)*1440,\"\")","v":""},null,null,{"$f":"IFERROR(INDEX(data_absen!$J$2:$J$2000,SUMPRODUCT((data_absen!$B$2:$B$2000=$A124)*(data_absen!$C$2:$C$2000=AF$3)*(ROW(data_absen!$C$2:$C$2000)))-1)*1440,\"\")","v":""},{"$f":"IFERROR(INDEX(data_absen!$K$2:$K$2000,SUMPRODUCT((data_absen!$B$2:$B$2000=$A124)*(data_absen!$C$2:$C$2000=AK$3)*(ROW(data_absen!$C$2:$C$2000)))-1)*1440,\"\")","v":""},{"$f":"IFERROR(INDEX(data_absen!$I$2:$I$2000,SUMPRODUCT((data_absen!$B$2:$B$2000=$A124)*(data_absen!$C$2:$C$2000=AK$3)*(ROW(data_absen!$C$2:$C$2000)))-1)*1440,\"\")","v":""},null,null,{"$f":"IFERROR(INDEX(data_absen!$J$2:$J$2000,SUMPRODUCT((data_absen!$B$2:$B$2000=$A124)*(data_absen!$C$2:$C$2000=AK$3)*(ROW(data_absen!$C$2:$C$2000)))-1)*1440,\"\")","v":""},{"$f":"IFERROR(INDEX(data_absen!$K$2:$K$2000,SUMPRODUCT((data_absen!$B$2:$B$2000=$A124)*(data_absen!$C$2:$C$2000=AP$3)*(ROW(data_absen!$C$2:$C$2000)))-1)*1440,\"\")","v":""},{"$f":"IFERROR(INDEX(data_absen!$I$2:$I$2000,SUMPRODUCT((data_absen!$B$2:$B$2000=$A124)*(data_absen!$C$2:$C$2000=AP$3)*(ROW(data_absen!$C$2:$C$2000)))-1)*1440,\"\")","v":""},null,null,{"$f":"IFERROR(INDEX(data_absen!$J$2:$J$2000,SUMPRODUCT((data_absen!$B$2:$B$2000=$A124)*(data_absen!$C$2:$C$2000=AP$3)*(ROW(data_absen!$C$2:$C$2000)))-1)*1440,\"\")","v":""},{"$f":"IFERROR(INDEX(data_absen!$K$2:$K$2000,SUMPRODUCT((data_absen!$B$2:$B$2000=$A124)*(data_absen!$C$2:$C$2000=AU$3)*(ROW(data_absen!$C$2:$C$2000)))-1)*1440,\"\")","v":""},{"$f":"IFERROR(INDEX(data_absen!$I$2:$I$2000,SUMPRODUCT((data_absen!$B$2:$B$2000=$A124)*(data_absen!$C$2:$C$2000=AU$3)*(ROW(data_absen!$C$2:$C$2000)))-1)*1440,\"\")","v":""},null,null,{"$f":"IFERROR(INDEX(data_absen!$J$2:$J$2000,SUMPRODUCT((data_absen!$B$2:$B$2000=$A124)*(data_absen!$C$2:$C$2000=AU$3)*(ROW(data_absen!$C$2:$C$2000)))-1)*1440,\"\")","v":""},{"$f":"IFERROR(INDEX(data_absen!$K$2:$K$2000,SUMPRODUCT((data_absen!$B$2:$B$2000=$A124)*(data_absen!$C$2:$C$2000=AZ$3)*(ROW(data_absen!$C$2:$C$2000)))-1)*1440,\"\")","v":""},{"$f":"IFERROR(INDEX(data_absen!$I$2:$I$2000,SUMPRODUCT((data_absen!$B$2:$B$2000=$A124)*(data_absen!$C$2:$C$2000=AZ$3)*(ROW(data_absen!$C$2:$C$2000)))-1)*1440,\"\")","v":""},null,null,{"$f":"IFERROR(INDEX(data_absen!$J$2:$J$2000,SUMPRODUCT((data_absen!$B$2:$B$2000=$A124)*(data_absen!$C$2:$C$2000=AZ$3)*(ROW(data_absen!$C$2:$C$2000)))-1)*1440,\"\")","v":""},{"$f":"IFERROR(INDEX(data_absen!$K$2:$K$2000,SUMPRODUCT((data_absen!$B$2:$B$2000=$A124)*(data_absen!$C$2:$C$2000=BE$3)*(ROW(data_absen!$C$2:$C$2000)))-1)*1440,\"\")","v":""},{"$f":"IFERROR(INDEX(data_absen!$I$2:$I$2000,SUMPRODUCT((data_absen!$B$2:$B$2000=$A124)*(data_absen!$C$2:$C$2000=BE$3)*(ROW(data_absen!$C$2:$C$2000)))-1)*1440,\"\")","v":""},null,null,{"$f":"IFERROR(INDEX(data_absen!$J$2:$J$2000,SUMPRODUCT((data_absen!$B$2:$B$2000=$A124)*(data_absen!$C$2:$C$2000=BE$3)*(ROW(data_absen!$C$2:$C$2000)))-1)*1440,\"\")","v":""},{"$f":"IFERROR(INDEX(data_absen!$K$2:$K$2000,SUMPRODUCT((data_absen!$B$2:$B$2000=$A124)*(data_absen!$C$2:$C$2000=BJ$3)*(ROW(data_absen!$C$2:$C$2000)))-1)*1440,\"\")","v":""},{"$f":"IFERROR(INDEX(data_absen!$I$2:$I$2000,SUMPRODUCT((data_absen!$B$2:$B$2000=$A124)*(data_absen!$C$2:$C$2000=BJ$3)*(ROW(data_absen!$C$2:$C$2000)))-1)*1440,\"\")","v":""},null,null,{"$f":"IFERROR(INDEX(data_absen!$J$2:$J$2000,SUMPRODUCT((data_absen!$B$2:$B$2000=$A124)*(data_absen!$C$2:$C$2000=BJ$3)*(ROW(data_absen!$C$2:$C$2000)))-1)*1440,\"\")","v":""},{"$f":"IFERROR(INDEX(data_absen!$K$2:$K$2000,SUMPRODUCT((data_absen!$B$2:$B$2000=$A124)*(data_absen!$C$2:$C$2000=BO$3)*(ROW(data_absen!$C$2:$C$2000)))-1)*1440,\"\")","v":""},{"$f":"IFERROR(INDEX(data_absen!$I$2:$I$2000,SUMPRODUCT((data_absen!$B$2:$B$2000=$A124)*(data_absen!$C$2:$C$2000=BO$3)*(ROW(data_absen!$C$2:$C$2000)))-1)*1440,\"\")","v":""},null,null,{"$f":"IFERROR(INDEX(data_absen!$J$2:$J$2000,SUMPRODUCT((data_absen!$B$2:$B$2000=$A124)*(data_absen!$C$2:$C$2000=BO$3)*(ROW(data_absen!$C$2:$C$2000)))-1)*1440,\"\")","v":""},{"$f":"COUNTIFS(data_absen!$B$2:$B$2000,$A124,data_absen!$I$2:$I$2000,\">0\")","v":0}]
["Gita",{"$f":"INDEX(data_absen!$G$2:$G$2000,SUMPRODUCT((data_absen!$B$2:$B$2000=$A127)*(data_absen!$C$2:$C$2000=B$3)*(ROW(data_absen!$C$2:$C$2000)))-1)","v":"00:00:00"},null,"-",{"$f":"INDEX(data_absen!$H$2:$H$2000,SUMPRODUCT((data_absen!$B$2:$B$2000=$A127)*(data_absen!$C$2:$C$2000=B$3)*(ROW(data_absen!$C$2:$C$2000)))-1)","v":"00:00:00"},null,{"$f":"INDEX(data_absen!$G$2:$G$2000,SUMPRODUCT((data_absen!$B$2:$B$2000=$A127)*(data_absen!$C$2:$C$2000=G$3)*(ROW(data_absen!$C$2:$C$2000)))-1)","v":"00:00:00"},null,"-",{"$f":"INDEX(data_absen!$H$2:$H$2000,SUMPRODUCT((data_absen!$B$2:$B$2000=$A127)*(data_absen!$C$2:$C$2000=G$3)*(ROW(data_absen!$C$2:$C$2000)))-1)","v":"00:00:00"},null,{"$f":"INDEX(data_absen!$G$2:$G$2000,SUMPRODUCT((data_absen!$B$2:$B$2000=$A127)*(data_absen!$C$2:$C$2000=L$3)*(ROW(data_absen!$C$2:$C$2000)))-1)","v":"00:00:00"},null,"-",{"$f":"INDEX(data_absen!$H$2:$H$2000,SUMPRODUCT((data_absen!$B$2:$B$2000=$A127)*(data_absen!$C$2:$C$2000=L$3)*(ROW(data_absen!$C$2:$C$2000)))-1)","v":"00:00:00"},null,{"$f":"INDEX(data_absen!$G$2:$G$2000,SUMPRODUCT((data_absen!$B$2:$B$2000=$A127)*(data_absen!$C$2:$C$2000=Q$3)*(ROW(data_absen!$C$2:$C$2000)))-1)","v":""},null,"-",{"$f":"INDEX(data_absen!$H$2:$H$2000,SUMPRODUCT((data_absen!$B$2:$B$2000=$A127)*(data_absen!$C$2:$C$2000=Q$3)*(ROW(data_absen!$C$2:$C$2000)))-1)","v":""},null,{"$f":"INDEX(data_absen!$G$2:$G$2000,SUMPRODUCT((data_absen!$B$2:$B$2000=$A127)*(data_absen!$C$2:$C$2000=V$3)*(ROW(data_absen!$C$2:$C$2000)))-1)","v":""},null,"-",{"$f":"INDEX(data_absen!$H$2:$H$2000,SUMPRODUCT((data_absen!$B$2:$B$2000=$A127)*(data_absen!$C$2:$C$2000=V$3)*(ROW(data_absen!$C$2:$C$2000)))-1)","v":""},null,{"$f":"INDEX(data_absen!$G$2:$G$2000,SUMPRODUCT((data_absen!$B$2:$B$2000=$A127)*(data_absen!$C$2:$C$2000=AA$3)*(ROW(data_absen!$C$2:$C$2000)))-1)","v":""},null,"-",{"$f":"INDEX(data_absen!$H$2:$H$2000,SUMPRODUCT((data_absen!$B$2:$B$2000=$A127)*(data_absen!$C$2:$C$2000=AA$3)*(ROW(data_absen!$C$2:$C$2000)))-1)","v":""},null,{"$f":"INDEX(data_absen!$G$2:$G$2000,SUMPRODUCT((data_absen!$B$2:$B$2000=$A127)*(data_absen!$C$2:$C$2000=AF$3)*(ROW(data_absen!$C$2:$C$2000)))-1)","v":""},null,"-",{"$f":"INDEX(data_absen!$H$2:$H$2000,SUMPRODUCT((data_absen!$B$2:$B$2000=$A127)*(data_absen!$C$2:$C$2000=AF$3)*(ROW(data_absen!$C$2:$C$2000)))-1)","v":""},null,{"$f":"INDEX(data_absen!$G$2:$G$2000,SUMPRODUCT((data_absen!$B$2:$B$2000=$A127)*(data_absen!$C$2:$C$2000=AK$3)*(ROW(data_absen!$C$2:$C$2000)))-1)","v":""},null,"-",{"$f":"INDEX(data_absen!$H$2:$H$2000,SUMPRODUCT((data_absen!$B$2:$B$2000=$A127)*(data_absen!$C$2:$C$2000=AK$3)*(ROW(data_absen!$C$2:$C$2000)))-1)","v":""},null,{"$f":"INDEX(data_absen!$G$2:$G$2000,SUMPRODUCT((data_absen!$B$2:$B$2000=$A127)*(data_absen!$C$2:$C$2000=AP$3)*(ROW(data_absen!$C$2:$C$2000)))-1)","v":""},null,"-",{"$f":"INDEX(data_absen!$H$2:$H$2000,SUMPRODUCT((data_absen!$B$2:$B$2000=$A127)*(data_absen!$C$2:$C$2000=AP$3)*(ROW(data_absen!$C$2:$C$2000)))-1)","v":""},null,{"$f":"INDEX(data_absen!$G$2:$G$2000,SUMPRODUCT((data_absen!$B$2:$B$2000=$A127)*(data_absen!$C$2:$C$2000=AU$3)*(ROW(data_absen!$C$2:$C$2000)))-1)","v":""},null,"-",{"$f":"INDEX(data_absen!$H$2:$H$2000,SUMPRODUCT((data_absen!$B$2:$B$2000=$A127)*(data_absen!$C$2:$C$2000=AU$3)*(ROW(data_absen!$C$2:$C$2000)))-1)","v":""},null,{"$f":"INDEX(data_absen!$G$2:$G$2000,SUMPRODUCT((data_absen!$B$2:$B$2000=$A127)*(data_absen!$C$2:$C$2000=AZ$3)*(ROW(data_absen!$C$2:$C$2000)))-1)","v":""},null,"-",{"$f":"INDEX(data_absen!$H$2:$H$2000,SUMPRODUCT((data_absen!$B$2:$B$2000=$A127)*(data_absen!$C$2:$C$2000=AZ$3)*(ROW(data_absen!$C$2:$C$2000)))-1)","v":""},null,{"$f":"INDEX(data_absen!$G$2:$G$2000,SUMPRODUCT((data_absen!$B$2:$B$2000=$A127)*(data_absen!$C$2:$C$2000=BE$3)*(ROW(data_absen!$C$2:$C$2000)))-1)","v":""},null,"-",{"$f":"INDEX(data_absen!$H$2:$H$2000,SUMPRODUCT((data_absen!$B$2:$B$2000=$A127)*(data_absen!$C$2:$C$2000=BE$3)*(ROW(data_absen!$C$2:$C$2000)))-1)","v":""},null,{"$f":"INDEX(data_absen!$G$2:$G$2000,SUMPRODUCT((data_absen!$B$2:$B$2000=$A127)*(data_absen!$C$2:$C$2000=BJ$3)*(ROW(data_absen!$C$2:$C$2000)))-1)","v":""},null,"-",{"$f":"INDEX(data_absen!$H$2:$H$2000,SUMPRODUCT((data_absen!$B$2:$B$2000=$A127)*(data_absen!$C$2:$C$2000=BJ$3)*(ROW(data_absen!$C$2:$C$2000)))-1)","v":""},null,{"$f":"INDEX(data_absen!$G$2:$G$2000,SUMPRODUCT((data_absen!$B$2:$B$2000=$A127)*(data_absen!$C$2:$C$2000=BO$3)*(ROW(data_absen!$C$2:$C$2000)))-1)","v":""},null,"-",{"$f":"INDEX(data_absen!$H$2:$H$2000,SUMPRODUCT((data_absen!$B$2:$B$2000=$A127)*(data_absen!$C$2:$C$2000=BO$3)*(ROW(data_absen!$C$2:$C$2000)))-1)","v":""}]
[408,null,null,"-",null,null,null,null,"-",null,null,null,null,"-",null,null,null,null,"-",null,null,null,null,"-",null,null,null,null,"-",null,null,null,null,"-",null,null,null,null,"-",null,null,null,null,"-",null,null,null,null,"-",null,null,null,null,"-",null,null,null,null,"-",null,null,null,null,"-",null,null,null,null,"-"]
[null,{"$f":"IFERROR(INDEX(data_absen!$K$2:$K$2000,SUMPRODUCT((data_absen!$B$2:$B$2000=$A127)*(data_absen!$C$2:$C$2000=B$3)*(ROW(data_absen!$C$2:$C$2000)))-1)*1440,\"\")","v":0},{"$f":"IFERROR(INDEX(data_absen!$I$2:$I$2000,SUMPRODUCT((data_absen!$B$2:$B$2000=$A127)*(data_absen!$C$2:$C$2000=B$3)*(ROW(data_absen!$C$2:$C$2000)))-1)*1440,\"\")","v":0},null,null,{"$f":"IFERROR(INDEX(data_absen!$J$2:$J$2000,SUMPRODUCT((data_absen!$B$2:$B$2000=$A127)*(data_absen!$C$2:$C$2000=B$3)*(ROW(data_absen!$C$2:$C$2000)))-1)*1440,\"\")","v":0},{"$f":"IFERROR(INDEX(data_absen!$K$2:$K$2000,SUMPRODUCT((data_absen!$B$2:$B$2000=$A127)*(data_absen!$C$2:$C$2000=G$3)*(ROW(data_absen!$C$2:$C$2000)))-1)*1440,\"\")","v":0},{"$f":"IFERROR(INDEX(data_absen!$I$2:$I$2000,SUMPRODUCT((data_absen!$B$2:$B$2000=$A127)*(data_absen!$C$2:$C$2000=G$3)*(ROW(data_absen!$C$2:$C$2000)))-1)*1440,\"\")","v":0},null,null,{"$f":"IFERROR(INDEX(data_absen!$J$2:$J$2000,SUMPRODUCT((data_absen!$B$2:$B$2000=$A127)*(data_absen!$C$2:$C$2000=G$3)*(ROW(data_absen!$C$2:$C$2000)))-1)*1440,\"\")","v":0},{"$f":"IFERROR(INDEX(data_absen!$K$2:$K$2000,SUMPRODUCT((data_absen!$B$2:$B$2000=$A127)*(data_absen!$C$2:$C$2000=L$3)*(ROW(data_absen!$C$2:$C$2000)))-1)*1440,\"\")","v":0},{"$f":"IFERROR(INDEX(data_absen!$I$2:$I$2000,SUMPRODUCT((data_absen!$B$2:$B$2000=$A127)*(data_absen!$C$2:$C$2000=L$3)*(ROW(data_absen!$C$2:$C$2000)))-1)*1440,\"\")","v":0},null,null,{"$f":"IFERROR(INDEX(data_absen!$J$2:$J$2000,SUMPRODUCT((data_absen!$B$2:$B$2000=$A127)*(data_absen!$C$2:$C$2000=L$3)*(ROW(data_absen!$C$2:$C$2000)))-1)*1440,\"\")","v":0},{"$f":"IFERROR(INDEX(data_absen!$K$2:$K$2000,SUMPRODUCT((data_absen!$B$2:$B$2000=$A127)*(data_absen!$C$2:$C$2000=Q$3)*(ROW(data_absen!$C$2:$C$2000)))-1)*1440,\"\")","v":""},{"$f":"IFERROR(INDEX(data_absen!$I$2:$I$2000,SUMPRODUCT((data_absen!$B$2:$B$2000=$A127)*(data_absen!$C$2:$C$2000=Q$3)*(ROW(data_absen!$C$2:$C$2000)))-1)*1440,\"\")","v":""},null,null,{"$f":"IFERROR(INDEX(data_absen!$J$2:$J$2000,SUMPRODUCT((data_absen!$B$2:$B$2000=$A127)*(data_absen!$C$2:$C$2000=Q$3)*(ROW(data_absen!$C$2:$C$2000)))-1)*1440,\"\")","v":""},{"$f":"IFERROR(INDEX(data_absen!$K$2:$K$2000,SUMPRODUCT((data_absen!$B$2:$B$2000=$A127)*(data_absen!$C$2:$C$2000=V$3)*(ROW(data_absen!$C$2:$C$2000)))-1)*1440,\"\")","v":""},{"$f":"IFERROR(INDEX(data_absen!$I$2:$I$2000,SUMPRODUCT((data_absen!$B$2:$B$2000=$A127)*(data_absen!$C$2:$C$2000=V$3)*(ROW(data_absen!$C$2:$C$2000)))-1)*1440,\"\")","v":""},null,null,{"$f":"IFERROR(INDEX(data_absen!$J$2:$J$2000,SUMPRODUCT((data_absen!$B$2:$B$2000=$A127)*(data_absen!$C$2:$C$2000=V$3)*(ROW(data_absen!$C$2:$C$2000)))-1)*1440,\"\")","v":""},{"$f":"IFERROR(INDEX(data_absen!$K$2:$K$2000,SUMPRODUCT((data_absen!$B$2:$B$2000=$A127)*(data_absen!$C$2:$C$2000=AA$3)*(ROW(data_absen!$C$2:$C$2000)))-1)*1440,\"\")","v":""},{"$f":"IFERROR(INDEX(data_absen!$I$2:$I$2000,SUMPRODUCT((data_absen!$B$2:$B$2000=$A127)*(data_absen!$C$2:$C$2000=AA$3)*(ROW(data_absen!$C$2:$C$2000)))-1)*1440,\"\")","v":""},null,null,{"$f":"IFERROR(INDEX(data_absen!$J$2:$J$2000,SUMPRODUCT((data_absen!$B$2:$B$2000=$A127)*(data_absen!$C$2:$C$2000=AA$3)*(ROW(data_absen!$C$2:$C$2000)))-1)*1440,\"\")","v":""},{"$f":"IFERROR(INDEX(data_absen!$K$2:$K$2000,SUMPRODUCT((data_absen!$B$2:$B$2000=$A127)*(data_absen!$C$2:$C$2000=AF$3)*(ROW(data_absen!$C$2:$C$2000)))-1)*1440,\"\")","v":""},{"$f":"IFERROR(INDEX(data_absen!$I$2:$I$2000,SUMPRODUCT((data_absen!$B$2:$B$2000=$A127)*(data_absen!$C$2:$C$2000=AF$3)*(ROW(data_absen!$C$2:$C$2000)))-1)*1440,\"\")","v":""},null,null,{"$f":"IFERROR(INDEX(data_absen!$J$2:$J$2000,SUMPRODUCT((data_absen!$B$2:$B$2000=$A127)*(data_absen!$C$2:$C$2000=AF$3)*(ROW(data_absen!$C$2:$C$2000)))-1)*1440,\"\")","v":""},{"$f":"IFERROR(INDEX(data_absen!$K$2:$K$2000,SUMPRODUCT((data_absen!$B$2:$B$2000=$A127)*(data_absen!$C$2:$C$2000=AK$3)*(ROW(data_absen!$C$2:$C$2000)))-1)*1440,\"\")","v":""},{"$f":"IFERROR(INDEX(data_absen!$I$2:$I$2000,SUMPRODUCT((data_absen!$B$2:$B$2000=$A127)*(data_absen!$C$2:$C$2000=AK$3)*(ROW(data_absen!$C$2:$C$2000)))-1)*1440,\"\")","v":""},null,null,{"$f":"IFERROR(INDEX(data_absen!$J$2:$J$2000,SUMPRODUCT((data_absen!$B$2:$B$2000=$A127)*(data_absen!$C$2:$C$2000=AK$3)*(ROW(data_absen!$C$2:$C$2000)))-1)*1440,\"\")","v":""},{"$f":"IFERROR(INDEX(data_absen!$K$2:$K$2000,SUMPRODUCT((data_absen!$B$2:$B$2000=$A127)*(data_absen!$C$2:$C$2000=AP$3)*(ROW(data_absen!$C$2:$C$2000)))-1)*1440,\"\")","v":""},{"$f":"IFERROR(INDEX(data_absen!$I$2:$I$2000,SUMPRODUCT((data_absen!$B$2:$B$2000=$A127)*(data_absen!$C$2:$C$2000=AP$3)*(ROW(data_absen!$C$2:$C$2000)))-1)*1440,\"\")","v":""},null,null,{"$f":"IFERROR(INDEX(data_absen!$J$2:$J$2000,SUMPRODUCT((data_absen!$B$2:$B$2000=$A127)*(data_absen!$C$2:$C$2000=AP$3)*(ROW(data_absen!$C$2:$C$2000)))-1)*1440,\"\")","v":""},{"$f":"IFERROR(INDEX(data_absen!$K$2:$K$2000,SUMPRODUCT((data_absen!$B$2:$B$2000=$A127)*(data_absen!$C$2:$C$2000=AU$3)*(ROW(data_absen!$C$2:$C$2000)))-1)*1440,\"\")","v":""},{"$f":"IFERROR(INDEX(data_absen!$I$2:$I$2000,SUMPRODUCT((data_absen!$B$2:$B$2000=$A127)*(data_absen!$C$2:$C$2000=AU$3)*(ROW(data_absen!$C$2:$C$2000)))-1)*1440,\"\")","v":""},null,null,{"$f":"IFERROR(INDEX(data_absen!$J$2:$J$2000,SUMPRODUCT((data_absen!$B$2:$B$2000=$A127)*(data_absen!$C$2:$C$2000=AU$3)*(ROW(data_absen!$C$2:$C$2000)))-1)*1440,\"\")","v":""},{"$f":"IFERROR(INDEX(data_absen!$K$2:$K$2000,SUMPRODUCT((data_absen!$B$2:$B$2000=$A127)*(data_absen!$C$2:$C$2000=AZ$3)*(ROW(data_absen!$C$2:$C$2000)))-1)*1440,\"\")","v":""},{"$f":"IFERROR(INDEX(data_absen!$I$2:$I$2000,SUMPRODUCT((data_absen!$B$2:$B$2000=$A127)*(data_absen!$C$2:$C$2000=AZ$3)*(ROW(data_absen!$C$2:$C$2000)))-1)*1440,\"\")","v":""},null,null,{"$f":"IFERROR(INDEX(data_absen!$J$2:$J$2000,SUMPRODUCT((data_absen!$B$2:$B$2000=$A127)*(data_absen!$C$2:$C$2000=AZ$3)*(ROW(data_absen!$C$2:$C$2000)))-1)*1440,\"\")","v":""},{"$f":"IFERROR(INDEX(data_absen!$K$2:$K$2000,SUMPRODUCT((data_absen!$B$2:$B$2000=$A127)*(data_absen!$C$2:$C$2000=BE$3)*(ROW(data_absen!$C$2:$C$2000)))-1)*1440,\"\")","v":""},{"$f":"IFERROR(INDEX(data_absen!$I$2:$I$2000,SUMPRODUCT((data_absen!$B$2:$B$2000=$A127)*(data_absen!$C$2:$C$2000=BE$3)*(ROW(data_absen!$C$2:$C$2000)))-1)*1440,\"\")","v":""},null,null,{"$f":"IFERROR(INDEX(data_absen!$J$2:$J$2000,SUMPRODUCT((data_absen!$B$2:$B$2000=$A127)*(data_absen!$C$2:$C$2000=BE$3)*(ROW(data_absen!$C$2:$C$2000)))-1)*1440,\"\")","v":""},{"$f":"IFERROR(INDEX(data_absen!$K$2:$K$2000,SUMPRODUCT((data_absen!$B$2:$B$2000=$A127)*(data_absen!$C$2:$C$2000=BJ$3)*(ROW(data_absen!$C$2:$C$2000)))-1)*1440,\"\")","v":""},{"$f":"IFERROR(INDEX(data_absen!$I$2:$I$2000,SUMPRODUCT((data_absen!$B$2:$B$2000=$A127)*(data_absen!$C$2:$C$2000=BJ$3)*(ROW(data_absen!$C$2:$C$2000)))-1)*1440,\"\")","v":""},null,null,{"$f":"IFERROR(INDEX(data_absen!$J$2:$J$2000,SUMPRODUCT((data_absen!$B$2:$B$2000=$A127)*(data_absen!$C$2:$C$2000=BJ$3)*(ROW(data_absen!$C$2:$C$2000)))-1)*1440,\"\")","v":""},{"$f":"IFERROR(INDEX(data_absen!$K$2:$K$2000,SUMPRODUCT((data_absen!$B$2:$B$2000=$A127)*(data_absen!$C$2:$C$2000=BO$3)*(ROW(data_absen!$C$2:$C$2000)))-1)*1440,\"\")","v":""},{"$f":"IFERROR(INDEX(data_absen!$I$2:$I$2000,SUMPRODUCT((data_absen!$B$2:$B$2000=$A127)*(data_absen!$C$2:$C$2000=BO$3)*(ROW(data_absen!$C$2:$C$2000)))-1)*1440,\"\")","v":""},null,null,{"$f":"IFERROR(INDEX(data_absen!$J$2:$J$2000,SUMPRODUCT((data_absen!$B$2:$B$2000=$A127)*(data_absen!$C$2:$C$2000=BO$3)*(ROW(data_absen!$C$2:$C$2000)))-1)*1440,\"\")","v":""},{"$f":"COUNTIFS(data_absen!$B$2:$B$2000,$A127,data_absen!$I$2:$I$2000,\">0\")","v":0}]
["Evi",{"$f":"INDEX(data_absen!$G$2:$G$2000,SUMPRODUCT((data_absen!$B$2:$B$2000=$A130)*(data_absen!$C$2:$C$2000=B$3)*(ROW(data_absen!$C$2:$C$2000)))-1)","v":"00:00:00"},null,"-",{"$f":"INDEX(data_absen!$H$2:$H$2000,SUMPRODUCT((data_absen!$B$2:$B$2000=$A130)*(data_absen!$C$2:$C$2000=B$3)*(ROW(data_absen!$C$2:$C$2000)))-1)","v":"00:00:00"},null,{"$f":"INDEX(data_absen!$G$2:$G$2000,SUMPRODUCT((data_absen!$B$2:$B$2000=$A130)*(data_absen!$C$2:$C$2000=G$3)*(ROW(data_absen!$C$2:$C$2000)))-1)","v":"00:00:00"},null,"-",{"$f":"INDEX(data_absen!$H$2:$H$2000,SUMPRODUCT((data_absen!$B$2:$B$2000=$A130)*(data_absen!$C$2:$C$2000=G$3)*(ROW(data_absen!$C$2:$C$2000)))-1)","v":"00:00:00"},null,{"$f":"INDEX(data_absen!$G$2:$G$2000,SUMPRODUCT((data_absen!$B$2:$B$2000=$A130)*(data_absen!$C$2:$C$2000=L$3)*(ROW(data_absen!$C$2:$C$2000)))-1)","v":"00:00:00"},null,"-",{"$f":"INDEX(data_absen!$H$2:$H$2000,SUMPRODUCT((data_absen!$B$2:$B$2000=$A130)*(data_absen!$C$2:$C$2000=L$3)*(ROW(data_absen!$C$2:$C$2000)))-1)","v":"00:00:00"},null,{"$f":"INDEX(data_absen!$G$2:$G$2000,SUMPRODUCT((data_absen!$B$2:$B$2000=$A130)*(data_absen!$C$2:$C$2000=Q$3)*(ROW(data_absen!$C$2:$C$2000)))-1)","v":""},null,"-",{"$f":"INDEX(data_absen!$H$2:$H$2000,SUMPRODUCT((data_absen!$B$2:$B$2000=$A130)*(data_absen!$C$2:$C$2000=Q$3)*(ROW(data_absen!$C$2:$C$2000)))-1)","v":""},null,{"$f":"INDEX(data_absen!$G$2:$G$2000,SUMPRODUCT((data_absen!$B$2:$B$2000=$A130)*(data_absen!$C$2:$C$2000=V$3)*(ROW(data_absen!$C$2:$C$2000)))-1)","v":""},null,"-",{"$f":"INDEX(data_absen!$H$2:$H$2000,SUMPRODUCT((data_absen!$B$2:$B$2000=$A130)*(data_absen!$C$2:$C$2000=V$3)*(ROW(data_absen!$C$2:$C$2000)))-1)","v":""},null,{"$f":"INDEX(data_absen!$G$2:$G$2000,SUMPRODUCT((data_absen!$B$2:$B$2000=$A130)*(data_absen!$C$2:$C$2000=AA$3)*(ROW(data_absen!$C$2:$C$2000)))-1)","v":""},null,"-",{"$f":"INDEX(data_absen!$H$2:$H$2000,SUMPRODUCT((data_absen!$B$2:$B$2000=$A130)*(data_absen!$C$2:$C$2000=AA$3)*(ROW(data_absen!$C$2:$C$2000)))-1)","v":""},null,{"$f":"INDEX(data_absen!$G$2:$G$2000,SUMPRODUCT((data_absen!$B$2:$B$2000=$A130)*(data_absen!$C$2:$C$2000=AF$3)*(ROW(data_absen!$C$2:$C$2000)))-1)","v":""},null,"-",{"$f":"INDEX(data_absen!$H$2:$H$2000,SUMPRODUCT((data_absen!$B$2:$B$2000=$A130)*(data_absen!$C$2:$C$2000=AF$3)*(ROW(data_absen!$C$2:$C$2000)))-1)","v":""},null,{"$f":"INDEX(data_absen!$G$2:$G$2000,SUMPRODUCT((data_absen!$B$2:$B$2000=$A130)*(data_absen!$C$2:$C$2000=AK$3)*(ROW(data_absen!$C$2:$C$2000)))-1)","v":""},null,"-",{"$f":"INDEX(data_absen!$H$2:$H$2000,SUMPRODUCT((data_absen!$B$2:$B$2000=$A130)*(data_absen!$C$2:$C$2000=AK$3)*(ROW(data_absen!$C$2:$C$2000)))-1)","v":""},null,{"$f":"INDEX(data_absen!$G$2:$G$2000,SUMPRODUCT((data_absen!$B$2:$B$2000=$A130)*(data_absen!$C$2:$C$2000=AP$3)*(ROW(data_absen!$C$2:$C$2000)))-1)","v":""},null,"-",{"$f":"INDEX(data_absen!$H$2:$H$2000,SUMPRODUCT((data_absen!$B$2:$B$2000=$A130)*(data_absen!$C$2:$C$2000=AP$3)*(ROW(data_absen!$C$2:$C$2000)))-1)","v":""},null,{"$f":"INDEX(data_absen!$G$2:$G$2000,SUMPRODUCT((data_absen!$B$2:$B$2000=$A130)*(data_absen!$C$2:$C$2000=AU$3)*(ROW(data_absen!$C$2:$C$2000)))-1)","v":""},null,"-",{"$f":"INDEX(data_absen!$H$2:$H$2000,SUMPRODUCT((data_absen!$B$2:$B$2000=$A130)*(data_absen!$C$2:$C$2000=AU$3)*(ROW(data_absen!$C$2:$C$2000)))-1)","v":""},null,{"$f":"INDEX(data_absen!$G$2:$G$2000,SUMPRODUCT((data_absen!$B$2:$B$2000=$A130)*(data_absen!$C$2:$C$2000=AZ$3)*(ROW(data_absen!$C$2:$C$2000)))-1)","v":""},null,"-",{"$f":"INDEX(data_absen!$H$2:$H$2000,SUMPRODUCT((data_absen!$B$2:$B$2000=$A130)*(data_absen!$C$2:$C$2000=AZ$3)*(ROW(data_absen!$C$2:$C$2000)))-1)","v":""},null,{"$f":"INDEX(data_absen!$G$2:$G$2000,SUMPRODUCT((data_absen!$B$2:$B$2000=$A130)*(data_absen!$C$2:$C$2000=BE$3)*(ROW(data_absen!$C$2:$C$2000)))-1)","v":""},null,"-",{"$f":"INDEX(data_absen!$H$2:$H$2000,SUMPRODUCT((data_absen!$B$2:$B$2000=$A130)*(data_absen!$C$2:$C$2000=BE$3)*(ROW(data_absen!$C$2:$C$2000)))-1)","v":""},null,{"$f":"INDEX(data_absen!$G$2:$G$2000,SUMPRODUCT((data_absen!$B$2:$B$2000=$A130)*(data_absen!$C$2:$C$2000=BJ$3)*(ROW(data_absen!$C$2:$C$2000)))-1)","v":""},null,"-",{"$f":"INDEX(data_absen!$H$2:$H$2000,SUMPRODUCT((data_absen!$B$2:$B$2000=$A130)*(data_absen!$C$2:$C$2000=BJ$3)*(ROW(data_absen!$C$2:$C$2000)))-1)","v":""},null,{"$f":"INDEX(data_absen!$G$2:$G$2000,SUMPRODUCT((data_absen!$B$2:$B$2000=$A130)*(data_absen!$C$2:$C$2000=BO$3)*(ROW(data_absen!$C$2:$C$2000)))-1)","v":""},null,"-",{"$f":"INDEX(data_absen!$H$2:$H$2000,SUMPRODUCT((data_absen!$B$2:$B$2000=$A130)*(data_absen!$C$2:$C$2000=BO$3)*(ROW(data_absen!$C$2:$C$2000)))-1)","v":""}]
[409,null,null,"-",null,null,null,null,"-",null,null,null,null,"-",null,null,null,null,"-",null,null,null,null,"-",null,null,null,null,"-",null,null,null,null,"-",null,null,null,null,"-",null,null,null,null,"-",null,null,null,null,"-",null,null,null,null,"-",null,null,null,null,"-",null,null,null,null,"-",null,null,null,null,"-"]
[null,{"$f":"IFERROR(INDEX(data_absen!$K$2:$K$2000,SUMPRODUCT((data_absen!$B$2:$B$2000=$A130)*(data_absen!$C$2:$C$2000=B$3)*(ROW(data_absen!$C$2:$C$2000)))-1)*1440,\"\")","v":0},{"$f":"IFERROR(INDEX(data_absen!$I$2:$I$2000,SUMPRODUCT((data_absen!$B$2:$B$2000=$A130)*(data_absen!$C$2:$C$2000=B$3)*(ROW(data_absen!$C$2:$C$2000)))-1)*1440,\"\")","v":0},null,null,{"$f":"IFERROR(INDEX(data_absen!$J$2:$J$2000,SUMPRODUCT((data_absen!$B$2:$B$2000=$A130)*(data_absen!$C$2:$C$2000=B$3)*(ROW(data_absen!$C$2:$C$2000)))-1)*1440,\"\")","v":0},{"$f":"IFERROR(INDEX(data_absen!$K$2:$K$2000,SUMPRODUCT((data_absen!$B$2:$B$2000=$A130)*(data_absen!$C$2:$C$2000=G$3)*(ROW(data_absen!$C$2:$C$2000)))-1)*1440,\"\")","v":0},{"$f":"IFERROR(INDEX(data_absen!$I$2:$I$2000,SUMPRODUCT((data_absen!$B$2:$B$2000=$A130)*(data_absen!$C$2:$C$2000=G$3)*(ROW(data_absen!$C$2:$C$2000)))-1)*1440,\"\")","v":0},null,null,{"$f":"IFERROR(INDEX(data_absen!$J$2:$J$2000,SUMPRODUCT((data_absen!$B$2:$B$2000=$A130)*(data_absen!$C$2:$C$2000=G$3)*(ROW(data_absen!$C$2:$C$2000)))-1)*1440,\"\")","v":0},{"$f":"IFERROR(INDEX(data_absen!$K$2:$K$2000,SUMPRODUCT((data_absen!$B$2:$B$2000=$A130)*(data_absen!$C$2:$C$2000=L$3)*(ROW(data_absen!$C$2:$C$2000)))-1)*1440,\"\")","v":0},{"$f":"IFERROR(INDEX(data_absen!$I$2:$I$2000,SUMPRODUCT((data_absen!$B$2:$B$2000=$A130)*(data_absen!$C$2:$C$2000=L$3)*(ROW(data_absen!$C$2:$C$2000)))-1)*1440,\"\")","v":0},null,null,{"$f":"IFERROR(INDEX(data_absen!$J$2:$J$2000,SUMPRODUCT((data_absen!$B$2:$B$2000=$A130)*(data_absen!$C$2:$C$2000=L$3)*(ROW(data_absen!$C$2:$C$2000)))-1)*1440,\"\")","v":0},{"$f":"IFERROR(INDEX(data_absen!$K$2:$K$2000,SUMPRODUCT((data_absen!$B$2:$B$2000=$A130)*(data_absen!$C$2:$C$2000=Q$3)*(ROW(data_absen!$C$2:$C$2000)))-1)*1440,\"\")","v":""},{"$f":"IFERROR(INDEX(data_absen!$I$2:$I$2000,SUMPRODUCT((data_absen!$B$2:$B$2000=$A130)*(data_absen!$C$2:$C$2000=Q$3)*(ROW(data_absen!$C$2:$C$2000)))-1)*1440,\"\")","v":""},null,null,{"$f":"IFERROR(INDEX(data_absen!$J$2:$J$2000,SUMPRODUCT((data_absen!$B$2:$B$2000=$A130)*(data_absen!$C$2:$C$2000=Q$3)*(ROW(data_absen!$C$2:$C$2000)))-1)*1440,\"\")","v":""},{"$f":"IFERROR(INDEX(data_absen!$K$2:$K$2000,SUMPRODUCT((data_absen!$B$2:$B$2000=$A130)*(data_absen!$C$2:$C$2000=V$3)*(ROW(data_absen!$C$2:$C$2000)))-1)*1440,\"\")","v":""},{"$f":"IFERROR(INDEX(data_absen!$I$2:$I$2000,SUMPRODUCT((data_absen!$B$2:$B$2000=$A130)*(data_absen!$C$2:$C$2000=V$3)*(ROW(data_absen!$C$2:$C$2000)))-1)*1440,\"\")","v":""},null,null,{"$f":"IFERROR(INDEX(data_absen!$J$2:$J$2000,SUMPRODUCT((data_absen!$B$2:$B$2000=$A130)*(data_absen!$C$2:$C$2000=V$3)*(ROW(data_absen!$C$2:$C$2000)))-1)*1440,\"\")","v":""},{"$f":"IFERROR(INDEX(data_absen!$K$2:$K$2000,SUMPRODUCT((data_absen!$B$2:$B$2000=$A130)*(data_absen!$C$2:$C$2000=AA$3)*(ROW(data_absen!$C$2:$C$2000)))-1)*1440,\"\")","v":""},{"$f":"IFERROR(INDEX(data_absen!$I$2:$I$2000,SUMPRODUCT((data_absen!$B$2:$B$2000=$A130)*(data_absen!$C$2:$C$2000=AA$3)*(ROW(data_absen!$C$2:$C$2000)))-1)*1440,\"\")","v":""},null,null,{"$f":"IFERROR(INDEX(data_absen!$J$2:$J$2000,SUMPRODUCT((data_absen!$B$2:$B$2000=$A130)*(data_absen!$C$2:$C$2000=AA$3)*(ROW(data_absen!$C$2:$C$2000)))-1)*1440,\"\")","v":""},{"$f":"IFERROR(INDEX(data_absen!$K$2:$K$2000,SUMPRODUCT((data_absen!$B$2:$B$2000=$A130)*(data_absen!$C$2:$C$2000=AF$3)*(ROW(data_absen!$C$2:$C$2000)))-1)*1440,\"\")","v":""},{"$f":"IFERROR(INDEX(data_absen!$I$2:$I$2000,SUMPRODUCT((data_absen!$B$2:$B$2000=$A130)*(data_absen!$C$2:$C$2000=AF$3)*(ROW(data_absen!$C$2:$C$2000)))-1)*1440,\"\")","v":""},null,null,{"$f":"IFERROR(INDEX(data_absen!$J$2:$J$2000,SUMPRODUCT((data_absen!$B$2:$B$2000=$A130)*(data_absen!$C$2:$C$2000=AF$3)*(ROW(data_absen!$C$2:$C$2000)))-1)*1440,\"\")","v":""},{"$f":"IFERROR(INDEX(data_absen!$K$2:$K$2000,SUMPRODUCT((data_absen!$B$2:$B$2000=$A130)*(data_absen!$C$2:$C$2000=AK$3)*(ROW(data_absen!$C$2:$C$2000)))-1)*1440,\"\")","v":""},{"$f":"IFERROR(INDEX(data_absen!$I$2:$I$2000,SUMPRODUCT((data_absen!$B$2:$B$2000=$A130)*(data_absen!$C$2:$C$2000=AK$3)*(ROW(data_absen!$C$2:$C$2000)))-1)*1440,\"\")","v":""},null,null,{"$f":"IFERROR(INDEX(data_absen!$J$2:$J$2000,SUMPRODUCT((data_absen!$B$2:$B$2000=$A130)*(data_absen!$C$2:$C$2000=AK$3)*(ROW(data_absen!$C$2:$C$2000)))-1)*1440,\"\")","v":""},{"$f":"IFERROR(INDEX(data_absen!$K$2:$K$2000,SUMPRODUCT((data_absen!$B$2:$B$2000=$A130)*(data_absen!$C$2:$C$2000=AP$3)*(ROW(data_absen!$C$2:$C$2000)))-1)*1440,\"\")","v":""},{"$f":"IFERROR(INDEX(data_absen!$I$2:$I$2000,SUMPRODUCT((data_absen!$B$2:$B$2000=$A130)*(data_absen!$C$2:$C$2000=AP$3)*(ROW(data_absen!$C$2:$C$2000)))-1)*1440,\"\")","v":""},null,null,{"$f":"IFERROR(INDEX(data_absen!$J$2:$J$2000,SUMPRODUCT((data_absen!$B$2:$B$2000=$A130)*(data_absen!$C$2:$C$2000=AP$3)*(ROW(data_absen!$C$2:$C$2000)))-1)*1440,\"\")","v":""},{"$f":"IFERROR(INDEX(data_absen!$K$2:$K$2000,SUMPRODUCT((data_absen!$B$2:$B$2000=$A130)*(data_absen!$C$2:$C$2000=AU$3)*(ROW(data_absen!$C$2:$C$2000)))-1)*1440,\"\")","v":""},{"$f":"IFERROR(INDEX(data_absen!$I$2:$I$2000,SUMPRODUCT((data_absen!$B$2:$B$2000=$A130)*(data_absen!$C$2:$C$2000=AU$3)*(ROW(data_absen!$C$2:$C$2000)))-1)*1440,\"\")","v":""},null,null,{"$f":"IFERROR(INDEX(data_absen!$J$2:$J$2000,SUMPRODUCT((data_absen!$B$2:$B$2000=$A130)*(data_absen!$C$2:$C$2000=AU$3)*(ROW(data_absen!$C$2:$C$2000)))-1)*1440,\"\")","v":""},{"$f":"IFERROR(INDEX(data_absen!$K$2:$K$2000,SUMPRODUCT((data_absen!$B$2:$B$2000=$A130)*(data_absen!$C$2:$C$2000=AZ$3)*(ROW(data_absen!$C$2:$C$2000)))-1)*1440,\"\")","v":""},{"$f":"IFERROR(INDEX(data_absen!$I$2:$I$2000,SUMPRODUCT((data_absen!$B$2:$B$2000=$A130)*(data_absen!$C$2:$C$2000=AZ$3)*(ROW(data_absen!$C$2:$C$2000)))-1)*1440,\"\")","v":""},null,null,{"$f":"IFERROR(INDEX(data_absen!$J$2:$J$2000,SUMPRODUCT((data_absen!$B$2:$B$2000=$A130)*(data_absen!$C$2:$C$2000=AZ$3)*(ROW(data_absen!$C$2:$C$2000)))-1)*1440,\"\")","v":""},{"$f":"IFERROR(INDEX(data_absen!$K$2:$K$2000,SUMPRODUCT((data_absen!$B$2:$B$2000=$A130)*(data_absen!$C$2:$C$2000=BE$3)*(ROW(data_absen!$C$2:$C$2000)))-1)*1440,\"\")","v":""},{"$f":"IFERROR(INDEX(data_absen!$I$2:$I$2000,SUMPRODUCT((data_absen!$B$2:$B$2000=$A130)*(data_absen!$C$2:$C$2000=BE$3)*(ROW(data_absen!$C$2:$C$2000)))-1)*1440,\"\")","v":""},null,null,{"$f":"IFERROR(INDEX(data_absen!$J$2:$J$2000,SUMPRODUCT((data_absen!$B$2:$B$2000=$A130)*(data_absen!$C$2:$C$2000=BE$3)*(ROW(data_absen!$C$2:$C$2000)))-1)*1440,\"\")","v":""},{"$f":"IFERROR(INDEX(data_absen!$K$2:$K$2000,SUMPRODUCT((data_absen!$B$2:$B$2000=$A130)*(data_absen!$C$2:$C$2000=BJ$3)*(ROW(data_absen!$C$2:$C$2000)))-1)*1440,\"\")","v":""},{"$f":"IFERROR(INDEX(data_absen!$I$2:$I$2000,SUMPRODUCT((data_absen!$B$2:$B$2000=$A130)*(data_absen!$C$2:$C$2000=BJ$3)*(ROW(data_absen!$C$2:$C$2000)))-1)*1440,\"\")","v":""},null,null,{"$f":"IFERROR(INDEX(data_absen!$J$2:$J$2000,SUMPRODUCT((data_absen!$B$2:$B$2000=$A130)*(data_absen!$C$2:$C$2000=BJ$3)*(ROW(data_absen!$C$2:$C$2000)))-1)*1440,\"\")","v":""},{"$f":"IFERROR(INDEX(data_absen!$K$2:$K$2000,SUMPRODUCT((data_absen!$B$2:$B$2000=$A130)*(data_absen!$C$2:$C$2000=BO$3)*(ROW(data_absen!$C$2:$C$2000)))-1)*1440,\"\")","v":""},{"$f":"IFERROR(INDEX(data_absen!$I$2:$I$2000,SUMPRODUCT((data_absen!$B$2:$B$2000=$A130)*(data_absen!$C$2:$C$2000=BO$3)*(ROW(data_absen!$C$2:$C$2000)))-1)*1440,\"\")","v":""},null,null,{"$f":"IFERROR(INDEX(data_absen!$J$2:$J$2000,SUMPRODUCT((data_absen!$B$2:$B$2000=$A130)*(data_absen!$C$2:$C$2000=BO$3)*(ROW(data_absen!$C$2:$C$2000)))-1)*1440,\"\")","v":""},{"$f":"COUNTIFS(data_absen!$B$2:$B$2000,$A130,data_absen!$I$2:$I$2000,\">0\")","v":2}]
["Fitri",{"$f":"INDEX(data_absen!$G$2:$G$2000,SUMPRODUCT((data_absen!$B$2:$B$2000=$A133)*(data_absen!$C$2:$C$2000=B$3)*(ROW(data_absen!$C$2:$C$2000)))-1)","v":"00:00:00"},null,"-",{"$f":"INDEX(data_absen!$H$2:$H$2000,SUMPRODUCT((data_absen!$B$2:$B$2000=$A133)*(data_absen!$C$2:$C$2000=B$3)*(ROW(data_absen!$C$2:$C$2000)))-1)","v":"00:00:00"},null,{"$f":"INDEX(data_absen!$G$2:$G$2000,SUMPRODUCT((data_absen!$B$2:$B$2000=$A133)*(data_absen!$C$2:$C$2000=G$3)*(ROW(data_absen!$C$2:$C$2000)))-1)","v":"00:00:00"},null,"-",{"$f":"INDEX(data_absen!$H$2:$H$2000,SUMPRODUCT((data_absen!$B$2:$B$2000=$A133)*(data_absen!$C$2:$C$2000=G$3)*(ROW(data_absen!$C$2:$C$2000)))-1)","v":"00:00:00"},null,{"$f":"INDEX(data_absen!$G$2:$G$2000,SUMPRODUCT((data_absen!$B$2:$B$2000=$A133)*(data_absen!$C$2:$C$2000=L$3)*(ROW(data_absen!$C$2:$C$2000)))-1)","v":"00:00:00"},null,"-",{"$f":"INDEX(data_absen!$H$2:$H$2000,SUMPRODUCT((data_absen!$B$2:$B$2000=$A133)*(data_absen!$C$2:$C$2000=L$3)*(ROW(data_absen!$C$2:$C$2000)))-1)","v":"00:00:00"},null,{"$f":"INDEX(data_absen!$G$2:$G$2000,SUMPRODUCT((data_absen!$B$2:$B$2000=$A133)*(data_absen!$C$2:$C$2000=Q$3)*(ROW(data_absen!$C$2:$C$2000)))-1)","v":""},null,"-",{"$f":"INDEX(data_absen!$H$2:$H$2000,SUMPRODUCT((data_absen!$B$2:$B$2000=$A133)*(data_absen!$C$2:$C$2000=Q$3)*(ROW(data_absen!$C$2:$C$2000)))-1)","v":""},null,{"$f":"INDEX(data_absen!$G$2:$G$2000,SUMPRODUCT((data_absen!$B$2:$B$2000=$A133)*(data_absen!$C$2:$C$2000=V$3)*(ROW(data_absen!$C$2:$C$2000)))-1)","v":""},null,"-",{"$f":"INDEX(data_absen!$H$2:$H$2000,SUMPRODUCT((data_absen!$B$2:$B$2000=$A133)*(data_absen!$C$2:$C$2000=V$3)*(ROW(data_absen!$C$2:$C$2000)))-1)","v":""},null,{"$f":"INDEX(data_absen!$G$2:$G$2000,SUMPRODUCT((data_absen!$B$2:$B$2000=$A133)*(data_absen!$C$2:$C$2000=AA$3)*(ROW(data_absen!$C$2:$C$2000)))-1)","v":""},null,"-",{"$f":"INDEX(data_absen!$H$2:$H$2000,SUMPRODUCT((data_absen!$B$2:$B$2000=$A133)*(data_absen!$C$2:$C$2000=AA$3)*(ROW(data_absen!$C$2:$C$2000)))-1)","v":""},null,{"$f":"INDEX(data_absen!$G$2:$G$2000,SUMPRODUCT((data_absen!$B$2:$B$2000=$A133)*(data_absen!$C$2:$C$2000=AF$3)*(ROW(data_absen!$C$2:$C$2000)))-1)","v":""},null,"-",{"$f":"INDEX(data_absen!$H$2:$H$2000,SUMPRODUCT((data_absen!$B$2:$B$2000=$A133)*(data_absen!$C$2:$C$2000=AF$3)*(ROW(data_absen!$C$2:$C$2000)))-1)","v":""},null,{"$f":"INDEX(data_absen!$G$2:$G$2000,SUMPRODUCT((data_absen!$B$2:$B$2000=$A133)*(data_absen!$C$2:$C$2000=AK$3)*(ROW(data_absen!$C$2:$C$2000)))-1)","v":""},null,"-",{"$f":"INDEX(data_absen!$H$2:$H$2000,SUMPRODUCT((data_absen!$B$2:$B$2000=$A133)*(data_absen!$C$2:$C$2000=AK$3)*(ROW(data_absen!$C$2:$C$2000)))-1)","v":""},null,{"$f":"INDEX(data_absen!$G$2:$G$2000,SUMPRODUCT((data_absen!$B$2:$B$2000=$A133)*(data_absen!$C$2:$C$2000=AP$3)*(ROW(data_absen!$C$2:$C$2000)))-1)","v":""},null,"-",{"$f":"INDEX(data_absen!$H$2:$H$2000,SUMPRODUCT((data_absen!$B$2:$B$2000=$A133)*(data_absen!$C$2:$C$2000=AP$3)*(ROW(data_absen!$C$2:$C$2000)))-1)","v":""},null,{"$f":"INDEX(data_absen!$G$2:$G$2000,SUMPRODUCT((data_absen!$B$2:$B$2000=$A133)*(data_absen!$C$2:$C$2000=AU$3)*(ROW(data_absen!$C$2:$C$2000)))-1)","v":""},null,"-",{"$f":"INDEX(data_absen!$H$2:$H$2000,SUMPRODUCT((data_absen!$B$2:$B$2000=$A133)*(data_absen!$C$2:$C$2000=AU$3)*(ROW(data_absen!$C$2:$C$2000)))-1)","v":""},null,{"$f":"INDEX(data_absen!$G$2:$G$2000,SUMPRODUCT((data_absen!$B$2:$B$2000=$A133)*(data_absen!$C$2:$C$2000=AZ$3)*(ROW(data_absen!$C$2:$C$2000)))-1)","v":""},null,"-",{"$f":"INDEX(data_absen!$H$2:$H$2000,SUMPRODUCT((data_absen!$B$2:$B$2000=$A133)*(data_absen!$C$2:$C$2000=AZ$3)*(ROW(data_absen!$C$2:$C$2000)))-1)","v":""},null,{"$f":"INDEX(data_absen!$G$2:$G$2000,SUMPRODUCT((data_absen!$B$2:$B$2000=$A133)*(data_absen!$C$2:$C$2000=BE$3)*(ROW(data_absen!$C$2:$C$2000)))-1)","v":""},null,"-",{"$f":"INDEX(data_absen!$H$2:$H$2000,SUMPRODUCT((data_absen!$B$2:$B$2000=$A133)*(data_absen!$C$2:$C$2000=BE$3)*(ROW(data_absen!$C$2:$C$2000)))-1)","v":""},null,{"$f":"INDEX(data_absen!$G$2:$G$2000,SUMPRODUCT((data_absen!$B$2:$B$2000=$A133)*(data_absen!$C$2:$C$2000=BJ$3)*(ROW(data_absen!$C$2:$C$2000)))-1)","v":""},null,"-",{"$f":"INDEX(data_absen!$H$2:$H$2000,SUMPRODUCT((data_absen!$B$2:$B$2000=$A133)*(data_absen!$C$2:$C$2000=BJ$3)*(ROW(data_absen!$C$2:$C$2000)))-1)","v":""},null,{"$f":"INDEX(data_absen!$G$2:$G$2000,SUMPRODUCT((data_absen!$B$2:$B$2000=$A133)*(data_absen!$C$2:$C$2000=BO$3)*(ROW(data_absen!$C$2:$C$2000)))-1)","v":""},null,"-",{"$f":"INDEX(data_absen!$H$2:$H$2000,SUMPRODUCT((data_absen!$B$2:$B$2000=$A133)*(data_absen!$C$2:$C$2000=BO$3)*(ROW(data_absen!$C$2:$C$2000)))-1)","v":""}]
[410,null,null,"-",null,null,null,null,"-",null,null,null,null,"-",null,null,null,null,"-",null,null,null,null,"-",null,null,null,null,"-",null,null,null,null,"-",null,null,null,null,"-",null,null,null,null,"-",null,null,null,null,"-",null,null,null,null,"-",null,null,null,null,"-",null,null,null,null,"-",null,null,null,null,"-"]
[null,{"$f":"IFERROR(INDEX(data_absen!$K$2:$K$2000,SUMPRODUCT((data_absen!$B$2:$B$2000=$A133)*(data_absen!$C$2:$C$2000=B$3)*(ROW(data_absen!$C$2:$C$2000)))-1)*1440,\"\")","v":0},{"$f":"IFERROR(INDEX(data_absen!$I$2:$I$2000,SUMPRODUCT((data_absen!$B$2:$B$2000=$A133)*(data_absen!$C$2:$C$2000=B$3)*(ROW(data_absen!$C$2:$C$2000)))-1)*1440,\"\")","v":0},null,null,{"$f":"IFERROR(INDEX(data_absen!$J$2:$J$2000,SUMPRODUCT((data_absen!$B$2:$B$2000=$A133)*(data_absen!$C$2:$C$2000=B$3)*(ROW(data_absen!$C$2:$C$2000)))-1)*1440,\"\")","v":0},{"$f":"IFERROR(INDEX(data_absen!$K$2:$K$2000,SUMPRODUCT((data_absen!$B$2:$B$2000=$A133)*(data_absen!$C$2:$C$2000=G$3)*(ROW(data_absen!$C$2:$C$2000)))-1)*1440,\"\")","v":0},{"$f":"IFERROR(INDEX(data_absen!$I$2:$I$2000,SUMPRODUCT((data_absen!$B$2:$B$2000=$A133)*(data_absen!$C$2:$C$2000=G$3)*(ROW(data_absen!$C$2:$C$2000)))-1)*1440,\"\")","v":0},null,null,{"$f":"IFERROR(INDEX(data_absen!$J$2:$J$2000,SUMPRODUCT((data_absen!$B$2:$B$2000=$A133)*(data_absen!$C$2:$C$2000=G$3)*(ROW(data_absen!$C$2:$C$2000)))-1)*1440,\"\")","v":0},{"$f":"IFERROR(INDEX(data_absen!$K$2:$K$2000,SUMPRODUCT((data_absen!$B$2:$B$2000=$A133)*(data_absen!$C$2:$C$2000=L$3)*(ROW(data_absen!$C$2:$C$2000)))-1)*1440,\"\")","v":0},{"$f":"IFERROR(INDEX(data_absen!$I$2:$I$2000,SUMPRODUCT((data_absen!$B$2:$B$2000=$A133)*(data_absen!$C$2:$C$2000=L$3)*(ROW(data_absen!$C$2:$C$2000)))-1)*1440,\"\")","v":0},null,null,{"$f":"IFERROR(INDEX(data_absen!$J$2:$J$2000,SUMPRODUCT((data_absen!$B$2:$B$2000=$A133)*(data_absen!$C$2:$C$2000=L$3)*(ROW(data_absen!$C$2:$C$2000)))-1)*1440,\"\")","v":0},{"$f":"IFERROR(INDEX(data_absen!$K$2:$K$2000,SUMPRODUCT((data_absen!$B$2:$B$2000=$A133)*(data_absen!$C$2:$C$2000=Q$3)*(ROW(data_absen!$C$2:$C$2000)))-1)*1440,\"\")","v":""},{"$f":"IFERROR(INDEX(data_absen!$I$2:$I$2000,SUMPRODUCT((data_absen!$B$2:$B$2000=$A133)*(data_absen!$C$2:$C$2000=Q$3)*(ROW(data_absen!$C$2:$C$2000)))-1)*1440,\"\")","v":""},null,null,{"$f":"IFERROR(INDEX(data_absen!$J$2:$J$2000,SUMPRODUCT((data_absen!$B$2:$B$2000=$A133)*(data_absen!$C$2:$C$2000=Q$3)*(ROW(data_absen!$C$2:$C$2000)))-1)*1440,\"\")","v":""},{"$f":"IFERROR(INDEX(data_absen!$K$2:$K$2000,SUMPRODUCT((data_absen!$B$2:$B$2000=$A133)*(data_absen!$C$2:$C$2000=V$3)*(ROW(data_absen!$C$2:$C$2000)))-1)*1440,\"\")","v":""},{"$f":"IFERROR(INDEX(data_absen!$I$2:$I$2000,SUMPRODUCT((data_absen!$B$2:$B$2000=$A133)*(data_absen!$C$2:$C$2000=V$3)*(ROW(data_absen!$C$2:$C$2000)))-1)*1440,\"\")","v":""},null,null,{"$f":"IFERROR(INDEX(data_absen!$J$2:$J$2000,SUMPRODUCT((data_absen!$B$2:$B$2000=$A133)*(data_absen!$C$2:$C$2000=V$3)*(ROW(data_absen!$C$2:$C$2000)))-1)*1440,\"\")","v":""},{"$f":"IFERROR(INDEX(data_absen!$K$2:$K$2000,SUMPRODUCT((data_absen!$B$2:$B$2000=$A133)*(data_absen!$C$2:$C$2000=AA$3)*(ROW(data_absen!$C$2:$C$2000)))-1)*1440,\"\")","v":""},{"$f":"IFERROR(INDEX(data_absen!$I$2:$I$2000,SUMPRODUCT((data_absen!$B$2:$B$2000=$A133)*(data_absen!$C$2:$C$2000=AA$3)*(ROW(data_absen!$C$2:$C$2000)))-1)*1440,\"\")","v":""},null,null,{"$f":"IFERROR(INDEX(data_absen!$J$2:$J$2000,SUMPRODUCT((data_absen!$B$2:$B$2000=$A133)*(data_absen!$C$2:$C$2000=AA$3)*(ROW(data_absen!$C$2:$C$2000)))-1)*1440,\"\")","v":""},{"$f":"IFERROR(INDEX(data_absen!$K$2:$K$2000,SUMPRODUCT((data_absen!$B$2:$B$2000=$A133)*(data_absen!$C$2:$C$2000=AF$3)*(ROW(data_absen!$C$2:$C$2000)))-1)*1440,\"\")","v":""},{"$f":"IFERROR(INDEX(data_absen!$I$2:$I$2000,SUMPRODUCT((data_absen!$B$2:$B$2000=$A133)*(data_absen!$C$2:$C$2000=AF$3)*(ROW(data_absen!$C$2:$C$2000)))-1)*1440,\"\")","v":""},null,null,{"$f":"IFERROR(INDEX(data_absen!$J$2:$J$2000,SUMPRODUCT((data_absen!$B$2:$B$2000=$A133)*(data_absen!$C$2:$C$2000=AF$3)*(ROW(data_absen!$C$2:$C$2000)))-1)*1440,\"\")","v":""},{"$f":"IFERROR(INDEX(data_absen!$K$2:$K$2000,SUMPRODUCT((data_absen!$B$2:$B$2000=$A133)*(data_absen!$C$2:$C$2000=AK$3)*(ROW(data_absen!$C$2:$C$2000)))-1)*1440,\"\")","v":""},{"$f":"IFERROR(INDEX(data_absen!$I$2:$I$2000,SUMPRODUCT((data_absen!$B$2:$B$2000=$A133)*(data_absen!$C$2:$C$2000=AK$3)*(ROW(data_absen!$C$2:$C$2000)))-1)*1440,\"\")","v":""},null,null,{"$f":"IFERROR(INDEX(data_absen!$J$2:$J$2000,SUMPRODUCT((data_absen!$B$2:$B$2000=$A133)*(data_absen!$C$2:$C$2000=AK$3)*(ROW(data_absen!$C$2:$C$2000)))-1)*1440,\"\")","v":""},{"$f":"IFERROR(INDEX(data_absen!$K$2:$K$2000,SUMPRODUCT((data_absen!$B$2:$B$2000=$A133)*(data_absen!$C$2:$C$2000=AP$3)*(ROW(data_absen!$C$2:$C$2000)))-1)*1440,\"\")","v":""},{"$f":"IFERROR(INDEX(data_absen!$I$2:$I$2000,SUMPRODUCT((data_absen!$B$2:$B$2000=$A133)*(data_absen!$C$2:$C$2000=AP$3)*(ROW(data_absen!$C$2:$C$2000)))-1)*1440,\"\")","v":""},null,null,{"$f":"IFERROR(INDEX(data_absen!$J$2:$J$2000,SUMPRODUCT((data_absen!$B$2:$B$2000=$A133)*(data_absen!$C$2:$C$2000=AP$3)*(ROW(data_absen!$C$2:$C$2000)))-1)*1440,\"\")","v":""},{"$f":"IFERROR(INDEX(data_absen!$K$2:$K$2000,SUMPRODUCT((data_absen!$B$2:$B$2000=$A133)*(data_absen!$C$2:$C$2000=AU$3)*(ROW(data_absen!$C$2:$C$2000)))-1)*1440,\"\")","v":""},{"$f":"IFERROR(INDEX(data_absen!$I$2:$I$2000,SUMPRODUCT((data_absen!$B$2:$B$2000=$A133)*(data_absen!$C$2:$C$2000=AU$3)*(ROW(data_absen!$C$2:$C$2000)))-1)*1440,\"\")","v":""},null,null,{"$f":"IFERROR(INDEX(data_absen!$J$2:$J$2000,SUMPRODUCT((data_absen!$B$2:$B$2000=$A133)*(data_absen!$C$2:$C$2000=AU$3)*(ROW(data_absen!$C$2:$C$2000)))-1)*1440,\"\")","v":""},{"$f":"IFERROR(INDEX(data_absen!$K$2:$K$2000,SUMPRODUCT((data_absen!$B$2:$B$2000=$A133)*(data_absen!$C$2:$C$2000=AZ$3)*(ROW(data_absen!$C$2:$C$2000)))-1)*1440,\"\")","v":""},{"$f":"IFERROR(INDEX(data_absen!$I$2:$I$2000,SUMPRODUCT((data_absen!$B$2:$B$2000=$A133)*(data_absen!$C$2:$C$2000=AZ$3)*(ROW(data_absen!$C$2:$C$2000)))-1)*1440,\"\")","v":""},null,null,{"$f":"IFERROR(INDEX(data_absen!$J$2:$J$2000,SUMPRODUCT((data_absen!$B$2:$B$2000=$A133)*(data_absen!$C$2:$C$2000=AZ$3)*(ROW(data_absen!$C$2:$C$2000)))-1)*1440,\"\")","v":""},{"$f":"IFERROR(INDEX(data_absen!$K$2:$K$2000,SUMPRODUCT((data_absen!$B$2:$B$2000=$A133)*(data_absen!$C$2:$C$2000=BE$3)*(ROW(data_absen!$C$2:$C$2000)))-1)*1440,\"\")","v":""},{"$f":"IFERROR(INDEX(data_absen!$I$2:$I$2000,SUMPRODUCT((data_absen!$B$2:$B$2000=$A133)*(data_absen!$C$2:$C$2000=BE$3)*(ROW(data_absen!$C$2:$C$2000)))-1)*1440,\"\")","v":""},null,null,{"$f":"IFERROR(INDEX(data_absen!$J$2:$J$2000,SUMPRODUCT((data_absen!$B$2:$B$2000=$A133)*(data_absen!$C$2:$C$2000=BE$3)*(ROW(data_absen!$C$2:$C$2000)))-1)*1440,\"\")","v":""},{"$f":"IFERROR(INDEX(data_absen!$K$2:$K$2000,SUMPRODUCT((data_absen!$B$2:$B$2000=$A133)*(data_absen!$C$2:$C$2000=BJ$3)*(ROW(data_absen!$C$2:$C$2000)))-1)*1440,\"\")","v":""},{"$f":"IFERROR(INDEX(data_absen!$I$2:$I$2000,SUMPRODUCT((data_absen!$B$2:$B$2000=$A133)*(data_absen!$C$2:$C$2000=BJ$3)*(ROW(data_absen!$C$2:$C$2000)))-1)*1440,\"\")","v":""},null,null,{"$f":"IFERROR(INDEX(data_absen!$J$2:$J$2000,SUMPRODUCT((data_absen!$B$2:$B$2000=$A133)*(data_absen!$C$2:$C$2000=BJ$3)*(ROW(data_absen!$C$2:$C$2000)))-1)*1440,\"\")","v":""},{"$f":"IFERROR(INDEX(data_absen!$K$2:$K$2000,SUMPRODUCT((data_absen!$B$2:$B$2000=$A133)*(data_absen!$C$2:$C$2000=BO$3)*(ROW(data_absen!$C$2:$C$2000)))-1)*1440,\"\")","v":""},{"$f":"IFERROR(INDEX(data_absen!$I$2:$I$2000,SUMPRODUCT((data_absen!$B$2:$B$2000=$A133)*(data_absen!$C$2:$C$2000=BO$3)*(ROW(data_absen!$C$2:$C$2000)))-1)*1440,\"\")","v":""},null,null,{"$f":"IFERROR(INDEX(data_absen!$J$2:$J$2000,SUMPRODUCT((data_absen!$B$2:$B$2000=$A133)*(data_absen!$C$2:$C$2000=BO$3)*(ROW(data_absen!$C$2:$C$2000)))-1)*1440,\"\")","v":""},{"$f":"COUNTIFS(data_absen!$B$2:$B$2000,$A133,data_absen!$I$2:$I$2000,\">0\")","v":0}]
["Vita",{"$f":"INDEX(data_absen!$G$2:$G$2000,SUMPRODUCT((data_absen!$B$2:$B$2000=$A136)*(data_absen!$C$2:$C$2000=B$3)*(ROW(data_absen!$C$2:$C$2000)))-1)","v":"00:00:00"},null,"-",{"$f":"INDEX(data_absen!$H$2:$H$2000,SUMPRODUCT((data_absen!$B$2:$B$2000=$A136)*(data_absen!$C$2:$C$2000=B$3)*(ROW(data_absen!$C$2:$C$2000)))-1)","v":"00:00:00"},null,{"$f":"INDEX(data_absen!$G$2:$G$2000,SUMPRODUCT((data_absen!$B$2:$B$2000=$A136)*(data_absen!$C$2:$C$2000=G$3)*(ROW(data_absen!$C$2:$C$2000)))-1)","v":"00:00:00"},null,"-",{"$f":"INDEX(data_absen!$H$2:$H$2000,SUMPRODUCT((data_absen!$B$2:$B$2000=$A136)*(data_absen!$C$2:$C$2000=G$3)*(ROW(data_absen!$C$2:$C$2000)))-1)","v":"00:00:00"},null,{"$f":"INDEX(data_absen!$G$2:$G$2000,SUMPRODUCT((data_absen!$B$2:$B$2000=$A136)*(data_absen!$C$2:$C$2000=L$3)*(ROW(data_absen!$C$2:$C$2000)))-1)","v":"00:00:00"},null,"-",{"$f":"INDEX(data_absen!$H$2:$H$2000,SUMPRODUCT((data_absen!$B$2:$B$2000=$A136)*(data_absen!$C$2:$C$2000=L$3)*(ROW(data_absen!$C$2:$C$2000)))-1)","v":"00:00:00"},null,{"$f":"INDEX(data_absen!$G$2:$G$2000,SUMPRODUCT((data_absen!$B$2:$B$2000=$A136)*(data_absen!$C$2:$C$2000=Q$3)*(ROW(data_absen!$C$2:$C$2000)))-1)","v":""},null,"-",{"$f":"INDEX(data_absen!$H$2:$H$2000,SUMPRODUCT((data_absen!$B$2:$B$2000=$A136)*(data_absen!$C$2:$C$2000=Q$3)*(ROW(data_absen!$C$2:$C$2000)))-1)","v":""},null,{"$f":"INDEX(data_absen!$G$2:$G$2000,SUMPRODUCT((data_absen!$B$2:$B$2000=$A136)*(data_absen!$C$2:$C$2000=V$3)*(ROW(data_absen!$C$2:$C$2000)))-1)","v":""},null,"-",{"$f":"INDEX(data_absen!$H$2:$H$2000,SUMPRODUCT((data_absen!$B$2:$B$2000=$A136)*(data_absen!$C$2:$C$2000=V$3)*(ROW(data_absen!$C$2:$C$2000)))-1)","v":""},null,{"$f":"INDEX(data_absen!$G$2:$G$2000,SUMPRODUCT((data_absen!$B$2:$B$2000=$A136)*(data_absen!$C$2:$C$2000=AA$3)*(ROW(data_absen!$C$2:$C$2000)))-1)","v":""},null,"-",{"$f":"INDEX(data_absen!$H$2:$H$2000,SUMPRODUCT((data_absen!$B$2:$B$2000=$A136)*(data_absen!$C$2:$C$2000=AA$3)*(ROW(data_absen!$C$2:$C$2000)))-1)","v":""},null,{"$f":"INDEX(data_absen!$G$2:$G$2000,SUMPRODUCT((data_absen!$B$2:$B$2000=$A136)*(data_absen!$C$2:$C$2000=AF$3)*(ROW(data_absen!$C$2:$C$2000)))-1)","v":""},null,"-",{"$f":"INDEX(data_absen!$H$2:$H$2000,SUMPRODUCT((data_absen!$B$2:$B$2000=$A136)*(data_absen!$C$2:$C$2000=AF$3)*(ROW(data_absen!$C$2:$C$2000)))-1)","v":""},null,{"$f":"INDEX(data_absen!$G$2:$G$2000,SUMPRODUCT((data_absen!$B$2:$B$2000=$A136)*(data_absen!$C$2:$C$2000=AK$3)*(ROW(data_absen!$C$2:$C$2000)))-1)","v":""},null,"-",{"$f":"INDEX(data_absen!$H$2:$H$2000,SUMPRODUCT((data_absen!$B$2:$B$2000=$A136)*(data_absen!$C$2:$C$2000=AK$3)*(ROW(data_absen!$C$2:$C$2000)))-1)","v":""},null,{"$f":"INDEX(data_absen!$G$2:$G$2000,SUMPRODUCT((data_absen!$B$2:$B$2000=$A136)*(data_absen!$C$2:$C$2000=AP$3)*(ROW(data_absen!$C$2:$C$2000)))-1)","v":""},null,"-",{"$f":"INDEX(data_absen!$H$2:$H$2000,SUMPRODUCT((data_absen!$B$2:$B$2000=$A136)*(data_absen!$C$2:$C$2000=AP$3)*(ROW(data_absen!$C$2:$C$2000)))-1)","v":""},null,{"$f":"INDEX(data_absen!$G$2:$G$2000,SUMPRODUCT((data_absen!$B$2:$B$2000=$A136)*(data_absen!$C$2:$C$2000=AU$3)*(ROW(data_absen!$C$2:$C$2000)))-1)","v":""},null,"-",{"$f":"INDEX(data_absen!$H$2:$H$2000,SUMPRODUCT((data_absen!$B$2:$B$2000=$A136)*(data_absen!$C$2:$C$2000=AU$3)*(ROW(data_absen!$C$2:$C$2000)))-1)","v":""},null,{"$f":"INDEX(data_absen!$G$2:$G$2000,SUMPRODUCT((data_absen!$B$2:$B$2000=$A136)*(data_absen!$C$2:$C$2000=AZ$3)*(ROW(data_absen!$C$2:$C$2000)))-1)","v":""},null,"-",{"$f":"INDEX(data_absen!$H$2:$H$2000,SUMPRODUCT((data_absen!$B$2:$B$2000=$A136)*(data_absen!$C$2:$C$2000=AZ$3)*(ROW(data_absen!$C$2:$C$2000)))-1)","v":""},null,{"$f":"INDEX(data_absen!$G$2:$G$2000,SUMPRODUCT((data_absen!$B$2:$B$2000=$A136)*(data_absen!$C$2:$C$2000=BE$3)*(ROW(data_absen!$C$2:$C$2000)))-1)","v":""},null,"-",{"$f":"INDEX(data_absen!$H$2:$H$2000,SUMPRODUCT((data_absen!$B$2:$B$2000=$A136)*(data_absen!$C$2:$C$2000=BE$3)*(ROW(data_absen!$C$2:$C$2000)))-1)","v":""},null,{"$f":"INDEX(data_absen!$G$2:$G$2000,SUMPRODUCT((data_absen!$B$2:$B$2000=$A136)*(data_absen!$C$2:$C$2000=BJ$3)*(ROW(data_absen!$C$2:$C$2000)))-1)","v":""},null,"-",{"$f":"INDEX(data_absen!$H$2:$H$2000,SUMPRODUCT((data_absen!$B$2:$B$2000=$A136)*(data_absen!$C$2:$C$2000=BJ$3)*(ROW(data_absen!$C$2:$C$2000)))-1)","v":""},null,{"$f":"INDEX(data_absen!$G$2:$G$2000,SUMPRODUCT((data_absen!$B$2:$B$2000=$A136)*(data_absen!$C$2:$C$2000=BO$3)*(ROW(data_absen!$C$2:$C$2000)))-1)","v":""},null,"-",{"$f":"INDEX(data_absen!$H$2:$H$2000,SUMPRODUCT((data_absen!$B$2:$B$2000=$A136)*(data_absen!$C$2:$C$2000=BO$3)*(ROW(data_absen!$C$2:$C$2000)))-1)","v":""}]
[411,null,null,"-",null,null,null,null,"-",null,null,null,null,"-",null,null,null,null,"-",null,null,null,null,"-",null,null,null,null,"-",null,null,null,null,"-",null,null,null,null,"-",null,null,null,null,"-",null,null,null,null,"-",null,null,null,null,"-",null,null,null,null,"-",null,null,null,null,"-",null,null,null,null,"-"]
[null,{"$f":"IFERROR(INDEX(data_absen!$K$2:$K$2000,SUMPRODUCT((data_absen!$B$2:$B$2000=$A136)*(data_absen!$C$2:$C$2000=B$3)*(ROW(data_absen!$C$2:$C$2000)))-1)*1440,\"\")","v":0},{"$f":"IFERROR(INDEX(data_absen!$I$2:$I$2000,SUMPRODUCT((data_absen!$B$2:$B$2000=$A136)*(data_absen!$C$2:$C$2000=B$3)*(ROW(data_absen!$C$2:$C$2000)))-1)*1440,\"\")","v":0},null,null,{"$f":"IFERROR(INDEX(data_absen!$J$2:$J$2000,SUMPRODUCT((data_absen!$B$2:$B$2000=$A136)*(data_absen!$C$2:$C$2000=B$3)*(ROW(data_absen!$C$2:$C$2000)))-1)*1440,\"\")","v":0},{"$f":"IFERROR(INDEX(data_absen!$K$2:$K$2000,SUMPRODUCT((data_absen!$B$2:$B$2000=$A136)*(data_absen!$C$2:$C$2000=G$3)*(ROW(data_absen!$C$2:$C$2000)))-1)*1440,\"\")","v":0},{"$f":"IFERROR(INDEX(data_absen!$I$2:$I$2000,SUMPRODUCT((data_absen!$B$2:$B$2000=$A136)*(data_absen!$C$2:$C$2000=G$3)*(ROW(data_absen!$C$2:$C$2000)))-1)*1440,\"\")","v":0},null,null,{"$f":"IFERROR(INDEX(data_absen!$J$2:$J$2000,SUMPRODUCT((data_absen!$B$2:$B$2000=$A136)*(data_absen!$C$2:$C$2000=G$3)*(ROW(data_absen!$C$2:$C$2000)))-1)*1440,\"\")","v":0},{"$f":"IFERROR(INDEX(data_absen!$K$2:$K$2000,SUMPRODUCT((data_absen!$B$2:$B$2000=$A136)*(data_absen!$C$2:$C$2000=L$3)*(ROW(data_absen!$C$2:$C$2000)))-1)*1440,\"\")","v":0},{"$f":"IFERROR(INDEX(data_absen!$I$2:$I$2000,SUMPRODUCT((data_absen!$B$2:$B$2000=$A136)*(data_absen!$C$2:$C$2000=L$3)*(ROW(data_absen!$C$2:$C$2000)))-1)*1440,\"\")","v":0},null,null,{"$f":"IFERROR(INDEX(data_absen!$J$2:$J$2000,SUMPRODUCT((data_absen!$B$2:$B$2000=$A136)*(data_absen!$C$2:$C$2000=L$3)*(ROW(data_absen!$C$2:$C$2000)))-1)*1440,\"\")","v":0},{"$f":"IFERROR(INDEX(data_absen!$K$2:$K$2000,SUMPRODUCT((data_absen!$B$2:$B$2000=$A136)*(data_absen!$C$2:$C$2000=Q$3)*(ROW(data_absen!$C$2:$C$2000)))-1)*1440,\"\")","v":""},{"$f":"IFERROR(INDEX(data_absen!$I$2:$I$2000,SUMPRODUCT((data_absen!$B$2:$B$2000=$A136)*(data_absen!$C$2:$C$2000=Q$3)*(ROW(data_absen!$C$2:$C$2000)))-1)*1440,\"\")","v":""},null,null,{"$f":"IFERROR(INDEX(data_absen!$J$2:$J$2000,SUMPRODUCT((data_absen!$B$2:$B$2000=$A136)*(data_absen!$C$2:$C$2000=Q$3)*(ROW(data_absen!$C$2:$C$2000)))-1)*1440,\"\")","v":""},{"$f":"IFERROR(INDEX(data_absen!$K$2:$K$2000,SUMPRODUCT((data_absen!$B$2:$B$2000=$A136)*(data_absen!$C$2:$C$2000=V$3)*(ROW(data_absen!$C$2:$C$2000)))-1)*1440,\"\")","v":""},{"$f":"IFERROR(INDEX(data_absen!$I$2:$I$2000,SUMPRODUCT((data_absen!$B$2:$B$2000=$A136)*(data_absen!$C$2:$C$2000=V$3)*(ROW(data_absen!$C$2:$C$2000)))-1)*1440,\"\")","v":""},null,null,{"$f":"IFERROR(INDEX(data_absen!$J$2:$J$2000,SUMPRODUCT((data_absen!$B$2:$B$2000=$A136)*(data_absen!$C$2:$C$2000=V$3)*(ROW(data_absen!$C$2:$C$2000)))-1)*1440,\"\")","v":""},{"$f":"IFERROR(INDEX(data_absen!$K$2:$K$2000,SUMPRODUCT((data_absen!$B$2:$B$2000=$A136)*(data_absen!$C$2:$C$2000=AA$3)*(ROW(data_absen!$C$2:$C$2000)))-1)*1440,\"\")","v":""},{"$f":"IFERROR(INDEX(data_absen!$I$2:$I$2000,SUMPRODUCT((data_absen!$B$2:$B$2000=$A136)*(data_absen!$C$2:$C$2000=AA$3)*(ROW(data_absen!$C$2:$C$2000)))-1)*1440,\"\")","v":""},null,null,{"$f":"IFERROR(INDEX(data_absen!$J$2:$J$2000,SUMPRODUCT((data_absen!$B$2:$B$2000=$A136)*(data_absen!$C$2:$C$2000=AA$3)*(ROW(data_absen!$C$2:$C$2000)))-1)*1440,\"\")","v":""},{"$f":"IFERROR(INDEX(data_absen!$K$2:$K$2000,SUMPRODUCT((data_absen!$B$2:$B$2000=$A136)*(data_absen!$C$2:$C$2000=AF$3)*(ROW(data_absen!$C$2:$C$2000)))-1)*1440,\"\")","v":""},{"$f":"IFERROR(INDEX(data_absen!$I$2:$I$2000,SUMPRODUCT((data_absen!$B$2:$B$2000=$A136)*(data_absen!$C$2:$C$2000=AF$3)*(ROW(data_absen!$C$2:$C$2000)))-1)*1440,\"\")","v":""},null,null,{"$f":"IFERROR(INDEX(data_absen!$J$2:$J$2000,SUMPRODUCT((data_absen!$B$2:$B$2000=$A136)*(data_absen!$C$2:$C$2000=AF$3)*(ROW(data_absen!$C$2:$C$2000)))-1)*1440,\"\")","v":""},{"$f":"IFERROR(INDEX(data_absen!$K$2:$K$2000,SUMPRODUCT((data_absen!$B$2:$B$2000=$A136)*(data_absen!$C$2:$C$2000=AK$3)*(ROW(data_absen!$C$2:$C$2000)))-1)*1440,\"\")","v":""},{"$f":"IFERROR(INDEX(data_absen!$I$2:$I$2000,SUMPRODUCT((data_absen!$B$2:$B$2000=$A136)*(data_absen!$C$2:$C$2000=AK$3)*(ROW(data_absen!$C$2:$C$2000)))-1)*1440,\"\")","v":""},null,null,{"$f":"IFERROR(INDEX(data_absen!$J$2:$J$2000,SUMPRODUCT((data_absen!$B$2:$B$2000=$A136)*(data_absen!$C$2:$C$2000=AK$3)*(ROW(data_absen!$C$2:$C$2000)))-1)*1440,\"\")","v":""},{"$f":"IFERROR(INDEX(data_absen!$K$2:$K$2000,SUMPRODUCT((data_absen!$B$2:$B$2000=$A136)*(data_absen!$C$2:$C$2000=AP$3)*(ROW(data_absen!$C$2:$C$2000)))-1)*1440,\"\")","v":""},{"$f":"IFERROR(INDEX(data_absen!$I$2:$I$2000,SUMPRODUCT((data_absen!$B$2:$B$2000=$A136)*(data_absen!$C$2:$C$2000=AP$3)*(ROW(data_absen!$C$2:$C$2000)))-1)*1440,\"\")","v":""},null,null,{"$f":"IFERROR(INDEX(data_absen!$J$2:$J$2000,SUMPRODUCT((data_absen!$B$2:$B$2000=$A136)*(data_absen!$C$2:$C$2000=AP$3)*(ROW(data_absen!$C$2:$C$2000)))-1)*1440,\"\")","v":""},{"$f":"IFERROR(INDEX(data_absen!$K$2:$K$2000,SUMPRODUCT((data_absen!$B$2:$B$2000=$A136)*(data_absen!$C$2:$C$2000=AU$3)*(ROW(data_absen!$C$2:$C$2000)))-1)*1440,\"\")","v":""},{"$f":"IFERROR(INDEX(data_absen!$I$2:$I$2000,SUMPRODUCT((data_absen!$B$2:$B$2000=$A136)*(data_absen!$C$2:$C$2000=AU$3)*(ROW(data_absen!$C$2:$C$2000)))-1)*1440,\"\")","v":""},null,null,{"$f":"IFERROR(INDEX(data_absen!$J$2:$J$2000,SUMPRODUCT((data_absen!$B$2:$B$2000=$A136)*(data_absen!$C$2:$C$2000=AU$3)*(ROW(data_absen!$C$2:$C$2000)))-1)*1440,\"\")","v":""},{"$f":"IFERROR(INDEX(data_absen!$K$2:$K$2000,SUMPRODUCT((data_absen!$B$2:$B$2000=$A136)*(data_absen!$C$2:$C$2000=AZ$3)*(ROW(data_absen!$C$2:$C$2000)))-1)*1440,\"\")","v":""},{"$f":"IFERROR(INDEX(data_absen!$I$2:$I$2000,SUMPRODUCT((data_absen!$B$2:$B$2000=$A136)*(data_absen!$C$2:$C$2000=AZ$3)*(ROW(data_absen!$C$2:$C$2000)))-1)*1440,\"\")","v":""},null,null,{"$f":"IFERROR(INDEX(data_absen!$J$2:$J$2000,SUMPRODUCT((data_absen!$B$2:$B$2000=$A136)*(data_absen!$C$2:$C$2000=AZ$3)*(ROW(data_absen!$C$2:$C$2000)))-1)*1440,\"\")","v":""},{"$f":"IFERROR(INDEX(data_absen!$K$2:$K$2000,SUMPRODUCT((data_absen!$B$2:$B$2000=$A136)*(data_absen!$C$2:$C$2000=BE$3)*(ROW(data_absen!$C$2:$C$2000)))-1)*1440,\"\")","v":""},{"$f":"IFERROR(INDEX(data_absen!$I$2:$I$2000,SUMPRODUCT((data_absen!$B$2:$B$2000=$A136)*(data_absen!$C$2:$C$2000=BE$3)*(ROW(data_absen!$C$2:$C$2000)))-1)*1440,\"\")","v":""},null,null,{"$f":"IFERROR(INDEX(data_absen!$J$2:$J$2000,SUMPRODUCT((data_absen!$B$2:$B$2000=$A136)*(data_absen!$C$2:$C$2000=BE$3)*(ROW(data_absen!$C$2:$C$2000)))-1)*1440,\"\")","v":""},{"$f":"IFERROR(INDEX(data_absen!$K$2:$K$2000,SUMPRODUCT((data_absen!$B$2:$B$2000=$A136)*(data_absen!$C$2:$C$2000=BJ$3)*(ROW(data_absen!$C$2:$C$2000)))-1)*1440,\"\")","v":""},{"$f":"IFERROR(INDEX(data_absen!$I$2:$I$2000,SUMPRODUCT((data_absen!$B$2:$B$2000=$A136)*(data_absen!$C$2:$C$2000=BJ$3)*(ROW(data_absen!$C$2:$C$2000)))-1)*1440,\"\")","v":""},null,null,{"$f":"IFERROR(INDEX(data_absen!$J$2:$J$2000,SUMPRODUCT((data_absen!$B$2:$B$2000=$A136)*(data_absen!$C$2:$C$2000=BJ$3)*(ROW(data_absen!$C$2:$C$2000)))-1)*1440,\"\")","v":""},{"$f":"IFERROR(INDEX(data_absen!$K$2:$K$2000,SUMPRODUCT((data_absen!$B$2:$B$2000=$A136)*(data_absen!$C$2:$C$2000=BO$3)*(ROW(data_absen!$C$2:$C$2000)))-1)*1440,\"\")","v":""},{"$f":"IFERROR(INDEX(data_absen!$I$2:$I$2000,SUMPRODUCT((data_absen!$B$2:$B$2000=$A136)*(data_absen!$C$2:$C$2000=BO$3)*(ROW(data_absen!$C$2:$C$2000)))-1)*1440,\"\")","v":""},null,null,{"$f":"IFERROR(INDEX(data_absen!$J$2:$J$2000,SUMPRODUCT((data_absen!$B$2:$B$2000=$A136)*(data_absen!$C$2:$C$2000=BO$3)*(ROW(data_absen!$C$2:$C$2000)))-1)*1440,\"\")","v":""},{"$f":"COUNTIFS(data_absen!$B$2:$B$2000,$A136,data_absen!$I$2:$I$2000,\">0\")","v":0}]
["Nafil",{"$f":"INDEX(data_absen!$G$2:$G$2000,SUMPRODUCT((data_absen!$B$2:$B$2000=$A139)*(data_absen!$C$2:$C$2000=B$3)*(ROW(data_absen!$C$2:$C$2000)))-1)","v":"00:00:00"},null,"-",{"$f":"INDEX(data_absen!$H$2:$H$2000,SUMPRODUCT((data_absen!$B$2:$B$2000=$A139)*(data_absen!$C$2:$C$2000=B$3)*(ROW(data_absen!$C$2:$C$2000)))-1)","v":"00:00:00"},null,{"$f":"INDEX(data_absen!$G$2:$G$2000,SUMPRODUCT((data_absen!$B$2:$B$2000=$A139)*(data_absen!$C$2:$C$2000=G$3)*(ROW(data_absen!$C$2:$C$2000)))-1)","v":"00:00:00"},null,"-",{"$f":"INDEX(data_absen!$H$2:$H$2000,SUMPRODUCT((data_absen!$B$2:$B$2000=$A139)*(data_absen!$C$2:$C$2000=G$3)*(ROW(data_absen!$C$2:$C$2000)))-1)","v":"00:00:00"},null,{"$f":"INDEX(data_absen!$G$2:$G$2000,SUMPRODUCT((data_absen!$B$2:$B$2000=$A139)*(data_absen!$C$2:$C$2000=L$3)*(ROW(data_absen!$C$2:$C$2000)))-1)","v":"00:00:00"},null,"-",{"$f":"INDEX(data_absen!$H$2:$H$2000,SUMPRODUCT((data_absen!$B$2:$B$2000=$A139)*(data_absen!$C$2:$C$2000=L$3)*(ROW(data_absen!$C$2:$C$2000)))-1)","v":"00:00:00"},null,{"$f":"INDEX(data_absen!$G$2:$G$2000,SUMPRODUCT((data_absen!$B$2:$B$2000=$A139)*(data_absen!$C$2:$C$2000=Q$3)*(ROW(data_absen!$C$2:$C$2000)))-1)","v":""},null,"-",{"$f":"INDEX(data_absen!$H$2:$H$2000,SUMPRODUCT((data_absen!$B$2:$B$2000=$A139)*(data_absen!$C$2:$C$2000=Q$3)*(ROW(data_absen!$C$2:$C$2000)))-1)","v":""},null,{"$f":"INDEX(data_absen!$G$2:$G$2000,SUMPRODUCT((data_absen!$B$2:$B$2000=$A139)*(data_absen!$C$2:$C$2000=V$3)*(ROW(data_absen!$C$2:$C$2000)))-1)","v":""},null,"-",{"$f":"INDEX(data_absen!$H$2:$H$2000,SUMPRODUCT((data_absen!$B$2:$B$2000=$A139)*(data_absen!$C$2:$C$2000=V$3)*(ROW(data_absen!$C$2:$C$2000)))-1)","v":""},null,{"$f":"INDEX(data_absen!$G$2:$G$2000,SUMPRODUCT((data_absen!$B$2:$B$2000=$A139)*(data_absen!$C$2:$C$2000=AA$3)*(ROW(data_absen!$C$2:$C$2000)))-1)","v":""},null,"-",{"$f":"INDEX(data_absen!$H$2:$H$2000,SUMPRODUCT((data_absen!$B$2:$B$2000=$A139)*(data_absen!$C$2:$C$2000=AA$3)*(ROW(data_absen!$C$2:$C$2000)))-1)","v":""},null,{"$f":"INDEX(data_absen!$G$2:$G$2000,SUMPRODUCT((data_absen!$B$2:$B$2000=$A139)*(data_absen!$C$2:$C$2000=AF$3)*(ROW(data_absen!$C$2:$C$2000)))-1)","v":""},null,"-",{"$f":"INDEX(data_absen!$H$2:$H$2000,SUMPRODUCT((data_absen!$B$2:$B$2000=$A139)*(data_absen!$C$2:$C$2000=AF$3)*(ROW(data_absen!$C$2:$C$2000)))-1)","v":""},null,{"$f":"INDEX(data_absen!$G$2:$G$2000,SUMPRODUCT((data_absen!$B$2:$B$2000=$A139)*(data_absen!$C$2:$C$2000=AK$3)*(ROW(data_absen!$C$2:$C$2000)))-1)","v":""},null,"-",{"$f":"INDEX(data_absen!$H$2:$H$2000,SUMPRODUCT((data_absen!$B$2:$B$2000=$A139)*(data_absen!$C$2:$C$2000=AK$3)*(ROW(data_absen!$C$2:$C$2000)))-1)","v":""},null,{"$f":"INDEX(data_absen!$G$2:$G$2000,SUMPRODUCT((data_absen!$B$2:$B$2000=$A139)*(data_absen!$C$2:$C$2000=AP$3)*(ROW(data_absen!$C$2:$C$2000)))-1)","v":""},null,"-",{"$f":"INDEX(data_absen!$H$2:$H$2000,SUMPRODUCT((data_absen!$B$2:$B$2000=$A139)*(data_absen!$C$2:$C$2000=AP$3)*(ROW(data_absen!$C$2:$C$2000)))-1)","v":""},null,{"$f":"INDEX(data_absen!$G$2:$G$2000,SUMPRODUCT((data_absen!$B$2:$B$2000=$A139)*(data_absen!$C$2:$C$2000=AU$3)*(ROW(data_absen!$C$2:$C$2000)))-1)","v":""},null,"-",{"$f":"INDEX(data_absen!$H$2:$H$2000,SUMPRODUCT((data_absen!$B$2:$B$2000=$A139)*(data_absen!$C$2:$C$2000=AU$3)*(ROW(data_absen!$C$2:$C$2000)))-1)","v":""},null,{"$f":"INDEX(data_absen!$G$2:$G$2000,SUMPRODUCT((data_absen!$B$2:$B$2000=$A139)*(data_absen!$C$2:$C$2000=AZ$3)*(ROW(data_absen!$C$2:$C$2000)))-1)","v":""},null,"-",{"$f":"INDEX(data_absen!$H$2:$H$2000,SUMPRODUCT((data_absen!$B$2:$B$2000=$A139)*(data_absen!$C$2:$C$2000=AZ$3)*(ROW(data_absen!$C$2:$C$2000)))-1)","v":""},null,{"$f":"INDEX(data_absen!$G$2:$G$2000,SUMPRODUCT((data_absen!$B$2:$B$2000=$A139)*(data_absen!$C$2:$C$2000=BE$3)*(ROW(data_absen!$C$2:$C$2000)))-1)","v":""},null,"-",{"$f":"INDEX(data_absen!$H$2:$H$2000,SUMPRODUCT((data_absen!$B$2:$B$2000=$A139)*(data_absen!$C$2:$C$2000=BE$3)*(ROW(data_absen!$C$2:$C$2000)))-1)","v":""},null,{"$f":"INDEX(data_absen!$G$2:$G$2000,SUMPRODUCT((data_absen!$B$2:$B$2000=$A139)*(data_absen!$C$2:$C$2000=BJ$3)*(ROW(data_absen!$C$2:$C$2000)))-1)","v":""},null,"-",{"$f":"INDEX(data_absen!$H$2:$H$2000,SUMPRODUCT((data_absen!$B$2:$B$2000=$A139)*(data_absen!$C$2:$C$2000=BJ$3)*(ROW(data_absen!$C$2:$C$2000)))-1)","v":""},null,{"$f":"INDEX(data_absen!$G$2:$G$2000,SUMPRODUCT((data_absen!$B$2:$B$2000=$A139)*(data_absen!$C$2:$C$2000=BO$3)*(ROW(data_absen!$C$2:$C$2000)))-1)","v":""},null,"-",{"$f":"INDEX(data_absen!$H$2:$H$2000,SUMPRODUCT((data_absen!$B$2:$B$2000=$A139)*(data_absen!$C$2:$C$2000=BO$3)*(ROW(data_absen!$C$2:$C$2000)))-1)","v":""}]
[412,null,null,"-",null,null,null,null,"-",null,null,null,null,"-",null,null,null,null,"-",null,null,null,null,"-",null,null,null,null,"-",null,null,null,null,"-",null,null,null,null,"-",null,null,null,null,"-",null,null,null,null,"-",null,null,null,null,"-",null,null,null,null,"-",null,null,null,null,"-",null,null,null,null,"-"]
[null,{"$f":"IFERROR(INDEX(data_absen!$K$2:$K$2000,SUMPRODUCT((data_absen!$B$2:$B$2000=$A139)*(data_absen!$C$2:$C$2000=B$3)*(ROW(data_absen!$C$2:$C$2000)))-1)*1440,\"\")","v":0},{"$f":"IFERROR(INDEX(data_absen!$I$2:$I$2000,SUMPRODUCT((data_absen!$B$2:$B$2000=$A139)*(data_absen!$C$2:$C$2000=B$3)*(ROW(data_absen!$C$2:$C$2000)))-1)*1440,\"\")","v":0},null,null,{"$f":"IFERROR(INDEX(data_absen!$J$2:$J$2000,SUMPRODUCT((data_absen!$B$2:$B$2000=$A139)*(data_absen!$C$2:$C$2000=B$3)*(ROW(data_absen!$C$2:$C$2000)))-1)*1440,\"\")","v":0},{"$f":"IFERROR(INDEX(data_absen!$K$2:$K$2000,SUMPRODUCT((data_absen!$B$2:$B$2000=$A139)*(data_absen!$C$2:$C$2000=G$3)*(ROW(data_absen!$C$2:$C$2000)))-1)*1440,\"\")","v":0},{"$f":"IFERROR(INDEX(data_absen!$I$2:$I$2000,SUMPRODUCT((data_absen!$B$2:$B$2000=$A139)*(data_absen!$C$2:$C$2000=G$3)*(ROW(data_absen!$C$2:$C$2000)))-1)*1440,\"\")","v":0},null,null,{"$f":"IFERROR(INDEX(data_absen!$J$2:$J$2000,SUMPRODUCT((data_absen!$B$2:$B$2000=$A139)*(data_absen!$C$2:$C$2000=G$3)*(ROW(data_absen!$C$2:$C$2000)))-1)*1440,\"\")","v":0},{"$f":"IFERROR(INDEX(data_absen!$K$2:$K$2000,SUMPRODUCT((data_absen!$B$2:$B$2000=$A139)*(data_absen!$C$2:$C$2000=L$3)*(ROW(data_absen!$C$2:$C$2000)))-1)*1440,\"\")","v":0},{"$f":"IFERROR(INDEX(data_absen!$I$2:$I$2000,SUMPRODUCT((data_absen!$B$2:$B$2000=$A139)*(data_absen!$C$2:$C$2000=L$3)*(ROW(data_absen!$C$2:$C$2000)))-1)*1440,\"\")","v":0},null,null,{"$f":"IFERROR(INDEX(data_absen!$J$2:$J$2000,SUMPRODUCT((data_absen!$B$2:$B$2000=$A139)*(data_absen!$C$2:$C$2000=L$3)*(ROW(data_absen!$C$2:$C$2000)))-1)*1440,\"\")","v":0},{"$f":"IFERROR(INDEX(data_absen!$K$2:$K$2000,SUMPRODUCT((data_absen!$B$2:$B$2000=$A139)*(data_absen!$C$2:$C$2000=Q$3)*(ROW(data_absen!$C$2:$C$2000)))-1)*1440,\"\")","v":""},{"$f":"IFERROR(INDEX(data_absen!$I$2:$I$2000,SUMPRODUCT((data_absen!$B$2:$B$2000=$A139)*(data_absen!$C$2:$C$2000=Q$3)*(ROW(data_absen!$C$2:$C$2000)))-1)*1440,\"\")","v":""},null,null,{"$f":"IFERROR(INDEX(data_absen!$J$2:$J$2000,SUMPRODUCT((data_absen!$B$2:$B$2000=$A139)*(data_absen!$C$2:$C$2000=Q$3)*(ROW(data_absen!$C$2:$C$2000)))-1)*1440,\"\")","v":""},{"$f":"IFERROR(INDEX(data_absen!$K$2:$K$2000,SUMPRODUCT((data_absen!$B$2:$B$2000=$A139)*(data_absen!$C$2:$C$2000=V$3)*(ROW(data_absen!$C$2:$C$2000)))-1)*1440,\"\")","v":""},{"$f":"IFERROR(INDEX(data_absen!$I$2:$I$2000,SUMPRODUCT((data_absen!$B$2:$B$2000=$A139)*(data_absen!$C$2:$C$2000=V$3)*(ROW(data_absen!$C$2:$C$2000)))-1)*1440,\"\")","v":""},null,null,{"$f":"IFERROR(INDEX(data_absen!$J$2:$J$2000,SUMPRODUCT((data_absen!$B$2:$B$2000=$A139)*(data_absen!$C$2:$C$2000=V$3)*(ROW(data_absen!$C$2:$C$2000)))-1)*1440,\"\")","v":""},{"$f":"IFERROR(INDEX(data_absen!$K$2:$K$2000,SUMPRODUCT((data_absen!$B$2:$B$2000=$A139)*(data_absen!$C$2:$C$2000=AA$3)*(ROW(data_absen!$C$2:$C$2000)))-1)*1440,\"\")","v":""},{"$f":"IFERROR(INDEX(data_absen!$I$2:$I$2000,SUMPRODUCT((data_absen!$B$2:$B$2000=$A139)*(data_absen!$C$2:$C$2000=AA$3)*(ROW(data_absen!$C$2:$C$2000)))-1)*1440,\"\")","v":""},null,null,{"$f":"IFERROR(INDEX(data_absen!$J$2:$J$2000,SUMPRODUCT((data_absen!$B$2:$B$2000=$A139)*(data_absen!$C$2:$C$2000=AA$3)*(ROW(data_absen!$C$2:$C$2000)))-1)*1440,\"\")","v":""},{"$f":"IFERROR(INDEX(data_absen!$K$2:$K$2000,SUMPRODUCT((data_absen!$B$2:$B$2000=$A139)*(data_absen!$C$2:$C$2000=AF$3)*(ROW(data_absen!$C$2:$C$2000)))-1)*1440,\"\")","v":""},{"$f":"IFERROR(INDEX(data_absen!$I$2:$I$2000,SUMPRODUCT((data_absen!$B$2:$B$2000=$A139)*(data_absen!$C$2:$C$2000=AF$3)*(ROW(data_absen!$C$2:$C$2000)))-1)*1440,\"\")","v":""},null,null,{"$f":"IFERROR(INDEX(data_absen!$J$2:$J$2000,SUMPRODUCT((data_absen!$B$2:$B$2000=$A139)*(data_absen!$C$2:$C$2000=AF$3)*(ROW(data_absen!$C$2:$C$2000)))-1)*1440,\"\")","v":""},{"$f":"IFERROR(INDEX(data_absen!$K$2:$K$2000,SUMPRODUCT((data_absen!$B$2:$B$2000=$A139)*(data_absen!$C$2:$C$2000=AK$3)*(ROW(data_absen!$C$2:$C$2000)))-1)*1440,\"\")","v":""},{"$f":"IFERROR(INDEX(data_absen!$I$2:$I$2000,SUMPRODUCT((data_absen!$B$2:$B$2000=$A139)*(data_absen!$C$2:$C$2000=AK$3)*(ROW(data_absen!$C$2:$C$2000)))-1)*1440,\"\")","v":""},null,null,{"$f":"IFERROR(INDEX(data_absen!$J$2:$J$2000,SUMPRODUCT((data_absen!$B$2:$B$2000=$A139)*(data_absen!$C$2:$C$2000=AK$3)*(ROW(data_absen!$C$2:$C$2000)))-1)*1440,\"\")","v":""},{"$f":"IFERROR(INDEX(data_absen!$K$2:$K$2000,SUMPRODUCT((data_absen!$B$2:$B$2000=$A139)*(data_absen!$C$2:$C$2000=AP$3)*(ROW(data_absen!$C$2:$C$2000)))-1)*1440,\"\")","v":""},{"$f":"IFERROR(INDEX(data_absen!$I$2:$I$2000,SUMPRODUCT((data_absen!$B$2:$B$2000=$A139)*(data_absen!$C$2:$C$2000=AP$3)*(ROW(data_absen!$C$2:$C$2000)))-1)*1440,\"\")","v":""},null,null,{"$f":"IFERROR(INDEX(data_absen!$J$2:$J$2000,SUMPRODUCT((data_absen!$B$2:$B$2000=$A139)*(data_absen!$C$2:$C$2000=AP$3)*(ROW(data_absen!$C$2:$C$2000)))-1)*1440,\"\")","v":""},{"$f":"IFERROR(INDEX(data_absen!$K$2:$K$2000,SUMPRODUCT((data_absen!$B$2:$B$2000=$A139)*(data_absen!$C$2:$C$2000=AU$3)*(ROW(data_absen!$C$2:$C$2000)))-1)*1440,\"\")","v":""},{"$f":"IFERROR(INDEX(data_absen!$I$2:$I$2000,SUMPRODUCT((data_absen!$B$2:$B$2000=$A139)*(data_absen!$C$2:$C$2000=AU$3)*(ROW(data_absen!$C$2:$C$2000)))-1)*1440,\"\")","v":""},null,null,{"$f":"IFERROR(INDEX(data_absen!$J$2:$J$2000,SUMPRODUCT((data_absen!$B$2:$B$2000=$A139)*(data_absen!$C$2:$C$2000=AU$3)*(ROW(data_absen!$C$2:$C$2000)))-1)*1440,\"\")","v":""},{"$f":"IFERROR(INDEX(data_absen!$K$2:$K$2000,SUMPRODUCT((data_absen!$B$2:$B$2000=$A139)*(data_absen!$C$2:$C$2000=AZ$3)*(ROW(data_absen!$C$2:$C$2000)))-1)*1440,\"\")","v":""},{"$f":"IFERROR(INDEX(data_absen!$I$2:$I$2000,SUMPRODUCT((data_absen!$B$2:$B$2000=$A139)*(data_absen!$C$2:$C$2000=AZ$3)*(ROW(data_absen!$C$2:$C$2000)))-1)*1440,\"\")","v":""},null,null,{"$f":"IFERROR(INDEX(data_absen!$J$2:$J$2000,SUMPRODUCT((data_absen!$B$2:$B$2000=$A139)*(data_absen!$C$2:$C$2000=AZ$3)*(ROW(data_absen!$C$2:$C$2000)))-1)*1440,\"\")","v":""},{"$f":"IFERROR(INDEX(data_absen!$K$2:$K$2000,SUMPRODUCT((data_absen!$B$2:$B$2000=$A139)*(data_absen!$C$2:$C$2000=BE$3)*(ROW(data_absen!$C$2:$C$2000)))-1)*1440,\"\")","v":""},{"$f":"IFERROR(INDEX(data_absen!$I$2:$I$2000,SUMPRODUCT((data_absen!$B$2:$B$2000=$A139)*(data_absen!$C$2:$C$2000=BE$3)*(ROW(data_absen!$C$2:$C$2000)))-1)*1440,\"\")","v":""},null,null,{"$f":"IFERROR(INDEX(data_absen!$J$2:$J$2000,SUMPRODUCT((data_absen!$B$2:$B$2000=$A139)*(data_absen!$C$2:$C$2000=BE$3)*(ROW(data_absen!$C$2:$C$2000)))-1)*1440,\"\")","v":""},{"$f":"IFERROR(INDEX(data_absen!$K$2:$K$2000,SUMPRODUCT((data_absen!$B$2:$B$2000=$A139)*(data_absen!$C$2:$C$2000=BJ$3)*(ROW(data_absen!$C$2:$C$2000)))-1)*1440,\"\")","v":""},{"$f":"IFERROR(INDEX(data_absen!$I$2:$I$2000,SUMPRODUCT((data_absen!$B$2:$B$2000=$A139)*(data_absen!$C$2:$C$2000=BJ$3)*(ROW(data_absen!$C$2:$C$2000)))-1)*1440,\"\")","v":""},null,null,{"$f":"IFERROR(INDEX(data_absen!$J$2:$J$2000,SUMPRODUCT((data_absen!$B$2:$B$2000=$A139)*(data_absen!$C$2:$C$2000=BJ$3)*(ROW(data_absen!$C$2:$C$2000)))-1)*1440,\"\")","v":""},{"$f":"IFERROR(INDEX(data_absen!$K$2:$K$2000,SUMPRODUCT((data_absen!$B$2:$B$2000=$A139)*(data_absen!$C$2:$C$2000=BO$3)*(ROW(data_absen!$C$2:$C$2000)))-1)*1440,\"\")","v":""},{"$f":"IFERROR(INDEX(data_absen!$I$2:$I$2000,SUMPRODUCT((data_absen!$B$2:$B$2000=$A139)*(data_absen!$C$2:$C$2000=BO$3)*(ROW(data_absen!$C$2:$C$2000)))-1)*1440,\"\")","v":""},null,null,{"$f":"IFERROR(INDEX(data_absen!$J$2:$J$2000,SUMPRODUCT((data_absen!$B$2:$B$2000=$A139)*(data_absen!$C$2:$C$2000=BO$3)*(ROW(data_absen!$C$2:$C$2000)))-1)*1440,\"\")","v":""},{"$f":"COUNTIFS(data_absen!$B$2:$B$2000,$A139,data_absen!$I$2:$I$2000,\">0\")","v":0}]
["Ayunda",{"$f":"INDEX(data_absen!$G$2:$G$2000,SUMPRODUCT((data_absen!$B$2:$B$2000=$A142)*(data_absen!$C$2:$C$2000=B$3)*(ROW(data_absen!$C$2:$C$2000)))-1)","v":"00:00:00"},null,"-",{"$f":"INDEX(data_absen!$H$2:$H$2000,SUMPRODUCT((data_absen!$B$2:$B$2000=$A142)*(data_absen!$C$2:$C$2000=B$3)*(ROW(data_absen!$C$2:$C$2000)))-1)","v":"00:00:00"},null,{"$f":"INDEX(data_absen!$G$2:$G$2000,SUMPRODUCT((data_absen!$B$2:$B$2000=$A142)*(data_absen!$C$2:$C$2000=G$3)*(ROW(data_absen!$C$2:$C$2000)))-1)","v":"00:00:00"},null,"-",{"$f":"INDEX(data_absen!$H$2:$H$2000,SUMPRODUCT((data_absen!$B$2:$B$2000=$A142)*(data_absen!$C$2:$C$2000=G$3)*(ROW(data_absen!$C$2:$C$2000)))-1)","v":"00:00:00"},null,{"$f":"INDEX(data_absen!$G$2:$G$2000,SUMPRODUCT((data_absen!$B$2:$B$2000=$A142)*(data_absen!$C$2:$C$2000=L$3)*(ROW(data_absen!$C$2:$C$2000)))-1)","v":"00:00:00"},null,"-",{"$f":"INDEX(data_absen!$H$2:$H$2000,SUMPRODUCT((data_absen!$B$2:$B$2000=$A142)*(data_absen!$C$2:$C$2000=L$3)*(ROW(data_absen!$C$2:$C$2000)))-1)","v":"00:00:00"},null,{"$f":"INDEX(data_absen!$G$2:$G$2000,SUMPRODUCT((data_absen!$B$2:$B$2000=$A142)*(data_absen!$C$2:$C$2000=Q$3)*(ROW(data_absen!$C$2:$C$2000)))-1)","v":""},null,"-",{"$f":"INDEX(data_absen!$H$2:$H$2000,SUMPRODUCT((data_absen!$B$2:$B$2000=$A142)*(data_absen!$C$2:$C$2000=Q$3)*(ROW(data_absen!$C$2:$C$2000)))-1)","v":""},null,{"$f":"INDEX(data_absen!$G$2:$G$2000,SUMPRODUCT((data_absen!$B$2:$B$2000=$A142)*(data_absen!$C$2:$C$2000=V$3)*(ROW(data_absen!$C$2:$C$2000)))-1)","v":""},null,"-",{"$f":"INDEX(data_absen!$H$2:$H$2000,SUMPRODUCT((data_absen!$B$2:$B$2000=$A142)*(data_absen!$C$2:$C$2000=V$3)*(ROW(data_absen!$C$2:$C$2000)))-1)","v":""},null,{"$f":"INDEX(data_absen!$G$2:$G$2000,SUMPRODUCT((data_absen!$B$2:$B$2000=$A142)*(data_absen!$C$2:$C$2000=AA$3)*(ROW(data_absen!$C$2:$C$2000)))-1)","v":""},null,"-",{"$f":"INDEX(data_absen!$H$2:$H$2000,SUMPRODUCT((data_absen!$B$2:$B$2000=$A142)*(data_absen!$C$2:$C$2000=AA$3)*(ROW(data_absen!$C$2:$C$2000)))-1)","v":""},null,{"$f":"INDEX(data_absen!$G$2:$G$2000,SUMPRODUCT((data_absen!$B$2:$B$2000=$A142)*(data_absen!$C$2:$C$2000=AF$3)*(ROW(data_absen!$C$2:$C$2000)))-1)","v":""},null,"-",{"$f":"INDEX(data_absen!$H$2:$H$2000,SUMPRODUCT((data_absen!$B$2:$B$2000=$A142)*(data_absen!$C$2:$C$2000=AF$3)*(ROW(data_absen!$C$2:$C$2000)))-1)","v":""},null,{"$f":"INDEX(data_absen!$G$2:$G$2000,SUMPRODUCT((data_absen!$B$2:$B$2000=$A142)*(data_absen!$C$2:$C$2000=AK$3)*(ROW(data_absen!$C$2:$C$2000)))-1)","v":""},null,"-",{"$f":"INDEX(data_absen!$H$2:$H$2000,SUMPRODUCT((data_absen!$B$2:$B$2000=$A142)*(data_absen!$C$2:$C$2000=AK$3)*(ROW(data_absen!$C$2:$C$2000)))-1)","v":""},null,{"$f":"INDEX(data_absen!$G$2:$G$2000,SUMPRODUCT((data_absen!$B$2:$B$2000=$A142)*(data_absen!$C$2:$C$2000=AP$3)*(ROW(data_absen!$C$2:$C$2000)))-1)","v":""},null,"-",{"$f":"INDEX(data_absen!$H$2:$H$2000,SUMPRODUCT((data_absen!$B$2:$B$2000=$A142)*(data_absen!$C$2:$C$2000=AP$3)*(ROW(data_absen!$C$2:$C$2000)))-1)","v":""},null,{"$f":"INDEX(data_absen!$G$2:$G$2000,SUMPRODUCT((data_absen!$B$2:$B$2000=$A142)*(data_absen!$C$2:$C$2000=AU$3)*(ROW(data_absen!$C$2:$C$2000)))-1)","v":""},null,"-",{"$f":"INDEX(data_absen!$H$2:$H$2000,SUMPRODUCT((data_absen!$B$2:$B$2000=$A142)*(data_absen!$C$2:$C$2000=AU$3)*(ROW(data_absen!$C$2:$C$2000)))-1)","v":""},null,{"$f":"INDEX(data_absen!$G$2:$G$2000,SUMPRODUCT((data_absen!$B$2:$B$2000=$A142)*(data_absen!$C$2:$C$2000=AZ$3)*(ROW(data_absen!$C$2:$C$2000)))-1)","v":""},null,"-",{"$f":"INDEX(data_absen!$H$2:$H$2000,SUMPRODUCT((data_absen!$B$2:$B$2000=$A142)*(data_absen!$C$2:$C$2000=AZ$3)*(ROW(data_absen!$C$2:$C$2000)))-1)","v":""},null,{"$f":"INDEX(data_absen!$G$2:$G$2000,SUMPRODUCT((data_absen!$B$2:$B$2000=$A142)*(data_absen!$C$2:$C$2000=BE$3)*(ROW(data_absen!$C$2:$C$2000)))-1)","v":""},null,"-",{"$f":"INDEX(data_absen!$H$2:$H$2000,SUMPRODUCT((data_absen!$B$2:$B$2000=$A142)*(data_absen!$C$2:$C$2000=BE$3)*(ROW(data_absen!$C$2:$C$2000)))-1)","v":""},null,{"$f":"INDEX(data_absen!$G$2:$G$2000,SUMPRODUCT((data_absen!$B$2:$B$2000=$A142)*(data_absen!$C$2:$C$2000=BJ$3)*(ROW(data_absen!$C$2:$C$2000)))-1)","v":""},null,"-",{"$f":"INDEX(data_absen!$H$2:$H$2000,SUMPRODUCT((data_absen!$B$2:$B$2000=$A142)*(data_absen!$C$2:$C$2000=BJ$3)*(ROW(data_absen!$C$2:$C$2000)))-1)","v":""},null,{"$f":"INDEX(data_absen!$G$2:$G$2000,SUMPRODUCT((data_absen!$B$2:$B$2000=$A142)*(data_absen!$C$2:$C$2000=BO$3)*(ROW(data_absen!$C$2:$C$2000)))-1)","v":""},null,"-",{"$f":"INDEX(data_absen!$H$2:$H$2000,SUMPRODUCT((data_absen!$B$2:$B$2000=$A142)*(data_absen!$C$2:$C$2000=BO$3)*(ROW(data_absen!$C$2:$C$2000)))-1)","v":""}]
[413,null,null,"-",null,null,null,null,"-",null,null,null,null,"-",null,null,null,null,"-",null,null,null,null,"-",null,null,null,null,"-",null,null,null,null,"-",null,null,null,null,"-",null,null,null,null,"-",null,null,null,null,"-",null,null,null,null,"-",null,null,null,null,"-",null,null,null,null,"-",null,null,null,null,"-"]
[null,{"$f":"IFERROR(INDEX(data_absen!$K$2:$K$2000,SUMPRODUCT((data_absen!$B$2:$B$2000=$A142)*(data_absen!$C$2:$C$2000=B$3)*(ROW(data_absen!$C$2:$C$2000)))-1)*1440,\"\")","v":0},{"$f":"IFERROR(INDEX(data_absen!$I$2:$I$2000,SUMPRODUCT((data_absen!$B$2:$B$2000=$A142)*(data_absen!$C$2:$C$2000=B$3)*(ROW(data_absen!$C$2:$C$2000)))-1)*1440,\"\")","v":0},null,null,{"$f":"IFERROR(INDEX(data_absen!$J$2:$J$2000,SUMPRODUCT((data_absen!$B$2:$B$2000=$A142)*(data_absen!$C$2:$C$2000=B$3)*(ROW(data_absen!$C$2:$C$2000)))-1)*1440,\"\")","v":0},{"$f":"IFERROR(INDEX(data_absen!$K$2:$K$2000,SUMPRODUCT((data_absen!$B$2:$B$2000=$A142)*(data_absen!$C$2:$C$2000=G$3)*(ROW(data_absen!$C$2:$C$2000)))-1)*1440,\"\")","v":0},{"$f":"IFERROR(INDEX(data_absen!$I$2:$I$2000,SUMPRODUCT((data_absen!$B$2:$B$2000=$A142)*(data_absen!$C$2:$C$2000=G$3)*(ROW(data_absen!$C$2:$C$2000)))-1)*1440,\"\")","v":0},null,null,{"$f":"IFERROR(INDEX(data_absen!$J$2:$J$2000,SUMPRODUCT((data_absen!$B$2:$B$2000=$A142)*(data_absen!$C$2:$C$2000=G$3)*(ROW(data_absen!$C$2:$C$2000)))-1)*1440,\"\")","v":0},{"$f":"IFERROR(INDEX(data_absen!$K$2:$K$2000,SUMPRODUCT((data_absen!$B$2:$B$2000=$A142)*(data_absen!$C$2:$C$2000=L$3)*(ROW(data_absen!$C$2:$C$2000)))-1)*1440,\"\")","v":0},{"$f":"IFERROR(INDEX(data_absen!$I$2:$I$2000,SUMPRODUCT((data_absen!$B$2:$B$2000=$A142)*(data_absen!$C$2:$C$2000=L$3)*(ROW(data_absen!$C$2:$C$2000)))-1)*1440,\"\")","v":0},null,null,{"$f":"IFERROR(INDEX(data_absen!$J$2:$J$2000,SUMPRODUCT((data_absen!$B$2:$B$2000=$A142)*(data_absen!$C$2:$C$2000=L$3)*(ROW(data_absen!$C$2:$C$2000)))-1)*1440,\"\")","v":0},{"$f":"IFERROR(INDEX(data_absen!$K$2:$K$2000,SUMPRODUCT((data_absen!$B$2:$B$2000=$A142)*(data_absen!$C$2:$C$2000=Q$3)*(ROW(data_absen!$C$2:$C$2000)))-1)*1440,\"\")","v":""},{"$f":"IFERROR(INDEX(data_absen!$I$2:$I$2000,SUMPRODUCT((data_absen!$B$2:$B$2000=$A142)*(data_absen!$C$2:$C$2000=Q$3)*(ROW(data_absen!$C$2:$C$2000)))-1)*1440,\"\")","v":""},null,null,{"$f":"IFERROR(INDEX(data_absen!$J$2:$J$2000,SUMPRODUCT((data_absen!$B$2:$B$2000=$A142)*(data_absen!$C$2:$C$2000=Q$3)*(ROW(data_absen!$C$2:$C$2000)))-1)*1440,\"\")","v":""},{"$f":"IFERROR(INDEX(data_absen!$K$2:$K$2000,SUMPRODUCT((data_absen!$B$2:$B$2000=$A142)*(data_absen!$C$2:$C$2000=V$3)*(ROW(data_absen!$C$2:$C$2000)))-1)*1440,\"\")","v":""},{"$f":"IFERROR(INDEX(data_absen!$I$2:$I$2000,SUMPRODUCT((data_absen!$B$2:$B$2000=$A142)*(data_absen!$C$2:$C$2000=V$3)*(ROW(data_absen!$C$2:$C$2000)))-1)*1440,\"\")","v":""},null,null,{"$f":"IFERROR(INDEX(data_absen!$J$2:$J$2000,SUMPRODUCT((data_absen!$B$2:$B$2000=$A142)*(data_absen!$C$2:$C$2000=V$3)*(ROW(data_absen!$C$2:$C$2000)))-1)*1440,\"\")","v":""},{"$f":"IFERROR(INDEX(data_absen!$K$2:$K$2000,SUMPRODUCT((data_absen!$B$2:$B$2000=$A142)*(data_absen!$C$2:$C$2000=AA$3)*(ROW(data_absen!$C$2:$C$2000)))-1)*1440,\"\")","v":""},{"$f":"IFERROR(INDEX(data_absen!$I$2:$I$2000,SUMPRODUCT((data_absen!$B$2:$B$2000=$A142)*(data_absen!$C$2:$C$2000=AA$3)*(ROW(data_absen!$C$2:$C$2000)))-1)*1440,\"\")","v":""},null,null,{"$f":"IFERROR(INDEX(data_absen!$J$2:$J$2000,SUMPRODUCT((data_absen!$B$2:$B$2000=$A142)*(data_absen!$C$2:$C$2000=AA$3)*(ROW(data_absen!$C$2:$C$2000)))-1)*1440,\"\")","v":""},{"$f":"IFERROR(INDEX(data_absen!$K$2:$K$2000,SUMPRODUCT((data_absen!$B$2:$B$2000=$A142)*(data_absen!$C$2:$C$2000=AF$3)*(ROW(data_absen!$C$2:$C$2000)))-1)*1440,\"\")","v":""},{"$f":"IFERROR(INDEX(data_absen!$I$2:$I$2000,SUMPRODUCT((data_absen!$B$2:$B$2000=$A142)*(data_absen!$C$2:$C$2000=AF$3)*(ROW(data_absen!$C$2:$C$2000)))-1)*1440,\"\")","v":""},null,null,{"$f":"IFERROR(INDEX(data_absen!$J$2:$J$2000,SUMPRODUCT((data_absen!$B$2:$B$2000=$A142)*(data_absen!$C$2:$C$2000=AF$3)*(ROW(data_absen!$C$2:$C$2000)))-1)*1440,\"\")","v":""},{"$f":"IFERROR(INDEX(data_absen!$K$2:$K$2000,SUMPRODUCT((data_absen!$B$2:$B$2000=$A142)*(data_absen!$C$2:$C$2000=AK$3)*(ROW(data_absen!$C$2:$C$2000)))-1)*1440,\"\")","v":""},{"$f":"IFERROR(INDEX(data_absen!$I$2:$I$2000,SUMPRODUCT((data_absen!$B$2:$B$2000=$A142)*(data_absen!$C$2:$C$2000=AK$3)*(ROW(data_absen!$C$2:$C$2000)))-1)*1440,\"\")","v":""},null,null,{"$f":"IFERROR(INDEX(data_absen!$J$2:$J$2000,SUMPRODUCT((data_absen!$B$2:$B$2000=$A142)*(data_absen!$C$2:$C$2000=AK$3)*(ROW(data_absen!$C$2:$C$2000)))-1)*1440,\"\")","v":""},{"$f":"IFERROR(INDEX(data_absen!$K$2:$K$2000,SUMPRODUCT((data_absen!$B$2:$B$2000=$A142)*(data_absen!$C$2:$C$2000=AP$3)*(ROW(data_absen!$C$2:$C$2000)))-1)*1440,\"\")","v":""},{"$f":"IFERROR(INDEX(data_absen!$I$2:$I$2000,SUMPRODUCT((data_absen!$B$2:$B$2000=$A142)*(data_absen!$C$2:$C$2000=AP$3)*(ROW(data_absen!$C$2:$C$2000)))-1)*1440,\"\")","v":""},null,null,{"$f":"IFERROR(INDEX(data_absen!$J$2:$J$2000,SUMPRODUCT((data_absen!$B$2:$B$2000=$A142)*(data_absen!$C$2:$C$2000=AP$3)*(ROW(data_absen!$C$2:$C$2000)))-1)*1440,\"\")","v":""},{"$f":"IFERROR(INDEX(data_absen!$K$2:$K$2000,SUMPRODUCT((data_absen!$B$2:$B$2000=$A142)*(data_absen!$C$2:$C$2000=AU$3)*(ROW(data_absen!$C$2:$C$2000)))-1)*1440,\"\")","v":""},{"$f":"IFERROR(INDEX(data_absen!$I$2:$I$2000,SUMPRODUCT((data_absen!$B$2:$B$2000=$A142)*(data_absen!$C$2:$C$2000=AU$3)*(ROW(data_absen!$C$2:$C$2000)))-1)*1440,\"\")","v":""},null,null,{"$f":"IFERROR(INDEX(data_absen!$J$2:$J$2000,SUMPRODUCT((data_absen!$B$2:$B$2000=$A142)*(data_absen!$C$2:$C$2000=AU$3)*(ROW(data_absen!$C$2:$C$2000)))-1)*1440,\"\")","v":""},{"$f":"IFERROR(INDEX(data_absen!$K$2:$K$2000,SUMPRODUCT((data_absen!$B$2:$B$2000=$A142)*(data_absen!$C$2:$C$2000=AZ$3)*(ROW(data_absen!$C$2:$C$2000)))-1)*1440,\"\")","v":""},{"$f":"IFERROR(INDEX(data_absen!$I$2:$I$2000,SUMPRODUCT((data_absen!$B$2:$B$2000=$A142)*(data_absen!$C$2:$C$2000=AZ$3)*(ROW(data_absen!$C$2:$C$2000)))-1)*1440,\"\")","v":""},null,null,{"$f":"IFERROR(INDEX(data_absen!$J$2:$J$2000,SUMPRODUCT((data_absen!$B$2:$B$2000=$A142)*(data_absen!$C$2:$C$2000=AZ$3)*(ROW(data_absen!$C$2:$C$2000)))-1)*1440,\"\")","v":""},{"$f":"IFERROR(INDEX(data_absen!$K$2:$K$2000,SUMPRODUCT((data_absen!$B$2:$B$2000=$A142)*(data_absen!$C$2:$C$2000=BE$3)*(ROW(data_absen!$C$2:$C$2000)))-1)*1440,\"\")","v":""},{"$f":"IFERROR(INDEX(data_absen!$I$2:$I$2000,SUMPRODUCT((data_absen!$B$2:$B$2000=$A142)*(data_absen!$C$2:$C$2000=BE$3)*(ROW(data_absen!$C$2:$C$2000)))-1)*1440,\"\")","v":""},null,null,{"$f":"IFERROR(INDEX(data_absen!$J$2:$J$2000,SUMPRODUCT((data_absen!$B$2:$B$2000=$A142)*(data_absen!$C$2:$C$2000=BE$3)*(ROW(data_absen!$C$2:$C$2000)))-1)*1440,\"\")","v":""},{"$f":"IFERROR(INDEX(data_absen!$K$2:$K$2000,SUMPRODUCT((data_absen!$B$2:$B$2000=$A142)*(data_absen!$C$2:$C$2000=BJ$3)*(ROW(data_absen!$C$2:$C$2000)))-1)*1440,\"\")","v":""},{"$f":"IFERROR(INDEX(data_absen!$I$2:$I$2000,SUMPRODUCT((data_absen!$B$2:$B$2000=$A142)*(data_absen!$C$2:$C$2000=BJ$3)*(ROW(data_absen!$C$2:$C$2000)))-1)*1440,\"\")","v":""},null,null,{"$f":"IFERROR(INDEX(data_absen!$J$2:$J$2000,SUMPRODUCT((data_absen!$B$2:$B$2000=$A142)*(data_absen!$C$2:$C$2000=BJ$3)*(ROW(data_absen!$C$2:$C$2000)))-1)*1440,\"\")","v":""},{"$f":"IFERROR(INDEX(data_absen!$K$2:$K$2000,SUMPRODUCT((data_absen!$B$2:$B$2000=$A142)*(data_absen!$C$2:$C$2000=BO$3)*(ROW(data_absen!$C$2:$C$2000)))-1)*1440,\"\")","v":""},{"$f":"IFERROR(INDEX(data_absen!$I$2:$I$2000,SUMPRODUCT((data_absen!$B$2:$B$2000=$A142)*(data_absen!$C$2:$C$2000=BO$3)*(ROW(data_absen!$C$2:$C$2000)))-1)*1440,\"\")","v":""},null,null,{"$f":"IFERROR(INDEX(data_absen!$J$2:$J$2000,SUMPRODUCT((data_absen!$B$2:$B$2000=$A142)*(data_absen!$C$2:$C$2000=BO$3)*(ROW(data_absen!$C$2:$C$2000)))-1)*1440,\"\")","v":""},{"$f":"COUNTIFS(data_absen!$B$2:$B$2000,$A142,data_absen!$I$2:$I$2000,\">0\")","v":0}]
["Vina",{"$f":"INDEX(data_absen!$G$2:$G$2000,SUMPRODUCT((data_absen!$B$2:$B$2000=$A145)*(data_absen!$C$2:$C$2000=B$3)*(ROW(data_absen!$C$2:$C$2000)))-1)","v":"00:00:00"},null,"-",{"$f":"INDEX(data_absen!$H$2:$H$2000,SUMPRODUCT((data_absen!$B$2:$B$2000=$A145)*(data_absen!$C$2:$C$2000=B$3)*(ROW(data_absen!$C$2:$C$2000)))-1)","v":"00:00:00"},null,{"$f":"INDEX(data_absen!$G$2:$G$2000,SUMPRODUCT((data_absen!$B$2:$B$2000=$A145)*(data_absen!$C$2:$C$2000=G$3)*(ROW(data_absen!$C$2:$C$2000)))-1)","v":"00:00:00"},null,"-",{"$f":"INDEX(data_absen!$H$2:$H$2000,SUMPRODUCT((data_absen!$B$2:$B$2000=$A145)*(data_absen!$C$2:$C$2000=G$3)*(ROW(data_absen!$C$2:$C$2000)))-1)","v":"00:00:00"},null,{"$f":"INDEX(data_absen!$G$2:$G$2000,SUMPRODUCT((data_absen!$B$2:$B$2000=$A145)*(data_absen!$C$2:$C$2000=L$3)*(ROW(data_absen!$C$2:$C$2000)))-1)","v":"00:00:00"},null,"-",{"$f":"INDEX(data_absen!$H$2:$H$2000,SUMPRODUCT((data_absen!$B$2:$B$2000=$A145)*(data_absen!$C$2:$C$2000=L$3)*(ROW(data_absen!$C$2:$C$2000)))-1)","v":"00:00:00"},null,{"$f":"INDEX(data_absen!$G$2:$G$2000,SUMPRODUCT((data_absen!$B$2:$B$2000=$A145)*(data_absen!$C$2:$C$2000=Q$3)*(ROW(data_absen!$C$2:$C$2000)))-1)","v":""},null,"-",{"$f":"INDEX(data_absen!$H$2:$H$2000,SUMPRODUCT((data_absen!$B$2:$B$2000=$A145)*(data_absen!$C$2:$C$2000=Q$3)*(ROW(data_absen!$C$2:$C$2000)))-1)","v":""},null,{"$f":"INDEX(data_absen!$G$2:$G$2000,SUMPRODUCT((data_absen!$B$2:$B$2000=$A145)*(data_absen!$C$2:$C$2000=V$3)*(ROW(data_absen!$C$2:$C$2000)))-1)","v":""},null,"-",{"$f":"INDEX(data_absen!$H$2:$H$2000,SUMPRODUCT((data_absen!$B$2:$B$2000=$A145)*(data_absen!$C$2:$C$2000=V$3)*(ROW(data_absen!$C$2:$C$2000)))-1)","v":""},null,{"$f":"INDEX(data_absen!$G$2:$G$2000,SUMPRODUCT((data_absen!$B$2:$B$2000=$A145)*(data_absen!$C$2:$C$2000=AA$3)*(ROW(data_absen!$C$2:$C$2000)))-1)","v":""},null,"-",{"$f":"INDEX(data_absen!$H$2:$H$2000,SUMPRODUCT((data_absen!$B$2:$B$2000=$A145)*(data_absen!$C$2:$C$2000=AA$3)*(ROW(data_absen!$C$2:$C$2000)))-1)","v":""},null,{"$f":"INDEX(data_absen!$G$2:$G$2000,SUMPRODUCT((data_absen!$B$2:$B$2000=$A145)*(data_absen!$C$2:$C$2000=AF$3)*(ROW(data_absen!$C$2:$C$2000)))-1)","v":""},null,"-",{"$f":"INDEX(data_absen!$H$2:$H$2000,SUMPRODUCT((data_absen!$B$2:$B$2000=$A145)*(data_absen!$C$2:$C$2000=AF$3)*(ROW(data_absen!$C$2:$C$2000)))-1)","v":""},null,{"$f":"INDEX(data_absen!$G$2:$G$2000,SUMPRODUCT((data_absen!$B$2:$B$2000=$A145)*(data_absen!$C$2:$C$2000=AK$3)*(ROW(data_absen!$C$2:$C$2000)))-1)","v":""},null,"-",{"$f":"INDEX(data_absen!$H$2:$H$2000,SUMPRODUCT((data_absen!$B$2:$B$2000=$A145)*(data_absen!$C$2:$C$2000=AK$3)*(ROW(data_absen!$C$2:$C$2000)))-1)","v":""},null,{"$f":"INDEX(data_absen!$G$2:$G$2000,SUMPRODUCT((data_absen!$B$2:$B$2000=$A145)*(data_absen!$C$2:$C$2000=AP$3)*(ROW(data_absen!$C$2:$C$2000)))-1)","v":""},null,"-",{"$f":"INDEX(data_absen!$H$2:$H$2000,SUMPRODUCT((data_absen!$B$2:$B$2000=$A145)*(data_absen!$C$2:$C$2000=AP$3)*(ROW(data_absen!$C$2:$C$2000)))-1)","v":""},null,{"$f":"INDEX(data_absen!$G$2:$G$2000,SUMPRODUCT((data_absen!$B$2:$B$2000=$A145)*(data_absen!$C$2:$C$2000=AU$3)*(ROW(data_absen!$C$2:$C$2000)))-1)","v":""},null,"-",{"$f":"INDEX(data_absen!$H$2:$H$2000,SUMPRODUCT((data_absen!$B$2:$B$2000=$A145)*(data_absen!$C$2:$C$2000=AU$3)*(ROW(data_absen!$C$2:$C$2000)))-1)","v":""},null,{"$f":"INDEX(data_absen!$G$2:$G$2000,SUMPRODUCT((data_absen!$B$2:$B$2000=$A145)*(data_absen!$C$2:$C$2000=AZ$3)*(ROW(data_absen!$C$2:$C$2000)))-1)","v":""},null,"-",{"$f":"INDEX(data_absen!$H$2:$H$2000,SUMPRODUCT((data_absen!$B$2:$B$2000=$A145)*(data_absen!$C$2:$C$2000=AZ$3)*(ROW(data_absen!$C$2:$C$2000)))-1)","v":""},null,{"$f":"INDEX(data_absen!$G$2:$G$2000,SUMPRODUCT((data_absen!$B$2:$B$2000=$A145)*(data_absen!$C$2:$C$2000=BE$3)*(ROW(data_absen!$C$2:$C$2000)))-1)","v":""},null,"-",{"$f":"INDEX(data_absen!$H$2:$H$2000,SUMPRODUCT((data_absen!$B$2:$B$2000=$A145)*(data_absen!$C$2:$C$2000=BE$3)*(ROW(data_absen!$C$2:$C$2000)))-1)","v":""},null,{"$f":"INDEX(data_absen!$G$2:$G$2000,SUMPRODUCT((data_absen!$B$2:$B$2000=$A145)*(data_absen!$C$2:$C$2000=BJ$3)*(ROW(data_absen!$C$2:$C$2000)))-1)","v":""},null,"-",{"$f":"INDEX(data_absen!$H$2:$H$2000,SUMPRODUCT((data_absen!$B$2:$B$2000=$A145)*(data_absen!$C$2:$C$2000=BJ$3)*(ROW(data_absen!$C$2:$C$2000)))-1)","v":""},null,{"$f":"INDEX(data_absen!$G$2:$G$2000,SUMPRODUCT((data_absen!$B$2:$B$2000=$A145)*(data_absen!$C$2:$C$2000=BO$3)*(ROW(data_absen!$C$2:$C$2000)))-1)","v":""},null,"-",{"$f":"INDEX(data_absen!$H$2:$H$2000,SUMPRODUCT((data_absen!$B$2:$B$2000=$A145)*(data_absen!$C$2:$C$2000=BO$3)*(ROW(data_absen!$C$2:$C$2000)))-1)","v":""}]
[414,null,null,"-",null,null,null,null,"-",null,null,null,null,"-",null,null,null,null,"-",null,null,null,null,"-",null,null,null,null,"-",null,null,null,null,"-",null,null,null,null,"-",null,null,null,null,"-",null,null,null,null,"-",null,null,null,null,"-",null,null,null,null,"-",null,null,null,null,"-",null,null,null,null,"-"]
[null,{"$f":"IFERROR(INDEX(data_absen!$K$2:$K$2000,SUMPRODUCT((data_absen!$B$2:$B$2000=$A145)*(data_absen!$C$2:$C$2000=B$3)*(ROW(data_absen!$C$2:$C$2000)))-1)*1440,\"\")","v":0},{"$f":"IFERROR(INDEX(data_absen!$I$2:$I$2000,SUMPRODUCT((data_absen!$B$2:$B$2000=$A145)*(data_absen!$C$2:$C$2000=B$3)*(ROW(data_absen!$C$2:$C$2000)))-1)*1440,\"\")","v":0},null,null,{"$f":"IFERROR(INDEX(data_absen!$J$2:$J$2000,SUMPRODUCT((data_absen!$B$2:$B$2000=$A145)*(data_absen!$C$2:$C$2000=B$3)*(ROW(data_absen!$C$2:$C$2000)))-1)*1440,\"\")","v":0},{"$f":"IFERROR(INDEX(data_absen!$K$2:$K$2000,SUMPRODUCT((data_absen!$B$2:$B$2000=$A145)*(data_absen!$C$2:$C$2000=G$3)*(ROW(data_absen!$C$2:$C$2000)))-1)*1440,\"\")","v":0},{"$f":"IFERROR(INDEX(data_absen!$I$2:$I$2000,SUMPRODUCT((data_absen!$B$2:$B$2000=$A145)*(data_absen!$C$2:$C$2000=G$3)*(ROW(data_absen!$C$2:$C$2000)))-1)*1440,\"\")","v":0},null,null,{"$f":"IFERROR(INDEX(data_absen!$J$2:$J$2000,SUMPRODUCT((data_absen!$B$2:$B$2000=$A145)*(data_absen!$C$2:$C$2000=G$3)*(ROW(data_absen!$C$2:$C$2000)))-1)*1440,\"\")","v":0},{"$f":"IFERROR(INDEX(data_absen!$K$2:$K$2000,SUMPRODUCT((data_absen!$B$2:$B$2000=$A145)*(data_absen!$C$2:$C$2000=L$3)*(ROW(data_absen!$C$2:$C$2000)))-1)*1440,\"\")","v":0},{"$f":"IFERROR(INDEX(data_absen!$I$2:$I$2000,SUMPRODUCT((data_absen!$B$2:$B$2000=$A145)*(data_absen!$C$2:$C$2000=L$3)*(ROW(data_absen!$C$2:$C$2000)))-1)*1440,\"\")","v":0},null,null,{"$f":"IFERROR(INDEX(data_absen!$J$2:$J$2000,SUMPRODUCT((data_absen!$B$2:$B$2000=$A145)*(data_absen!$C$2:$C$2000=L$3)*(ROW(data_absen!$C$2:$C$2000)))-1)*1440,\"\")","v":0},{"$f":"IFERROR(INDEX(data_absen!$K$2:$K$2000,SUMPRODUCT((data_absen!$B$2:$B$2000=$A145)*(data_absen!$C$2:$C$2000=Q$3)*(ROW(data_absen!$C$2:$C$2000)))-1)*1440,\"\")","v":""},{"$f":"IFERROR(INDEX(data_absen!$I$2:$I$2000,SUMPRODUCT((data_absen!$B$2:$B$2000=$A145)*(data_absen!$C$2:$C$2000=Q$3)*(ROW(data_absen!$C$2:$C$2000)))-1)*1440,\"\")","v":""},null,null,{"$f":"IFERROR(INDEX(data_absen!$J$2:$J$2000,SUMPRODUCT((data_absen!$B$2:$B$2000=$A145)*(data_absen!$C$2:$C$2000=Q$3)*(ROW(data_absen!$C$2:$C$2000)))-1)*1440,\"\")","v":""},{"$f":"IFERROR(INDEX(data_absen!$K$2:$K$2000,SUMPRODUCT((data_absen!$B$2:$B$2000=$A145)*(data_absen!$C$2:$C$2000=V$3)*(ROW(data_absen!$C$2:$C$2000)))-1)*1440,\"\")","v":""},{"$f":"IFERROR(INDEX(data_absen!$I$2:$I$2000,SUMPRODUCT((data_absen!$B$2:$B$2000=$A145)*(data_absen!$C$2:$C$2000=V$3)*(ROW(data_absen!$C$2:$C$2000)))-1)*1440,\"\")","v":""},null,null,{"$f":"IFERROR(INDEX(data_absen!$J$2:$J$2000,SUMPRODUCT((data_absen!$B$2:$B$2000=$A145)*(data_absen!$C$2:$C$2000=V$3)*(ROW(data_absen!$C$2:$C$2000)))-1)*1440,\"\")","v":""},{"$f":"IFERROR(INDEX(data_absen!$K$2:$K$2000,SUMPRODUCT((data_absen!$B$2:$B$2000=$A145)*(data_absen!$C$2:$C$2000=AA$3)*(ROW(data_absen!$C$2:$C$2000)))-1)*1440,\"\")","v":""},{"$f":"IFERROR(INDEX(data_absen!$I$2:$I$2000,SUMPRODUCT((data_absen!$B$2:$B$2000=$A145)*(data_absen!$C$2:$C$2000=AA$3)*(ROW(data_absen!$C$2:$C$2000)))-1)*1440,\"\")","v":""},null,null,{"$f":"IFERROR(INDEX(data_absen!$J$2:$J$2000,SUMPRODUCT((data_absen!$B$2:$B$2000=$A145)*(data_absen!$C$2:$C$2000=AA$3)*(ROW(data_absen!$C$2:$C$2000)))-1)*1440,\"\")","v":""},{"$f":"IFERROR(INDEX(data_absen!$K$2:$K$2000,SUMPRODUCT((data_absen!$B$2:$B$2000=$A145)*(data_absen!$C$2:$C$2000=AF$3)*(ROW(data_absen!$C$2:$C$2000)))-1)*1440,\"\")","v":""},{"$f":"IFERROR(INDEX(data_absen!$I$2:$I$2000,SUMPRODUCT((data_absen!$B$2:$B$2000=$A145)*(data_absen!$C$2:$C$2000=AF$3)*(ROW(data_absen!$C$2:$C$2000)))-1)*1440,\"\")","v":""},null,null,{"$f":"IFERROR(INDEX(data_absen!$J$2:$J$2000,SUMPRODUCT((data_absen!$B$2:$B$2000=$A145)*(data_absen!$C$2:$C$2000=AF$3)*(ROW(data_absen!$C$2:$C$2000)))-1)*1440,\"\")","v":""},{"$f":"IFERROR(INDEX(data_absen!$K$2:$K$2000,SUMPRODUCT((data_absen!$B$2:$B$2000=$A145)*(data_absen!$C$2:$C$2000=AK$3)*(ROW(data_absen!$C$2:$C$2000)))-1)*1440,\"\")","v":""},{"$f":"IFERROR(INDEX(data_absen!$I$2:$I$2000,SUMPRODUCT((data_absen!$B$2:$B$2000=$A145)*(data_absen!$C$2:$C$2000=AK$3)*(ROW(data_absen!$C$2:$C$2000)))-1)*1440,\"\")","v":""},null,null,{"$f":"IFERROR(INDEX(data_absen!$J$2:$J$2000,SUMPRODUCT((data_absen!$B$2:$B$2000=$A145)*(data_absen!$C$2:$C$2000=AK$3)*(ROW(data_absen!$C$2:$C$2000)))-1)*1440,\"\")","v":""},{"$f":"IFERROR(INDEX(data_absen!$K$2:$K$2000,SUMPRODUCT((data_absen!$B$2:$B$2000=$A145)*(data_absen!$C$2:$C$2000=AP$3)*(ROW(data_absen!$C$2:$C$2000)))-1)*1440,\"\")","v":""},{"$f":"IFERROR(INDEX(data_absen!$I$2:$I$2000,SUMPRODUCT((data_absen!$B$2:$B$2000=$A145)*(data_absen!$C$2:$C$2000=AP$3)*(ROW(data_absen!$C$2:$C$2000)))-1)*1440,\"\")","v":""},null,null,{"$f":"IFERROR(INDEX(data_absen!$J$2:$J$2000,SUMPRODUCT((data_absen!$B$2:$B$2000=$A145)*(data_absen!$C$2:$C$2000=AP$3)*(ROW(data_absen!$C$2:$C$2000)))-1)*1440,\"\")","v":""},{"$f":"IFERROR(INDEX(data_absen!$K$2:$K$2000,SUMPRODUCT((data_absen!$B$2:$B$2000=$A145)*(data_absen!$C$2:$C$2000=AU$3)*(ROW(data_absen!$C$2:$C$2000)))-1)*1440,\"\")","v":""},{"$f":"IFERROR(INDEX(data_absen!$I$2:$I$2000,SUMPRODUCT((data_absen!$B$2:$B$2000=$A145)*(data_absen!$C$2:$C$2000=AU$3)*(ROW(data_absen!$C$2:$C$2000)))-1)*1440,\"\")","v":""},null,null,{"$f":"IFERROR(INDEX(data_absen!$J$2:$J$2000,SUMPRODUCT((data_absen!$B$2:$B$2000=$A145)*(data_absen!$C$2:$C$2000=AU$3)*(ROW(data_absen!$C$2:$C$2000)))-1)*1440,\"\")","v":""},{"$f":"IFERROR(INDEX(data_absen!$K$2:$K$2000,SUMPRODUCT((data_absen!$B$2:$B$2000=$A145)*(data_absen!$C$2:$C$2000=AZ$3)*(ROW(data_absen!$C$2:$C$2000)))-1)*1440,\"\")","v":""},{"$f":"IFERROR(INDEX(data_absen!$I$2:$I$2000,SUMPRODUCT((data_absen!$B$2:$B$2000=$A145)*(data_absen!$C$2:$C$2000=AZ$3)*(ROW(data_absen!$C$2:$C$2000)))-1)*1440,\"\")","v":""},null,null,{"$f":"IFERROR(INDEX(data_absen!$J$2:$J$2000,SUMPRODUCT((data_absen!$B$2:$B$2000=$A145)*(data_absen!$C$2:$C$2000=AZ$3)*(ROW(data_absen!$C$2:$C$2000)))-1)*1440,\"\")","v":""},{"$f":"IFERROR(INDEX(data_absen!$K$2:$K$2000,SUMPRODUCT((data_absen!$B$2:$B$2000=$A145)*(data_absen!$C$2:$C$2000=BE$3)*(ROW(data_absen!$C$2:$C$2000)))-1)*1440,\"\")","v":""},{"$f":"IFERROR(INDEX(data_absen!$I$2:$I$2000,SUMPRODUCT((data_absen!$B$2:$B$2000=$A145)*(data_absen!$C$2:$C$2000=BE$3)*(ROW(data_absen!$C$2:$C$2000)))-1)*1440,\"\")","v":""},null,null,{"$f":"IFERROR(INDEX(data_absen!$J$2:$J$2000,SUMPRODUCT((data_absen!$B$2:$B$2000=$A145)*(data_absen!$C$2:$C$2000=BE$3)*(ROW(data_absen!$C$2:$C$2000)))-1)*1440,\"\")","v":""},{"$f":"IFERROR(INDEX(data_absen!$K$2:$K$2000,SUMPRODUCT((data_absen!$B$2:$B$2000=$A145)*(data_absen!$C$2:$C$2000=BJ$3)*(ROW(data_absen!$C$2:$C$2000)))-1)*1440,\"\")","v":""},{"$f":"IFERROR(INDEX(data_absen!$I$2:$I$2000,SUMPRODUCT((data_absen!$B$2:$B$2000=$A145)*(data_absen!$C$2:$C$2000=BJ$3)*(ROW(data_absen!$C$2:$C$2000)))-1)*1440,\"\")","v":""},null,null,{"$f":"IFERROR(INDEX(data_absen!$J$2:$J$2000,SUMPRODUCT((data_absen!$B$2:$B$2000=$A145)*(data_absen!$C$2:$C$2000=BJ$3)*(ROW(data_absen!$C$2:$C$2000)))-1)*1440,\"\")","v":""},{"$f":"IFERROR(INDEX(data_absen!$K$2:$K$2000,SUMPRODUCT((data_absen!$B$2:$B$2000=$A145)*(data_absen!$C$2:$C$2000=BO$3)*(ROW(data_absen!$C$2:$C$2000)))-1)*1440,\"\")","v":""},{"$f":"IFERROR(INDEX(data_absen!$I$2:$I$2000,SUMPRODUCT((data_absen!$B$2:$B$2000=$A145)*(data_absen!$C$2:$C$2000=BO$3)*(ROW(data_absen!$C$2:$C$2000)))-1)*1440,\"\")","v":""},null,null,{"$f":"IFERROR(INDEX(data_absen!$J$2:$J$2000,SUMPRODUCT((data_absen!$B$2:$B$2000=$A145)*(data_absen!$C$2:$C$2000=BO$3)*(ROW(data_absen!$C$2:$C$2000)))-1)*1440,\"\")","v":""},{"$f":"COUNTIFS(data_absen!$B$2:$B$2000,$A145,data_absen!$I$2:$I$2000,\">0\")","v":0}]
["Weni",{"$f":"INDEX(data_absen!$G$2:$G$2000,SUMPRODUCT((data_absen!$B$2:$B$2000=$A148)*(data_absen!$C$2:$C$2000=B$3)*(ROW(data_absen!$C$2:$C$2000)))-1)","v":"00:00:00"},null,"-",{"$f":"INDEX(data_absen!$H$2:$H$2000,SUMPRODUCT((data_absen!$B$2:$B$2000=$A148)*(data_absen!$C$2:$C$2000=B$3)*(ROW(data_absen!$C$2:$C$2000)))-1)","v":"00:00:00"},null,{"$f":"INDEX(data_absen!$G$2:$G$2000,SUMPRODUCT((data_absen!$B$2:$B$2000=$A148)*(data_absen!$C$2:$C$2000=G$3)*(ROW(data_absen!$C$2:$C$2000)))-1)","v":"00:00:00"},null,"-",{"$f":"INDEX(data_absen!$H$2:$H$2000,SUMPRODUCT((data_absen!$B$2:$B$2000=$A148)*(data_absen!$C$2:$C$2000=G$3)*(ROW(data_absen!$C$2:$C$2000)))-1)","v":"00:00:00"},null,{"$f":"INDEX(data_absen!$G$2:$G$2000,SUMPRODUCT((data_absen!$B$2:$B$2000=$A148)*(data_absen!$C$2:$C$2000=L$3)*(ROW(data_absen!$C$2:$C$2000)))-1)","v":"00:00:00"},null,"-",{"$f":"INDEX(data_absen!$H$2:$H$2000,SUMPRODUCT((data_absen!$B$2:$B$2000=$A148)*(data_absen!$C$2:$C$2000=L$3)*(ROW(data_absen!$C$2:$C$2000)))-1)","v":"00:00:00"},null,{"$f":"INDEX(data_absen!$G$2:$G$2000,SUMPRODUCT((data_absen!$B$2:$B$2000=$A148)*(data_absen!$C$2:$C$2000=Q$3)*(ROW(data_absen!$C$2:$C$2000)))-1)","v":""},null,"-",{"$f":"INDEX(data_absen!$H$2:$H$2000,SUMPRODUCT((data_absen!$B$2:$B$2000=$A148)*(data_absen!$C$2:$C$2000=Q$3)*(ROW(data_absen!$C$2:$C$2000)))-1)","v":""},null,{"$f":"INDEX(data_absen!$G$2:$G$2000,SUMPRODUCT((data_absen!$B$2:$B$2000=$A148)*(data_absen!$C$2:$C$2000=V$3)*(ROW(data_absen!$C$2:$C$2000)))-1)","v":""},null,"-",{"$f":"INDEX(data_absen!$H$2:$H$2000,SUMPRODUCT((data_absen!$B$2:$B$2000=$A148)*(data_absen!$C$2:$C$2000=V$3)*(ROW(data_absen!$C$2:$C$2000)))-1)","v":""},null,{"$f":"INDEX(data_absen!$G$2:$G$2000,SUMPRODUCT((data_absen!$B$2:$B$2000=$A148)*(data_absen!$C$2:$C$2000=AA$3)*(ROW(data_absen!$C$2:$C$2000)))-1)","v":""},null,"-",{"$f":"INDEX(data_absen!$H$2:$H$2000,SUMPRODUCT((data_absen!$B$2:$B$2000=$A148)*(data_absen!$C$2:$C$2000=AA$3)*(ROW(data_absen!$C$2:$C$2000)))-1)","v":""},null,{"$f":"INDEX(data_absen!$G$2:$G$2000,SUMPRODUCT((data_absen!$B$2:$B$2000=$A148)*(data_absen!$C$2:$C$2000=AF$3)*(ROW(data_absen!$C$2:$C$2000)))-1)","v":""},null,"-",{"$f":"INDEX(data_absen!$H$2:$H$2000,SUMPRODUCT((data_absen!$B$2:$B$2000=$A148)*(data_absen!$C$2:$C$2000=AF$3)*(ROW(data_absen!$C$2:$C$2000)))-1)","v":""},null,{"$f":"INDEX(data_absen!$G$2:$G$2000,SUMPRODUCT((data_absen!$B$2:$B$2000=$A148)*(data_absen!$C$2:$C$2000=AK$3)*(ROW(data_absen!$C$2:$C$2000)))-1)","v":""},null,"-",{"$f":"INDEX(data_absen!$H$2:$H$2000,SUMPRODUCT((data_absen!$B$2:$B$2000=$A148)*(data_absen!$C$2:$C$2000=AK$3)*(ROW(data_absen!$C$2:$C$2000)))-1)","v":""},null,{"$f":"INDEX(data_absen!$G$2:$G$2000,SUMPRODUCT((data_absen!$B$2:$B$2000=$A148)*(data_absen!$C$2:$C$2000=AP$3)*(ROW(data_absen!$C$2:$C$2000)))-1)","v":""},null,"-",{"$f":"INDEX(data_absen!$H$2:$H$2000,SUMPRODUCT((data_absen!$B$2:$B$2000=$A148)*(data_absen!$C$2:$C$2000=AP$3)*(ROW(data_absen!$C$2:$C$2000)))-1)","v":""},null,{"$f":"INDEX(data_absen!$G$2:$G$2000,SUMPRODUCT((data_absen!$B$2:$B$2000=$A148)*(data_absen!$C$2:$C$2000=AU$3)*(ROW(data_absen!$C$2:$C$2000)))-1)","v":""},null,"-",{"$f":"INDEX(data_absen!$H$2:$H$2000,SUMPRODUCT((data_absen!$B$2:$B$2000=$A148)*(data_absen!$C$2:$C$2000=AU$3)*(ROW(data_absen!$C$2:$C$2000)))-1)","v":""},null,{"$f":"INDEX(data_absen!$G$2:$G$2000,SUMPRODUCT((data_absen!$B$2:$B$2000=$A148)*(data_absen!$C$2:$C$2000=AZ$3)*(ROW(data_absen!$C$2:$C$2000)))-1)","v":""},null,"-",{"$f":"INDEX(data_absen!$H$2:$H$2000,SUMPRODUCT((data_absen!$B$2:$B$2000=$A148)*(data_absen!$C$2:$C$2000=AZ$3)*(ROW(data_absen!$C$2:$C$2000)))-1)","v":""},null,{"$f":"INDEX(data_absen!$G$2:$G$2000,SUMPRODUCT((data_absen!$B$2:$B$2000=$A148)*(data_absen!$C$2:$C$2000=BE$3)*(ROW(data_absen!$C$2:$C$2000)))-1)","v":""},null,"-",{"$f":"INDEX(data_absen!$H$2:$H$2000,SUMPRODUCT((data_absen!$B$2:$B$2000=$A148)*(data_absen!$C$2:$C$2000=BE$3)*(ROW(data_absen!$C$2:$C$2000)))-1)","v":""},null,{"$f":"INDEX(data_absen!$G$2:$G$2000,SUMPRODUCT((data_absen!$B$2:$B$2000=$A148)*(data_absen!$C$2:$C$2000=BJ$3)*(ROW(data_absen!$C$2:$C$2000)))-1)","v":""},null,"-",{"$f":"INDEX(data_absen!$H$2:$H$2000,SUMPRODUCT((data_absen!$B$2:$B$2000=$A148)*(data_absen!$C$2:$C$2000=BJ$3)*(ROW(data_absen!$C$2:$C$2000)))-1)","v":""},null,{"$f":"INDEX(data_absen!$G$2:$G$2000,SUMPRODUCT((data_absen!$B$2:$B$2000=$A148)*(data_absen!$C$2:$C$2000=BO$3)*(ROW(data_absen!$C$2:$C$2000)))-1)","v":""},null,"-",{"$f":"INDEX(data_absen!$H$2:$H$2000,SUMPRODUCT((data_absen!$B$2:$B$2000=$A148)*(data_absen!$C$2:$C$2000=BO$3)*(ROW(data_absen!$C$2:$C$2000)))-1)","v":""}]
[415,null,null,"-",null,null,null,null,"-",null,null,null,null,"-",null,null,null,null,"-",null,null,null,null,"-",null,null,null,null,"-",null,null,null,null,"-",null,null,null,null,"-",null,null,null,null,"-",null,null,null,null,"-",null,null,null,null,"-",null,null,null,null,"-",null,null,null,null,"-",null,null,null,null,"-"]
[null,{"$f":"IFERROR(INDEX(data_absen!$K$2:$K$2000,SUMPRODUCT((data_absen!$B$2:$B$2000=$A148)*(data_absen!$C$2:$C$2000=B$3)*(ROW(data_absen!$C$2:$C$2000)))-1)*1440,\"\")","v":0},{"$f":"IFERROR(INDEX(data_absen!$I$2:$I$2000,SUMPRODUCT((data_absen!$B$2:$B$2000=$A148)*(data_absen!$C$2:$C$2000=B$3)*(ROW(data_absen!$C$2:$C$2000)))-1)*1440,\"\")","v":0},null,null,{"$f":"IFERROR(INDEX(data_absen!$J$2:$J$2000,SUMPRODUCT((data_absen!$B$2:$B$2000=$A148)*(data_absen!$C$2:$C$2000=B$3)*(ROW(data_absen!$C$2:$C$2000)))-1)*1440,\"\")","v":0},{"$f":"IFERROR(INDEX(data_absen!$K$2:$K$2000,SUMPRODUCT((data_absen!$B$2:$B$2000=$A148)*(data_absen!$C$2:$C$2000=G$3)*(ROW(data_absen!$C$2:$C$2000)))-1)*1440,\"\")","v":0},{"$f":"IFERROR(INDEX(data_absen!$I$2:$I$2000,SUMPRODUCT((data_absen!$B$2:$B$2000=$A148)*(data_absen!$C$2:$C$2000=G$3)*(ROW(data_absen!$C$2:$C$2000)))-1)*1440,\"\")","v":0},null,null,{"$f":"IFERROR(INDEX(data_absen!$J$2:$J$2000,SUMPRODUCT((data_absen!$B$2:$B$2000=$A148)*(data_absen!$C$2:$C$2000=G$3)*(ROW(data_absen!$C$2:$C$2000)))-1)*1440,\"\")","v":0},{"$f":"IFERROR(INDEX(data_absen!$K$2:$K$2000,SUMPRODUCT((data_absen!$B$2:$B$2000=$A148)*(data_absen!$C$2:$C$2000=L$3)*(ROW(data_absen!$C$2:$C$2000)))-1)*1440,\"\")","v":0},{"$f":"IFERROR(INDEX(data_absen!$I$2:$I$2000,SUMPRODUCT((data_absen!$B$2:$B$2000=$A148)*(data_absen!$C$2:$C$2000=L$3)*(ROW(data_absen!$C$2:$C$2000)))-1)*1440,\"\")","v":0},null,null,{"$f":"IFERROR(INDEX(data_absen!$J$2:$J$2000,SUMPRODUCT((data_absen!$B$2:$B$2000=$A148)*(data_absen!$C$2:$C$2000=L$3)*(ROW(data_absen!$C$2:$C$2000)))-1)*1440,\"\")","v":0},{"$f":"IFERROR(INDEX(data_absen!$K$2:$K$2000,SUMPRODUCT((data_absen!$B$2:$B$2000=$A148)*(data_absen!$C$2:$C$2000=Q$3)*(ROW(data_absen!$C$2:$C$2000)))-1)*1440,\"\")","v":""},{"$f":"IFERROR(INDEX(data_absen!$I$2:$I$2000,SUMPRODUCT((data_absen!$B$2:$B$2000=$A148)*(data_absen!$C$2:$C$2000=Q$3)*(ROW(data_absen!$C$2:$C$2000)))-1)*1440,\"\")","v":""},null,null,{"$f":"IFERROR(INDEX(data_absen!$J$2:$J$2000,SUMPRODUCT((data_absen!$B$2:$B$2000=$A148)*(data_absen!$C$2:$C$2000=Q$3)*(ROW(data_absen!$C$2:$C$2000)))-1)*1440,\"\")","v":""},{"$f":"IFERROR(INDEX(data_absen!$K$2:$K$2000,SUMPRODUCT((data_absen!$B$2:$B$2000=$A148)*(data_absen!$C$2:$C$2000=V$3)*(ROW(data_absen!$C$2:$C$2000)))-1)*1440,\"\")","v":""},{"$f":"IFERROR(INDEX(data_absen!$I$2:$I$2000,SUMPRODUCT((data_absen!$B$2:$B$2000=$A148)*(data_absen!$C$2:$C$2000=V$3)*(ROW(data_absen!$C$2:$C$2000)))-1)*1440,\"\")","v":""},null,null,{"$f":"IFERROR(INDEX(data_absen!$J$2:$J$2000,SUMPRODUCT((data_absen!$B$2:$B$2000=$A148)*(data_absen!$C$2:$C$2000=V$3)*(ROW(data_absen!$C$2:$C$2000)))-1)*1440,\"\")","v":""},{"$f":"IFERROR(INDEX(data_absen!$K$2:$K$2000,SUMPRODUCT((data_absen!$B$2:$B$2000=$A148)*(data_absen!$C$2:$C$2000=AA$3)*(ROW(data_absen!$C$2:$C$2000)))-1)*1440,\"\")","v":""},{"$f":"IFERROR(INDEX(data_absen!$I$2:$I$2000,SUMPRODUCT((data_absen!$B$2:$B$2000=$A148)*(data_absen!$C$2:$C$2000=AA$3)*(ROW(data_absen!$C$2:$C$2000)))-1)*1440,\"\")","v":""},null,null,{"$f":"IFERROR(INDEX(data_absen!$J$2:$J$2000,SUMPRODUCT((data_absen!$B$2:$B$2000=$A148)*(data_absen!$C$2:$C$2000=AA$3)*(ROW(data_absen!$C$2:$C$2000)))-1)*1440,\"\")","v":""},{"$f":"IFERROR(INDEX(data_absen!$K$2:$K$2000,SUMPRODUCT((data_absen!$B$2:$B$2000=$A148)*(data_absen!$C$2:$C$2000=AF$3)*(ROW(data_absen!$C$2:$C$2000)))-1)*1440,\"\")","v":""},{"$f":"IFERROR(INDEX(data_absen!$I$2:$I$2000,SUMPRODUCT((data_absen!$B$2:$B$2000=$A148)*(data_absen!$C$2:$C$2000=AF$3)*(ROW(data_absen!$C$2:$C$2000)))-1)*1440,\"\")","v":""},null,null,{"$f":"IFERROR(INDEX(data_absen!$J$2:$J$2000,SUMPRODUCT((data_absen!$B$2:$B$2000=$A148)*(data_absen!$C$2:$C$2000=AF$3)*(ROW(data_absen!$C$2:$C$2000)))-1)*1440,\"\")","v":""},{"$f":"IFERROR(INDEX(data_absen!$K$2:$K$2000,SUMPRODUCT((data_absen!$B$2:$B$2000=$A148)*(data_absen!$C$2:$C$2000=AK$3)*(ROW(data_absen!$C$2:$C$2000)))-1)*1440,\"\")","v":""},{"$f":"IFERROR(INDEX(data_absen!$I$2:$I$2000,SUMPRODUCT((data_absen!$B$2:$B$2000=$A148)*(data_absen!$C$2:$C$2000=AK$3)*(ROW(data_absen!$C$2:$C$2000)))-1)*1440,\"\")","v":""},null,null,{"$f":"IFERROR(INDEX(data_absen!$J$2:$J$2000,SUMPRODUCT((data_absen!$B$2:$B$2000=$A148)*(data_absen!$C$2:$C$2000=AK$3)*(ROW(data_absen!$C$2:$C$2000)))-1)*1440,\"\")","v":""},{"$f":"IFERROR(INDEX(data_absen!$K$2:$K$2000,SUMPRODUCT((data_absen!$B$2:$B$2000=$A148)*(data_absen!$C$2:$C$2000=AP$3)*(ROW(data_absen!$C$2:$C$2000)))-1)*1440,\"\")","v":""},{"$f":"IFERROR(INDEX(data_absen!$I$2:$I$2000,SUMPRODUCT((data_absen!$B$2:$B$2000=$A148)*(data_absen!$C$2:$C$2000=AP$3)*(ROW(data_absen!$C$2:$C$2000)))-1)*1440,\"\")","v":""},null,null,{"$f":"IFERROR(INDEX(data_absen!$J$2:$J$2000,SUMPRODUCT((data_absen!$B$2:$B$2000=$A148)*(data_absen!$C$2:$C$2000=AP$3)*(ROW(data_absen!$C$2:$C$2000)))-1)*1440,\"\")","v":""},{"$f":"IFERROR(INDEX(data_absen!$K$2:$K$2000,SUMPRODUCT((data_absen!$B$2:$B$2000=$A148)*(data_absen!$C$2:$C$2000=AU$3)*(ROW(data_absen!$C$2:$C$2000)))-1)*1440,\"\")","v":""},{"$f":"IFERROR(INDEX(data_absen!$I$2:$I$2000,SUMPRODUCT((data_absen!$B$2:$B$2000=$A148)*(data_absen!$C$2:$C$2000=AU$3)*(ROW(data_absen!$C$2:$C$2000)))-1)*1440,\"\")","v":""},null,null,{"$f":"IFERROR(INDEX(data_absen!$J$2:$J$2000,SUMPRODUCT((data_absen!$B$2:$B$2000=$A148)*(data_absen!$C$2:$C$2000=AU$3)*(ROW(data_absen!$C$2:$C$2000)))-1)*1440,\"\")","v":""},{"$f":"IFERROR(INDEX(data_absen!$K$2:$K$2000,SUMPRODUCT((data_absen!$B$2:$B$2000=$A148)*(data_absen!$C$2:$C$2000=AZ$3)*(ROW(data_absen!$C$2:$C$2000)))-1)*1440,\"\")","v":""},{"$f":"IFERROR(INDEX(data_absen!$I$2:$I$2000,SUMPRODUCT((data_absen!$B$2:$B$2000=$A148)*(data_absen!$C$2:$C$2000=AZ$3)*(ROW(data_absen!$C$2:$C$2000)))-1)*1440,\"\")","v":""},null,null,{"$f":"IFERROR(INDEX(data_absen!$J$2:$J$2000,SUMPRODUCT((data_absen!$B$2:$B$2000=$A148)*(data_absen!$C$2:$C$2000=AZ$3)*(ROW(data_absen!$C$2:$C$2000)))-1)*1440,\"\")","v":""},{"$f":"IFERROR(INDEX(data_absen!$K$2:$K$2000,SUMPRODUCT((data_absen!$B$2:$B$2000=$A148)*(data_absen!$C$2:$C$2000=BE$3)*(ROW(data_absen!$C$2:$C$2000)))-1)*1440,\"\")","v":""},{"$f":"IFERROR(INDEX(data_absen!$I$2:$I$2000,SUMPRODUCT((data_absen!$B$2:$B$2000=$A148)*(data_absen!$C$2:$C$2000=BE$3)*(ROW(data_absen!$C$2:$C$2000)))-1)*1440,\"\")","v":""},null,null,{"$f":"IFERROR(INDEX(data_absen!$J$2:$J$2000,SUMPRODUCT((data_absen!$B$2:$B$2000=$A148)*(data_absen!$C$2:$C$2000=BE$3)*(ROW(data_absen!$C$2:$C$2000)))-1)*1440,\"\")","v":""},{"$f":"IFERROR(INDEX(data_absen!$K$2:$K$2000,SUMPRODUCT((data_absen!$B$2:$B$2000=$A148)*(data_absen!$C$2:$C$2000=BJ$3)*(ROW(data_absen!$C$2:$C$2000)))-1)*1440,\"\")","v":""},{"$f":"IFERROR(INDEX(data_absen!$I$2:$I$2000,SUMPRODUCT((data_absen!$B$2:$B$2000=$A148)*(data_absen!$C$2:$C$2000=BJ$3)*(ROW(data_absen!$C$2:$C$2000)))-1)*1440,\"\")","v":""},null,null,{"$f":"IFERROR(INDEX(data_absen!$J$2:$J$2000,SUMPRODUCT((data_absen!$B$2:$B$2000=$A148)*(data_absen!$C$2:$C$2000=BJ$3)*(ROW(data_absen!$C$2:$C$2000)))-1)*1440,\"\")","v":""},{"$f":"IFERROR(INDEX(data_absen!$K$2:$K$2000,SUMPRODUCT((data_absen!$B$2:$B$2000=$A148)*(data_absen!$C$2:$C$2000=BO$3)*(ROW(data_absen!$C$2:$C$2000)))-1)*1440,\"\")","v":""},{"$f":"IFERROR(INDEX(data_absen!$I$2:$I$2000,SUMPRODUCT((data_absen!$B$2:$B$2000=$A148)*(data_absen!$C$2:$C$2000=BO$3)*(ROW(data_absen!$C$2:$C$2000)))-1)*1440,\"\")","v":""},null,null,{"$f":"IFERROR(INDEX(data_absen!$J$2:$J$2000,SUMPRODUCT((data_absen!$B$2:$B$2000=$A148)*(data_absen!$C$2:$C$2000=BO$3)*(ROW(data_absen!$C$2:$C$2000)))-1)*1440,\"\")","v":""},{"$f":"COUNTIFS(data_absen!$B$2:$B$2000,$A148,data_absen!$I$2:$I$2000,\">0\")","v":0}]
["Siyati",{"$f":"INDEX(data_absen!$G$2:$G$2000,SUMPRODUCT((data_absen!$B$2:$B$2000=$A151)*(data_absen!$C$2:$C$2000=B$3)*(ROW(data_absen!$C$2:$C$2000)))-1)","v":"00:00:00"},null,"-",{"$f":"INDEX(data_absen!$H$2:$H$2000,SUMPRODUCT((data_absen!$B$2:$B$2000=$A151)*(data_absen!$C$2:$C$2000=B$3)*(ROW(data_absen!$C$2:$C$2000)))-1)","v":"00:00:00"},null,{"$f":"INDEX(data_absen!$G$2:$G$2000,SUMPRODUCT((data_absen!$B$2:$B$2000=$A151)*(data_absen!$C$2:$C$2000=G$3)*(ROW(data_absen!$C$2:$C$2000)))-1)","v":"00:00:00"},null,"-",{"$f":"INDEX(data_absen!$H$2:$H$2000,SUMPRODUCT((data_absen!$B$2:$B$2000=$A151)*(data_absen!$C$2:$C$2000=G$3)*(ROW(data_absen!$C$2:$C$2000)))-1)","v":"00:00:00"},null,{"$f":"INDEX(data_absen!$G$2:$G$2000,SUMPRODUCT((data_absen!$B$2:$B$2000=$A151)*(data_absen!$C$2:$C$2000=L$3)*(ROW(data_absen!$C$2:$C$2000)))-1)","v":"00:00:00"},null,"-",{"$f":"INDEX(data_absen!$H$2:$H$2000,SUMPRODUCT((data_absen!$B$2:$B$2000=$A151)*(data_absen!$C$2:$C$2000=L$3)*(ROW(data_absen!$C$2:$C$2000)))-1)","v":"00:00:00"},null,{"$f":"INDEX(data_absen!$G$2:$G$2000,SUMPRODUCT((data_absen!$B$2:$B$2000=$A151)*(data_absen!$C$2:$C$2000=Q$3)*(ROW(data_absen!$C$2:$C$2000)))-1)","v":""},null,"-",{"$f":"INDEX(data_absen!$H$2:$H$2000,SUMPRODUCT((data_absen!$B$2:$B$2000=$A151)*(data_absen!$C$2:$C$2000=Q$3)*(ROW(data_absen!$C$2:$C$2000)))-1)","v":""},null,{"$f":"INDEX(data_absen!$G$2:$G$2000,SUMPRODUCT((data_absen!$B$2:$B$2000=$A151)*(data_absen!$C$2:$C$2000=V$3)*(ROW(data_absen!$C$2:$C$2000)))-1)","v":""},null,"-",{"$f":"INDEX(data_absen!$H$2:$H$2000,SUMPRODUCT((data_absen!$B$2:$B$2000=$A151)*(data_absen!$C$2:$C$2000=V$3)*(ROW(data_absen!$C$2:$C$2000)))-1)","v":""},null,{"$f":"INDEX(data_absen!$G$2:$G$2000,SUMPRODUCT((data_absen!$B$2:$B$2000=$A151)*(data_absen!$C$2:$C$2000=AA$3)*(ROW(data_absen!$C$2:$C$2000)))-1)","v":""},null,"-",{"$f":"INDEX(data_absen!$H$2:$H$2000,SUMPRODUCT((data_absen!$B$2:$B$2000=$A151)*(data_absen!$C$2:$C$2000=AA$3)*(ROW(data_absen!$C$2:$C$2000)))-1)","v":""},null,{"$f":"INDEX(data_absen!$G$2:$G$2000,SUMPRODUCT((data_absen!$B$2:$B$2000=$A151)*(data_absen!$C$2:$C$2000=AF$3)*(ROW(data_absen!$C$2:$C$2000)))-1)","v":""},null,"-",{"$f":"INDEX(data_absen!$H$2:$H$2000,SUMPRODUCT((data_absen!$B$2:$B$2000=$A151)*(data_absen!$C$2:$C$2000=AF$3)*(ROW(data_absen!$C$2:$C$2000)))-1)","v":""},null,{"$f":"INDEX(data_absen!$G$2:$G$2000,SUMPRODUCT((data_absen!$B$2:$B$2000=$A151)*(data_absen!$C$2:$C$2000=AK$3)*(ROW(data_absen!$C$2:$C$2000)))-1)","v":""},null,"-",{"$f":"INDEX(data_absen!$H$2:$H$2000,SUMPRODUCT((data_absen!$B$2:$B$2000=$A151)*(data_absen!$C$2:$C$2000=AK$3)*(ROW(data_absen!$C$2:$C$2000)))-1)","v":""},null,{"$f":"INDEX(data_absen!$G$2:$G$2000,SUMPRODUCT((data_absen!$B$2:$B$2000=$A151)*(data_absen!$C$2:$C$2000=AP$3)*(ROW(data_absen!$C$2:$C$2000)))-1)","v":""},null,"-",{"$f":"INDEX(data_absen!$H$2:$H$2000,SUMPRODUCT((data_absen!$B$2:$B$2000=$A151)*(data_absen!$C$2:$C$2000=AP$3)*(ROW(data_absen!$C$2:$C$2000)))-1)","v":""},null,{"$f":"INDEX(data_absen!$G$2:$G$2000,SUMPRODUCT((data_absen!$B$2:$B$2000=$A151)*(data_absen!$C$2:$C$2000=AU$3)*(ROW(data_absen!$C$2:$C$2000)))-1)","v":""},null,"-",{"$f":"INDEX(data_absen!$H$2:$H$2000,SUMPRODUCT((data_absen!$B$2:$B$2000=$A151)*(data_absen!$C$2:$C$2000=AU$3)*(ROW(data_absen!$C$2:$C$2000)))-1)","v":""},null,{"$f":"INDEX(data_absen!$G$2:$G$2000,SUMPRODUCT((data_absen!$B$2:$B$2000=$A151)*(data_absen!$C$2:$C$2000=AZ$3)*(ROW(data_absen!$C$2:$C$2000)))-1)","v":""},null,"-",{"$f":"INDEX(data_absen!$H$2:$H$2000,SUMPRODUCT((data_absen!$B$2:$B$2000=$A151)*(data_absen!$C$2:$C$2000=AZ$3)*(ROW(data_absen!$C$2:$C$2000)))-1)","v":""},null,{"$f":"INDEX(data_absen!$G$2:$G$2000,SUMPRODUCT((data_absen!$B$2:$B$2000=$A151)*(data_absen!$C$2:$C$2000=BE$3)*(ROW(data_absen!$C$2:$C$2000)))-1)","v":""},null,"-",{"$f":"INDEX(data_absen!$H$2:$H$2000,SUMPRODUCT((data_absen!$B$2:$B$2000=$A151)*(data_absen!$C$2:$C$2000=BE$3)*(ROW(data_absen!$C$2:$C$2000)))-1)","v":""},null,{"$f":"INDEX(data_absen!$G$2:$G$2000,SUMPRODUCT((data_absen!$B$2:$B$2000=$A151)*(data_absen!$C$2:$C$2000=BJ$3)*(ROW(data_absen!$C$2:$C$2000)))-1)","v":""},null,"-",{"$f":"INDEX(data_absen!$H$2:$H$2000,SUMPRODUCT((data_absen!$B$2:$B$2000=$A151)*(data_absen!$C$2:$C$2000=BJ$3)*(ROW(data_absen!$C$2:$C$2000)))-1)","v":""},null,{"$f":"INDEX(data_absen!$G$2:$G$2000,SUMPRODUCT((data_absen!$B$2:$B$2000=$A151)*(data_absen!$C$2:$C$2000=BO$3)*(ROW(data_absen!$C$2:$C$2000)))-1)","v":""},null,"-",{"$f":"INDEX(data_absen!$H$2:$H$2000,SUMPRODUCT((data_absen!$B$2:$B$2000=$A151)*(data_absen!$C$2:$C$2000=BO$3)*(ROW(data_absen!$C$2:$C$2000)))-1)","v":""}]
[416,null,null,"-",null,null,null,null,"-",null,null,null,null,"-",null,null,null,null,"-",null,null,null,null,"-",null,null,null,null,"-",null,null,null,null,"-",null,null,null,null,"-",null,null,null,null,"-",null,null,null,null,"-",null,null,null,null,"-",null,null,null,null,"-",null,null,null,null,"-",null,null,null,null,"-"]
[null,{"$f":"IFERROR(INDEX(data_absen!$K$2:$K$2000,SUMPRODUCT((data_absen!$B$2:$B$2000=$A151)*(data_absen!$C$2:$C$2000=B$3)*(ROW(data_absen!$C$2:$C$2000)))-1)*1440,\"\")","v":0},{"$f":"IFERROR(INDEX(data_absen!$I$2:$I$2000,SUMPRODUCT((data_absen!$B$2:$B$2000=$A151)*(data_absen!$C$2:$C$2000=B$3)*(ROW(data_absen!$C$2:$C$2000)))-1)*1440,\"\")","v":0},null,null,{"$f":"IFERROR(INDEX(data_absen!$J$2:$J$2000,SUMPRODUCT((data_absen!$B$2:$B$2000=$A151)*(data_absen!$C$2:$C$2000=B$3)*(ROW(data_absen!$C$2:$C$2000)))-1)*1440,\"\")","v":0},{"$f":"IFERROR(INDEX(data_absen!$K$2:$K$2000,SUMPRODUCT((data_absen!$B$2:$B$2000=$A151)*(data_absen!$C$2:$C$2000=G$3)*(ROW(data_absen!$C$2:$C$2000)))-1)*1440,\"\")","v":0},{"$f":"IFERROR(INDEX(data_absen!$I$2:$I$2000,SUMPRODUCT((data_absen!$B$2:$B$2000=$A151)*(data_absen!$C$2:$C$2000=G$3)*(ROW(data_absen!$C$2:$C$2000)))-1)*1440,\"\")","v":0},null,null,{"$f":"IFERROR(INDEX(data_absen!$J$2:$J$2000,SUMPRODUCT((data_absen!$B$2:$B$2000=$A151)*(data_absen!$C$2:$C$2000=G$3)*(ROW(data_absen!$C$2:$C$2000)))-1)*1440,\"\")","v":0},{"$f":"IFERROR(INDEX(data_absen!$K$2:$K$2000,SUMPRODUCT((data_absen!$B$2:$B$2000=$A151)*(data_absen!$C$2:$C$2000=L$3)*(ROW(data_absen!$C$2:$C$2000)))-1)*1440,\"\")","v":0},{"$f":"IFERROR(INDEX(data_absen!$I$2:$I$2000,SUMPRODUCT((data_absen!$B$2:$B$2000=$A151)*(data_absen!$C$2:$C$2000=L$3)*(ROW(data_absen!$C$2:$C$2000)))-1)*1440,\"\")","v":0},null,null,{"$f":"IFERROR(INDEX(data_absen!$J$2:$J$2000,SUMPRODUCT((data_absen!$B$2:$B$2000=$A151)*(data_absen!$C$2:$C$2000=L$3)*(ROW(data_absen!$C$2:$C$2000)))-1)*1440,\"\")","v":0},{"$f":"IFERROR(INDEX(data_absen!$K$2:$K$2000,SUMPRODUCT((data_absen!$B$2:$B$2000=$A151)*(data_absen!$C$2:$C$2000=Q$3)*(ROW(data_absen!$C$2:$C$2000)))-1)*1440,\"\")","v":""},{"$f":"IFERROR(INDEX(data_absen!$I$2:$I$2000,SUMPRODUCT((data_absen!$B$2:$B$2000=$A151)*(data_absen!$C$2:$C$2000=Q$3)*(ROW(data_absen!$C$2:$C$2000)))-1)*1440,\"\")","v":""},null,null,{"$f":"IFERROR(INDEX(data_absen!$J$2:$J$2000,SUMPRODUCT((data_absen!$B$2:$B$2000=$A151)*(data_absen!$C$2:$C$2000=Q$3)*(ROW(data_absen!$C$2:$C$2000)))-1)*1440,\"\")","v":""},{"$f":"IFERROR(INDEX(data_absen!$K$2:$K$2000,SUMPRODUCT((data_absen!$B$2:$B$2000=$A151)*(data_absen!$C$2:$C$2000=V$3)*(ROW(data_absen!$C$2:$C$2000)))-1)*1440,\"\")","v":""},{"$f":"IFERROR(INDEX(data_absen!$I$2:$I$2000,SUMPRODUCT((data_absen!$B$2:$B$2000=$A151)*(data_absen!$C$2:$C$2000=V$3)*(ROW(data_absen!$C$2:$C$2000)))-1)*1440,\"\")","v":""},null,null,{"$f":"IFERROR(INDEX(data_absen!$J$2:$J$2000,SUMPRODUCT((data_absen!$B$2:$B$2000=$A151)*(data_absen!$C$2:$C$2000=V$3)*(ROW(data_absen!$C$2:$C$2000)))-1)*1440,\"\")","v":""},{"$f":"IFERROR(INDEX(data_absen!$K$2:$K$2000,SUMPRODUCT((data_absen!$B$2:$B$2000=$A151)*(data_absen!$C$2:$C$2000=AA$3)*(ROW(data_absen!$C$2:$C$2000)))-1)*1440,\"\")","v":""},{"$f":"IFERROR(INDEX(data_absen!$I$2:$I$2000,SUMPRODUCT((data_absen!$B$2:$B$2000=$A151)*(data_absen!$C$2:$C$2000=AA$3)*(ROW(data_absen!$C$2:$C$2000)))-1)*1440,\"\")","v":""},null,null,{"$f":"IFERROR(INDEX(data_absen!$J$2:$J$2000,SUMPRODUCT((data_absen!$B$2:$B$2000=$A151)*(data_absen!$C$2:$C$2000=AA$3)*(ROW(data_absen!$C$2:$C$2000)))-1)*1440,\"\")","v":""},{"$f":"IFERROR(INDEX(data_absen!$K$2:$K$2000,SUMPRODUCT((data_absen!$B$2:$B$2000=$A151)*(data_absen!$C$2:$C$2000=AF$3)*(ROW(data_absen!$C$2:$C$2000)))-1)*1440,\"\")","v":""},{"$f":"IFERROR(INDEX(data_absen!$I$2:$I$2000,SUMPRODUCT((data_absen!$B$2:$B$2000=$A151)*(data_absen!$C$2:$C$2000=AF$3)*(ROW(data_absen!$C$2:$C$2000)))-1)*1440,\"\")","v":""},null,null,{"$f":"IFERROR(INDEX(data_absen!$J$2:$J$2000,SUMPRODUCT((data_absen!$B$2:$B$2000=$A151)*(data_absen!$C$2:$C$2000=AF$3)*(ROW(data_absen!$C$2:$C$2000)))-1)*1440,\"\")","v":""},{"$f":"IFERROR(INDEX(data_absen!$K$2:$K$2000,SUMPRODUCT((data_absen!$B$2:$B$2000=$A151)*(data_absen!$C$2:$C$2000=AK$3)*(ROW(data_absen!$C$2:$C$2000)))-1)*1440,\"\")","v":""},{"$f":"IFERROR(INDEX(data_absen!$I$2:$I$2000,SUMPRODUCT((data_absen!$B$2:$B$2000=$A151)*(data_absen!$C$2:$C$2000=AK$3)*(ROW(data_absen!$C$2:$C$2000)))-1)*1440,\"\")","v":""},null,null,{"$f":"IFERROR(INDEX(data_absen!$J$2:$J$2000,SUMPRODUCT((data_absen!$B$2:$B$2000=$A151)*(data_absen!$C$2:$C$2000=AK$3)*(ROW(data_absen!$C$2:$C$2000)))-1)*1440,\"\")","v":""},{"$f":"IFERROR(INDEX(data_absen!$K$2:$K$2000,SUMPRODUCT((data_absen!$B$2:$B$2000=$A151)*(data_absen!$C$2:$C$2000=AP$3)*(ROW(data_absen!$C$2:$C$2000)))-1)*1440,\"\")","v":""},{"$f":"IFERROR(INDEX(data_absen!$I$2:$I$2000,SUMPRODUCT((data_absen!$B$2:$B$2000=$A151)*(data_absen!$C$2:$C$2000=AP$3)*(ROW(data_absen!$C$2:$C$2000)))-1)*1440,\"\")","v":""},null,null,{"$f":"IFERROR(INDEX(data_absen!$J$2:$J$2000,SUMPRODUCT((data_absen!$B$2:$B$2000=$A151)*(data_absen!$C$2:$C$2000=AP$3)*(ROW(data_absen!$C$2:$C$2000)))-1)*1440,\"\")","v":""},{"$f":"IFERROR(INDEX(data_absen!$K$2:$K$2000,SUMPRODUCT((data_absen!$B$2:$B$2000=$A151)*(data_absen!$C$2:$C$2000=AU$3)*(ROW(data_absen!$C$2:$C$2000)))-1)*1440,\"\")","v":""},{"$f":"IFERROR(INDEX(data_absen!$I$2:$I$2000,SUMPRODUCT((data_absen!$B$2:$B$2000=$A151)*(data_absen!$C$2:$C$2000=AU$3)*(ROW(data_absen!$C$2:$C$2000)))-1)*1440,\"\")","v":""},null,null,{"$f":"IFERROR(INDEX(data_absen!$J$2:$J$2000,SUMPRODUCT((data_absen!$B$2:$B$2000=$A151)*(data_absen!$C$2:$C$2000=AU$3)*(ROW(data_absen!$C$2:$C$2000)))-1)*1440,\"\")","v":""},{"$f":"IFERROR(INDEX(data_absen!$K$2:$K$2000,SUMPRODUCT((data_absen!$B$2:$B$2000=$A151)*(data_absen!$C$2:$C$2000=AZ$3)*(ROW(data_absen!$C$2:$C$2000)))-1)*1440,\"\")","v":""},{"$f":"IFERROR(INDEX(data_absen!$I$2:$I$2000,SUMPRODUCT((data_absen!$B$2:$B$2000=$A151)*(data_absen!$C$2:$C$2000=AZ$3)*(ROW(data_absen!$C$2:$C$2000)))-1)*1440,\"\")","v":""},null,null,{"$f":"IFERROR(INDEX(data_absen!$J$2:$J$2000,SUMPRODUCT((data_absen!$B$2:$B$2000=$A151)*(data_absen!$C$2:$C$2000=AZ$3)*(ROW(data_absen!$C$2:$C$2000)))-1)*1440,\"\")","v":""},{"$f":"IFERROR(INDEX(data_absen!$K$2:$K$2000,SUMPRODUCT((data_absen!$B$2:$B$2000=$A151)*(data_absen!$C$2:$C$2000=BE$3)*(ROW(data_absen!$C$2:$C$2000)))-1)*1440,\"\")","v":""},{"$f":"IFERROR(INDEX(data_absen!$I$2:$I$2000,SUMPRODUCT((data_absen!$B$2:$B$2000=$A151)*(data_absen!$C$2:$C$2000=BE$3)*(ROW(data_absen!$C$2:$C$2000)))-1)*1440,\"\")","v":""},null,null,{"$f":"IFERROR(INDEX(data_absen!$J$2:$J$2000,SUMPRODUCT((data_absen!$B$2:$B$2000=$A151)*(data_absen!$C$2:$C$2000=BE$3)*(ROW(data_absen!$C$2:$C$2000)))-1)*1440,\"\")","v":""},{"$f":"IFERROR(INDEX(data_absen!$K$2:$K$2000,SUMPRODUCT((data_absen!$B$2:$B$2000=$A151)*(data_absen!$C$2:$C$2000=BJ$3)*(ROW(data_absen!$C$2:$C$2000)))-1)*1440,\"\")","v":""},{"$f":"IFERROR(INDEX(data_absen!$I$2:$I$2000,SUMPRODUCT((data_absen!$B$2:$B$2000=$A151)*(data_absen!$C$2:$C$2000=BJ$3)*(ROW(data_absen!$C$2:$C$2000)))-1)*1440,\"\")","v":""},null,null,{"$f":"IFERROR(INDEX(data_absen!$J$2:$J$2000,SUMPRODUCT((data_absen!$B$2:$B$2000=$A151)*(data_absen!$C$2:$C$2000=BJ$3)*(ROW(data_absen!$C$2:$C$2000)))-1)*1440,\"\")","v":""},{"$f":"IFERROR(INDEX(data_absen!$K$2:$K$2000,SUMPRODUCT((data_absen!$B$2:$B$2000=$A151)*(data_absen!$C$2:$C$2000=BO$3)*(ROW(data_absen!$C$2:$C$2000)))-1)*1440,\"\")","v":""},{"$f":"IFERROR(INDEX(data_absen!$I$2:$I$2000,SUMPRODUCT((data_absen!$B$2:$B$2000=$A151)*(data_absen!$C$2:$C$2000=BO$3)*(ROW(data_absen!$C$2:$C$2000)))-1)*1440,\"\")","v":""},null,null,{"$f":"IFERROR(INDEX(data_absen!$J$2:$J$2000,SUMPRODUCT((data_absen!$B$2:$B$2000=$A151)*(data_absen!$C$2:$C$2000=BO$3)*(ROW(data_absen!$C$2:$C$2000)))-1)*1440,\"\")","v":""},{"$f":"COUNTIFS(data_absen!$B$2:$B$2000,$A151,data_absen!$I$2:$I$2000,\">0\")","v":0}]
["Suntrik",{"$f":"INDEX(data_absen!$G$2:$G$2000,SUMPRODUCT((data_absen!$B$2:$B$2000=$A154)*(data_absen!$C$2:$C$2000=B$3)*(ROW(data_absen!$C$2:$C$2000)))-1)","v":"00:00:00"},null,"-",{"$f":"INDEX(data_absen!$H$2:$H$2000,SUMPRODUCT((data_absen!$B$2:$B$2000=$A154)*(data_absen!$C$2:$C$2000=B$3)*(ROW(data_absen!$C$2:$C$2000)))-1)","v":"00:00:00"},null,{"$f":"INDEX(data_absen!$G$2:$G$2000,SUMPRODUCT((data_absen!$B$2:$B$2000=$A154)*(data_absen!$C$2:$C$2000=G$3)*(ROW(data_absen!$C$2:$C$2000)))-1)","v":"00:00:00"},null,"-",{"$f":"INDEX(data_absen!$H$2:$H$2000,SUMPRODUCT((data_absen!$B$2:$B$2000=$A154)*(data_absen!$C$2:$C$2000=G$3)*(ROW(data_absen!$C$2:$C$2000)))-1)","v":"00:00:00"},null,{"$f":"INDEX(data_absen!$G$2:$G$2000,SUMPRODUCT((data_absen!$B$2:$B$2000=$A154)*(data_absen!$C$2:$C$2000=L$3)*(ROW(data_absen!$C$2:$C$2000)))-1)","v":"00:00:00"},null,"-",{"$f":"INDEX(data_absen!$H$2:$H$2000,SUMPRODUCT((data_absen!$B$2:$B$2000=$A154)*(data_absen!$C$2:$C$2000=L$3)*(ROW(data_absen!$C$2:$C$2000)))-1)","v":"00:00:00"},null,{"$f":"INDEX(data_absen!$G$2:$G$2000,SUMPRODUCT((data_absen!$B$2:$B$2000=$A154)*(data_absen!$C$2:$C$2000=Q$3)*(ROW(data_absen!$C$2:$C$2000)))-1)","v":""},null,"-",{"$f":"INDEX(data_absen!$H$2:$H$2000,SUMPRODUCT((data_absen!$B$2:$B$2000=$A154)*(data_absen!$C$2:$C$2000=Q$3)*(ROW(data_absen!$C$2:$C$2000)))-1)","v":""},null,{"$f":"INDEX(data_absen!$G$2:$G$2000,SUMPRODUCT((data_absen!$B$2:$B$2000=$A154)*(data_absen!$C$2:$C$2000=V$3)*(ROW(data_absen!$C$2:$C$2000)))-1)","v":""},null,"-",{"$f":"INDEX(data_absen!$H$2:$H$2000,SUMPRODUCT((data_absen!$B$2:$B$2000=$A154)*(data_absen!$C$2:$C$2000=V$3)*(ROW(data_absen!$C$2:$C$2000)))-1)","v":""},null,{"$f":"INDEX(data_absen!$G$2:$G$2000,SUMPRODUCT((data_absen!$B$2:$B$2000=$A154)*(data_absen!$C$2:$C$2000=AA$3)*(ROW(data_absen!$C$2:$C$2000)))-1)","v":""},null,"-",{"$f":"INDEX(data_absen!$H$2:$H$2000,SUMPRODUCT((data_absen!$B$2:$B$2000=$A154)*(data_absen!$C$2:$C$2000=AA$3)*(ROW(data_absen!$C$2:$C$2000)))-1)","v":""},null,{"$f":"INDEX(data_absen!$G$2:$G$2000,SUMPRODUCT((data_absen!$B$2:$B$2000=$A154)*(data_absen!$C$2:$C$2000=AF$3)*(ROW(data_absen!$C$2:$C$2000)))-1)","v":""},null,"-",{"$f":"INDEX(data_absen!$H$2:$H$2000,SUMPRODUCT((data_absen!$B$2:$B$2000=$A154)*(data_absen!$C$2:$C$2000=AF$3)*(ROW(data_absen!$C$2:$C$2000)))-1)","v":""},null,{"$f":"INDEX(data_absen!$G$2:$G$2000,SUMPRODUCT((data_absen!$B$2:$B$2000=$A154)*(data_absen!$C$2:$C$2000=AK$3)*(ROW(data_absen!$C$2:$C$2000)))-1)","v":""},null,"-",{"$f":"INDEX(data_absen!$H$2:$H$2000,SUMPRODUCT((data_absen!$B$2:$B$2000=$A154)*(data_absen!$C$2:$C$2000=AK$3)*(ROW(data_absen!$C$2:$C$2000)))-1)","v":""},null,{"$f":"INDEX(data_absen!$G$2:$G$2000,SUMPRODUCT((data_absen!$B$2:$B$2000=$A154)*(data_absen!$C$2:$C$2000=AP$3)*(ROW(data_absen!$C$2:$C$2000)))-1)","v":""},null,"-",{"$f":"INDEX(data_absen!$H$2:$H$2000,SUMPRODUCT((data_absen!$B$2:$B$2000=$A154)*(data_absen!$C$2:$C$2000=AP$3)*(ROW(data_absen!$C$2:$C$2000)))-1)","v":""},null,{"$f":"INDEX(data_absen!$G$2:$G$2000,SUMPRODUCT((data_absen!$B$2:$B$2000=$A154)*(data_absen!$C$2:$C$2000=AU$3)*(ROW(data_absen!$C$2:$C$2000)))-1)","v":""},null,"-",{"$f":"INDEX(data_absen!$H$2:$H$2000,SUMPRODUCT((data_absen!$B$2:$B$2000=$A154)*(data_absen!$C$2:$C$2000=AU$3)*(ROW(data_absen!$C$2:$C$2000)))-1)","v":""},null,{"$f":"INDEX(data_absen!$G$2:$G$2000,SUMPRODUCT((data_absen!$B$2:$B$2000=$A154)*(data_absen!$C$2:$C$2000=AZ$3)*(ROW(data_absen!$C$2:$C$2000)))-1)","v":""},null,"-",{"$f":"INDEX(data_absen!$H$2:$H$2000,SUMPRODUCT((data_absen!$B$2:$B$2000=$A154)*(data_absen!$C$2:$C$2000=AZ$3)*(ROW(data_absen!$C$2:$C$2000)))-1)","v":""},null,{"$f":"INDEX(data_absen!$G$2:$G$2000,SUMPRODUCT((data_absen!$B$2:$B$2000=$A154)*(data_absen!$C$2:$C$2000=BE$3)*(ROW(data_absen!$C$2:$C$2000)))-1)","v":""},null,"-",{"$f":"INDEX(data_absen!$H$2:$H$2000,SUMPRODUCT((data_absen!$B$2:$B$2000=$A154)*(data_absen!$C$2:$C$2000=BE$3)*(ROW(data_absen!$C$2:$C$2000)))-1)","v":""},null,{"$f":"INDEX(data_absen!$G$2:$G$2000,SUMPRODUCT((data_absen!$B$2:$B$2000=$A154)*(data_absen!$C$2:$C$2000=BJ$3)*(ROW(data_absen!$C$2:$C$2000)))-1)","v":""},null,"-",{"$f":"INDEX(data_absen!$H$2:$H$2000,SUMPRODUCT((data_absen!$B$2:$B$2000=$A154)*(data_absen!$C$2:$C$2000=BJ$3)*(ROW(data_absen!$C$2:$C$2000)))-1)","v":""},null,{"$f":"INDEX(data_absen!$G$2:$G$2000,SUMPRODUCT((data_absen!$B$2:$B$2000=$A154)*(data_absen!$C$2:$C$2000=BO$3)*(ROW(data_absen!$C$2:$C$2000)))-1)","v":""},null,"-",{"$f":"INDEX(data_absen!$H$2:$H$2000,SUMPRODUCT((data_absen!$B$2:$B$2000=$A154)*(data_absen!$C$2:$C$2000=BO$3)*(ROW(data_absen!$C$2:$C$2000)))-1)","v":""}]
[418,null,null,"-",null,null,null,null,"-",null,null,null,null,"-",null,null,null,null,"-",null,null,null,null,"-",null,null,null,null,"-",null,null,null,null,"-",null,null,null,null,"-",null,null,null,null,"-",null,null,null,null,"-",null,null,null,null,"-",null,null,null,null,"-",null,null,null,null,"-",null,null,null,null,"-"]
[null,{"$f":"IFERROR(INDEX(data_absen!$K$2:$K$2000,SUMPRODUCT((data_absen!$B$2:$B$2000=$A154)*(data_absen!$C$2:$C$2000=B$3)*(ROW(data_absen!$C$2:$C$2000)))-1)*1440,\"\")","v":0},{"$f":"IFERROR(INDEX(data_absen!$I$2:$I$2000,SUMPRODUCT((data_absen!$B$2:$B$2000=$A154)*(data_absen!$C$2:$C$2000=B$3)*(ROW(data_absen!$C$2:$C$2000)))-1)*1440,\"\")","v":0},null,null,{"$f":"IFERROR(INDEX(data_absen!$J$2:$J$2000,SUMPRODUCT((data_absen!$B$2:$B$2000=$A154)*(data_absen!$C$2:$C$2000=B$3)*(ROW(data_absen!$C$2:$C$2000)))-1)*1440,\"\")","v":0},{"$f":"IFERROR(INDEX(data_absen!$K$2:$K$2000,SUMPRODUCT((data_absen!$B$2:$B$2000=$A154)*(data_absen!$C$2:$C$2000=G$3)*(ROW(data_absen!$C$2:$C$2000)))-1)*1440,\"\")","v":0},{"$f":"IFERROR(INDEX(data_absen!$I$2:$I$2000,SUMPRODUCT((data_absen!$B$2:$B$2000=$A154)*(data_absen!$C$2:$C$2000=G$3)*(ROW(data_absen!$C$2:$C$2000)))-1)*1440,\"\")","v":0},null,null,{"$f":"IFERROR(INDEX(data_absen!$J$2:$J$2000,SUMPRODUCT((data_absen!$B$2:$B$2000=$A154)*(data_absen!$C$2:$C$2000=G$3)*(ROW(data_absen!$C$2:$C$2000)))-1)*1440,\"\")","v":0},{"$f":"IFERROR(INDEX(data_absen!$K$2:$K$2000,SUMPRODUCT((data_absen!$B$2:$B$2000=$A154)*(data_absen!$C$2:$C$2000=L$3)*(ROW(data_absen!$C$2:$C$2000)))-1)*1440,\"\")","v":0},{"$f":"IFERROR(INDEX(data_absen!$I$2:$I$2000,SUMPRODUCT((data_absen!$B$2:$B$2000=$A154)*(data_absen!$C$2:$C$2000=L$3)*(ROW(data_absen!$C$2:$C$2000)))-1)*1440,\"\")","v":0},null,null,{"$f":"IFERROR(INDEX(data_absen!$J$2:$J$2000,SUMPRODUCT((data_absen!$B$2:$B$2000=$A154)*(data_absen!$C$2:$C$2000=L$3)*(ROW(data_absen!$C$2:$C$2000)))-1)*1440,\"\")","v":0},{"$f":"IFERROR(INDEX(data_absen!$K$2:$K$2000,SUMPRODUCT((data_absen!$B$2:$B$2000=$A154)*(data_absen!$C$2:$C$2000=Q$3)*(ROW(data_absen!$C$2:$C$2000)))-1)*1440,\"\")","v":""},{"$f":"IFERROR(INDEX(data_absen!$I$2:$I$2000,SUMPRODUCT((data_absen!$B$2:$B$2000=$A154)*(data_absen!$C$2:$C$2000=Q$3)*(ROW(data_absen!$C$2:$C$2000)))-1)*1440,\"\")","v":""},null,null,{"$f":"IFERROR(INDEX(data_absen!$J$2:$J$2000,SUMPRODUCT((data_absen!$B$2:$B$2000=$A154)*(data_absen!$C$2:$C$2000=Q$3)*(ROW(data_absen!$C$2:$C$2000)))-1)*1440,\"\")","v":""},{"$f":"IFERROR(INDEX(data_absen!$K$2:$K$2000,SUMPRODUCT((data_absen!$B$2:$B$2000=$A154)*(data_absen!$C$2:$C$2000=V$3)*(ROW(data_absen!$C$2:$C$2000)))-1)*1440,\"\")","v":""},{"$f":"IFERROR(INDEX(data_absen!$I$2:$I$2000,SUMPRODUCT((data_absen!$B$2:$B$2000=$A154)*(data_absen!$C$2:$C$2000=V$3)*(ROW(data_absen!$C$2:$C$2000)))-1)*1440,\"\")","v":""},null,null,{"$f":"IFERROR(INDEX(data_absen!$J$2:$J$2000,SUMPRODUCT((data_absen!$B$2:$B$2000=$A154)*(data_absen!$C$2:$C$2000=V$3)*(ROW(data_absen!$C$2:$C$2000)))-1)*1440,\"\")","v":""},{"$f":"IFERROR(INDEX(data_absen!$K$2:$K$2000,SUMPRODUCT((data_absen!$B$2:$B$2000=$A154)*(data_absen!$C$2:$C$2000=AA$3)*(ROW(data_absen!$C$2:$C$2000)))-1)*1440,\"\")","v":""},{"$f":"IFERROR(INDEX(data_absen!$I$2:$I$2000,SUMPRODUCT((data_absen!$B$2:$B$2000=$A154)*(data_absen!$C$2:$C$2000=AA$3)*(ROW(data_absen!$C$2:$C$2000)))-1)*1440,\"\")","v":""},null,null,{"$f":"IFERROR(INDEX(data_absen!$J$2:$J$2000,SUMPRODUCT((data_absen!$B$2:$B$2000=$A154)*(data_absen!$C$2:$C$2000=AA$3)*(ROW(data_absen!$C$2:$C$2000)))-1)*1440,\"\")","v":""},{"$f":"IFERROR(INDEX(data_absen!$K$2:$K$2000,SUMPRODUCT((data_absen!$B$2:$B$2000=$A154)*(data_absen!$C$2:$C$2000=AF$3)*(ROW(data_absen!$C$2:$C$2000)))-1)*1440,\"\")","v":""},{"$f":"IFERROR(INDEX(data_absen!$I$2:$I$2000,SUMPRODUCT((data_absen!$B$2:$B$2000=$A154)*(data_absen!$C$2:$C$2000=AF$3)*(ROW(data_absen!$C$2:$C$2000)))-1)*1440,\"\")","v":""},null,null,{"$f":"IFERROR(INDEX(data_absen!$J$2:$J$2000,SUMPRODUCT((data_absen!$B$2:$B$2000=$A154)*(data_absen!$C$2:$C$2000=AF$3)*(ROW(data_absen!$C$2:$C$2000)))-1)*1440,\"\")","v":""},{"$f":"IFERROR(INDEX(data_absen!$K$2:$K$2000,SUMPRODUCT((data_absen!$B$2:$B$2000=$A154)*(data_absen!$C$2:$C$2000=AK$3)*(ROW(data_absen!$C$2:$C$2000)))-1)*1440,\"\")","v":""},{"$f":"IFERROR(INDEX(data_absen!$I$2:$I$2000,SUMPRODUCT((data_absen!$B$2:$B$2000=$A154)*(data_absen!$C$2:$C$2000=AK$3)*(ROW(data_absen!$C$2:$C$2000)))-1)*1440,\"\")","v":""},null,null,{"$f":"IFERROR(INDEX(data_absen!$J$2:$J$2000,SUMPRODUCT((data_absen!$B$2:$B$2000=$A154)*(data_absen!$C$2:$C$2000=AK$3)*(ROW(data_absen!$C$2:$C$2000)))-1)*1440,\"\")","v":""},{"$f":"IFERROR(INDEX(data_absen!$K$2:$K$2000,SUMPRODUCT((data_absen!$B$2:$B$2000=$A154)*(data_absen!$C$2:$C$2000=AP$3)*(ROW(data_absen!$C$2:$C$2000)))-1)*1440,\"\")","v":""},{"$f":"IFERROR(INDEX(data_absen!$I$2:$I$2000,SUMPRODUCT((data_absen!$B$2:$B$2000=$A154)*(data_absen!$C$2:$C$2000=AP$3)*(ROW(data_absen!$C$2:$C$2000)))-1)*1440,\"\")","v":""},null,null,{"$f":"IFERROR(INDEX(data_absen!$J$2:$J$2000,SUMPRODUCT((data_absen!$B$2:$B$2000=$A154)*(data_absen!$C$2:$C$2000=AP$3)*(ROW(data_absen!$C$2:$C$2000)))-1)*1440,\"\")","v":""},{"$f":"IFERROR(INDEX(data_absen!$K$2:$K$2000,SUMPRODUCT((data_absen!$B$2:$B$2000=$A154)*(data_absen!$C$2:$C$2000=AU$3)*(ROW(data_absen!$C$2:$C$2000)))-1)*1440,\"\")","v":""},{"$f":"IFERROR(INDEX(data_absen!$I$2:$I$2000,SUMPRODUCT((data_absen!$B$2:$B$2000=$A154)*(data_absen!$C$2:$C$2000=AU$3)*(ROW(data_absen!$C$2:$C$2000)))-1)*1440,\"\")","v":""},null,null,{"$f":"IFERROR(INDEX(data_absen!$J$2:$J$2000,SUMPRODUCT((data_absen!$B$2:$B$2000=$A154)*(data_absen!$C$2:$C$2000=AU$3)*(ROW(data_absen!$C$2:$C$2000)))-1)*1440,\"\")","v":""},{"$f":"IFERROR(INDEX(data_absen!$K$2:$K$2000,SUMPRODUCT((data_absen!$B$2:$B$2000=$A154)*(data_absen!$C$2:$C$2000=AZ$3)*(ROW(data_absen!$C$2:$C$2000)))-1)*1440,\"\")","v":""},{"$f":"IFERROR(INDEX(data_absen!$I$2:$I$2000,SUMPRODUCT((data_absen!$B$2:$B$2000=$A154)*(data_absen!$C$2:$C$2000=AZ$3)*(ROW(data_absen!$C$2:$C$2000)))-1)*1440,\"\")","v":""},null,null,{"$f":"IFERROR(INDEX(data_absen!$J$2:$J$2000,SUMPRODUCT((data_absen!$B$2:$B$2000=$A154)*(data_absen!$C$2:$C$2000=AZ$3)*(ROW(data_absen!$C$2:$C$2000)))-1)*1440,\"\")","v":""},{"$f":"IFERROR(INDEX(data_absen!$K$2:$K$2000,SUMPRODUCT((data_absen!$B$2:$B$2000=$A154)*(data_absen!$C$2:$C$2000=BE$3)*(ROW(data_absen!$C$2:$C$2000)))-1)*1440,\"\")","v":""},{"$f":"IFERROR(INDEX(data_absen!$I$2:$I$2000,SUMPRODUCT((data_absen!$B$2:$B$2000=$A154)*(data_absen!$C$2:$C$2000=BE$3)*(ROW(data_absen!$C$2:$C$2000)))-1)*1440,\"\")","v":""},null,null,{"$f":"IFERROR(INDEX(data_absen!$J$2:$J$2000,SUMPRODUCT((data_absen!$B$2:$B$2000=$A154)*(data_absen!$C$2:$C$2000=BE$3)*(ROW(data_absen!$C$2:$C$2000)))-1)*1440,\"\")","v":""},{"$f":"IFERROR(INDEX(data_absen!$K$2:$K$2000,SUMPRODUCT((data_absen!$B$2:$B$2000=$A154)*(data_absen!$C$2:$C$2000=BJ$3)*(ROW(data_absen!$C$2:$C$2000)))-1)*1440,\"\")","v":""},{"$f":"IFERROR(INDEX(data_absen!$I$2:$I$2000,SUMPRODUCT((data_absen!$B$2:$B$2000=$A154)*(data_absen!$C$2:$C$2000=BJ$3)*(ROW(data_absen!$C$2:$C$2000)))-1)*1440,\"\")","v":""},null,null,{"$f":"IFERROR(INDEX(data_absen!$J$2:$J$2000,SUMPRODUCT((data_absen!$B$2:$B$2000=$A154)*(data_absen!$C$2:$C$2000=BJ$3)*(ROW(data_absen!$C$2:$C$2000)))-1)*1440,\"\")","v":""},{"$f":"IFERROR(INDEX(data_absen!$K$2:$K$2000,SUMPRODUCT((data_absen!$B$2:$B$2000=$A154)*(data_absen!$C$2:$C$2000=BO$3)*(ROW(data_absen!$C$2:$C$2000)))-1)*1440,\"\")","v":""},{"$f":"IFERROR(INDEX(data_absen!$I$2:$I$2000,SUMPRODUCT((data_absen!$B$2:$B$2000=$A154)*(data_absen!$C$2:$C$2000=BO$3)*(ROW(data_absen!$C$2:$C$2000)))-1)*1440,\"\")","v":""},null,null,{"$f":"IFERROR(INDEX(data_absen!$J$2:$J$2000,SUMPRODUCT((data_absen!$B$2:$B$2000=$A154)*(data_absen!$C$2:$C$2000=BO$3)*(ROW(data_absen!$C$2:$C$2000)))-1)*1440,\"\")","v":""},{"$f":"COUNTIFS(data_absen!$B$2:$B$2000,$A154,data_absen!$I$2:$I$2000,\">0\")","v":0}]
["Keterangan : ",null,null,null,null,"Lembur",null,null,null,null,"Datang Telat atau Tdk/ Lupa Absen Masuk",null,null,null,null,null,null,null,null,null,null,null,null,null,null,"Pulang Cepat atau Tdk/Lupa Absen Pulang"]
[]
["NAMA","2019-01-16",null,null,null,null,"2019-01-17",null,null,null,null,"2019-01-18",null,null,null,null,"2019-01-19",null,null,null,null,"2019-01-21",null,null,null,null,"2019-01-22",null,null,null,null,"2019-01-23",null,null,null,null,"2019-01-24",null,null,null,null,"2019-01-25",null,null,null,null,"2019-01-26",null,null,null,null,"2019-01-28",null,null,null,null,"2019-01-29",null,null,null,null,"2019-01-30",null,null,null,null,"2019-01-31",null,null,null,null,"Telat Kali (X)","Lembur Menit"]
["Elsa",{"$f":"INDEX(data_absen!$G$2:$G$2000,SUMPRODUCT((data_absen!$B$2:$B$2000=$A160)*(data_absen!$C$2:$C$2000=B$3)*(ROW(data_absen!$C$2:$C$2000)))-1)","v":"00:00:00"},null,"-",{"$f":"INDEX(data_absen!$H$2:$H$2000,SUMPRODUCT((data_absen!$B$2:$B$2000=$A160)*(data_absen!$C$2:$C$2000=B$3)*(ROW(data_absen!$C$2:$C$2000)))-1)","v":"00:00:00"},null,{"$f":"INDEX(data_absen!$G$2:$G$2000,SUMPRODUCT((data_absen!$B$2:$B$2000=$A160)*(data_absen!$C$2:$C$2000=G$3)*(ROW(data_absen!$C$2:$C$2000)))-1)","v":"00:00:00"},null,"-",{"$f":"INDEX(data_absen!$H$2:$H$2000,SUMPRODUCT((data_absen!$B$2:$B$2000=$A160)*(data_absen!$C$2:$C$2000=G$3)*(ROW(data_absen!$C$2:$C$2000)))-1)","v":"00:00:00"},null,{"$f":"INDEX(data_absen!$G$2:$G$2000,SUMPRODUCT((data_absen!$B$2:$B$2000=$A160)*(data_absen!$C$2:$C$2000=L$3)*(ROW(data_absen!$C$2:$C$2000)))-1)","v":"00:00:00"},null,"-",{"$f":"INDEX(data_absen!$H$2:$H$2000,SUMPRODUCT((data_absen!$B$2:$B$2000=$A160)*(data_absen!$C$2:$C$2000=L$3)*(ROW(data_absen!$C$2:$C$2000)))-1)","v":"00:00:00"},null,{"$f":"INDEX(data_absen!$G$2:$G$2000,SUMPRODUCT((data_absen!$B$2:$B$2000=$A160)*(data_absen!$C$2:$C$2000=Q$3)*(ROW(data_absen!$C$2:$C$2000)))-1)","v":""},null,"-",{"$f":"INDEX(data_absen!$H$2:$H$2000,SUMPRODUCT((data_absen!$B$2:$B$2000=$A160)*(data_absen!$C$2:$C$2000=Q$3)*(ROW(data_absen!$C$2:$C$2000)))-1)","v":""},null,{"$f":"INDEX(data_absen!$G$2:$G$2000,SUMPRODUCT((data_absen!$B$2:$B$2000=$A160)*(data_absen!$C$2:$C$2000=V$3)*(ROW(data_absen!$C$2:$C$2000)))-1)","v":""},null,"-",{"$f":"INDEX(data_absen!$H$2:$H$2000,SUMPRODUCT((data_absen!$B$2:$B$2000=$A160)*(data_absen!$C$2:$C$2000=V$3)*(ROW(data_absen!$C$2:$C$2000)))-1)","v":""},null,{"$f":"INDEX(data_absen!$G$2:$G$2000,SUMPRODUCT((data_absen!$B$2:$B$2000=$A160)*(data_absen!$C$2:$C$2000=AA$3)*(ROW(data_absen!$C$2:$C$2000)))-1)","v":""},null,"-",{"$f":"INDEX(data_absen!$H$2:$H$2000,SUMPRODUCT((data_absen!$B$2:$B$2000=$A160)*(data_absen!$C$2:$C$2000=AA$3)*(ROW(data_absen!$C$2:$C$2000)))-1)","v":""},null,{"$f":"INDEX(data_absen!$G$2:$G$2000,SUMPRODUCT((data_absen!$B$2:$B$2000=$A160)*(data_absen!$C$2:$C$2000=AF$3)*(ROW(data_absen!$C$2:$C$2000)))-1)","v":""},null,"-",{"$f":"INDEX(data_absen!$H$2:$H$2000,SUMPRODUCT((data_absen!$B$2:$B$2000=$A160)*(data_absen!$C$2:$C$2000=AF$3)*(ROW(data_absen!$C$2:$C$2000)))-1)","v":""},null,{"$f":"INDEX(data_absen!$G$2:$G$2000,SUMPRODUCT((data_absen!$B$2:$B$2000=$A160)*(data_absen!$C$2:$C$2000=AK$3)*(ROW(data_absen!$C$2:$C$2000)))-1)","v":""},null,"-",{"$f":"INDEX(data_absen!$H$2:$H$2000,SUMPRODUCT((data_absen!$B$2:$B$2000=$A160)*(data_absen!$C$2:$C$2000=AK$3)*(ROW(data_absen!$C$2:$C$2000)))-1)","v":""},null,{"$f":"INDEX(data_absen!$G$2:$G$2000,SUMPRODUCT((data_absen!$B$2:$B$2000=$A160)*(data_absen!$C$2:$C$2000=AP$3)*(ROW(data_absen!$C$2:$C$2000)))-1)","v":""},null,"-",{"$f":"INDEX(data_absen!$H$2:$H$2000,SUMPRODUCT((data_absen!$B$2:$B$2000=$A160)*(data_absen!$C$2:$C$2000=AP$3)*(ROW(data_absen!$C$2:$C$2000)))-1)","v":""},null,{"$f":"INDEX(data_absen!$G$2:$G$2000,SUMPRODUCT((data_absen!$B$2:$B$2000=$A160)*(data_absen!$C$2:$C$2000=AU$3)*(ROW(data_absen!$C$2:$C$2000)))-1)","v":""},null,"-",{"$f":"INDEX(data_absen!$H$2:$H$2000,SUMPRODUCT((data_absen!$B$2:$B$2000=$A160)*(data_absen!$C$2:$C$2000=AU$3)*(ROW(data_absen!$C$2:$C$2000)))-1)","v":""},null,{"$f":"INDEX(data_absen!$G$2:$G$2000,SUMPRODUCT((data_absen!$B$2:$B$2000=$A160)*(data_absen!$C$2:$C$2000=AZ$3)*(ROW(data_absen!$C$2:$C$2000)))-1)","v":""},null,"-",{"$f":"INDEX(data_absen!$H$2:$H$2000,SUMPRODUCT((data_absen!$B$2:$B$2000=$A160)*(data_absen!$C$2:$C$2000=AZ$3)*(ROW(data_absen!$C$2:$C$2000)))-1)","v":""},null,{"$f":"INDEX(data_absen!$G$2:$G$2000,SUMPRODUCT((data_absen!$B$2:$B$2000=$A160)*(data_absen!$C$2:$C$2000=BE$3)*(ROW(data_absen!$C$2:$C$2000)))-1)","v":""},null,"-",{"$f":"INDEX(data_absen!$H$2:$H$2000,SUMPRODUCT((data_absen!$B$2:$B$2000=$A160)*(data_absen!$C$2:$C$2000=BE$3)*(ROW(data_absen!$C$2:$C$2000)))-1)","v":""},null,{"$f":"INDEX(data_absen!$G$2:$G$2000,SUMPRODUCT((data_absen!$B$2:$B$2000=$A160)*(data_absen!$C$2:$C$2000=BJ$3)*(ROW(data_absen!$C$2:$C$2000)))-1)","v":""},null,"-",{"$f":"INDEX(data_absen!$H$2:$H$2000,SUMPRODUCT((data_absen!$B$2:$B$2000=$A160)*(data_absen!$C$2:$C$2000=BJ$3)*(ROW(data_absen!$C$2:$C$2000)))-1)","v":""},null,{"$f":"INDEX(data_absen!$G$2:$G$2000,SUMPRODUCT((data_absen!$B$2:$B$2000=$A160)*(data_absen!$C$2:$C$2000=BO$3)*(ROW(data_absen!$C$2:$C$2000)))-1)","v":""},null,"-",{"$f":"INDEX(data_absen!$H$2:$H$2000,SUMPRODUCT((data_absen!$B$2:$B$2000=$A160)*(data_absen!$C$2:$C$2000=BO$3)*(ROW(data_absen!$C$2:$C$2000)))-1)","v":""}]
[419,null,null,"-",null,null,null,null,"-",null,null,null,null,"-",null,null,null,null,"-",null,null,null,null,"-",null,null,null,null,"-",null,null,null,null,"-",null,null,null,null,"-",null,null,null,null,"-",null,null,null,null,"-",null,null,null,null,"-",null,null,null,null,"-",null,null,null,null,"-",null,null,null,null,"-"]
[null,{"$f":"IFERROR(INDEX(data_absen!$K$2:$K$2000,SUMPRODUCT((data_absen!$B$2:$B$2000=$A160)*(data_absen!$C$2:$C$2000=B$3)*(ROW(data_absen!$C$2:$C$2000)))-1)*1440,\"\")","v":0},{"$f":"IFERROR(INDEX(data_absen!$I$2:$I$2000,SUMPRODUCT((data_absen!$B$2:$B$2000=$A160)*(data_absen!$C$2:$C$2000=B$3)*(ROW(data_absen!$C$2:$C$2000)))-1)*1440,\"\")","v":0},null,null,{"$f":"IFERROR(INDEX(data_absen!$J$2:$J$2000,SUMPRODUCT((data_absen!$B$2:$B$2000=$A160)*(data_absen!$C$2:$C$2000=B$3)*(ROW(data_absen!$C$2:$C$2000)))-1)*1440,\"\")","v":0},{"$f":"IFERROR(INDEX(data_absen!$K$2:$K$2000,SUMPRODUCT((data_absen!$B$2:$B$2000=$A160)*(data_absen!$C$2:$C$2000=G$3)*(ROW(data_absen!$C$2:$C$2000)))-1)*1440,\"\")","v":0},{"$f":"IFERROR(INDEX(data_absen!$I$2:$I$2000,SUMPRODUCT((data_absen!$B$2:$B$2000=$A160)*(data_absen!$C$2:$C$2000=G$3)*(ROW(data_absen!$C$2:$C$2000)))-1)*1440,\"\")","v":0},null,null,{"$f":"IFERROR(INDEX(data_absen!$J$2:$J$2000,SUMPRODUCT((data_absen!$B$2:$B$2000=$A160)*(data_absen!$C$2:$C$2000=G$3)*(ROW(data_absen!$C$2:$C$2000)))-1)*1440,\"\")","v":0},{"$f":"IFERROR(INDEX(data_absen!$K$2:$K$2000,SUMPRODUCT((data_absen!$B$2:$B$2000=$A160)*(data_absen!$C$2:$C$2000=L$3)*(ROW(data_absen!$C$2:$C$2000)))-1)*1440,\"\")","v":0},{"$f":"IFERROR(INDEX(data_absen!$I$2:$I$2000,SUMPRODUCT((data_absen!$B$2:$B$2000=$A160)*(data_absen!$C$2:$C$2000=L$3)*(ROW(data_absen!$C$2:$C$2000)))-1)*1440,\"\")","v":0},null,null,{"$f":"IFERROR(INDEX(data_absen!$J$2:$J$2000,SUMPRODUCT((data_absen!$B$2:$B$2000=$A160)*(data_absen!$C$2:$C$2000=L$3)*(ROW(data_absen!$C$2:$C$2000)))-1)*1440,\"\")","v":0},{"$f":"IFERROR(INDEX(data_absen!$K$2:$K$2000,SUMPRODUCT((data_absen!$B$2:$B$2000=$A160)*(data_absen!$C$2:$C$2000=Q$3)*(ROW(data_absen!$C$2:$C$2000)))-1)*1440,\"\")","v":""},{"$f":"IFERROR(INDEX(data_absen!$I$2:$I$2000,SUMPRODUCT((data_absen!$B$2:$B$2000=$A160)*(data_absen!$C$2:$C$2000=Q$3)*(ROW(data_absen!$C$2:$C$2000)))-1)*1440,\"\")","v":""},null,null,{"$f":"IFERROR(INDEX(data_absen!$J$2:$J$2000,SUMPRODUCT((data_absen!$B$2:$B$2000=$A160)*(data_absen!$C$2:$C$2000=Q$3)*(ROW(data_absen!$C$2:$C$2000)))-1)*1440,\"\")","v":""},{"$f":"IFERROR(INDEX(data_absen!$K$2:$K$2000,SUMPRODUCT((data_absen!$B$2:$B$2000=$A160)*(data_absen!$C$2:$C$2000=V$3)*(ROW(data_absen!$C$2:$C$2000)))-1)*1440,\"\")","v":""},{"$f":"IFERROR(INDEX(data_absen!$I$2:$I$2000,SUMPRODUCT((data_absen!$B$2:$B$2000=$A160)*(data_absen!$C$2:$C$2000=V$3)*(ROW(data_absen!$C$2:$C$2000)))-1)*1440,\"\")","v":""},null,null,{"$f":"IFERROR(INDEX(data_absen!$J$2:$J$2000,SUMPRODUCT((data_absen!$B$2:$B$2000=$A160)*(data_absen!$C$2:$C$2000=V$3)*(ROW(data_absen!$C$2:$C$2000)))-1)*1440,\"\")","v":""},{"$f":"IFERROR(INDEX(data_absen!$K$2:$K$2000,SUMPRODUCT((data_absen!$B$2:$B$2000=$A160)*(data_absen!$C$2:$C$2000=AA$3)*(ROW(data_absen!$C$2:$C$2000)))-1)*1440,\"\")","v":""},{"$f":"IFERROR(INDEX(data_absen!$I$2:$I$2000,SUMPRODUCT((data_absen!$B$2:$B$2000=$A160)*(data_absen!$C$2:$C$2000=AA$3)*(ROW(data_absen!$C$2:$C$2000)))-1)*1440,\"\")","v":""},null,null,{"$f":"IFERROR(INDEX(data_absen!$J$2:$J$2000,SUMPRODUCT((data_absen!$B$2:$B$2000=$A160)*(data_absen!$C$2:$C$2000=AA$3)*(ROW(data_absen!$C$2:$C$2000)))-1)*1440,\"\")","v":""},{"$f":"IFERROR(INDEX(data_absen!$K$2:$K$2000,SUMPRODUCT((data_absen!$B$2:$B$2000=$A160)*(data_absen!$C$2:$C$2000=AF$3)*(ROW(data_absen!$C$2:$C$2000)))-1)*1440,\"\")","v":""},{"$f":"IFERROR(INDEX(data_absen!$I$2:$I$2000,SUMPRODUCT((data_absen!$B$2:$B$2000=$A160)*(data_absen!$C$2:$C$2000=AF$3)*(ROW(data_absen!$C$2:$C$2000)))-1)*1440,\"\")","v":""},null,null,{"$f":"IFERROR(INDEX(data_absen!$J$2:$J$2000,SUMPRODUCT((data_absen!$B$2:$B$2000=$A160)*(data_absen!$C$2:$C$2000=AF$3)*(ROW(data_absen!$C$2:$C$2000)))-1)*1440,\"\")","v":""},{"$f":"IFERROR(INDEX(data_absen!$K$2:$K$2000,SUMPRODUCT((data_absen!$B$2:$B$2000=$A160)*(data_absen!$C$2:$C$2000=AK$3)*(ROW(data_absen!$C$2:$C$2000)))-1)*1440,\"\")","v":""},{"$f":"IFERROR(INDEX(data_absen!$I$2:$I$2000,SUMPRODUCT((data_absen!$B$2:$B$2000=$A160)*(data_absen!$C$2:$C$2000=AK$3)*(ROW(data_absen!$C$2:$C$2000)))-1)*1440,\"\")","v":""},null,null,{"$f":"IFERROR(INDEX(data_absen!$J$2:$J$2000,SUMPRODUCT((data_absen!$B$2:$B$2000=$A160)*(data_absen!$C$2:$C$2000=AK$3)*(ROW(data_absen!$C$2:$C$2000)))-1)*1440,\"\")","v":""},{"$f":"IFERROR(INDEX(data_absen!$K$2:$K$2000,SUMPRODUCT((data_absen!$B$2:$B$2000=$A160)*(data_absen!$C$2:$C$2000=AP$3)*(ROW(data_absen!$C$2:$C$2000)))-1)*1440,\"\")","v":""},{"$f":"IFERROR(INDEX(data_absen!$I$2:$I$2000,SUMPRODUCT((data_absen!$B$2:$B$2000=$A160)*(data_absen!$C$2:$C$2000=AP$3)*(ROW(data_absen!$C$2:$C$2000)))-1)*1440,\"\")","v":""},null,null,{"$f":"IFERROR(INDEX(data_absen!$J$2:$J$2000,SUMPRODUCT((data_absen!$B$2:$B$2000=$A160)*(data_absen!$C$2:$C$2000=AP$3)*(ROW(data_absen!$C$2:$C$2000)))-1)*1440,\"\")","v":""},{"$f":"IFERROR(INDEX(data_absen!$K$2:$K$2000,SUMPRODUCT((data_absen!$B$2:$B$2000=$A160)*(data_absen!$C$2:$C$2000=AU$3)*(ROW(data_absen!$C$2:$C$2000)))-1)*1440,\"\")","v":""},{"$f":"IFERROR(INDEX(data_absen!$I$2:$I$2000,SUMPRODUCT((data_absen!$B$2:$B$2000=$A160)*(data_absen!$C$2:$C$2000=AU$3)*(ROW(data_absen!$C$2:$C$2000)))-1)*1440,\"\")","v":""},null,null,{"$f":"IFERROR(INDEX(data_absen!$J$2:$J$2000,SUMPRODUCT((data_absen!$B$2:$B$2000=$A160)*(data_absen!$C$2:$C$2000=AU$3)*(ROW(data_absen!$C$2:$C$2000)))-1)*1440,\"\")","v":""},{"$f":"IFERROR(INDEX(data_absen!$K$2:$K$2000,SUMPRODUCT((data_absen!$B$2:$B$2000=$A160)*(data_absen!$C$2:$C$2000=AZ$3)*(ROW(data_absen!$C$2:$C$2000)))-1)*1440,\"\")","v":""},{"$f":"IFERROR(INDEX(data_absen!$I$2:$I$2000,SUMPRODUCT((data_absen!$B$2:$B$2000=$A160)*(data_absen!$C$2:$C$2000=AZ$3)*(ROW(data_absen!$C$2:$C$2000)))-1)*1440,\"\")","v":""},null,null,{"$f":"IFERROR(INDEX(data_absen!$J$2:$J$2000,SUMPRODUCT((data_absen!$B$2:$B$2000=$A160)*(data_absen!$C$2:$C$2000=AZ$3)*(ROW(data_absen!$C$2:$C$2000)))-1)*1440,\"\")","v":""},{"$f":"IFERROR(INDEX(data_absen!$K$2:$K$2000,SUMPRODUCT((data_absen!$B$2:$B$2000=$A160)*(data_absen!$C$2:$C$2000=BE$3)*(ROW(data_absen!$C$2:$C$2000)))-1)*1440,\"\")","v":""},{"$f":"IFERROR(INDEX(data_absen!$I$2:$I$2000,SUMPRODUCT((data_absen!$B$2:$B$2000=$A160)*(data_absen!$C$2:$C$2000=BE$3)*(ROW(data_absen!$C$2:$C$2000)))-1)*1440,\"\")","v":""},null,null,{"$f":"IFERROR(INDEX(data_absen!$J$2:$J$2000,SUMPRODUCT((data_absen!$B$2:$B$2000=$A160)*(data_absen!$C$2:$C$2000=BE$3)*(ROW(data_absen!$C$2:$C$2000)))-1)*1440,\"\")","v":""},{"$f":"IFERROR(INDEX(data_absen!$K$2:$K$2000,SUMPRODUCT((data_absen!$B$2:$B$2000=$A160)*(data_absen!$C$2:$C$2000=BJ$3)*(ROW(data_absen!$C$2:$C$2000)))-1)*1440,\"\")","v":""},{"$f":"IFERROR(INDEX(data_absen!$I$2:$I$2000,SUMPRODUCT((data_absen!$B$2:$B$2000=$A160)*(data_absen!$C$2:$C$2000=BJ$3)*(ROW(data_absen!$C$2:$C$2000)))-1)*1440,\"\")","v":""},null,null,{"$f":"IFERROR(INDEX(data_absen!$J$2:$J$2000,SUMPRODUCT((data_absen!$B$2:$B$2000=$A160)*(data_absen!$C$2:$C$2000=BJ$3)*(ROW(data_absen!$C$2:$C$2000)))-1)*1440,\"\")","v":""},{"$f":"IFERROR(INDEX(data_absen!$K$2:$K$2000,SUMPRODUCT((data_absen!$B$2:$B$2000=$A160)*(data_absen!$C$2:$C$2000=BO$3)*(ROW(data_absen!$C$2:$C$2000)))-1)*1440,\"\")","v":""},{"$f":"IFERROR(INDEX(data_absen!$I$2:$I$2000,SUMPRODUCT((data_absen!$B$2:$B$2000=$A160)*(data_absen!$C$2:$C$2000=BO$3)*(ROW(data_absen!$C$2:$C$2000)))-1)*1440,\"\")","v":""},null,null,{"$f":"IFERROR(INDEX(data_absen!$J$2:$J$2000,SUMPRODUCT((data_absen!$B$2:$B$2000=$A160)*(data_absen!$C$2:$C$2000=BO$3)*(ROW(data_absen!$C$2:$C$2000)))-1)*1440,\"\")","v":""},{"$f":"COUNTIFS(data_absen!$B$2:$B$2000,$A4,data_absen!$I$2:$I$2000,\">0\")","v":0}]
["Evi B",{"$f":"INDEX(data_absen!$G$2:$G$2000,SUMPRODUCT((data_absen!$B$2:$B$2000=$A163)*(data_absen!$C$2:$C$2000=B$3)*(ROW(data_absen!$C$2:$C$2000)))-1)","v":"00:00:00"},null,"-",{"$f":"INDEX(data_absen!$H$2:$H$2000,SUMPRODUCT((data_absen!$B$2:$B$2000=$A163)*(data_absen!$C$2:$C$2000=B$3)*(ROW(data_absen!$C$2:$C$2000)))-1)","v":"00:00:00"},null,{"$f":"INDEX(data_absen!$G$2:$G$2000,SUMPRODUCT((data_absen!$B$2:$B$2000=$A163)*(data_absen!$C$2:$C$2000=G$3)*(ROW(data_absen!$C$2:$C$2000)))-1)","v":"00:00:00"},null,"-",{"$f":"INDEX(data_absen!$H$2:$H$2000,SUMPRODUCT((data_absen!$B$2:$B$2000=$A163)*(data_absen!$C$2:$C$2000=G$3)*(ROW(data_absen!$C$2:$C$2000)))-1)","v":"00:00:00"},null,{"$f":"INDEX(data_absen!$G$2:$G$2000,SUMPRODUCT((data_absen!$B$2:$B$2000=$A163)*(data_absen!$C$2:$C$2000=L$3)*(ROW(data_absen!$C$2:$C$2000)))-1)","v":"00:00:00"},null,"-",{"$f":"INDEX(data_absen!$H$2:$H$2000,SUMPRODUCT((data_absen!$B$2:$B$2000=$A163)*(data_absen!$C$2:$C$2000=L$3)*(ROW(data_absen!$C$2:$C$2000)))-1)","v":"00:00:00"},null,{"$f":"INDEX(data_absen!$G$2:$G$2000,SUMPRODUCT((data_absen!$B$2:$B$2000=$A163)*(data_absen!$C$2:$C$2000=Q$3)*(ROW(data_absen!$C$2:$C$2000)))-1)","v":""},null,"-",{"$f":"INDEX(data_absen!$H$2:$H$2000,SUMPRODUCT((data_absen!$B$2:$B$2000=$A163)*(data_absen!$C$2:$C$2000=Q$3)*(ROW(data_absen!$C$2:$C$2000)))-1)","v":""},null,{"$f":"INDEX(data_absen!$G$2:$G$2000,SUMPRODUCT((data_absen!$B$2:$B$2000=$A163)*(data_absen!$C$2:$C$2000=V$3)*(ROW(data_absen!$C$2:$C$2000)))-1)","v":""},null,"-",{"$f":"INDEX(data_absen!$H$2:$H$2000,SUMPRODUCT((data_absen!$B$2:$B$2000=$A163)*(data_absen!$C$2:$C$2000=V$3)*(ROW(data_absen!$C$2:$C$2000)))-1)","v":""},null,{"$f":"INDEX(data_absen!$G$2:$G$2000,SUMPRODUCT((data_absen!$B$2:$B$2000=$A163)*(data_absen!$C$2:$C$2000=AA$3)*(ROW(data_absen!$C$2:$C$2000)))-1)","v":""},null,"-",{"$f":"INDEX(data_absen!$H$2:$H$2000,SUMPRODUCT((data_absen!$B$2:$B$2000=$A163)*(data_absen!$C$2:$C$2000=AA$3)*(ROW(data_absen!$C$2:$C$2000)))-1)","v":""},null,{"$f":"INDEX(data_absen!$G$2:$G$2000,SUMPRODUCT((data_absen!$B$2:$B$2000=$A163)*(data_absen!$C$2:$C$2000=AF$3)*(ROW(data_absen!$C$2:$C$2000)))-1)","v":""},null,"-",{"$f":"INDEX(data_absen!$H$2:$H$2000,SUMPRODUCT((data_absen!$B$2:$B$2000=$A163)*(data_absen!$C$2:$C$2000=AF$3)*(ROW(data_absen!$C$2:$C$2000)))-1)","v":""},null,{"$f":"INDEX(data_absen!$G$2:$G$2000,SUMPRODUCT((data_absen!$B$2:$B$2000=$A163)*(data_absen!$C$2:$C$2000=AK$3)*(ROW(data_absen!$C$2:$C$2000)))-1)","v":""},null,"-",{"$f":"INDEX(data_absen!$H$2:$H$2000,SUMPRODUCT((data_absen!$B$2:$B$2000=$A163)*(data_absen!$C$2:$C$2000=AK$3)*(ROW(data_absen!$C$2:$C$2000)))-1)","v":""},null,{"$f":"INDEX(data_absen!$G$2:$G$2000,SUMPRODUCT((data_absen!$B$2:$B$2000=$A163)*(data_absen!$C$2:$C$2000=AP$3)*(ROW(data_absen!$C$2:$C$2000)))-1)","v":""},null,"-",{"$f":"INDEX(data_absen!$H$2:$H$2000,SUMPRODUCT((data_absen!$B$2:$B$2000=$A163)*(data_absen!$C$2:$C$2000=AP$3)*(ROW(data_absen!$C$2:$C$2000)))-1)","v":""},null,{"$f":"INDEX(data_absen!$G$2:$G$2000,SUMPRODUCT((data_absen!$B$2:$B$2000=$A163)*(data_absen!$C$2:$C$2000=AU$3)*(ROW(data_absen!$C$2:$C$2000)))-1)","v":""},null,"-",{"$f":"INDEX(data_absen!$H$2:$H$2000,SUMPRODUCT((data_absen!$B$2:$B$2000=$A163)*(data_absen!$C$2:$C$2000=AU$3)*(ROW(data_absen!$C$2:$C$2000)))-1)","v":""},null,{"$f":"INDEX(data_absen!$G$2:$G$2000,SUMPRODUCT((data_absen!$B$2:$B$2000=$A163)*(data_absen!$C$2:$C$2000=AZ$3)*(ROW(data_absen!$C$2:$C$2000)))-1)","v":""},null,"-",{"$f":"INDEX(data_absen!$H$2:$H$2000,SUMPRODUCT((data_absen!$B$2:$B$2000=$A163)*(data_absen!$C$2:$C$2000=AZ$3)*(ROW(data_absen!$C$2:$C$2000)))-1)","v":""},null,{"$f":"INDEX(data_absen!$G$2:$G$2000,SUMPRODUCT((data_absen!$B$2:$B$2000=$A163)*(data_absen!$C$2:$C$2000=BE$3)*(ROW(data_absen!$C$2:$C$2000)))-1)","v":""},null,"-",{"$f":"INDEX(data_absen!$H$2:$H$2000,SUMPRODUCT((data_absen!$B$2:$B$2000=$A163)*(data_absen!$C$2:$C$2000=BE$3)*(ROW(data_absen!$C$2:$C$2000)))-1)","v":""},null,{"$f":"INDEX(data_absen!$G$2:$G$2000,SUMPRODUCT((data_absen!$B$2:$B$2000=$A163)*(data_absen!$C$2:$C$2000=BJ$3)*(ROW(data_absen!$C$2:$C$2000)))-1)","v":""},null,"-",{"$f":"INDEX(data_absen!$H$2:$H$2000,SUMPRODUCT((data_absen!$B$2:$B$2000=$A163)*(data_absen!$C$2:$C$2000=BJ$3)*(ROW(data_absen!$C$2:$C$2000)))-1)","v":""},null,{"$f":"INDEX(data_absen!$G$2:$G$2000,SUMPRODUCT((data_absen!$B$2:$B$2000=$A163)*(data_absen!$C$2:$C$2000=BO$3)*(ROW(data_absen!$C$2:$C$2000)))-1)","v":""},null,"-",{"$f":"INDEX(data_absen!$H$2:$H$2000,SUMPRODUCT((data_absen!$B$2:$B$2000=$A163)*(data_absen!$C$2:$C$2000=BO$3)*(ROW(data_absen!$C$2:$C$2000)))-1)","v":""}]
[420,null,null,"-",null,null,null,null,"-",null,null,null,null,"-",null,null,null,null,"-",null,null,null,null,"-",null,null,null,null,"-",null,null,null,null,"-",null,null,null,null,"-",null,null,null,null,"-",null,null,null,null,"-",null,null,null,null,"-",null,null,null,null,"-",null,null,null,null,"-",null,null,null,null,"-"]
[null,{"$f":"IFERROR(INDEX(data_absen!$K$2:$K$2000,SUMPRODUCT((data_absen!$B$2:$B$2000=$A163)*(data_absen!$C$2:$C$2000=B$3)*(ROW(data_absen!$C$2:$C$2000)))-1)*1440,\"\")","v":0},{"$f":"IFERROR(INDEX(data_absen!$I$2:$I$2000,SUMPRODUCT((data_absen!$B$2:$B$2000=$A163)*(data_absen!$C$2:$C$2000=B$3)*(ROW(data_absen!$C$2:$C$2000)))-1)*1440,\"\")","v":0},null,null,{"$f":"IFERROR(INDEX(data_absen!$J$2:$J$2000,SUMPRODUCT((data_absen!$B$2:$B$2000=$A163)*(data_absen!$C$2:$C$2000=B$3)*(ROW(data_absen!$C$2:$C$2000)))-1)*1440,\"\")","v":0},{"$f":"IFERROR(INDEX(data_absen!$K$2:$K$2000,SUMPRODUCT((data_absen!$B$2:$B$2000=$A163)*(data_absen!$C$2:$C$2000=G$3)*(ROW(data_absen!$C$2:$C$2000)))-1)*1440,\"\")","v":0},{"$f":"IFERROR(INDEX(data_absen!$I$2:$I$2000,SUMPRODUCT((data_absen!$B$2:$B$2000=$A163)*(data_absen!$C$2:$C$2000=G$3)*(ROW(data_absen!$C$2:$C$2000)))-1)*1440,\"\")","v":0},null,null,{"$f":"IFERROR(INDEX(data_absen!$J$2:$J$2000,SUMPRODUCT((data_absen!$B$2:$B$2000=$A163)*(data_absen!$C$2:$C$2000=G$3)*(ROW(data_absen!$C$2:$C$2000)))-1)*1440,\"\")","v":0},{"$f":"IFERROR(INDEX(data_absen!$K$2:$K$2000,SUMPRODUCT((data_absen!$B$2:$B$2000=$A163)*(data_absen!$C$2:$C$2000=L$3)*(ROW(data_absen!$C$2:$C$2000)))-1)*1440,\"\")","v":0},{"$f":"IFERROR(INDEX(data_absen!$I$2:$I$2000,SUMPRODUCT((data_absen!$B$2:$B$2000=$A163)*(data_absen!$C$2:$C$2000=L$3)*(ROW(data_absen!$C$2:$C$2000)))-1)*1440,\"\")","v":0},null,null,{"$f":"IFERROR(INDEX(data_absen!$J$2:$J$2000,SUMPRODUCT((data_absen!$B$2:$B$2000=$A163)*(data_absen!$C$2:$C$2000=L$3)*(ROW(data_absen!$C$2:$C$2000)))-1)*1440,\"\")","v":0},{"$f":"IFERROR(INDEX(data_absen!$K$2:$K$2000,SUMPRODUCT((data_absen!$B$2:$B$2000=$A163)*(data_absen!$C$2:$C$2000=Q$3)*(ROW(data_absen!$C$2:$C$2000)))-1)*1440,\"\")","v":""},{"$f":"IFERROR(INDEX(data_absen!$I$2:$I$2000,SUMPRODUCT((data_absen!$B$2:$B$2000=$A163)*(data_absen!$C$2:$C$2000=Q$3)*(ROW(data_absen!$C$2:$C$2000)))-1)*1440,\"\")","v":""},null,null,{"$f":"IFERROR(INDEX(data_absen!$J$2:$J$2000,SUMPRODUCT((data_absen!$B$2:$B$2000=$A163)*(data_absen!$C$2:$C$2000=Q$3)*(ROW(data_absen!$C$2:$C$2000)))-1)*1440,\"\")","v":""},{"$f":"IFERROR(INDEX(data_absen!$K$2:$K$2000,SUMPRODUCT((data_absen!$B$2:$B$2000=$A163)*(data_absen!$C$2:$C$2000=V$3)*(ROW(data_absen!$C$2:$C$2000)))-1)*1440,\"\")","v":""},{"$f":"IFERROR(INDEX(data_absen!$I$2:$I$2000,SUMPRODUCT((data_absen!$B$2:$B$2000=$A163)*(data_absen!$C$2:$C$2000=V$3)*(ROW(data_absen!$C$2:$C$2000)))-1)*1440,\"\")","v":""},null,null,{"$f":"IFERROR(INDEX(data_absen!$J$2:$J$2000,SUMPRODUCT((data_absen!$B$2:$B$2000=$A163)*(data_absen!$C$2:$C$2000=V$3)*(ROW(data_absen!$C$2:$C$2000)))-1)*1440,\"\")","v":""},{"$f":"IFERROR(INDEX(data_absen!$K$2:$K$2000,SUMPRODUCT((data_absen!$B$2:$B$2000=$A163)*(data_absen!$C$2:$C$2000=AA$3)*(ROW(data_absen!$C$2:$C$2000)))-1)*1440,\"\")","v":""},{"$f":"IFERROR(INDEX(data_absen!$I$2:$I$2000,SUMPRODUCT((data_absen!$B$2:$B$2000=$A163)*(data_absen!$C$2:$C$2000=AA$3)*(ROW(data_absen!$C$2:$C$2000)))-1)*1440,\"\")","v":""},null,null,{"$f":"IFERROR(INDEX(data_absen!$J$2:$J$2000,SUMPRODUCT((data_absen!$B$2:$B$2000=$A163)*(data_absen!$C$2:$C$2000=AA$3)*(ROW(data_absen!$C$2:$C$2000)))-1)*1440,\"\")","v":""},{"$f":"IFERROR(INDEX(data_absen!$K$2:$K$2000,SUMPRODUCT((data_absen!$B$2:$B$2000=$A163)*(data_absen!$C$2:$C$2000=AF$3)*(ROW(data_absen!$C$2:$C$2000)))-1)*1440,\"\")","v":""},{"$f":"IFERROR(INDEX(data_absen!$I$2:$I$2000,SUMPRODUCT((data_absen!$B$2:$B$2000=$A163)*(data_absen!$C$2:$C$2000=AF$3)*(ROW(data_absen!$C$2:$C$2000)))-1)*1440,\"\")","v":""},null,null,{"$f":"IFERROR(INDEX(data_absen!$J$2:$J$2000,SUMPRODUCT((data_absen!$B$2:$B$2000=$A163)*(data_absen!$C$2:$C$2000=AF$3)*(ROW(data_absen!$C$2:$C$2000)))-1)*1440,\"\")","v":""},{"$f":"IFERROR(INDEX(data_absen!$K$2:$K$2000,SUMPRODUCT((data_absen!$B$2:$B$2000=$A163)*(data_absen!$C$2:$C$2000=AK$3)*(ROW(data_absen!$C$2:$C$2000)))-1)*1440,\"\")","v":""},{"$f":"IFERROR(INDEX(data_absen!$I$2:$I$2000,SUMPRODUCT((data_absen!$B$2:$B$2000=$A163)*(data_absen!$C$2:$C$2000=AK$3)*(ROW(data_absen!$C$2:$C$2000)))-1)*1440,\"\")","v":""},null,null,{"$f":"IFERROR(INDEX(data_absen!$J$2:$J$2000,SUMPRODUCT((data_absen!$B$2:$B$2000=$A163)*(data_absen!$C$2:$C$2000=AK$3)*(ROW(data_absen!$C$2:$C$2000)))-1)*1440,\"\")","v":""},{"$f":"IFERROR(INDEX(data_absen!$K$2:$K$2000,SUMPRODUCT((data_absen!$B$2:$B$2000=$A163)*(data_absen!$C$2:$C$2000=AP$3)*(ROW(data_absen!$C$2:$C$2000)))-1)*1440,\"\")","v":""},{"$f":"IFERROR(INDEX(data_absen!$I$2:$I$2000,SUMPRODUCT((data_absen!$B$2:$B$2000=$A163)*(data_absen!$C$2:$C$2000=AP$3)*(ROW(data_absen!$C$2:$C$2000)))-1)*1440,\"\")","v":""},null,null,{"$f":"IFERROR(INDEX(data_absen!$J$2:$J$2000,SUMPRODUCT((data_absen!$B$2:$B$2000=$A163)*(data_absen!$C$2:$C$2000=AP$3)*(ROW(data_absen!$C$2:$C$2000)))-1)*1440,\"\")","v":""},{"$f":"IFERROR(INDEX(data_absen!$K$2:$K$2000,SUMPRODUCT((data_absen!$B$2:$B$2000=$A163)*(data_absen!$C$2:$C$2000=AU$3)*(ROW(data_absen!$C$2:$C$2000)))-1)*1440,\"\")","v":""},{"$f":"IFERROR(INDEX(data_absen!$I$2:$I$2000,SUMPRODUCT((data_absen!$B$2:$B$2000=$A163)*(data_absen!$C$2:$C$2000=AU$3)*(ROW(data_absen!$C$2:$C$2000)))-1)*1440,\"\")","v":""},null,null,{"$f":"IFERROR(INDEX(data_absen!$J$2:$J$2000,SUMPRODUCT((data_absen!$B$2:$B$2000=$A163)*(data_absen!$C$2:$C$2000=AU$3)*(ROW(data_absen!$C$2:$C$2000)))-1)*1440,\"\")","v":""},{"$f":"IFERROR(INDEX(data_absen!$K$2:$K$2000,SUMPRODUCT((data_absen!$B$2:$B$2000=$A163)*(data_absen!$C$2:$C$2000=AZ$3)*(ROW(data_absen!$C$2:$C$2000)))-1)*1440,\"\")","v":""},{"$f":"IFERROR(INDEX(data_absen!$I$2:$I$2000,SUMPRODUCT((data_absen!$B$2:$B$2000=$A163)*(data_absen!$C$2:$C$2000=AZ$3)*(ROW(data_absen!$C$2:$C$2000)))-1)*1440,\"\")","v":""},null,null,{"$f":"IFERROR(INDEX(data_absen!$J$2:$J$2000,SUMPRODUCT((data_absen!$B$2:$B$2000=$A163)*(data_absen!$C$2:$C$2000=AZ$3)*(ROW(data_absen!$C$2:$C$2000)))-1)*1440,\"\")","v":""},{"$f":"IFERROR(INDEX(data_absen!$K$2:$K$2000,SUMPRODUCT((data_absen!$B$2:$B$2000=$A163)*(data_absen!$C$2:$C$2000=BE$3)*(ROW(data_absen!$C$2:$C$2000)))-1)*1440,\"\")","v":""},{"$f":"IFERROR(INDEX(data_absen!$I$2:$I$2000,SUMPRODUCT((data_absen!$B$2:$B$2000=$A163)*(data_absen!$C$2:$C$2000=BE$3)*(ROW(data_absen!$C$2:$C$2000)))-1)*1440,\"\")","v":""},null,null,{"$f":"IFERROR(INDEX(data_absen!$J$2:$J$2000,SUMPRODUCT((data_absen!$B$2:$B$2000=$A163)*(data_absen!$C$2:$C$2000=BE$3)*(ROW(data_absen!$C$2:$C$2000)))-1)*1440,\"\")","v":""},{"$f":"IFERROR(INDEX(data_absen!$K$2:$K$2000,SUMPRODUCT((data_absen!$B$2:$B$2000=$A163)*(data_absen!$C$2:$C$2000=BJ$3)*(ROW(data_absen!$C$2:$C$2000)))-1)*1440,\"\")","v":""},{"$f":"IFERROR(INDEX(data_absen!$I$2:$I$2000,SUMPRODUCT((data_absen!$B$2:$B$2000=$A163)*(data_absen!$C$2:$C$2000=BJ$3)*(ROW(data_absen!$C$2:$C$2000)))-1)*1440,\"\")","v":""},null,null,{"$f":"IFERROR(INDEX(data_absen!$J$2:$J$2000,SUMPRODUCT((data_absen!$B$2:$B$2000=$A163)*(data_absen!$C$2:$C$2000=BJ$3)*(ROW(data_absen!$C$2:$C$2000)))-1)*1440,\"\")","v":""},{"$f":"IFERROR(INDEX(data_absen!$K$2:$K$2000,SUMPRODUCT((data_absen!$B$2:$B$2000=$A163)*(data_absen!$C$2:$C$2000=BO$3)*(ROW(data_absen!$C$2:$C$2000)))-1)*1440,\"\")","v":""},{"$f":"IFERROR(INDEX(data_absen!$I$2:$I$2000,SUMPRODUCT((data_absen!$B$2:$B$2000=$A163)*(data_absen!$C$2:$C$2000=BO$3)*(ROW(data_absen!$C$2:$C$2000)))-1)*1440,\"\")","v":""},null,null,{"$f":"IFERROR(INDEX(data_absen!$J$2:$J$2000,SUMPRODUCT((data_absen!$B$2:$B$2000=$A163)*(data_absen!$C$2:$C$2000=BO$3)*(ROW(data_absen!$C$2:$C$2000)))-1)*1440,\"\")","v":""},{"$f":"COUNTIFS(data_absen!$B$2:$B$2000,$A163,data_absen!$I$2:$I$2000,\">0\")","v":0}]
[]
[]
[]
[]
[]
[]
[]
[]
[]
[]
[]
[]
[]
[]
[]
[]
[]
[]
[]
[]
[]
[]
[]
[]
[]
[]
[]
[]
[]
[]
[]
["Keterangan : ",null,null,null,null,"Lembur",null,null,null,null,"Datang Telat atau Tdk/ Lupa Absen Masuk",null,null,null,null,null,null,null,null,null,null,null,null,null,null,"Pulang Cepat atau Tdk/Lupa Absen Pulang"]

{"sheet":"Produksi","index":4,"n_rows":78,"n_cols":25,"rows_kept":78,"cut":false,"hidden":false,"merged":[[34,19,35,19],[0,0,0,1],[34,0,35,0],[34,1,35,1],[34,2,34,16],[34,18,35,18],[2,1,3,1],[2,18,3,18],[2,19,3,19],[2,0,3,0],[2,2,2,17],[2,20,3,20],[2,22,3,22],[34,20,35,20],[34,22,35,22],[2,24,3,24],[2,23,3,23],[2,21,3,21],[34,21,35,21],[34,23,35,23],[34,24,35,24],[44,0,45,0],[44,1,45,1],[44,2,44,16],[44,18,45,18],[44,19,45,19],[44,20,45,20],[44,21,45,21],[44,22,45,22],[44,23,45,23],[44,24,45,24]]}
["BORONGAN PRESS",null,null,null,null,null,null,null,null,null,null,null,null,null,null,null,null,null,null,null,"06:50:00","17:00:00"]
[]
["NO","NAMA","PEROLEHAN PERHARI",null,null,null,null,null,null,null,null,null,null,null,null,null,null,null,"JUMLAH","NOMINAL","Telat","Plg Cpt","Tdk Msk","Hari Libur","Jml Hari"]
[null,null,"2019-01-16","2019-01-17","2019-01-18","2019-01-19","2019-01-20","2019-01-21","2019-01-22","2019-01-23","2019-01-24","2019-01-25","2019-01-26","2019-01-27","2019-01-28","2019-01-29","2019-01-30","2019-01-31"]
["301","Reni",null,null,null,null,"Minggu",null,null,null,null,null,null,"Minggu",null,null,null,null,{"$f":"SUM(C5:Q5)","v":0},{"$f":"S5*8","v":0},{"$f":"Borongan!BT18","v":2},null,{"$f":"COUNTIF(C5:Q5,\"-\")","v":0},{"$f":"COUNTIF(C5:Q5,\"Libur\")+COUNTIF(C5:Q5,\"Minggu\")","v":2},{"$f":"COUNT($C$4:$R$4)-X5","v":14}]
["302","Saroh",null,null,null,null,"Minggu",null,null,null,null,null,null,"Minggu",null,null,null,null,{"$f":"SUM(C6:Q6)","v":0},{"$f":"S6*8","v":0},{"$f":"Borongan!BT21","v":0},null,{"$f":"COUNTIF(C6:Q6,\"-\")","v":0},2,{"$f":"COUNT($C$4:$R$4)-X6","v":14}]
["303","Ulhayati",null,null,null,null,"Minggu",null,null,null,null,null,null,"Minggu",null,null,null,null,0,0,{"$f":"Borongan!BT24","v":0},null,0,2,14]
["304","Sri A",null,null,null,null,"Minggu",null,null,null,null,null,null,"Minggu",null,null,null,null,0,0,{"$f":"Borongan!BT27","v":0},null,0,2,14]
["305","Endang",null,null,null,null,"Minggu",null,null,null,null,null,null,"Minggu",null,null,null,null,0,0,{"$f":"Borongan!BT30","v":0},null,0,2,14]
["306","Uyun",null,null,null,null,"Minggu",null,null,null,null,null,null,"Minggu",null,null,null,null,0,0,{"$f":"Borongan!BT33","v":0},null,0,2,14]
["307","Rina","-",null,null,null,"Minggu",null,null,null,null,null,null,"Minggu",null,null,null,null,{"$f":"SUM(C11:Q11)","v":0},0,{"$f":"Borongan!BT36","v":0},null,1,2,14]
["308","Jum",null,null,null,null,"Minggu",null,null,null,null,null,null,"Minggu",null,null,null,null,0,0,{"$f":"Borongan!BT39","v":0},null,0,2,14]
["309","Elin",null,null,null,null,"Minggu",null,null,null,null,null,null,"Minggu",null,null,null,null,0,0,{"$f":"Borongan!BT45","v":0},null,0,2,14]
["310","Surti",null,null,null,null,"Minggu",null,null,null,null,null,null,"Minggu",null,null,null,null,0,0,{"$f":"Borongan!BT48","v":0},null,0,2,14]
["311","Nova",null,null,null,null,"Minggu",null,null,null,null,null,null,"Minggu",null,null,null,null,0,0,{"$f":"Borongan!BT51","v":2},null,0,2,14]
["312","Khasanah",null,null,null,null,"Minggu",null,null,null,null,null,null,"Minggu",null,null,null,null,0,0,{"$f":"Borongan!BT54","v":0},null,0,2,14]
["313","Lia",null,null,null,null,"Minggu",null,null,null,null,null,null,"Minggu",null,null,null,null,0,0,{"$f":"Borongan!BT57","v":0},null,0,2,14]
["314","Erna",null,null,null,null,"Minggu",null,null,null,null,null,null,"Minggu",null,null,null,null,0,0,{"$f":"Borongan!BT60","v":2},null,0,2,14]
["316","Khoir",null,null,null,null,"Minggu",null,null,null,null,null,null,"Minggu",null,null,null,null,0,0,{"$f":"Borongan!BT63","v":0},null,0,2,14]
["317","Filda",null,null,null,null,"Minggu",null,null,null,null,null,null,"Minggu",null,null,null,null,0,0,{"$f":"Borongan!BT66","v":2},null,0,2,14]
["319","Juma'iyyah",null,null,null,null,"Minggu",null,null,null,null,null,null,"Minggu",null,null,null,null,0,0,{"$f":"Borongan!BT69","v":0},null,0,2,14]
["320","Uswatun",null,null,null,null,"Minggu",null,null,null,null,null,null,"Minggu",null,null,null,null,0,0,{"$f":"Borongan!BT72","v":0},null,0,2,14]
["321","Deni B",null,null,null,null,"Minggu",null,null,null,null,null,null,"Minggu",null,null,null,null,0,0,{"$f":"Borongan!BT75","v":0},null,0,2,14]
["322","Satuni",null,null,null,null,"Minggu",null,null,null,null,null,null,"Minggu",null,null,null,null,0,0,{"$f":"Borongan!BT78","v":0},null,0,2,14]
["323","Novi",null,null,null,null,"Minggu",null,null,null,null,null,null,"Minggu",null,null,null,null,0,0,{"$f":"Borongan!BT84","v":0},null,0,2,14]
["324","Eka",null,null,null,null,"Minggu",null,null,null,null,null,null,"Minggu",null,null,null,null,0,0,{"$f":"Borongan!BT87","v":0},null,0,2,14]
["325","Septin",null,null,null,null,"Minggu",null,null,null,null,null,null,"Minggu",null,null,null,null,{"$f":"SUM(C27:Q27)","v":0},{"$f":"S27*8","v":0},null,null,null,{"$f":"COUNTIF(C27:Q27,\"Libur\")+COUNTIF(C27:Q27,\"Minggu\")","v":2},{"$f":"COUNT($C$4:$R$4)-X27","v":14}]
["326","Titin",null,null,null,null,"Minggu",null,null,null,null,null,null,"Minggu",null,null,null,null,{"$f":"SUM(C28:Q28)","v":0},{"$f":"S28*8","v":0},{"$f":"Borongan!BT93","v":0},null,{"$f":"COUNTIF(C28:Q28,\"-\")","v":0},{"$f":"COUNTIF(C28:Q28,\"Libur\")+COUNTIF(C28:Q28,\"Minggu\")","v":2},{"$f":"COUNT($C$4:$R$4)-X28","v":14}]
["327","Latifa",null,null,null,null,"Minggu",null,null,null,null,null,null,"Minggu",null,null,null,null,{"$f":"SUM(C29:Q29)","v":0},{"$f":"S29*8","v":0},{"$f":"Borongan!BT96","v":0},null,{"$f":"COUNTIF(C29:Q29,\"-\")","v":0},{"$f":"COUNTIF(C29:Q29,\"Libur\")+COUNTIF(C29:Q29,\"Minggu\")","v":2},{"$f":"COUNT($C$4:$R$4)-X29","v":14}]
["328","Sri Wati",null,null,null,null,"Minggu",null,null,null,null,null,null,"Minggu",null,null,null,null,{"$f":"SUM(C30:Q30)","v":0},{"$f":"S30*8","v":0},{"$f":"Borongan!BT99","v":0},null,{"$f":"COUNTIF(C30:Q30,\"-\")","v":0},{"$f":"COUNTIF(C30:Q30,\"Libur\")+COUNTIF(C30:Q30,\"Minggu\")","v":2},{"$f":"COUNT($C$4:$R$4)-X30","v":14}]
["329","Indah",null,null,null,null,"Minggu",null,null,null,null,null,null,"Minggu",null,null,null,null,{"$f":"SUM(C31:Q31)","v":0},{"$f":"S31*8","v":0},{"$f":"Borongan!BT102","v":0},null,{"$f":"COUNTIF(C31:Q31,\"-\")","v":0},{"$f":"COUNTIF(C31:Q31,\"Libur\")+COUNTIF(C31:Q31,\"Minggu\")","v":2},{"$f":"COUNT($C$4:$R$4)-X31","v":14}]
[null,null,null,null,null,null,null,null,null,null,null,null,null,null,null,null,null,null,{"$f":"SUM(S5:S27)","v":0},{"$f":"SUM(T5:T27)","v":0}]
["BORONGAN PACKING",null,2760,null,3720,11520,10440,null,{"$f":"12360+C33","v":15120},13560,12720,12240,10320,null,null,12000,12360]
[]
["NO","NAMA","PEROLEHAN PERHARI",null,null,null,null,null,null,null,null,null,null,null,null,null,null,null,"JUMLAH","NOMINAL","Telat","Plg Cpt","Tdk Msk","Hari Libur","Jml Hari"]
[null,null,"2019-01-01","2019-01-02","2019-01-03","2019-01-04","2019-01-05","2019-01-06","2019-01-07","2019-01-08","2019-01-09","2019-01-10","2019-01-11","2019-01-12","2019-01-13","2019-01-14","2019-01-15"]
["201","Tatik",null,null,null,null,"Minggu",null,null,null,null,null,null,"Minggu",null,null,null,null,{"$f":"SUM(C37:Q37)","v":0},{"$f":"S37*21","v":0},{"$f":"Borongan!BT1080","v":0},null,{"$f":"COUNTIF(C37:Q37,\"-\")","v":0},{"$f":"COUNTIF(C37:Q37,\"Libur\")+COUNTIF(C37:Q37,\"Minggu\")","v":2},{"$f":"COUNT($C$4:$R$4)-X37","v":14}]
["202","Ririn",null,null,null,null,"Minggu",null,null,null,null,null,null,"Minggu",null,null,null,null,{"$f":"SUM(C38:Q38)","v":0},{"$f":"S38*21","v":0},{"$f":"Borongan!BT9","v":6},null,{"$f":"COUNTIF(C38:Q38,\"-\")","v":0},{"$f":"COUNTIF(C38:Q38,\"Libur\")+COUNTIF(C38:Q38,\"Minggu\")","v":2},14]
["203","Asmaul",null,null,null,null,"Minggu",null,null,null,null,null,null,"Minggu",null,null,null,null,{"$f":"SUM(C39:Q39)","v":0},{"$f":"S39*21","v":0},{"$f":"Borongan!BT12","v":0},null,{"$f":"COUNTIF(C39:Q39,\"-\")","v":0},{"$f":"COUNTIF(C39:Q39,\"Libur\")+COUNTIF(C39:Q39,\"Minggu\")","v":2},14]
["204","Dwi Ayu",null,null,null,null,"Minggu",null,null,null,null,null,null,"Minggu",null,null,null,null,{"$f":"SUM(C40:Q40)","v":0},{"$f":"S40*21","v":0},{"$f":"Borongan!BT15","v":0},null,{"$f":"COUNTIF(C40:Q40,\"-\")","v":0},{"$f":"COUNTIF(C40:Q40,\"Libur\")+COUNTIF(C40:Q40,\"Minggu\")","v":2},14]
[null,null,null,null,null,null,null,null,null,null,null,null,null,null,null,null,null,null,{"$f":"SUM(S37:S40)","v":0},{"$f":"SUM(T37:T40)","v":0}]
[null,"Keterangan :",null,"Libur/ Minggu",null,null,"Tidak Masuk",null,null,"Telat"]
["BORONGAN PRODUKSI"]
[]
["NO","NAMA","PEROLEHAN PERHARI",null,null,null,null,null,null,null,null,null,null,null,null,null,null,null,"JUMLAH","NOMINAL","Telat","Plg Cpt","Tdk Msk","Hari Libur","Jml Hari"]
[null,null,"2019-01-16","2019-01-17","2019-01-18","2019-01-19","2019-01-20","2019-01-21","2019-01-22","2019-01-23","2019-01-24","2019-01-25","2019-01-26","2019-01-27","2019-01-28","2019-01-29","2019-01-30","2019-01-31"]
[401,"Khoiri",null,null,null,null,"Minggu",null,null,null,null,null,null,"Minggu",null,null,null,null,{"$f":"SUM(C47:R47)+C43","v":0},{"$f":"140*S47","v":0},{"$f":"Borongan!BT105","v":2},null,{"$f":"COUNTIF(C47:Q47,\"-\")","v":0},{"$f":"COUNTIF(C47:Q47,\"Libur\")+COUNTIF(C47:Q47,\"Minggu\")","v":2},{"$f":"COUNT($C$4:$R$4)-X47","v":14}]
[402,"Khoirul",null,null,null,null,"Minggu",null,null,null,null,null,null,"Minggu",null,null,null,null,{"$f":"SUM(C48:R48)+C43","v":0},{"$f":"130*S48","v":0},{"$f":"Borongan!BT108","v":4},null,0,{"$f":"COUNTIF(C48:Q48,\"Libur\")+COUNTIF(C48:Q48,\"Minggu\")","v":2},14]
[null,null,null,null,null,null,"Minggu",null,null,null,null,null,null,"Minggu"]
[null,null,null,null,null,null,"Minggu",null,null,null,null,null,null,"Minggu"]
[null,null,null,null,null,null,"Minggu",null,null,null,null,null,null,"Minggu"]
[null,null,null,null,null,null,"Minggu",null,null,null,null,null,null,"Minggu"]
[null,null,null,null,null,null,"Minggu",null,null,null,null,null,null,"Minggu"]
[null,null,null,null,null,null,"Minggu",null,null,null,null,null,null,"Minggu"]
[null,null,null,null,null,null,"Minggu",null,null,null,null,null,null,"Minggu"]
[null,null,null,null,null,null,"Minggu",null,null,null,null,null,null,"Minggu"]
[null,null,null,null,null,null,"Minggu",null,null,null,null,null,null,"Minggu"]
[null,null,null,null,null,null,"Minggu",null,null,null,null,null,null,"Minggu"]
[null,null,null,null,null,null,"Minggu",null,null,null,null,null,null,"Minggu"]
[null,null,null,null,null,null,"Minggu",null,null,null,null,null,null,"Minggu"]
[null,null,null,null,null,null,"Minggu",null,null,null,null,null,null,"Minggu"]
[null,null,null,null,null,null,"Minggu",null,null,null,null,null,null,"Minggu"]
[null,null,null,null,null,null,"Minggu",null,null,null,null,null,null,"Minggu"]
[null,null,null,null,null,null,"Minggu",null,null,null,null,null,null,"Minggu"]
[null,null,null,null,null,null,"Minggu",null,null,null,null,null,null,"Minggu"]
[null,null,null,null,null,null,"Minggu",null,null,null,null,null,null,"Minggu"]
[null,null,null,null,null,null,"Minggu",null,null,null,null,null,null,"Minggu"]
[null,null,null,null,null,null,"Minggu",null,null,null,null,null,null,"Minggu"]
[null,null,null,null,null,null,"Minggu",null,null,null,null,null,null,"Minggu"]
[null,null,null,null,null,null,"Minggu",null,null,null,null,null,null,"Minggu"]
[null,null,null,null,null,null,"Minggu",null,null,null,null,null,null,"Minggu"]
[null,null,null,null,null,null,"Minggu",null,null,null,null,null,null,"Minggu"]
[null,null,null,null,null,null,"Minggu",null,null,null,null,null,null,"Minggu"]
[null,null,null,null,null,null,"Minggu",null,null,null,null,null,null,"Minggu"]
[null,null,null,null,null,null,"Minggu",null,null,null,null,null,null,"Minggu"]
[null,null,null,null,null,null,"Minggu",null,null,null,null,null,null,"Minggu"]
[null,null,null,null,null,null,"Minggu",null,null,null,null,null,null,"Minggu"]
[null,null,null,null,null,null,"Minggu",null,null,null,null,null,null,"Minggu"]

{"sheet":"Slip Gaji","index":5,"n_rows":131,"n_cols":42,"rows_kept":131,"cut":false,"hidden":false,"merged":[]}
[]
[]
[null,null,"Nama",":","Reni","Tanggal :",null,null,"2019-01-15",null,null,null,null,"Nama",":","Saroh","Tanggal :",null,null,{"$f":"I3","v":"2019-01-15"},null,null,null,null,"Nama",":","Ulhayati","Tanggal :",null,null,{"$f":"T3","v":"2019-01-15"},null,null,null,null,"Nama",":","Sri A","Tanggal :",null,null,{"$f":"AE3","v":"2019-01-15"}]
[null,null,null,":",null,null,null,null,null,null,null,null,null,null,":",null,null,null,null,null,null,null,null,null,null,":",null,null,null,null,null,null,null,null,null,null,":"]
[null,null,"Prod.",":",{"$f":"Produksi!$S5","v":0},"X",8,"=",{"$f":"G5*E5","v":0},null,null,null,null,"Prod.",":",{"$f":"Produksi!$S6","v":0},"X",8,"=",{"$f":"R5*P5","v":0},null,null,null,null,"Prod.",":",{"$f":"Produksi!$S7","v":0},"X",8,"=",{"$f":"AC5*AA5","v":0},null,null,null,null,"Prod.",":",{"$f":"Produksi!$S8","v":0},"X",8,"=",{"$f":"AN5*AL5","v":0}]
[null,null,"UH",":",{"$f":"Produksi!Y5","v":14},"X",9000,"=",{"$f":"G6*E6","v":126000},null,null,null,null,"UH",":",{"$f":"Produksi!Y6","v":14},"X",9000,"=",{"$f":"R6*P6","v":126000},null,null,null,null,"UH",":",{"$f":"Produksi!Y7","v":14},"X",9000,"=",{"$f":"AC6*AA6","v":126000},null,null,null,null,"UH",":",{"$f":"Produksi!Y8","v":14},"X",9000,"=",{"$f":"AN6*AL6","v":126000}]
[null,null,"Telat",":",{"$f":"Produksi!U5","v":2},"X",9000,"=",{"$f":"IFERROR(G7*E7,0)","v":18000},null,null,null,null,"Telat",":",{"$f":"Produksi!U6","v":0},"X",9000,"=",{"$f":"IFERROR(R7*P7,0)","v":0},null,null,null,null,"Telat",":",{"$f":"Produksi!U7","v":0},"X",9000,"=",{"$f":"IFERROR(AC7*AA7,0)","v":0},null,null,null,null,"Telat",":",{"$f":"Produksi!U8","v":0},"X",9000,"=",{"$f":"IFERROR(AN7*AL7,0)","v":0}]
[null,null,"Tdk Msk",":",{"$f":"Produksi!W5","v":0},null,null,"=",{"$f":"IF(E8=0,0,IF(E8=1,45000,IF(E8>1,I6)))","v":0},null,null,null,null,"Tdk Msk",":",{"$f":"Produksi!W6","v":0},null,null,"=",{"$f":"IF(P8=0,0,IF(P8=1,45000,IF(P8>1,T6)))","v":0},null,null,null,null,"Tdk Msk",":",{"$f":"Produksi!W7","v":0},null,null,"=",{"$f":"IF(AA8=0,0,IF(AA8=1,45000,IF(AA8>1,AE6)))","v":0},null,null,null,null,"Tdk Msk",":",{"$f":"Produksi!W8","v":0},null,null,"=",{"$f":"IF(AL8=0,0,IF(AL8=1,45000,IF(AL8>1,AP6)))","v":0}]
[null,null,"Kas Bon",":",null,null,null,"=",null,null,null,null,null,"Kas Bon",":",null,null,null,"=",null,null,null,null,null,"Kas Bon",":",null,null,null,"=",null,null,null,null,null,"Kas Bon",":",null,null,null,"="]
[]
[null,null,null,null,null,null,"Rp.",null,{"$f":"I5+I6-I7-I8-I9","v":108000},null,null,null,null,null,null,null,null,"Rp.",null,{"$f":"T5+T6-T7-T8-T9","v":126000},null,null,null,null,null,null,null,null,"Rp.",null,{"$f":"AE5+AE6-AE7-AE8-AE9","v":126000},null,null,null,null,null,null,null,null,"Rp.",null,{"$f":"AP5+AP6-AP7-AP8-AP9","v":126000}]
[]
[]
[]
[]
[null,null,"Nama",":","Endang","Tanggal :",null,null,{"$f":"I3","v":"2019-01-15"},null,null,null,null,"Nama",":","Uyun","Tanggal :",null,null,{"$f":"T3","v":"2019-01-15"},null,null,null,null,"Nama",":","Rina","Tanggal :",null,null,{"$f":"AE3","v":"2019-01-15"},null,null,null,null,"Nama",":","Jum","Tanggal :",null,null,{"$f":"AP3","v":"2019-01-15"}]
[null,null,null,":",null,null,null,null,null,null,null,null,null,null,":",null,null,null,null,null,null,null,null,null,null,":",null,null,null,null,null,null,null,null,null,null,":"]
[null,null,"Prod.",":",{"$f":"Produksi!$S9","v":0},"X",8,"=",{"$f":"G18*E18","v":0},null,null,null,null,"Prod.",":",{"$f":"Produksi!$S10","v":0},"X",8,"=",{"$f":"R18*P18","v":0},null,null,null,null,"Prod.",":",{"$f":"Produksi!$S11","v":0},"X",8,"=",{"$f":"AC18*AA18","v":0},null,null,null,null,"Prod.",":",{"$f":"Produksi!$S12","v":0},"X",8,"=",{"$f":"AN18*AL18","v":0}]
[null,null,"UH",":",{"$f":"Produksi!Y9","v":14},"X",9000,"=",{"$f":"G19*E19","v":126000},null,null,null,null,"UH",":",{"$f":"Produksi!Y10","v":14},"X",9000,"=",{"$f":"R19*P19","v":126000},null,null,null,null,"UH",":",{"$f":"Produksi!Y11","v":14},"X",9000,"=",{"$f":"AC19*AA19","v":126000},null,null,null,null,"UH",":",{"$f":"Produksi!Y12","v":14},"X",9000,"=",{"$f":"AN19*AL19","v":126000}]
[null,null,"Telat",":",{"$f":"Produksi!U9","v":0},"X",9000,"=",{"$f":"IFERROR(G20*E20,0)","v":0},null,null,null,null,"Telat",":",{"$f":"Produksi!U10","v":0},"X",9000,"=",{"$f":"IFERROR(R20*P20,0)","v":0},null,null,null,null,"Telat",":",{"$f":"Produksi!U11","v":0},"X",9000,"=",{"$f":"IFERROR(AC20*AA20,0)","v":0},null,null,null,null,"Telat",":",{"$f":"Produksi!U12","v":0},"X",9000,"=",{"$f":"IFERROR(AN20*AL20,0)","v":0}]
[null,null,"Tdk Msk",":",{"$f":"Produksi!W9","v":0},null,null,"=",{"$f":"IF(E21=0,0,IF(E21=1,45000,IF(E21>1,I19)))","v":0},null,null,null,null,"Tdk Msk",":",{"$f":"Produksi!W10","v":0},null,null,"=",{"$f":"IF(P21=0,0,IF(P21=1,45000,IF(P21>1,T19)))","v":0},null,null,null,null,"Tdk Msk",":",{"$f":"Produksi!W11","v":1},null,null,"=",{"$f":"IF(AA21=0,0,IF(AA21=1,45000,IF(AA21>1,AE19)))","v":45000},null,null,null,null,"Tdk Msk",":",{"$f":"Produksi!W12","v":0},null,null,"=",{"$f":"IF(AL21=0,0,IF(AL21=1,45000,IF(AL21>1,AP19)))","v":0}]
[null,null,"Kas Bon",":",null,null,null,"=",null,null,null,null,null,"Kas Bon",":",null,null,null,"=",null,null,null,null,null,"Kas Bon",":",null,null,null,"=",null,null,null,null,null,"Kas Bon",":",null,null,null,"="]
[]
[null,null,null,null,null,null,"Rp.",null,{"$f":"I18+I19-I20-I21-I22","v":126000},null,null,null,null,null,null,null,null,"Rp.",null,{"$f":"T18+T19-T20-T21-T22","v":126000},null,null,null,null,null,null,null,null,"Rp.",null,{"$f":"AE18+AE19-AE20-AE21-AE22","v":81000},null,null,null,null,null,null,null,null,"Rp.",null,{"$f":"AP18+AP19-AP20-AP21-AP22","v":126000}]
[]
[]
[]
[]
[null,null,"Nama",":","Elin","Tanggal :",null,null,{"$f":"I16","v":"2019-01-15"},null,null,null,null,"Nama",":","Surti","Tanggal :",null,null,{"$f":"T16","v":"2019-01-15"},null,null,null,null,"Nama",":","Nova","Tanggal :",null,null,{"$f":"AE16","v":"2019-01-15"},null,null,null,null,"Nama",":","Khasanah","Tanggal :",null,null,{"$f":"AP16","v":"2019-01-15"}]
[null,null,null,":",null,null,null,null,null,null,null,null,null,null,":",null,null,null,null,null,null,null,null,null,null,":",null,null,null,null,null,null,null,null,null,null,":"]
[null,null,"Prod.",":",{"$f":"Produksi!$S13","v":0},"X",8,"=",{"$f":"G31*E31","v":0},null,null,null,null,"Prod.",":",{"$f":"Produksi!$S14","v":0},"X",8,"=",{"$f":"R31*P31","v":0},null,null,null,null,"Prod.",":",{"$f":"Produksi!$S15","v":0},"X",8,"=",{"$f":"AC31*AA31","v":0},null,null,null,null,"Prod.",":",{"$f":"Produksi!$S16","v":0},"X",8,"=",{"$f":"AN31*AL31","v":0}]
[null,null,"UH",":",{"$f":"Produksi!Y13","v":14},"X",9000,"=",{"$f":"G32*E32","v":126000},null,null,null,null,"UH",":",{"$f":"Produksi!Y14","v":14},"X",9000,"=",{"$f":"R32*P32","v":126000},null,null,null,null,"UH",":",{"$f":"Produksi!Y15","v":14},"X",9000,"=",{"$f":"AC32*AA32","v":126000},null,null,null,null,"UH",":",{"$f":"Produksi!Y16","v":14},"X",9000,"=",{"$f":"AN32*AL32","v":126000}]
[null,null,"Telat",":",{"$f":"Produksi!U13","v":0},"X",9000,"=",{"$f":"IFERROR(G33*E33,0)","v":0},null,null,null,null,"Telat",":",{"$f":"Produksi!U14","v":0},"X",9000,"=",{"$f":"IFERROR(R33*P33,0)","v":0},null,null,null,null,"Telat",":",{"$f":"Produksi!U15","v":2},"X",9000,"=",{"$f":"IFERROR(AC33*AA33,0)","v":18000},null,null,null,null,"Telat",":",{"$f":"Produksi!U16","v":0},"X",9000,"=",{"$f":"IFERROR(AN33*AL33,0)","v":0}]
[null,null,"Tdk Msk",":",{"$f":"Produksi!W13","v":0},null,null,"=",{"$f":"IF(E34=0,0,IF(E34=1,45000,IF(E34>1,I32)))","v":0},null,null,null,null,"Tdk Msk",":",{"$f":"Produksi!W14","v":0},null,null,"=",{"$f":"IF(P34=0,0,IF(P34=1,45000,IF(P34>1,T32)))","v":0},null,null,null,null,"Tdk Msk",":",{"$f":"Produksi!W15","v":0},null,null,"=",{"$f":"IF(AA34=0,0,IF(AA34=1,45000,IF(AA34>1,AE32)))","v":0},null,null,null,null,"Tdk Msk",":",{"$f":"Produksi!W16","v":0},null,null,"=",{"$f":"IF(AL34=0,0,IF(AL34=1,45000,IF(AL34>1,AP32)))","v":0}]
[null,null,"Kas Bon",":",null,null,null,"=",null,null,null,null,null,"Kas Bon",":",null,null,null,"=",null,null,null,null,null,"Kas Bon",":",null,null,null,"=",null,null,null,null,null,"Kas Bon",":",null,null,null,"="]
[]
[null,null,null,null,null,null,"Rp.",null,{"$f":"I31+I32-I33-I34-I35","v":126000},null,null,null,null,null,null,null,null,"Rp.",null,{"$f":"T31+T32-T33-T34-T35","v":126000},null,null,null,null,null,null,null,null,"Rp.",null,{"$f":"AE31+AE32-AE33-AE34-AE35","v":108000},null,null,null,null,null,null,null,null,"Rp.",null,{"$f":"AP31+AP32-AP33-AP34-AP35","v":126000}]
[]
[]
[]
[]
[null,null,"Nama",":","Lia","Tanggal :",null,null,{"$f":"I29","v":"2019-01-15"},null,null,null,null,"Nama",":","Erna","Tanggal :",null,null,{"$f":"T29","v":"2019-01-15"},null,null,null,null,"Nama",":","Khoir","Tanggal :",null,null,{"$f":"AE29","v":"2019-01-15"},null,null,null,null,"Nama",":","Filda","Tanggal :",null,null,{"$f":"AP29","v":"2019-01-15"}]
[null,null,null,":",null,null,null,null,null,null,null,null,null,null,":",null,null,null,null,null,null,null,null,null,null,":",null,null,null,null,null,null,null,null,null,null,":"]
[null,null,"Prod.",":",{"$f":"Produksi!$S17","v":0},"X",8,"=",{"$f":"G44*E44","v":0},null,null,null,null,"Prod.",":",{"$f":"Produksi!$S18","v":0},"X",8,"=",{"$f":"R44*P44","v":0},null,null,null,null,"Prod.",":",{"$f":"Produksi!$S19","v":0},"X",8,"=",{"$f":"AC44*AA44","v":0},null,null,null,null,"Prod.",":",{"$f":"Produksi!$S20","v":0},"X",8,"=",{"$f":"AN44*AL44","v":0}]
[null,null,"UH",":",{"$f":"Produksi!Y17","v":14},"X",9000,"=",{"$f":"G45*E45","v":126000},null,null,null,null,"UH",":",{"$f":"Produksi!Y18","v":14},"X",9000,"=",{"$f":"R45*P45","v":126000},null,null,null,null,"UH",":",{"$f":"Produksi!Y19","v":14},"X",9000,"=",{"$f":"AC45*AA45","v":126000},null,null,null,null,"UH",":",{"$f":"Produksi!Y20","v":14},"X",9000,"=",{"$f":"AN45*AL45","v":126000}]
[null,null,"Telat",":",{"$f":"Produksi!U17","v":0},"X",9000,"=",{"$f":"IFERROR(G46*E46,0)","v":0},null,null,null,null,"Telat",":",{"$f":"Produksi!U18","v":2},"X",9000,"=",{"$f":"IFERROR(R46*P46,0)","v":18000},null,null,null,null,"Telat",":",{"$f":"Produksi!U19","v":0},"X",9000,"=",{"$f":"IFERROR(AC46*AA46,0)","v":0},null,null,null,null,"Telat",":",{"$f":"Produksi!U20","v":2},"X",9000,"=",{"$f":"IFERROR(AN46*AL46,0)","v":18000}]
[null,null,"Tdk Msk",":",{"$f":"Produksi!W17","v":0},null,null,"=",{"$f":"IF(E47=0,0,IF(E47=1,45000,IF(E47>1,I45)))","v":0},null,null,null,null,"Tdk Msk",":",{"$f":"Produksi!W18","v":0},null,null,"=",{"$f":"IF(P47=0,0,IF(P47=1,45000,IF(P47>1,T45)))","v":0},null,null,null,null,"Tdk Msk",":",{"$f":"Produksi!W19","v":0},null,null,"=",{"$f":"IF(AA47=0,0,IF(AA47=1,45000,IF(AA47>1,AE45)))","v":0},null,null,null,null,"Tdk Msk",":",{"$f":"Produksi!W20","v":0},null,null,"=",{"$f":"IF(AL47=0,0,IF(AL47=1,45000,IF(AL47>1,AP45)))","v":0}]
[null,null,"Kas Bon",":",null,null,null,"=",null,null,null,null,null,"Kas Bon",":",null,null,null,"=",null,null,null,null,null,"Kas Bon",":",null,null,null,"=",null,null,null,null,null,"Kas Bon",":",null,null,null,"="]
[]
[null,null,null,null,null,null,"Rp.",null,{"$f":"I44+I45-I46-I47-I48","v":126000},null,null,null,null,null,null,null,null,"Rp.",null,{"$f":"T44+T45-T46-T47-T48","v":108000},null,null,null,null,null,null,null,null,"Rp.",null,{"$f":"AE44+AE45-AE46-AE47-AE48","v":126000},null,null,null,null,null,null,null,null,"Rp.",null,{"$f":"AP44+AP45-AP46-AP47-AP48","v":108000}]
[]
[]
[]
[]
[null,null,"Nama",":","Jumma'iyyah","Tanggal :",null,null,{"$f":"I42","v":"2019-01-15"},null,null,null,null,"Nama",":","Uswatun","Tanggal :",null,null,{"$f":"T42","v":"2019-01-15"},null,null,null,null,"Nama",":","Deni B","Tanggal :",null,null,{"$f":"AE42","v":"2019-01-15"},null,null,null,null,"Nama",":","Novi","Tanggal :",null,null,{"$f":"AP42","v":"2019-01-15"}]
[null,null,null,":",null,null,null,null,null,null,null,null,null,null,":",null,null,null,null,null,null,null,null,null,null,":",null,null,null,null,null,null,null,null,null,null,":"]
[null,null,"Prod.",":",{"$f":"Produksi!$S21","v":0},"X",8,"=",{"$f":"G57*E57","v":0},null,null,null,null,"Prod.",":",{"$f":"Produksi!$S22","v":0},"X",8,"=",{"$f":"R57*P57","v":0},null,null,null,null,"Prod.",":",{"$f":"Produksi!$S23","v":0},"X",8,"=",{"$f":"AC57*AA57","v":0},null,null,null,null,"Prod.",":",{"$f":"Produksi!$S25","v":0},"X",8,"=",{"$f":"AN57*AL57","v":0}]
[null,null,"UH",":",{"$f":"Produksi!Y21","v":14},"X",9000,"=",{"$f":"G58*E58","v":126000},null,null,null,null,"UH",":",{"$f":"Produksi!Y22","v":14},"X",9000,"=",{"$f":"R58*P58","v":126000},null,null,null,null,"UH",":",{"$f":"Produksi!Y23","v":14},"X",9000,"=",{"$f":"AC58*AA58","v":126000},null,null,null,null,"UH",":",{"$f":"Produksi!Y25","v":14},"X",9000,"=",{"$f":"AN58*AL58","v":126000}]
[null,null,"Telat",":",{"$f":"Produksi!U21","v":0},"X",9000,"=",{"$f":"IFERROR(G59*E59,0)","v":0},null,null,null,null,"Telat",":",{"$f":"Produksi!U22","v":0},"X",9000,"=",{"$f":"IFERROR(R59*P59,0)","v":0},null,null,null,null,"Telat",":",{"$f":"Produksi!U23","v":0},"X",9000,"=",{"$f":"IFERROR(AC59*AA59,0)","v":0},null,null,null,null,"Telat",":",{"$f":"Produksi!U25","v":0},"X",9000,"=",{"$f":"IFERROR(AN59*AL59,0)","v":0}]
[null,null,"Tdk Msk",":",{"$f":"Produksi!W21","v":0},null,null,"=",{"$f":"IF(E60=0,0,IF(E60=1,45000,IF(E60>1,I58)))","v":0},null,null,null,null,"Tdk Msk",":",{"$f":"Produksi!W22","v":0},null,null,"=",{"$f":"IF(P60=0,0,IF(P60=1,45000,IF(P60>1,T58)))","v":0},null,null,null,null,"Tdk Msk",":",{"$f":"Produksi!W23","v":0},null,null,"=",{"$f":"IF(AA60=0,0,IF(AA60=1,45000,IF(AA60>1,AE58)))","v":0},null,null,null,null,"Tdk Msk",":",{"$f":"Produksi!W25","v":0},null,null,"=",{"$f":"IF(AL60=0,0,IF(AL60=1,45000,IF(AL60>1,AP58)))","v":0}]
[null,null,"Kas Bon",":",null,null,null,"=",null,null,null,null,null,"Kas Bon",":",null,null,null,"=",null,null,null,null,null,"Kas Bon",":",null,null,null,"=",null,null,null,null,null,"Kas Bon",":",null,null,null,"="]
[]
[null,null,null,null,null,null,"Rp.",null,{"$f":"I57+I58-I59-I60-I61","v":126000},null,null,null,null,null,null,null,null,"Rp.",null,{"$f":"T57+T58-T59-T60-T61","v":126000},null,null,null,null,null,null,null,null,"Rp.",null,{"$f":"AE57+AE58-AE59-AE60-AE61","v":126000},null,null,null,null,null,null,null,null,"Rp.",null,{"$f":"AP57+AP58-AP59-AP60-AP61","v":126000}]
[]
[]
[]
[]
[]
[]
[]
[null,null,"Nama",":","Titin","Tanggal :",null,null,"2019-01-15",null,null,null,null,"Nama",":","Latifah","Tanggal :",null,null,{"$f":"I71","v":"2019-01-15"},null,null,null,null,"Nama",":","Sriwati","Tanggal :",null,null,{"$f":"T71","v":"2019-01-15"},null,null,null,null,"Nama",":","Indah","Tanggal :",null,null,{"$f":"AE71","v":"2019-01-15"}]
[null,null,null,":",null,null,null,null,null,null,null,null,null,null,":",null,null,null,null,null,null,null,null,null,null,":",null,null,null,null,null,null,null,null,null,null,":"]
[null,null,"Prod.",":",{"$f":"Produksi!$S25","v":0},"X",8,"=",{"$f":"G73*E73","v":0},null,null,null,null,"Prod.",":",{"$f":"Produksi!$S26","v":0},"X",8,"=",{"$f":"R73*P73","v":0},null,null,null,null,"Prod.",":",{"$f":"Produksi!$S28","v":0},"X",8,"=",{"$f":"AC73*AA73","v":0},null,null,null,null,"Prod.",":",{"$f":"Produksi!$S29","v":0},"X",8,"=",{"$f":"AN73*AL73","v":0}]
[null,null,"UH",":",{"$f":"Produksi!Y28","v":14},"X",9000,"=",{"$f":"G74*E74","v":126000},null,null,null,null,"UH",":",{"$f":"Produksi!Y29","v":14},"X",9000,"=",{"$f":"R74*P74","v":126000},null,null,null,null,"UH",":",{"$f":"Produksi!Y30","v":14},"X",9000,"=",{"$f":"AC74*AA74","v":126000},null,null,null,null,"UH",":",{"$f":"Produksi!Y31","v":14},"X",9000,"=",{"$f":"AN74*AL74","v":126000}]
[null,null,"Telat",":",{"$f":"Produksi!U28","v":0},"X",9000,"=",{"$f":"IFERROR(G75*E75,0)","v":0},null,null,null,null,"Telat",":",{"$f":"Produksi!U29","v":0},"X",9000,"=",{"$f":"IFERROR(R75*P75,0)","v":0},null,null,null,null,"Telat",":",{"$f":"Produksi!U30","v":0},"X",9000,"=",{"$f":"IFERROR(AC75*AA75,0)","v":0},null,null,null,null,"Telat",":",{"$f":"Produksi!U31","v":0},"X",9000,"=",{"$f":"IFERROR(AN75*AL75,0)","v":0}]
[null,null,"Tdk Msk",":",{"$f":"Produksi!W28","v":0},null,null,"=",{"$f":"IF(E76=0,0,IF(E76=1,45000,IF(E76>1,I74)))","v":0},null,null,null,null,"Tdk Msk",":",{"$f":"Produksi!W29","v":0},null,null,"=",{"$f":"IF(P76=0,0,IF(P76=1,45000,IF(P76>1,T74)))","v":0},null,null,null,null,"Tdk Msk",":",{"$f":"Produksi!W30","v":0},null,null,null,{"$f":"IF(AA76=0,0,IF(AA76=1,45000,IF(AA76>1,AE74)))","v":0},null,null,null,null,"Tdk Msk",":",{"$f":"Produksi!W31","v":0},null,null,"=",{"$f":"IF(AL76=0,0,IF(AL76=1,45000,IF(AL76>1,AP74)))","v":0}]
[null,null,"Kas Bon",":",null,null,null,"=",null,null,null,null,null,"Kas Bon",":",null,null,null,"=",null,null,null,null,null,"Kas Bon",":",null,null,null,"=",null,null,null,null,null,"Kas Bon",":",null,null,null,"="]
[]
[null,null,null,null,null,null,"Rp.",null,{"$f":"I73+I74-I75-I76-I77","v":126000},null,null,null,null,null,null,null,null,"Rp.",null,{"$f":"T73+T74-T75-T76-T77","v":126000},null,null,null,null,null,null,null,null,"Rp.",null,{"$f":"AE73+AE74-AE75-AE76-AE77","v":126000},null,null,null,null,null,null,null,null,"Rp.",null,{"$f":"AP73+AP74-AP75-AP76-AP77","v":126000}]
[]
[]
[]
[]
[null,null,"Nama",":","Septin","Tanggal :",null,null,{"$f":"I71","v":"2019-01-15"},null,null,null,null,"Nama",":","Tatik","Tanggal :",null,null,{"$f":"T71","v":"2019-01-15"},null,null,null,null,"Nama",":","Ririn","Tanggal :",null,null,{"$f":"AE71","v":"2019-01-15"},null,null,null,null,"Nama",":","Asmaul","Tanggal :",null,null,{"$f":"AP71","v":"2019-01-15"}]
[null,null,null,":",null,null,null,null,null,null,null,null,null,null,":",null,null,null,null,null,null,null,null,null,null,":",null,null,null,null,null,null,null,null,null,null,":"]
[null,null,"Prod.",":",{"$f":"Produksi!$S30","v":0},"X",8,"=",{"$f":"G86*E86","v":0},null,null,null,null,"Prod.",":",{"$f":"Produksi!$S31","v":0},"X",21,"=",{"$f":"R86*P86","v":0},null,null,null,null,"Prod.",":",{"$f":"Produksi!$S3","v":"JUMLAH"},"X",21,"=",{"$f":"AC86*AA86","v":{"$error":"#VALUE!"}},null,null,null,null,"Prod.",":",{"$f":"Produksi!$S85","v":0},"X",21,"=",{"$f":"AN86*AL86","v":0}]
[null,null,"UH",":",{"$f":"Produksi!#REF!","v":{"$error":"#REF!"}},"X",9000,"=",{"$f":"G87*E87","v":{"$error":"#REF!"}},null,null,null,null,"UH",":",{"$f":"Produksi!Y37","v":14},"X",9000,"=",{"$f":"R87*P87","v":126000},null,null,null,null,"UH",":",{"$f":"Produksi!Y38","v":14},"X",9000,"=",{"$f":"AC87*AA87","v":126000},null,null,null,null,"UH",":",{"$f":"Produksi!Y39","v":14},"X",9000,"=",{"$f":"AN87*AL87","v":126000}]
[null,null,"Telat",":",{"$f":"Produksi!#REF!","v":{"$error":"#REF!"}},"X",9000,"=",{"$f":"IFERROR(G88*E88,0)","v":0},null,null,null,null,"Telat",":",{"$f":"Produksi!U37","v":0},"X",9000,"=",{"$f":"IFERROR(R88*P88,0)","v":0},null,null,null,null,"Telat",":",{"$f":"Produksi!U38","v":6},"X",9000,"=",{"$f":"IFERROR(AC88*AA88,0)","v":54000},null,null,null,null,"Telat",":",{"$f":"Produksi!U39","v":0},"X",9000,"=",{"$f":"IFERROR(AN88*AL88,0)","v":0}]
[null,null,"Tdk Msk",":",{"$f":"Produksi!#REF!","v":{"$error":"#REF!"}},null,null,"=",{"$f":"IF(E89=0,0,IF(E89=1,45000,IF(E89>1,I87)))","v":{"$error":"#REF!"}},null,null,null,null,"Tdk Msk",":",{"$f":"Produksi!W37","v":0},null,null,"=",{"$f":"IF(P89=0,0,IF(P89=1,45000,IF(P89>1,T87)))","v":0},null,null,null,null,"Tdk Msk",":",{"$f":"Produksi!W38","v":0},null,null,"=",{"$f":"IF(AA89=0,0,IF(AA89=1,45000,IF(AA89>1,AE87)))","v":0},null,null,null,null,"Tdk Msk",":",{"$f":"Produksi!W39","v":0},null,null,"=",{"$f":"IF(AL89=0,0,IF(AL89=1,45000,IF(AL89>1,AP87)))","v":0}]
[null,null,"Kas Bon",":",null,null,null,"=",null,null,null,null,null,"Kas Bon",":",null,null,null,"=",null,null,null,null,null,"Kas Bon",":",null,null,null,"=",null,null,null,null,null,"Kas Bon",":",null,null,null,"="]
[]
[null,null,null,null,null,null,"Rp.",null,{"$f":"I86+I87-I88-I89-I90","v":{"$error":"#REF!"}},null,null,null,null,null,null,null,null,"Rp.",null,{"$f":"T86+T87-T88-T89-T90","v":126000},null,null,null,null,null,null,null,null,"Rp.",null,{"$f":"AE86+AE87-AE88-AE89-AE90","v":{"$error":"#VALUE!"}},null,null,null,null,null,null,null,null,"Rp.",null,{"$f":"AP86+AP87-AP88-AP89-AP90","v":126000}]
[]
[]
[]
[]
[null,null,"Nama",":","Dwi Ayu","Tanggal :",null,null,{"$f":"I84","v":"2019-01-15"},null,null,null,null,"Nama",":","Khoiri","Tanggal :",null,null,{"$f":"T84","v":"2019-01-15"},null,null,null,null,"Nama",":","Khoirul","Tanggal :",null,null,{"$f":"AE84","v":"2019-01-15"},null,null,null,null,"Nama",":",null,"Tanggal :",null,null,{"$f":"AP84","v":"2019-01-15"}]
[null,null,null,":",null,null,null,null,null,null,null,null,null,null,":",null,null,null,null,null,null,null,null,null,null,":",null,null,null,null,null,null,null,null,null,null,":"]
[null,null,"Prod.",":",{"$f":"Produksi!$S98","v":0},"X",21,"=",{"$f":"G99*E99","v":0},null,null,null,null,"Prod.",":",{"$f":"Produksi!$S98","v":0},"X",140,"=",{"$f":"R99*P99","v":0},null,null,null,null,"Prod.",":",{"$f":"Produksi!$S98","v":0},"X",130,"=",{"$f":"AC99*AA99","v":0},null,null,null,null,"Prod.",":",{"$f":"[1]Produksi!R79","v":{"$error":"#REF!"}},"X",null,"=",{"$f":"AN99*AL99","v":{"$error":"#REF!"}}]
[null,null,"UH",":",{"$f":"Produksi!Y40","v":14},"X",9000,"=",{"$f":"G100*E100","v":126000},null,null,null,null,"UH",":",{"$f":"Produksi!Y47","v":14},"X",9000,"=",{"$f":"R100*P100","v":126000},null,null,null,null,"UH",":",{"$f":"Produksi!Y48","v":14},"X",9000,"=",{"$f":"AC100*AA100","v":126000},null,null,null,null,"UH",":",{"$f":"Produksi!Y78","v":0},"X",9000,"=",{"$f":"AN100*AL100","v":0}]
[null,null,"Telat",":",{"$f":"Produksi!U40","v":0},"X",9000,"=",{"$f":"IFERROR(G101*E101,0)","v":0},null,null,null,null,"Telat",":",{"$f":"Produksi!U47","v":2},"X",9000,"=",{"$f":"IFERROR(R101*P101,0)","v":18000},null,null,null,null,"Telat",":",{"$f":"Produksi!U48","v":4},"X",9000,"=",{"$f":"IFERROR(AC101*AA101,0)","v":36000},null,null,null,null,"Telat",":","Brp X","X",9000,"=",{"$f":"IFERROR(AN101*AL101,0)","v":0}]
[null,null,"Tdk Msk",":",{"$f":"Produksi!W40","v":0},null,null,"=",{"$f":"IF(E102=0,0,IF(E102=1,45000,IF(E102>1,I100)))","v":0},null,null,null,null,"Tdk Msk",":",{"$f":"Produksi!W47","v":0},null,null,"=",{"$f":"IF(P102=0,0,IF(P102=1,45000,IF(P102>1,T100)))","v":0},null,null,null,null,"Tdk Msk",":",{"$f":"Produksi!W48","v":0},null,null,"=",{"$f":"IF(AA102=0,0,IF(AA102=1,45000,IF(AA102>1,AE100)))","v":0},null,null,null,null,"Tdk Msk",":",{"$f":"Produksi!W78","v":0},null,null,"=",{"$f":"IF(AL102=0,0,IF(AL102=1,45000,IF(AL102>1,AP100)))","v":0}]
[null,null,"Kas Bon",":",null,null,null,"=",null,null,null,null,null,"Kas Bon",":",null,null,null,"=",null,null,null,null,null,"Kas Bon",":",null,null,null,"=",null,null,null,null,null,"Kas Bon",":",null,null,null,"="]
[]
[null,null,null,null,null,null,"Rp.",null,{"$f":"I99+I100-I101-I102-I103","v":126000},null,null,null,null,null,null,null,null,"Rp.",null,{"$f":"T99+T100-T101-T102-T103","v":108000},null,null,null,null,null,null,null,null,"Rp.",null,{"$f":"AE99+AE100-AE101-AE102-AE103","v":90000},null,null,null,null,null,null,null,null,"Rp.",null,{"$f":"AP99+AP100-AP101-AP102-AP103","v":{"$error":"#REF!"}}]
[]
[]
[]
[]
[null,null,"Nama",":",null,"Tanggal :",null,null,{"$f":"I97","v":"2019-01-15"},null,null,null,null,"Nama",":",null,"Tanggal :",null,null,{"$f":"T97","v":"2019-01-15"},null,null,null,null,"Nama",":",null,"Tanggal :",null,null,{"$f":"AE97","v":"2019-01-15"},null,null,null,null,"Nama",":",null,"Tanggal :",null,null,{"$f":"AP97","v":"2019-01-15"}]
[null,null,null,":",null,null,null,null,null,null,null,null,null,null,":",null,null,null,null,null,null,null,null,null,null,":",null,null,null,null,null,null,null,null,null,null,":"]
[null,null,"Prod.",":",{"$f":"[1]Produksi!R80","v":{"$error":"#REF!"}},"X",null,"=",{"$f":"G112*E112","v":{"$error":"#REF!"}},null,null,null,null,"Prod.",":",{"$f":"[1]Produksi!R81","v":{"$error":"#REF!"}},"X",null,"=",{"$f":"R112*P112","v":{"$error":"#REF!"}},null,null,null,null,"Prod.",":",{"$f":"[1]Produksi!R82","v":{"$error":"#REF!"}},"X",null,"=",{"$f":"AC112*AA112","v":{"$error":"#REF!"}},null,null,null,null,"Prod.",":",{"$f":"[1]Produksi!R83","v":{"$error":"#REF!"}},"X",null,"=",{"$f":"AN112*AL112","v":{"$error":"#REF!"}}]
[null,null,"UH",":",{"$f":"Produksi!#REF!","v":{"$error":"#REF!"}},"X",9000,"=",{"$f":"G113*E113","v":{"$error":"#REF!"}},null,null,null,null,"UH",":",{"$f":"Produksi!Y82","v":0},"X",9000,"=",{"$f":"R113*P113","v":0},null,null,null,null,"UH",":",{"$f":"Produksi!Y83","v":0},"X",9000,"=",{"$f":"AC113*AA113","v":0},null,null,null,null,"UH",":",{"$f":"Produksi!Y84","v":0},"X",9000,"=",{"$f":"AN113*AL113","v":0}]
[null,null,"Telat",":","Brp X","X",9000,"=",{"$f":"IFERROR(G114*E114,0)","v":0},null,null,null,null,"Telat",":","Brp X","X",9000,"=",{"$f":"IFERROR(R114*P114,0)","v":0},null,null,null,null,"Telat",":","Brp X","X",9000,"=",{"$f":"IFERROR(AC114*AA114,0)","v":0},null,null,null,null,"Telat",":","Brp X","X",9000,"=",{"$f":"IFERROR(AN114*AL114,0)","v":0}]
[null,null,"Tdk Msk",":",{"$f":"Produksi!#REF!","v":{"$error":"#REF!"}},null,null,"=",{"$f":"IF(E115=0,0,IF(E115=1,45000,IF(E115>1,I113)))","v":{"$error":"#REF!"}},null,null,null,null,"Tdk Msk",":",{"$f":"Produksi!W82","v":0},null,null,"=",{"$f":"IF(P115=0,0,IF(P115=1,45000,IF(P115>1,T113)))","v":0},null,null,null,null,"Tdk Msk",":",{"$f":"Produksi!W83","v":0},null,null,"=",{"$f":"IF(AA115=0,0,IF(AA115=1,45000,IF(AA115>1,AE113)))","v":0},null,null,null,null,"Tdk Msk",":",{"$f":"Produksi!W84","v":0},null,null,"=",{"$f":"IF(AL115=0,0,IF(AL115=1,45000,IF(AL115>1,AP113)))","v":0}]
[null,null,"Kas Bon",":",null,null,null,"=",null,null,null,null,null,"Kas Bon",":",null,null,null,"=",null,null,null,null,null,"Kas Bon",":",null,null,null,"=",null,null,null,null,null,"Kas Bon",":",null,null,null,"="]
[]
[null,null,null,null,null,null,"Rp.",null,{"$f":"I112+I113-I114-I115-I116","v":{"$error":"#REF!"}},null,null,null,null,null,null,null,null,"Rp.",null,{"$f":"T112+T113-T114-T115-T116","v":{"$error":"#REF!"}},null,null,null,null,null,null,null,null,"Rp.",null,{"$f":"AE112+AE113-AE114-AE115-AE116","v":{"$error":"#REF!"}},null,null,null,null,null,null,null,null,"Rp.",null,{"$f":"AP112+AP113-AP114-AP115-AP116","v":{"$error":"#REF!"}}]
[]
[]
[]
[]
[null,null,"Nama",":",null,"Tanggal :",null,null,{"$f":"I110","v":"2019-01-15"},null,null,null,null,"Nama",":",null,"Tanggal :",null,null,{"$f":"T110","v":"2019-01-15"},null,null,null,null,"Nama",":",null,"Tanggal :",null,null,{"$f":"AE110","v":"2019-01-15"},null,null,null,null,"Nama",":",null,"Tanggal :",null,null,{"$f":"AP110","v":"2019-01-15"}]
[null,null,null,":",null,null,null,null,null,null,null,null,null,null,":",null,null,null,null,null,null,null,null,null,null,":",null,null,null,null,null,null,null,null,null,null,":"]
[null,null,"Prod.",":",{"$f":"[1]Produksi!R84","v":{"$error":"#REF!"}},"X",null,"=",{"$f":"G125*E125","v":{"$error":"#REF!"}},null,null,null,null,"Prod.",":",{"$f":"[1]Produksi!R85","v":{"$error":"#REF!"}},"X",null,"=",{"$f":"R125*P125","v":{"$error":"#REF!"}},null,null,null,null,"Prod.",":",{"$f":"[1]Produksi!R86","v":{"$error":"#REF!"}},"X",null,"=",{"$f":"AC125*AA125","v":{"$error":"#REF!"}},null,null,null,null,"Prod.",":",{"$f":"[1]Produksi!R88","v":{"$error":"#REF!"}},"X",null,"=",{"$f":"AN125*AL125","v":{"$error":"#REF!"}}]
[null,null,"UH",":",{"$f":"Produksi!Y85","v":0},"X",9000,"=",{"$f":"G126*E126","v":0},null,null,null,null,"UH",":",{"$f":"Produksi!Y86","v":0},"X",9000,"=",{"$f":"R126*P126","v":0},null,null,null,null,"UH",":",{"$f":"Produksi!Y87","v":0},"X",9000,"=",{"$f":"AC126*AA126","v":0},null,null,null,null,"UH",":",{"$f":"Produksi!Y88","v":0},"X",9000,"=",{"$f":"AN126*AL126","v":0}]
[null,null,"Telat",":","Brp X","X",9000,"=",{"$f":"IFERROR(G127*E127,0)","v":0},null,null,null,null,"Telat",":","Brp X","X",9000,"=",{"$f":"IFERROR(R127*P127,0)","v":0},null,null,null,null,"Telat",":","Brp X","X",9000,"=",{"$f":"IFERROR(AC127*AA127,0)","v":0},null,null,null,null,"Telat",":","Brp X","X",9000,"=",{"$f":"IFERROR(AN127*AL127,0)","v":0}]
[null,null,"Tdk Msk",":",{"$f":"Produksi!W85","v":0},null,null,"=",{"$f":"IF(E128=0,0,IF(E128=1,45000,IF(E128>1,I126)))","v":0},null,null,null,null,"Tdk Msk",":",{"$f":"Produksi!W86","v":0},null,null,"=",{"$f":"IF(P128=0,0,IF(P128=1,45000,IF(P128>1,T126)))","v":0},null,null,null,null,"Tdk Msk",":",{"$f":"Produksi!W87","v":0},null,null,"=",{"$f":"IF(AA128=0,0,IF(AA128=1,45000,IF(AA128>1,AE126)))","v":0},null,null,null,null,"Tdk Msk",":",{"$f":"Produksi!W88","v":0},null,null,"=",{"$f":"IF(AL128=0,0,IF(AL128=1,45000,IF(AL128>1,AP126)))","v":0}]
[null,null,"Kas Bon",":",null,null,null,"=",null,null,null,null,null,"Kas Bon",":",null,null,null,"=",null,null,null,null,null,"Kas Bon",":",null,null,null,"=",null,null,null,null,null,"Kas Bon",":",null,null,null,"="]
[]
[null,null,null,null,null,null,"Rp.",null,{"$f":"I125+I126-I127-I128-I129","v":{"$error":"#REF!"}},null,null,null,null,null,null,null,null,"Rp.",null,{"$f":"T125+T126-T127-T128-T129","v":{"$error":"#REF!"}},null,null,null,null,null,null,null,null,"Rp.",null,{"$f":"AE125+AE126-AE127-AE128-AE129","v":{"$error":"#REF!"}},null,null,null,null,null,null,null,null,"Rp.",null,{"$f":"AP125+AP126-AP127-AP128-AP129","v":{"$error":"#REF!"}}]